Workbook
Name IDSoil: Ref!$L$4:$L$10
Name MESoil: Ref!$L$13:$L$21

Sheet Trench
B2: AeroFin Trench System Design Tool
B3: Project:
B4: Date:
B5: Sales Representative:
B6: Location: | C6: Hawaii
B8: Determine Daily Design Flow (DDF)
B9: Metric | C9: Qty | D9: Unit | E9: Notes
B10: Number of Bedrooms | C10: 3
B11: Daily Design Flow | C11: =IF(C10<1,0,200*C10) -> 600 | D11: GPD
B12: Minimum Conduit Length Required | C12: =IFERROR(VLOOKUP($C$10,Ref!$B$19:$C$31,2,FALSE),"") -> 240 | D12: ft
B14: Determine Minimum Bottom Surface Area
B15: Metric | C15: Qty | D15: Unit | E15: Notes
B16: Soil Loading Rate | C16: 1.12 | D16: GPD/sq ft
B17: =IFERROR(VLOOKUP($C$6,Ref!$AA$2:$AB$4,2,FALSE),"Soil Type") -> Percolation Rate | C17: 2 | D17: min/in
B18: Minimum Bottom Surface Area | C18: =IFERROR(VLOOKUP($C$17,Ref!$L:$X,$C$10+1,FALSE),"") -> 242 | D18: sq ft
B20: System Sand Footprint Area Configuration
B21: Metric | C21: Qty | D21: Unit | E21: Notes
B22: Conduit Row Length | C22: 65 | D22: ft
B23: Conduit Rows | C23: =ROUNDUP(C12/C22,0) -> 4
B24: Total Conduit | C24: =C23*C22 -> 260 | D24: ft
B25: Meets Minimum Conduit Requirement? | C25: =IF(C24>=C12,"Yes", "No") -> Yes
B27: Minimum Sand Footprint Width | C27: =IFERROR(VLOOKUP($C$23,Ref!$F:$H,2,FALSE),"") -> 3.25 | D27: ft
B28: New Footprint Width | C28: 5 | D28: ft
B29: New System Footprint Surface Area | C29: =C28*(C22+1) -> 330 | D29: sq ft
B30: Meets Minimum Bottom SA Requirement? | C30: =IF(C29>=C18,"Yes","No") -> Yes
B32: Summary
B33: Items | C33: Qty | D33: Unit | E33: Notes
B34: Conduits | C34: =ROUNDUP(IF(AND(ISBLANK(C28),ISBLANK(C22)),(C22/8)*C23,(C22/8)*C23),0) -> 33 | D34: Units
B35: Manifolds | C35: =ROUNDUP(C23/2,0) -> 2 | D35: Units
B36: EndCaps | C36: =(C35*2)+2 -> 6 | D36: Units

Sheet Bed
B2: AeroFin Bed System Design Tool
B3: Project:
B4: Address:
B5: Date:
B6: Designer Information:
B8: Determine Daily Design Flow (DDF)
B9: Metric | C9: Qty | D9: Unit
B10: Number of Bedrooms | C10: 5
B11: Daily Design Flow | C11: =IF(C10<1,0,200*C10) -> 1000 | D11: GPD
B12: Minimum Conduit Length Required | C12: =IFERROR(VLOOKUP($C$10,Ref!$B$19:$C$31,2,FALSE),"") -> 400 | D12: ft
B14: Determine Minimum Bottom Surface Area
B15: Metric | C15: Qty | D15: Unit
B16: Percolation Rate | C16: 76 to 80 | D16: mpi
B17: AeroFin Soil Loading Rate | C17: =IFERROR(VLOOKUP($C$16,Ref!$K$24:$O$43,2,FALSE),"") -> 0.72 | D17: GPD/sq ft
B18: Minimum Bed Area Required | C18: =C11/C17 -> 1388.8889 | D18: sq ft
B20: System Sand Footprint Area Configuration
B21: Metric | C21: Qty | D21: Unit
B22: Row Length | C22: 100 | D22: ft
B23: Number of Rows | C23: =ROUNDUP(C12/C22,0) -> 4
B24: Total AeroFin Provided | C24: =C23*C22 -> 400 | D24: ft
B25: Minimum Sand Footprint Width | C25: =IFERROR(VLOOKUP($C$23,Ref!$F:$H,2,FALSE),"") -> 3.25 | D25: ft
B26: Minimum System Sand Footprint Area | C26: =(C22+1)*C25 -> 328.25 | D26: ft
B27: Sand Extensions (if needed) | C27: =(C28-C25)/2 -> 5.275 | D27: ft
B28: Total Bed Width | C28: =ROUNDUP(MAX(C25,C18/(C22+1)),1) -> 13.8 | D28: ft
B29: Total Bed Length | C29: =C22+1 -> 101 | D29: ft
B30: Total Bed Area Provided | C30: =C29*C28 -> 1393.8 | D30: sq ft
B32: Summary
B33: Items | C33: Qty | D33: Unit
B34: Conduits | C34: =ROUNDUP((C22/8)*C23,0) -> 50 | D34: Units
B35: Manifolds | C35: =ROUNDUP(C23/2,0) -> 2 | D35: Units
B36: EndCaps | C36: =(C35*2)+2 -> 6 | D36: Units
B38: For additional design assistance, contact our technical department
A39: V.041526 | B39: 1-800-221-4436 | iwttechnicalservices@infiltratorwater.com

Sheet Sloped
B2: AeroFin Bed System Design Tool
B3: Project:
B4: Address:
B5: Date:
B6: Designer Information:
B8: Determine Daily Design Flow (DDF)
B9: Metric | C9: Qty | D9: Unit
B10: Number of Bedrooms | C10: 3
B11: Daily Design Flow | C11: =IF(C10<1,0,200*C10) -> 600 | D11: GPD
B12: Minimum Conduit Length Required | C12: =IFERROR(VLOOKUP($C$10,Ref!$B$19:$C$31,2,FALSE),"") -> 240 | D12: ft
B14: Determine Minimum Bottom Surface Area
B15: Metric | C15: Qty | D15: Unit
B16: Percolation Rate | C16: Up to 10 | D16: mpi
B17: AeroFin Soil Loading Rate | C17: =IFERROR(VLOOKUP($C$16,Ref!$K$24:$O$43,2,FALSE),"") -> 2.25 | D17: GPD/sq ft
B18: Minimum Bed Area Required | C18: =C11/C17 -> 266.66667 | D18: sq ft
B20: System Sand Footprint Area Configuration
B21: Metric | C21: Qty | D21: Unit
B22: Slope | C22: 0.11
B23: Row Length | C23: 64 | D23: ft
B24: Number of Rows | C24: =ROUNDUP(C12/C23,0) -> 4
B25: Total AeroFin Provided | C25: =C24*C23 -> 256 | D25: ft
B26: Minimum Sand Footprint Width | C26: =IFERROR(VLOOKUP($C$24,Ref!$F:$H,2,FALSE),"") -> 3.25 | D26: ft
B27: Minimum System Sand Footprint Area | C27: =(C23+1)*C26 -> 211.25 | D27: ft
B28: Sand Extensions (if needed) | C28: =C29-C26 -> 2.5 | D28: ft
B29: Total Bed Width | C29: =_xlfn.LET(_xlpm.x,C18/(C23+1),IF(_xlpm.x<=C26,C26,IF(C22<=0.1,_xlpm.x,MAX(C26+2.5,_xlpm.x)))) -> 5.75 | D29: ft
B30: Total Bed Length | C30: =C23+1 -> 65 | D30: ft
B31: Total Bed Area Provided | C31: =C30*C29 -> 373.75 | D31: sq ft
B33: Summary
B34: Items | C34: Qty | D34: Unit
B35: Conduits | C35: =ROUNDUP((C23/8)*C24,0) -> 32 | D35: Units
B36: Manifolds | C36: =ROUNDUP(C24/2,0) -> 2 | D36: Units
B37: EndCaps | C37: =C36*4 -> 8 | D37: Units
B39: For additional design assistance, contact our technical department
B40: 1-800-221-4436 | iwttechnicalservices@infiltratorwater.com

Sheet WI In-Ground
B2: AeroFin Trench System Design Tool
B3: Project:
B4: Date:
B5: Sales Representative:
B6: Location: | C6: Wisconsin
B7: Flow: | C7: Combined Wastewater
B9: Site Conditions
B10: Metric | C10: Qty | D10: Unit | E10: Notes
B11: Slope
B12: Number of Bedrooms | C12: 4
B13: Daily Design Flow | C13: =C12*IFERROR(VLOOKUP($C$7,Ref!$AD$19:$AE$21,2,FALSE),0) -> 600 | D13: GPD
B14: Depth to Limiting Factor | C14: 25 | D14: in
B15: Minimum Depth of Unsaturated Soil Required | C15: 36 | D15: in | E15: Table 383.44-3, WI Adm. Code
B16: In-situ Soild Application Rate | C16: 1.6 | D16: GPD/sf
B17: FOG value of effluent applied to component | C17: < 30 | D17: mg/L
B18: BOD5 value of effluent applied to component | C18: <= 30
B19: TSS value of effluent applied to component | C19: <= 30
B20: Fecal Coliform monthly geometric mean value of effluent applied to component > 10^4 CFU/100ml | C20: No
B22: Design of the AeroFin System Distribution Cell
B23: Metric | C23: Qty | D23: Unit | E23: Notes
B24: Minimum Conduit Length Required | C24: =IFERROR(VLOOKUP($C$12,Ref!$AD$4:$AE$16,2,FALSE),"") -> 320 | D24: ft
B25: Minimum Basal Area Required | C25: =C13/C16 -> 375 | D25: sf
B26: Conduit Rows | C26: 4
B27: Conduit Row Length | C27: 80 | D27: ft
B28: Meets Minimum Conduit Requirement? | C28: =IF(C26*C27>=C24,"Yes", "No") -> Yes
B29: Minimum Distribution Cell Width | C29: =IFERROR(VLOOKUP($C$26,Ref!$F:$H,2,FALSE),"") -> 3.25 | D29: ft
B30: Treatment Cell Area | C30: =C29*(C27+2) -> 266.5 | D30: sf
B31: Meets Minimum Basal Area Requirement? | C31: =IF(C30>=C25,"Yes", "No") -> No
B33: Design Adjustments
B34: Metric | C34: Qty | D34: Unit | E34: Notes
B35: Basal Area divided by Length of System | C35: =IF($C$31="No",C25/(C27+2),"") -> 4.5731707 | D35: ft
B36: Above minus Design System Sand Footprint | C36: =IF($C$31="No",C35-C29,"") -> 1.3231707 | D36: ft
B37: Sand Extension on each side | C37: =IF($C$31="No",C36/2,"") -> 0.66158537 | D37: ft | E37: needs rounded to 0.75
B38: New Width | C38: =IF($C$31="No",(C37*2)+C29,"") -> 4.5731707 | D38: ft
B39: New Treatment Cell Area | C39: =IF($C$31="No",C38*(C27+2),"") -> 375 | D39: sf
B40: Meets Minimum Basal Area Requirement? | C40: =IF(C39>=C25,"Yes", "No") -> Yes
B42: Summary
B43: Items | C43: Qty | D43: Unit | E43: Notes
B44: Conduits | C44: =(C27/8)*C26 -> 40 | D44: Units
B45: Manifolds | C45: =C26/2 -> 2 | D45: Units
B46: EndCaps | C46: =(C45*2)+2 -> 6 | D46: Units

Sheet WI Mound

Sheet Ref
B1: Idaho | F1: Idaho, Maine, Wisconsin, Hawaii
B2: Each Add. | C2: 40 | F2: Each Add | G2: 0.69 | H2: 8.3 | M2: Minimum Area of Bottom Surface Required (sf) | AA2: Idaho | AB2: Application Rate/Soil Design Subgroup | AD2: Wisconsin
B3: Bedrooms | C3: Min. Conduit (ft.) | F3: Fin Rows | G3: Min Width (ft) | H3: Min Width (in) | K3: Each Add. | M3: 1 | N3: 2 | O3: 3 | P3: 4 | Q3: 5 | R3: 6 | S3: 7 | T3: 8 | U3: 9 | V3: 10 | W3: 11 | X3: 12 | AA3: Maine | AB3: Soil Profile | AD3: Each Add. | AE3: 80
B4: 1 | C4: 80 | F4: 1 | G4: 1.19 | H4: 14.25 | K4: 30 | L4: 1.7/A-1 | M4: 89 | N4: 118 | O4: 148 | P4: 177 | Q4: 206 | R4: =Q4+$K4 -> 236 | S4: =R4+$K4 -> 266 | T4: =S4+$K4 -> 296 | U4: =T4+$K4 -> 326 | V4: =U4+$K4 -> 356 | W4: =V4+$K4 -> 386 | X4: =W4+$K4 -> 416 | AA4: Hawaii | AB4: Percolation Rate | AD4: Bedrooms | AE4: Min. Conduit (ft.)
B5: 2 | C5: 160 | F5: 2 | G5: 1.88 | H5: 22.5 | K5: 42 | L5: 1.2/A-2a | M5: 125 | N5: 167 | O5: 209 | P5: 250 | Q5: 292 | R5: =Q5+$K5 -> 334 | S5: =R5+$K5 -> 376 | T5: =S5+$K5 -> 418 | U5: =T5+$K5 -> 460 | V5: =U5+$K5 -> 502 | W5: =V5+$K5 -> 544 | X5: =W5+$K5 -> 586 | AD5: 1 | AE5: 160
B6: 3 | C6: 240 | F6: 3 | G6: 2.57 | H6: 30.8 | K6: 50 | L6: 1.0/A-2b | M6: 150 | N6: 200 | O6: 250 | P6: 300 | Q6: 350 | R6: =Q6+$K6 -> 400 | S6: =R6+$K6 -> 450 | T6: =S6+$K6 -> 500 | U6: =T6+$K6 -> 550 | V6: =U6+$K6 -> 600 | W6: =V6+$K6 -> 650 | X6: =W6+$K6 -> 700 | AD6: 2 | AE6: 160
B7: 4 | C7: 280 | F7: 4 | G7: 3.25 | H7: 39 | K7: 63 | L7: 0.8/B-1 | M7: 188 | N7: 250 | O7: 313 | P7: 375 | Q7: 438 | R7: =Q7+$K7 -> 501 | S7: =R7+$K7 -> 564 | T7: =S7+$K7 -> 627 | U7: =T7+$K7 -> 690 | V7: =U7+$K7 -> 753 | W7: =V7+$K7 -> 816 | X7: =W7+$K7 -> 879 | Y7: Idaho | AB7: Yes | AD7: 3 | AE7: 240
B8: 5 | C8: 320 | F8: 5 | G8: 3.94 | H8: 47.2 | K8: 84 | L8: 0.6/B-2 | M8: 250 | N8: 334 | O8: 417 | P8: 500 | Q8: 584 | R8: =Q8+$K8 -> 668 | S8: =R8+$K8 -> 752 | T8: =S8+$K8 -> 836 | U8: =T8+$K8 -> 920 | V8: =U8+$K8 -> 1004 | W8: =V8+$K8 -> 1088 | X8: =W8+$K8 -> 1172 | AB8: No | AD8: 4 | AE8: 320
B9: 6 | C9: =C8+$C$2 -> 360 | F9: 6 | G9: 4.63 | H9: 55.5 | K9: 125 | L9: 0.4/C-1 | M9: 375 | N9: 500 | O9: 625 | P9: 750 | Q9: 875 | R9: =Q9+$K9 -> 1000 | S9: =R9+$K9 -> 1125 | T9: =S9+$K9 -> 1250 | U9: =T9+$K9 -> 1375 | V9: =U9+$K9 -> 1500 | W9: =V9+$K9 -> 1625 | X9: =W9+$K9 -> 1750 | AD9: 5 | AE9: 400
B10: 7 | C10: =C9+$C$2 -> 400 | F10: 7 | G10: 5.32 | H10: 63.8 | K10: 167 | L10: 0.3/C-2 | M10: 500 | N10: 667 | O10: 834 | P10: 1000 | Q10: 1167 | R10: =Q10+$K10 -> 1334 | S10: =R10+$K10 -> 1501 | T10: =S10+$K10 -> 1668 | U10: =T10+$K10 -> 1835 | V10: =U10+$K10 -> 2002 | W10: =V10+$K10 -> 2169 | X10: =W10+$K10 -> 2336 | AD10: 6 | AE10: =AE9+$AE$3 -> 480
B11: 8 | C11: =C10+$C$2 -> 440 | F11: 8 | G11: 6 | H11: 72 | M11: Number of Bedrooms Minimum Bed Area Sq Ft | AD11: 7 | AE11: =AE10+$AE$3 -> 560
B12: 9 | C12: =C11+$C$2 -> 480 | E12: Beds Only | F12: 9 | G12: 6.69 | H12: 80.2 | J12: Each Add. | K12: Soil Loading Rate | M12: 1 | N12: 2 | O12: 3 | P12: 4 | Q12: 5 | R12: 6 | S12: 7 | T12: 8 | U12: 9 | V12: 10 | W12: 11 | X12: 12 | AD12: 8 | AE12: =AE11+$AE$3 -> 640
B13: 10 | C13: =C12+$C$2 -> 520 | F13: 10 | G13: 7.38 | H13: 88.5 | J13: 108 | K13: 0.84 | L13: 1 | M13: 108 | N13: 215 | O13: 322 | P13: 429 | Q13: 536 | R13: =Q13+$J13 -> 644 | S13: =R13+$J13 -> 752 | T13: =S13+$J13 -> 860 | U13: =T13+$J13 -> 968 | V13: =U13+$J13 -> 1076 | W13: =V13+$J13 -> 1184 | X13: =W13+$J13 -> 1292 | AD13: 9 | AE13: =AE12+$AE$3 -> 720
B14: 11 | C14: =C13+$C$2 -> 560 | F14: 11 | G14: 8.07 | H14: 96.8 | J14: 81 | K14: 1.12 | L14: 2 | M14: 81 | N14: 161 | O14: 242 | P14: 322 | Q14: 402 | R14: =Q14+$J14 -> 483 | S14: =R14+$J14 -> 564 | T14: =S14+$J14 -> 645 | U14: =T14+$J14 -> 726 | V14: =U14+$J14 -> 807 | W14: =V14+$J14 -> 888 | X14: =W14+$J14 -> 969 | AD14: 10 | AE14: =AE13+$AE$3 -> 800
B15: 12 | C15: =C14+$C$2 -> 600 | F15: 12 | G15: 8.75 | H15: 105 | J15: 81 | K15: 1.12 | L15: 3 | M15: 81 | N15: 161 | O15: 242 | P15: 322 | Q15: 402 | R15: =Q15+$J15 -> 483 | S15: =R15+$J15 -> 564 | T15: =S15+$J15 -> 645 | U15: =T15+$J15 -> 726 | V15: =U15+$J15 -> 807 | W15: =V15+$J15 -> 888 | X15: =W15+$J15 -> 969 | AD15: 11 | AE15: =AE14+$AE$3 -> 880
F16: 13 | G16: =G15+$G$2 -> 9.44 | H16: =H15+$H$2 -> 113.3 | J16: 68 | K16: 1.34 | L16: 4 | M16: 68 | N16: 135 | O16: 202 | P16: 269 | Q16: 336 | R16: =Q16+$J16 -> 404 | S16: =R16+$J16 -> 472 | T16: =S16+$J16 -> 540 | U16: =T16+$J16 -> 608 | V16: =U16+$J16 -> 676 | W16: =V16+$J16 -> 744 | X16: =W16+$J16 -> 812 | Y16: Maine | AD16: 12 | AE16: =AE15+$AE$3 -> 960
B17: Maine, Hawaii | F17: 14 | G17: =G16+$G$2 -> 10.13 | H17: =H16+$H$2 -> 121.6 | J17: 68 | K17: 1.34 | L17: 5 | M17: 68 | N17: 135 | O17: 202 | P17: 269 | Q17: 336 | R17: =Q17+$J17 -> 404 | S17: =R17+$J17 -> 472 | T17: =S17+$J17 -> 540 | U17: =T17+$J17 -> 608 | V17: =U17+$J17 -> 676 | W17: =V17+$J17 -> 744 | X17: =W17+$J17 -> 812
B18: Each Add. | C18: 80 | F18: 15 | G18: =G17+$G$2 -> 10.82 | H18: =H17+$H$2 -> 129.9 | J18: 68 | K18: 1.34 | L18: 6 | M18: 68 | N18: 135 | O18: 202 | P18: 269 | Q18: 336 | R18: =Q18+$J18 -> 404 | S18: =R18+$J18 -> 472 | T18: =S18+$J18 -> 540 | U18: =T18+$J18 -> 608 | V18: =U18+$J18 -> 676 | W18: =V18+$J18 -> 744 | X18: =W18+$J18 -> 812
B19: Bedrooms | C19: Min. Conduit (ft.) | F19: 16 | G19: =G18+$G$2 -> 11.51 | H19: =H18+$H$2 -> 138.2 | J19: 81 | K19: 1.12 | L19: 7 | M19: 81 | N19: 161 | O19: 242 | P19: 322 | Q19: 402 | R19: =Q19+$J19 -> 483 | S19: =R19+$J19 -> 564 | T19: =S19+$J19 -> 645 | U19: =T19+$J19 -> 726 | V19: =U19+$J19 -> 807 | W19: =V19+$J19 -> 888 | X19: =W19+$J19 -> 969 | AD19: Combined Wastewater | AE19: 150
B20: 1 | C20: 160 | F20: 17 | G20: =G19+$G$2 -> 12.2 | H20: =H19+$H$2 -> 146.5 | J20: 108 | K20: 0.84 | L20: 8 | M20: 108 | N20: 215 | O20: 322 | P20: 429 | Q20: 536 | R20: =Q20+$J20 -> 644 | S20: =R20+$J20 -> 752 | T20: =S20+$J20 -> 860 | U20: =T20+$J20 -> 968 | V20: =U20+$J20 -> 1076 | W20: =V20+$J20 -> 1184 | X20: =W20+$J20 -> 1292 | AD20: Clearwater & Graywater | AE20: 90
B21: 2 | C21: 160 | F21: 18 | G21: =G20+$G$2 -> 12.89 | H21: =H20+$H$2 -> 154.8 | J21: 161 | K21: 0.56 | L21: 9 | M21: 161 | N21: 322 | O21: 483 | P21: 643 | Q21: 804 | R21: =Q21+$J21 -> 965 | S21: =R21+$J21 -> 1126 | T21: =S21+$J21 -> 1287 | U21: =T21+$J21 -> 1448 | V21: =U21+$J21 -> 1609 | W21: =V21+$J21 -> 1770 | X21: =W21+$J21 -> 1931 | AD21: Blackwater Only | AE21: 60
B22: 3 | C22: 240 | F22: 19 | G22: =G21+$G$2 -> 13.58 | H22: =H21+$H$2 -> 163.1
B23: 4 | C23: 320 | F23: 20 | G23: =G22+$G$2 -> 14.27 | H23: =H22+$H$2 -> 171.4
B24: 5 | C24: 400 | J24: Hawaii | K24: Percolation Rate mpi | L24: AeroFin Soil Loading Rate (gpd/ sq ft) | P24: HI Slope
B25: 6 | C25: =C24+$C$18 -> 480 | K25: Up to 10 | L25: 2.25 | P25: 0.06
B26: 7 | C26: =C25+$C$18 -> 560 | J26: 20 | K26: 11 to 15 | L26: 1.79 | P26: 0.07
B27: 8 | C27: =C26+$C$18 -> 640 | J27: =J26+4 -> 24 | K27: 16 to 20 | L27: 1.6 | P27: 0.08
B28: 9 | C28: =C27+$C$18 -> 720 | J28: =J27+4 -> 28 | K28: 21 to 30 | L28: 1.47 | P28: 0.09
B29: 10 | C29: =C28+$C$18 -> 800 | J29: =J28+4 -> 32 | K29: 31 to 40 | L29: 1.3 | P29: 0.1
B30: 11 | C30: =C29+$C$18 -> 880 | J30: =J29+4 -> 36 | K30: 41 to 50 | L30: 1.12 | P30: 0.11
B31: 12 | C31: =C30+$C$18 -> 960 | J31: =J30+4 -> 40 | K31: 51 to 60 | L31: 1 | P31: 0.12
J32: =J31+4 -> 44 | K32: 61 to 65 | L32: 0.9 | P32: 0.13
J33: =J32+4 -> 48 | K33: 66 to 70 | L33: 0.84 | P33: 0.14
J34: =J33+4 -> 52 | K34: 71 to 75 | L34: 0.78 | P34: 0.15
J35: =J34+4 -> 56 | K35: 76 to 80 | L35: 0.72 | P35: 0.16
J36: =J35+4 -> 60 | K36: 81 to 85 | L36: 0.67 | P36: 0.17
J37: =J36+4 -> 64 | K37: 86 to 90 | L37: 0.62 | P37: 0.18
J38: =J37+4 -> 68 | K38: 91 to 95 | L38: 0.57 | P38: 0.19
J39: =J38+4 -> 72 | K39: 96 to 100 | L39: 0.53 | P39: 0.2
J40: =J39+4 -> 76 | K40: 101 to 105 | L40: 0.49
J41: =J40+4 -> 80 | K41: 106 to 110 | L41: 0.46
J42: =J41+4 -> 84 | K42: 111 to 115 | L42: 0.43
J43: =J42+4 -> 88 | K43: 116 to 120 | L43: 0.39
J44: =J43+4 -> 92
J45: =J44+4 -> 96
J46: =J45+4 -> 100

Sheet Drawings
A1: Trench | B1: Cross Section | D1: Bed | E1: Cross Section | G1: Bed | K1: Trench
A2: Hawaii | B2: #VALUE! | D2: Hawaii | E2: #VALUE! | G2: Wisconsin | H2: Cross Section | K2: Wisconsin | L2: Cross Section
A3: Idaho | B3: #VALUE! | D3: Idaho | E3: #VALUE! | G3: Mound | H3: #VALUE! | K3: Mound | L3: #VALUE!
A4: Maine | B4: #VALUE! | D4: Maine | E4: #VALUE! | G4: Subsurface | H4: #VALUE! | K4: Subsurface | L4: #VALUE!
A10: Trench | B10: Plan View | D10: Bed | E10: Plan View | G10: Bed | K10: Trench
A11: Hawaii | B11: #VALUE! | D11: Hawaii | E11: #VALUE! | G11: Wisconsin | H11: Plan View | K11: Wisconsin | L11: Plan View
A12: Idaho | B12: #VALUE! | D12: Idaho | E12: #VALUE! | G12: Mound | H12: #VALUE! | K12: Mound | L12: #VALUE!
A13: Maine | B13: #VALUE! | D13: Maine | E13: #VALUE! | G13: Subsurface | H13: #VALUE! | K13: Subsurface | L13: #VALUE!
A17: Slope
A18: Plan | B18: #VALUE!
A19: Cross | B19: #VALUE!

Sheet Pic Ref
E1: Trench Tab | O1: Meets Minimum Bottom SA Requirement? | P1: =IF(Bed!C26>=Bed!C18,"Yes","No") -> No
B2: Trench Tab | E2: Row Length | F2: Trench Length | G2: Footprint Width | H2: Rows
B3: =Trench!$C$6 -> Hawaii | E3: =Trench!C22 -> 65 | F3: =E3+1 -> 66 | G3: =Trench!C28 -> 5 | H3: =Trench!C23 -> 4 | O3: Suitable Bed Width for Min. Requirements | P3: =IF(P1="No",Bed!C18/(Bed!C22+1),"") -> 13.751375 | Q3: ft
B4: CS | C4: =VLOOKUP($B$3,Drawings!$A$1:$B$9,2,FALSE) -> #VALUE! | E4: =_xlfn.CONCAT(E3,"' ROW LENGTH") -> 65' ROW LENGTH | F4: =_xlfn.CONCAT(F3,"' TRENCH LENGTH") -> 66' TRENCH LENGTH | G4: =_xlfn.CONCAT(G3,"'") -> 5' | H4: =_xlfn.CONCAT("NUMBER OF ROWS: ",H3) -> NUMBER OF ROWS: 4 | O4: Sand Extensions on each side | P4: =IF(P1="No",(P3-Bed!C25)/2,0) -> 5.2506876 | Q4: ft
B5: PV | C5: =VLOOKUP($B$3,Drawings!$A$10:$B$18,2,FALSE) -> #VALUE! | O5: New System Footprint Surface Area | P5: =IF(P1="No",P3*(Bed!C22+1),"") -> 1388.8889 | Q5: sq ft
E6: Bed Tab | O6: Meets Minimum Bottom SA Requirement? | P6: =IF(P5>=Bed!C18,"Yes","No") -> Yes
B7: Bed Tab | E7: Row Length | F7: Bed Length | G7: Footprint Width | H7: Rows | I7: Extensions | J7: Conduit Width
B8: Hawaii | E8: =Bed!C22 -> 100 | F8: =Bed!C29 -> 101 | G8: =Bed!C28 -> 13.8 | H8: =Bed!C23 -> 4 | I8: =Bed!C27 -> 5.275 | J8: =Bed!C25 -> 3.25
B9: CS | C9: =VLOOKUP($B$8,Drawings!$D$1:$E$9,2,FALSE) -> #VALUE! | E9: =_xlfn.CONCAT(E8,"' ROW LENGTH") -> 100' ROW LENGTH | F9: =_xlfn.CONCAT(F8,"' BED LENGTH") -> 101' BED LENGTH | G9: =_xlfn.CONCAT(G8,"'") -> 13.8' | H9: =_xlfn.CONCAT("NUMBER OF ROWS: ",H8) -> NUMBER OF ROWS: 4 | I9: =_xlfn.CONCAT(I8,"'") -> 5.275' | J9: =_xlfn.CONCAT(J8,"'") -> 3.25' | O9: Meets Minimum Conduit Requirement? | P9: =IF(Bed!C24>=Bed!C12,"Yes", "No") -> Yes
B10: PV | C10: =VLOOKUP($B$8,Drawings!$D$10:$E$18,2,FALSE) -> #VALUE! | L10: Location:
E11: Sloped Tab
B12: WI In-Ground | E12: Row Length | F12: Bed Length | G12: Footprint Width | H12: Rows | I12: Extensions | J12: Conduit Width
B13: Subsurface | E13: =Sloped!C23 -> 64 | F13: =Sloped!C30 -> 65 | G13: =ROUND(Sloped!C29,2) -> 5.75 | H13: =Sloped!C24 -> 4 | I13: =ROUND(Sloped!C28,2) -> 2.5 | J13: =Sloped!C26 -> 3.25
B14: CS | C14: =VLOOKUP($B$13,Drawings!$G$1:$H$9,2,FALSE) -> #VALUE! | E14: =_xlfn.CONCAT(E13,"' ROW LENGTH") -> 64' ROW LENGTH | F14: =_xlfn.CONCAT(F13,"' BED LENGTH") -> 65' BED LENGTH | G14: =_xlfn.CONCAT(G13,"'") -> 5.75' | H14: =_xlfn.CONCAT("NUMBER OF ROWS: ",H13) -> NUMBER OF ROWS: 4 | I14: =_xlfn.CONCAT(I13,"'") -> 2.5' | J14: =_xlfn.CONCAT(J13,"'") -> 3.25'
B15: PV | C15: =VLOOKUP($B$13,Drawings!$G$10:$H$18,2,FALSE) -> #VALUE!
B17: Slope Tab
B18: Hawaii
B19: CS | C19: =Drawings!B19 -> #VALUE!
B20: PV | C20: =Drawings!B18 -> #VALUE!
