{"text_format":"3","workbook":"xlsx","n_sheets":8,"sheets":["Cumulative Volumes Imperial","Cumulative Volumes Metric","Interpolation","InterpolationMetric","Crate Data","Imperial Incremental Crate","Metric Incremental Crate","Version History"],"not_rendered":{"images":2,"defined_names":51},"read":"whole","date_system":"1900"}

{"sheet":"Cumulative Volumes Imperial","index":0,"n_rows":270,"n_cols":71,"rows_kept":270,"merged":[[1,2,1,9],[7,54,9,56],[13,28,13,31],[14,28,14,31],[14,33,22,37],[14,58,14,61],[14,63,14,65],[15,67,15,70]]}
[1,{"$f":"'Version History'!D2","v":"Version 1.1"},{"$nulls":63},{"$f":"COUNTA(Q20:Q100)","v":5}]
[2,"Project:"]
[3]
[4,null,null,"Layers -",{"$nulls":4},1,"Layers"]
[5,null,null,{"$f":"IF(Imperial_Layers=0.5,\"Number of Half Modules -\",\"Number of Full Modules -\")","v":"Number of Full Modules -"},{"$nulls":4},100,"Modules"]
[6,null,null,"Number of Cube Modules -",{"$nulls":4},10,"Modules"]
[7,null,null,"Number of Stacks -",{"$nulls":4},{"$f":"(I5+I6/IF(Imperial_Layers=0.5,1,2))/IF(Imperial_Layers=0.5,1,I4)","v":105},"Stacks"]
[8,null,null,"Amount of Stone Above Modules -",{"$nulls":4},6,"in",{"$nulls":44},"NOTE: If the software program being used allows for Stage Volume data, it is recommended to use the stage volume data from this spreadsheet.  Software programs typically use linear interpolation to take stage area data and estimate stage volume data.  Due to rounding differences over the total number of stages provided in this spreadsheet, the accuracy of the estimated volume could be off as much as 1%. It is recommended that the user check the software estimated volume and compare it to the volume listed in this spreadsheet to ensure the accuracy is within acceptable levels.  "]
[9,null,null,"Amount of Stone Below Modules -",{"$nulls":4},6,"in"]
[10,null,null,"Voids in stone (porosity) -",{"$nulls":4},{"v":0.4,"d":"40%"}]
[11,null,null,"Base of Stone Elevation -",{"$nulls":4},100,{"$nulls":16},{"$f":"1/Z12","v":0.08333333333333333},{"$f":"Z11","v":0.08333333333333333}]
[12,null,null,"Area of system -",{"$nulls":4},700,{"$f":"\"sf - Minimum Area \"&ROUNDUP(_xlfn.XLOOKUP(I4,CrateData[Layer],CrateData[Surface Area (sf)])*'Cumulative Volumes Imperial'!I7,0)&\"sf\"","v":"sf - Minimum Area 636sf"},{"$nulls":12},"System Depth",null,{"$f":"B18/Z12","v":3.625},12]
[13,{"$nulls":4}," "]
[14,{"$nulls":27},{"$f":"IF(AND(AU17=TRUE, AU23=TRUE), \"Stage Area Data and WWHM Stage Data should NOT be selected at the same time\", \"\")","v":""}]
[15,{"$nulls":27},{"$f":"IF($AU$17,\"Stage Area Data\",IF($AU$23,\"WWHM Stage Data\",\"\"))","v":""},{"$nulls":4},{"$f":"IF($AU$17,BC8,\"\")","v":""},{"$nulls":24},{"$f":"IF($AN$17,\"Stage Area Data\",\"\")","v":"Stage Area Data"},{"$nulls":4},"WWMH Stage Data"]
[{"$f":"IF(B18<>\"\",A15+1,\"\")","v":16},"Height of System","Incremental  Single Module","Incremental Module Total","Total volume of module","Incremental Stone per Module","Incremental Stone within module perimeter","Perimeter Stone Volume","Incremental Stone","Incremental Module & Stone","Cumulative Volume","Elevation",{"$nulls":8},"Elevation",null,"Depth","Depth","Area",null,"Sum",null,{"$f":"IF($AU$17,\"Depth\",IF($AU$23,\"Stage\",\"\"))","v":""},{"$f":"IF($AU$17,\"Elevation\",IF($AU$23,\"Area\",\"\"))","v":""},{"$f":"IF($AU$17,\"Area\",IF($AU$23,\"Storage\",\"\"))","v":""},{"$f":"IF($AU$17,\"Area\",\"\")","v":""},{"$nulls":14},"Stage Area",null,"Perimeter Stone",{"$nulls":9},{"$f":"IF($AN$17,\"Depth\",\"\")","v":"Depth"},{"$f":"IF($AN$17,\"Elevation\",\"\")","v":"Elevation"},{"$f":"IF($AN$17,\"Area\",\"\")","v":"Area"},{"$f":"IF($AN$17,\"Area\",\"\")","v":"Area"},null,{"$f":"IF($AN$23,\"Stage\",\"\")","v":""},{"$f":"IF($AN$23,\"Area\",\"\")","v":""},{"$f":"IF($AN$23,\"Storage\",\"\")","v":""},null,"WWMH Data "]
[17,"(inches)","(cubic feet)","(cubic feet)","(cubic feet)","(cubic feet)","(cubic feet)","(cubic feet)","(cubic feet)","(cubic feet)","(cubic feet)","(feet)",{"$nulls":8},"(feet)",null,"(feet)","(feet)","(ft2)",null,{"$f":"SUM(AA18:AA227)","v":45},null,{"$f":"IF($AU$17,\"(feet)\",IF($AU$23,(\"(feet)\"),\"\"))","v":""},{"$f":"IF($AU$17,\"(feet)\",IF($AU$23,\"(acres)\",\"\"))","v":""},{"$f":"IF($AU$17,\"(ft²)\",IF($AU$23,\"(acre-ft)\",\"\"))","v":""},{"$f":"IF($AU$17,\"(acres)\",\"\")","v":""},{"$nulls":6},"Toggle Printout",true,null,true,{"$nulls":4},false,null,true,{"$nulls":9},{"$f":"IF($AN$17,\"(feet)\",\"\")","v":"(feet)"},{"$f":"IF($AN$17,\"(feet)\",\"\")","v":"(feet)"},{"$f":"IF($AN$17,\"(ft²)\",\"\")","v":"(ft²)"},{"$f":"IF($AN$17,\"(acres)\",\"\")","v":"(acres)"},null,{"$f":"IF($AN$23,\"(feet)\",\"\")","v":""},{"$f":"IF($AN$23,\"(acres)\",\"\")","v":""},{"$f":"IF($AN$23,\"(acre-ft)\",\"\")","v":""},null,"Storage","Inv Storage",null,"AREA"]
[18,{"$f":"I8+I9+_xlfn.XLOOKUP(Imperial_Layers,CrateData[Layer],CrateData[Height])","v":{"v":43.5,"d":"43.50"}},{"$f":"IF(B18=\"\",\"\",IFERROR(_xlfn.XLOOKUP(B18,ImperialIncrementalData[System Increment],_xlfn.XLOOKUP('Imperial Incremental Crate'!$R$3,ImperialIncrementalData[#Headers],ImperialIncrementalData[]),,1),0))","v":{"v":0,"d":"0.00"}},{"$f":"IFERROR(C18*Imperial_Number_Of_Stacks,\"\")","v":{"v":0,"d":"0.00"}},{"$f":"IF(B18=\"\",\"\",IFERROR(_xlfn.XLOOKUP(B18,ImperialIncrementalData[System Increment],_xlfn.XLOOKUP(Imperial_Incremental_Data_Target_Column,ImperialIncrementalData[#Headers],ImperialIncrementalData[]),,1),0))","v":{"v":0,"d":"0.00"}},{"$f":"IF(B18=\"\",\"\",IF(B19=\"\",((((1)/12)*Imperial_Module_Square_Foot_Area)-'Cumulative Volumes Imperial'!E18)*Imperial_Stone_Void_Percentage,((((B18-B19)/12)*Imperial_Module_Square_Foot_Area)-'Cumulative Volumes Imperial'!E18)*Imperial_Stone_Void_Percentage))","v":{"v":0.10091166015665365,"d":"0.10"}},{"$f":"IFERROR(F18*Imperial_Number_Of_Stacks,\"\")","v":{"v":10.595724316448633,"d":"10.60"}},{"$f":"((Imperial_System_Area_Input-Imperial_Number_Of_Stacks*_xlfn.XLOOKUP(Imperial_Layers,CrateData[Layer],CrateData[Surface Area (sf)]))*((B18-B19)/12))*Imperial_Stone_Void_Percentage","v":{"v":1.0709423502180317,"d":"1.07"}},{"$f":"IFERROR(IF($AW$17, H18+G18, G18), \"\")","v":{"v":11.666666666666664,"d":"11.67"}},{"$f":"IFERROR(I18+D18,\"\")","v":{"v":11.666666666666664,"d":"11.67"}},{"$f":"IF(B18=\"\",\"\",SUM(J18:$J$233))","v":{"v":1949.5428847107682,"d":"1949.54"}},{"$f":"IFERROR($I$11+B18/12,\"\")","v":{"v":103.625,"d":"103.63"}},{"$nulls":3},"Volume above",{"$f":"Interpolation!C2","v":""},"cf",null,null,{"$f":"IF(L19=\"\",IF(L18=\"\",\"\",$I$11),L18)","v":103.625},null,{"$f":"Y12","v":{"v":3.625,"d":"3.63"}},{"$f":"IF(AND(B18=\"\",B16=1),0,IF(B18=\"\",\"\",IF(OR(W18=0,W18>0),W18,\"\")))","v":3.625},{"$f":"IF(X18=\"\",\"\",IF(X18=0,K16/$AA$11,IF(ISNUMBER(U19),(K18-K19)/(L18-L19),Y17)))","v":{"v":279.99999999997,"d":"280.000"}},null,{"$f":"IF(X18=\"\",\"\",1)","v":1},null,{"$f":"IF(AU17=TRUE, BG18, IF(AU23=TRUE, BL18, \"\"))","v":""},{"$f":"IF($AU$17=TRUE, BH18, IF($AU$23=TRUE, BM18, \"\"))","v":""},{"$f":"IF(AU17=TRUE, BI18, IF(AU23=TRUE, BN18, \"\"))","v":""},{"$f":"IF($AU$17=TRUE, BJ18, IF($AU$23=TRUE, \"\", \"\"))","v":""},{"$nulls":7},"Top of Storage Elevation",{"$nulls":6},"Invet Stage Area",{"$nulls":11},{"$f":"IF(AU21=\"TYP\",0,IF(AU21=\"INVERT\",X18,\"\"))","v":""},{"$f":"IF(AC18=\"\",\"\",$I$11+AC18)","v":""},{"$f":"IF(AU21=\"TYP\",IF(Y17=\"\",\"\",INDEX($Y$18:$Y$227,$AA$17-ROWS(Y17:$Y$18))),IF(AU21=\"INVERT\",Y18,\"\"))","v":""},{"$f":"IF(AE18=\"\",\"\",AE18/43560)","v":""},null,{"$f":"IF(AU23=TRUE,0,IF(AU23=FALSE,0))","v":{"v":0,"d":"0.00"}},{"$f":"IF(BS18=\"\",\"\",BS18/43560)","v":{"v":0.006427915518823877,"d":"0.0064"}},0,{"$nulls":4},{"$f":"IF(Y17=\"\",\"\",INDEX($Y$17:$Y$227,$AA$17-ROWS($Y$17:$Y17)))","v":279.9999999999681}]
[19,{"$f":"IF(B18-ROUNDDOWN(B18,0)=0,B18-1,ROUNDDOWN(B18,0))","v":{"v":43,"d":"43.00"}},{"$f":"IF(B19=\"\",\"\",IFERROR(_xlfn.XLOOKUP(B19,ImperialIncrementalData[System Increment],_xlfn.XLOOKUP('Imperial Incremental Crate'!$R$3,ImperialIncrementalData[#Headers],ImperialIncrementalData[]),,1),0))","v":{"v":0,"d":"0.00"}},{"v":0,"d":"0.00"},{"$f":"IF(B19=\"\",\"\",IFERROR(_xlfn.XLOOKUP(B19,ImperialIncrementalData[System Increment],_xlfn.XLOOKUP(Imperial_Incremental_Data_Target_Column,ImperialIncrementalData[#Headers],ImperialIncrementalData[]),,1),0))","v":{"v":0,"d":"0.00"}},{"$f":"IF(B19=\"\",\"\",IF(B20=\"\",((((1)/12)*Imperial_Module_Square_Foot_Area)-'Cumulative Volumes Imperial'!E19)*Imperial_Stone_Void_Percentage,((((B19-B20)/12)*Imperial_Module_Square_Foot_Area)-'Cumulative Volumes Imperial'!E19)*Imperial_Stone_Void_Percentage))","v":{"v":0.2018233203133073,"d":"0.20"}},{"v":21.191448632897266,"d":"21.19"},{"$f":"IF(B19=\"\",\"\",((Imperial_System_Area_Input-Imperial_Number_Of_Stacks*_xlfn.XLOOKUP(Imperial_Layers,CrateData[Layer],CrateData[Surface Area (sf)]))/12)*Imperial_Stone_Void_Percentage)","v":{"v":2.141884700436064,"d":"2.14"}},{"v":23.33333333333333,"d":"23.33"},{"v":23.33333333333333,"d":"23.33"},{"$f":"IF(B19=\"\",\"\",SUM(J19:$J$233))","v":{"v":1937.8762180441015,"d":"1937.88"}},{"v":103.58333333333333,"d":"103.58"},{"$nulls":3},"Top of storage elevation",null,"ft",null,null,103.58333333333333,null,{"$f":"W18-($AA$11)","v":{"v":3.5416666666666665,"d":"3.54"}},{"$f":"IF(AND(B19=\"\",B18=1),0,IF(B19=\"\",\"\",IF(OR(W19=0,W19>0),W19,\"\")))","v":3.5416666666666665},{"$f":"IF(X19=\"\",\"\",IF(X19=0,K18/$AA$11,IF(ISNUMBER(U20),(K19-K20)/(L19-L20),Y18)))","v":{"v":280.000000000015,"d":"280.000"}},null,{"$f":"IF(X19=\"\",\"\",1)","v":1},null,{"$f":"IF($AU$21=\"INVERT\",X19,IF(AC18>=$Y$12,\"\",IF(X18=\"\",\"\",INDEX($X$18:$X$227,$AA$17-ROWS($X$18:$X18)))))","v":""},{"$f":"IF($AN$17=TRUE, BH19, IF($AN$23=TRUE, BM19, \"\"))","v":""},{"$f":"IF($AU$17=TRUE, BI19, IF($AU$23=TRUE, BN19, \"\"))","v":""},"",{"$nulls":6},false,false,"",{"$nulls":5},false,{"$nulls":11},{"$f":"IF($AU$21=\"INVERT\",X19,IF(AC18>=$Y$12,\"\",IF(X18=\"\",\"\",INDEX($X$18:$X$227,$AA$17-ROWS($X$18:$X18)))))","v":""},"",{"$f":"IF(AE18=\"\",\"\",\n    IF($AU$21=\"TYP\",\n       IF(Y18=\"\",\"\", INDEX($Y$18:$Y$227, $AA$17-ROWS($Y$18:$Y18))),\n       IF($AU$21=\"INVERT\",Y19, \"\")\n    )\n)","v":""},"",null,{"$f":"IF(BL18>=$Y$12,\"\",IF(X18=\"\",\"\",INDEX($X$18:$X$227,$AA$17-ROWS($X$18:$X18))))","v":{"v":0.041666666666664604,"d":"0.04"}},{"$f":"IF(BS19=\"\",\"\",BS19/43560)","v":{"v":0.006427915518824974,"d":"0.0064"}},{"$f":"BQ19","v":0},null,1.1617943003234996E-3,null,{"$f":"IFERROR(INDEX(_xlfn._xlws.SORT(_xlfn._xlws.FILTER(BP19:BP267, BP19:BP267 <> \"\")), ROWS(BR$19:BR267)), \"\")","v":""},{"$f":"IF(Y18=\"\",\"\",INDEX($Y$17:$Y$227,$AA$17-ROWS($Y$17:$Y18)))","v":280.00000000001586}]
[20,{"$f":"IFERROR(IF(B19-1<1,\"\",B19-1),\"\")","v":{"v":42,"d":"42.00"}},{"$f":"IF(B20=\"\",\"\",IFERROR(_xlfn.XLOOKUP(B20,ImperialIncrementalData[System Increment],_xlfn.XLOOKUP('Imperial Incremental Crate'!$R$3,ImperialIncrementalData[#Headers],ImperialIncrementalData[]),,1),0))","v":{"v":0,"d":"0.00"}},{"v":0,"d":"0.00"},{"$f":"IF(B20=\"\",\"\",IFERROR(_xlfn.XLOOKUP(B20,ImperialIncrementalData[System Increment],_xlfn.XLOOKUP(Imperial_Incremental_Data_Target_Column,ImperialIncrementalData[#Headers],ImperialIncrementalData[]),,1),0))","v":{"v":0,"d":"0.00"}},{"$f":"IF(B20=\"\",\"\",IF(B21=\"\",((((1)/12)*Imperial_Module_Square_Foot_Area)-'Cumulative Volumes Imperial'!E20)*Imperial_Stone_Void_Percentage,((((B20-B21)/12)*Imperial_Module_Square_Foot_Area)-'Cumulative Volumes Imperial'!E20)*Imperial_Stone_Void_Percentage))","v":{"v":0.2018233203133073,"d":"0.20"}},{"v":21.191448632897266,"d":"21.19"},{"$f":"IF(B20=\"\",\"\",((Imperial_System_Area_Input-Imperial_Number_Of_Stacks*_xlfn.XLOOKUP(Imperial_Layers,CrateData[Layer],CrateData[Surface Area (sf)]))/12)*Imperial_Stone_Void_Percentage)","v":{"v":2.141884700436064,"d":"2.14"}},{"v":23.33333333333333,"d":"23.33"},{"v":23.33333333333333,"d":"23.33"},{"$f":"IF(B20=\"\",\"\",SUM(J20:$J$233))","v":{"v":1914.5428847107682,"d":"1914.54"}},{"v":103.5,"d":"103.50"},{"$nulls":3},"Volume Below",{"$f":"Interpolation!C4","v":""},"cf",null,null,103.5,null,{"$f":"W19-($AA$11)","v":{"v":3.458333333333333,"d":"3.46"}},3.458333333333333,{"v":280.000000000015,"d":"280.000"},null,1,null,{"$f":"IF($AU$21=\"INVERT\",X20,IF(AC19>=$Y$12,\"\",IF(X19=\"\",\"\",INDEX($X$18:$X$227,$AA$17-ROWS($X$18:$X19)))))","v":""},"","","",{"$nulls":6},false,"Volume below Top of Storage Elevation","",{"$nulls":5},"Both True",null,"End Cap Data Validation",{"$nulls":9},{"$f":"IF($AU$21=\"INVERT\",X20,IF(AC19>=$Y$12,\"\",IF(X19=\"\",\"\",INDEX($X$18:$X$227,$AA$17-ROWS($X$18:$X19)))))","v":""},"",{"$f":"IF(AE19=\"\",\"\",\n    IF($AU$21=\"TYP\",\n       IF(Y19=\"\",\"\", INDEX($Y$18:$Y$227, $AA$17-ROWS($Y$18:$Y19))),\n       IF($AU$21=\"INVERT\",Y20, \"\")\n    )\n)","v":""},"",null,{"$f":"IF(BL19>=$Y$12,\"\",IF(X19=\"\",\"\",INDEX($X$18:$X$227,$AA$17-ROWS($X$18:$X19))))","v":{"v":0.12499999999999793,"d":"0.12"}},{"$f":"IF(BS20=\"\",\"\",BS20/43560)","v":{"v":0.006427915518824974,"d":"0.0064"}},{"$f":"BQ20","v":0},null,1.1617943003234996E-3,null,{"$f":"IFERROR(INDEX(_xlfn._xlws.SORT(_xlfn._xlws.FILTER(BP20:BP268, BP20:BP268 <> \"\")), ROWS(BR$19:BR268)), \"\")","v":""},{"$f":"IF(Y19=\"\",\"\",INDEX($Y$17:$Y$227,$AA$17-ROWS($Y$17:$Y19)))","v":280.00000000001586}]
[21,{"v":41,"d":"41.00"},{"$f":"IF(B21=\"\",\"\",IFERROR(_xlfn.XLOOKUP(B21,ImperialIncrementalData[System Increment],_xlfn.XLOOKUP('Imperial Incremental Crate'!$R$3,ImperialIncrementalData[#Headers],ImperialIncrementalData[]),,1),0))","v":{"v":0,"d":"0.00"}},{"v":0,"d":"0.00"},{"$f":"IF(B21=\"\",\"\",IFERROR(_xlfn.XLOOKUP(B21,ImperialIncrementalData[System Increment],_xlfn.XLOOKUP(Imperial_Incremental_Data_Target_Column,ImperialIncrementalData[#Headers],ImperialIncrementalData[]),,1),0))","v":{"v":0,"d":"0.00"}},{"$f":"IF(B21=\"\",\"\",IF(B22=\"\",((((1)/12)*Imperial_Module_Square_Foot_Area)-'Cumulative Volumes Imperial'!E21)*Imperial_Stone_Void_Percentage,((((B21-B22)/12)*Imperial_Module_Square_Foot_Area)-'Cumulative Volumes Imperial'!E21)*Imperial_Stone_Void_Percentage))","v":{"v":0.2018233203133073,"d":"0.20"}},{"v":21.191448632897266,"d":"21.19"},{"$f":"IF(B21=\"\",\"\",((Imperial_System_Area_Input-Imperial_Number_Of_Stacks*_xlfn.XLOOKUP(Imperial_Layers,CrateData[Layer],CrateData[Surface Area (sf)]))/12)*Imperial_Stone_Void_Percentage)","v":{"v":2.141884700436064,"d":"2.14"}},{"v":23.33333333333333,"d":"23.33"},{"v":23.33333333333333,"d":"23.33"},{"$f":"IF(B21=\"\",\"\",SUM(J21:$J$233))","v":{"v":1891.209551377435,"d":"1891.21"}},{"v":103.41666666666667,"d":"103.42"},{"$nulls":8},103.41666666666667,null,{"v":3.3749999999999996,"d":"3.38"},3.3749999999999996,{"v":279.99999999997,"d":"280.000"},null,1,null,{"$f":"IF($AU$21=\"INVERT\",X21,IF(AC20>=$Y$12,\"\",IF(X20=\"\",\"\",INDEX($X$18:$X$227,$AA$17-ROWS($X$18:$X20)))))","v":""},"","","",{"$nulls":14},{"$f":"IF(AND(AU17,AU19=FALSE),\"TYP\",IF(AND(AU17,AU19),\"INVERT\",\"\"))","v":""},null,{"$f":"IF(J7=\"Number of End Caps -\",ISEVEN(M7),TRUE)","v":true},{"$nulls":9},{"$f":"IF($AU$21=\"INVERT\",X21,IF(AC20>=$Y$12,\"\",IF(X20=\"\",\"\",INDEX($X$18:$X$227,$AA$17-ROWS($X$18:$X20)))))","v":""},"",{"$f":"IF(AE20=\"\",\"\",\n    IF($AU$21=\"TYP\",\n       IF(Y20=\"\",\"\", INDEX($Y$18:$Y$227, $AA$17-ROWS($Y$18:$Y20))),\n       IF($AU$21=\"INVERT\",Y21, \"\")\n    )\n)","v":""},"",null,{"$f":"IF(BL20>=$Y$12,\"\",IF(X20=\"\",\"\",INDEX($X$18:$X$227,$AA$17-ROWS($X$18:$X20))))","v":{"v":0.20833333333333126,"d":"0.21"}},{"v":0.006427915518823877,"d":"0.0064"},0,null,1.1617943003234996E-3,null,{"$f":"IFERROR(INDEX(_xlfn._xlws.SORT(_xlfn._xlws.FILTER(BP21:BP269, BP21:BP269 <> \"\")), ROWS(BR$19:BR269)), \"\")","v":""},{"$f":"IF(Y20=\"\",\"\",INDEX($Y$17:$Y$227,$AA$17-ROWS($Y$17:$Y20)))","v":279.9999999999681}]
[22,{"v":40,"d":"40.00"},{"$f":"IF(B22=\"\",\"\",IFERROR(_xlfn.XLOOKUP(B22,ImperialIncrementalData[System Increment],_xlfn.XLOOKUP('Imperial Incremental Crate'!$R$3,ImperialIncrementalData[#Headers],ImperialIncrementalData[]),,1),0))","v":{"v":0,"d":"0.00"}},{"v":0,"d":"0.00"},{"$f":"IF(B22=\"\",\"\",IFERROR(_xlfn.XLOOKUP(B22,ImperialIncrementalData[System Increment],_xlfn.XLOOKUP(Imperial_Incremental_Data_Target_Column,ImperialIncrementalData[#Headers],ImperialIncrementalData[]),,1),0))","v":{"v":0,"d":"0.00"}},{"$f":"IF(B22=\"\",\"\",IF(B23=\"\",((((1)/12)*Imperial_Module_Square_Foot_Area)-'Cumulative Volumes Imperial'!E22)*Imperial_Stone_Void_Percentage,((((B22-B23)/12)*Imperial_Module_Square_Foot_Area)-'Cumulative Volumes Imperial'!E22)*Imperial_Stone_Void_Percentage))","v":{"v":0.2018233203133073,"d":"0.20"}},{"v":21.191448632897266,"d":"21.19"},{"$f":"IF(B22=\"\",\"\",((Imperial_System_Area_Input-Imperial_Number_Of_Stacks*_xlfn.XLOOKUP(Imperial_Layers,CrateData[Layer],CrateData[Surface Area (sf)]))/12)*Imperial_Stone_Void_Percentage)","v":{"v":2.141884700436064,"d":"2.14"}},{"v":23.33333333333333,"d":"23.33"},{"v":23.33333333333333,"d":"23.33"},{"$f":"IF(B22=\"\",\"\",SUM(J22:$J$233))","v":{"v":1867.8762180441015,"d":"1867.88"}},{"v":103.33333333333333,"d":"103.33"},{"$nulls":3},"Volume above",{"$f":"Interpolation!C6","v":""},"cf",null,null,103.33333333333333,null,{"v":3.291666666666666,"d":"3.29"},3.291666666666666,{"v":280.000000000015,"d":"280.000"},null,1,null,{"$f":"IF($AU$21=\"INVERT\",X22,IF(AC21>=$Y$12,\"\",IF(X21=\"\",\"\",INDEX($X$18:$X$227,$AA$17-ROWS($X$18:$X21)))))","v":""},"","","",{"$nulls":6},false,"Volume between Top and Bottom of Storage","",{"$nulls":5},"WWMH",{"$nulls":11},{"$f":"IF($AU$21=\"INVERT\",X22,IF(AC21>=$Y$12,\"\",IF(X21=\"\",\"\",INDEX($X$18:$X$227,$AA$17-ROWS($X$18:$X21)))))","v":""},"",{"$f":"IF(AE21=\"\",\"\",\n    IF($AU$21=\"TYP\",\n       IF(Y21=\"\",\"\", INDEX($Y$18:$Y$227, $AA$17-ROWS($Y$18:$Y21))),\n       IF($AU$21=\"INVERT\",Y22, \"\")\n    )\n)","v":""},"",null,{"$f":"IF(BL21>=$Y$12,\"\",IF(X21=\"\",\"\",INDEX($X$18:$X$227,$AA$17-ROWS($X$18:$X21))))","v":{"v":0.2916666666666646,"d":"0.29"}},{"v":0.006427915518824974,"d":"0.0064"},0,null,1.1617943003234996E-3,null,{"$f":"IFERROR(INDEX(_xlfn._xlws.SORT(_xlfn._xlws.FILTER(BP22:BP270, BP22:BP270 <> \"\")), ROWS(BR$19:BR270)), \"\")","v":""},{"$f":"IF(Y21=\"\",\"\",INDEX($Y$17:$Y$227,$AA$17-ROWS($Y$17:$Y21)))","v":280.00000000001586}]
[23,{"v":39,"d":"39.00"},{"$f":"IF(B23=\"\",\"\",IFERROR(_xlfn.XLOOKUP(B23,ImperialIncrementalData[System Increment],_xlfn.XLOOKUP('Imperial Incremental Crate'!$R$3,ImperialIncrementalData[#Headers],ImperialIncrementalData[]),,1),0))","v":{"v":0,"d":"0.00"}},{"v":0,"d":"0.00"},{"$f":"IF(B23=\"\",\"\",IFERROR(_xlfn.XLOOKUP(B23,ImperialIncrementalData[System Increment],_xlfn.XLOOKUP(Imperial_Incremental_Data_Target_Column,ImperialIncrementalData[#Headers],ImperialIncrementalData[]),,1),0))","v":{"v":0,"d":"0.00"}},{"$f":"IF(B23=\"\",\"\",IF(B24=\"\",((((1)/12)*Imperial_Module_Square_Foot_Area)-'Cumulative Volumes Imperial'!E23)*Imperial_Stone_Void_Percentage,((((B23-B24)/12)*Imperial_Module_Square_Foot_Area)-'Cumulative Volumes Imperial'!E23)*Imperial_Stone_Void_Percentage))","v":{"v":0.2018233203133073,"d":"0.20"}},{"v":21.191448632897266,"d":"21.19"},{"$f":"IF(B23=\"\",\"\",((Imperial_System_Area_Input-Imperial_Number_Of_Stacks*_xlfn.XLOOKUP(Imperial_Layers,CrateData[Layer],CrateData[Surface Area (sf)]))/12)*Imperial_Stone_Void_Percentage)","v":{"v":2.141884700436064,"d":"2.14"}},{"v":23.33333333333333,"d":"23.33"},{"v":23.33333333333333,"d":"23.33"},{"$f":"IF(B23=\"\",\"\",SUM(J23:$J$233))","v":{"v":1844.5428847107682,"d":"1844.54"}},103.25,{"$nulls":3},"Bottom of storage elevation",null,"ft",null,null,103.25,null,{"v":3.2083333333333326,"d":"3.21"},3.2083333333333326,{"v":280.000000000015,"d":"280.000"},null,1,null,{"$f":"IF($AU$21=\"INVERT\",X23,IF(AC22>=$Y$12,\"\",IF(X22=\"\",\"\",INDEX($X$18:$X$227,$AA$17-ROWS($X$18:$X22)))))","v":""},"","","",{"$nulls":14},false,null,"Used in conditional formatting to Highlight target elevation",{"$nulls":9},{"$f":"IF($AU$21=\"INVERT\",X23,IF(AC22>=$Y$12,\"\",IF(X22=\"\",\"\",INDEX($X$18:$X$227,$AA$17-ROWS($X$18:$X22)))))","v":""},"",{"$f":"IF(AE22=\"\",\"\",\n    IF($AU$21=\"TYP\",\n       IF(Y22=\"\",\"\", INDEX($Y$18:$Y$227, $AA$17-ROWS($Y$18:$Y22))),\n       IF($AU$21=\"INVERT\",Y23, \"\")\n    )\n)","v":""},"",null,{"$f":"IF(BL22>=$Y$12,\"\",IF(X22=\"\",\"\",INDEX($X$18:$X$227,$AA$17-ROWS($X$18:$X22))))","v":{"v":0.3749999999999979,"d":"0.37"}},{"v":0.01460092601085193,"d":"0.0146"},0,null,1.1617943003234996E-3,null,null,{"$f":"IF(Y22=\"\",\"\",INDEX($Y$17:$Y$227,$AA$17-ROWS($Y$17:$Y22)))","v":636.0163370327101}]
[24,{"v":38,"d":"38.00"},{"$f":"IF(B24=\"\",\"\",IFERROR(_xlfn.XLOOKUP(B24,ImperialIncrementalData[System Increment],_xlfn.XLOOKUP('Imperial Incremental Crate'!$R$3,ImperialIncrementalData[#Headers],ImperialIncrementalData[]),,1),0))","v":{"v":0.24218798437596878,"d":"0.24"}},{"v":25.429738359476723,"d":"25.43"},{"$f":"IF(B24=\"\",\"\",IFERROR(_xlfn.XLOOKUP(B24,ImperialIncrementalData[System Increment],_xlfn.XLOOKUP(Imperial_Incremental_Data_Target_Column,ImperialIncrementalData[#Headers],ImperialIncrementalData[]),,1),0))","v":{"v":0.2522791503916341,"d":"0.25"}},{"$f":"IF(B24=\"\",\"\",IF(B25=\"\",((((1)/12)*Imperial_Module_Square_Foot_Area)-'Cumulative Volumes Imperial'!E24)*Imperial_Stone_Void_Percentage,((((B24-B25)/12)*Imperial_Module_Square_Foot_Area)-'Cumulative Volumes Imperial'!E24)*Imperial_Stone_Void_Percentage))","v":{"v":0.10091166015665365,"d":"0.10"}},{"v":10.595724316448633,"d":"10.60"},{"$f":"IF(B24=\"\",\"\",((Imperial_System_Area_Input-Imperial_Number_Of_Stacks*_xlfn.XLOOKUP(Imperial_Layers,CrateData[Layer],CrateData[Surface Area (sf)]))/12)*Imperial_Stone_Void_Percentage)","v":{"v":2.141884700436064,"d":"2.14"}},{"v":12.737609016884697,"d":"12.74"},{"v":38.16734737636142,"d":"38.17"},{"$f":"IF(B24=\"\",\"\",SUM(J24:$J$233))","v":{"v":1821.209551377435,"d":"1821.21"}},{"v":103.16666666666667,"d":"103.17"},{"$nulls":3},"Volume Below",{"$f":"Interpolation!C8","v":""},"cf",null,null,103.16666666666667,null,{"v":3.124999999999999,"d":"3.13"},3.124999999999999,{"v":458.00816851628565,"d":"458.008"},null,1,null,{"$f":"IF($AU$21=\"INVERT\",X24,IF(AC23>=$Y$12,\"\",IF(X23=\"\",\"\",INDEX($X$18:$X$227,$AA$17-ROWS($X$18:$X23)))))","v":""},"","","",{"$nulls":7},"Bottom of Storage Elevation",{"$nulls":8},{"$f":"ROUND(1/12,2)-0.001","v":0.079},{"$nulls":9},{"$f":"IF($AU$21=\"INVERT\",X24,IF(AC23>=$Y$12,\"\",IF(X23=\"\",\"\",INDEX($X$18:$X$227,$AA$17-ROWS($X$18:$X23)))))","v":""},"",{"$f":"IF(AE23=\"\",\"\",\n    IF($AU$21=\"TYP\",\n       IF(Y23=\"\",\"\", INDEX($Y$18:$Y$227, $AA$17-ROWS($Y$18:$Y23))),\n       IF($AU$21=\"INVERT\",Y24, \"\")\n    )\n)","v":""},"",null,{"$f":"IF(BL23>=$Y$12,\"\",IF(X23=\"\",\"\",INDEX($X$18:$X$227,$AA$17-ROWS($X$18:$X23))))","v":{"v":0.4583333333333312,"d":"0.46"}},{"v":0.014600926010849433,"d":"0.0146"},0,null,1.1617943003234996E-3,null,null,{"$f":"IF(Y23=\"\",\"\",INDEX($Y$17:$Y$227,$AA$17-ROWS($Y$17:$Y23)))","v":636.0163370326013}]
[25,{"v":37,"d":"37.00"},{"$f":"IF(B25=\"\",\"\",IFERROR(_xlfn.XLOOKUP(B25,ImperialIncrementalData[System Increment],_xlfn.XLOOKUP('Imperial Incremental Crate'!$R$3,ImperialIncrementalData[#Headers],ImperialIncrementalData[]),,1),0))","v":{"v":0.4843759687519375,"d":"0.48"}},{"v":50.85947671895344,"d":"50.86"},{"$f":"IF(B25=\"\",\"\",IFERROR(_xlfn.XLOOKUP(B25,ImperialIncrementalData[System Increment],_xlfn.XLOOKUP(Imperial_Incremental_Data_Target_Column,ImperialIncrementalData[#Headers],ImperialIncrementalData[]),,1),0))","v":{"v":0.5045583007832682,"d":"0.50"}},{"$f":"IF(B25=\"\",\"\",IF(B26=\"\",((((1)/12)*Imperial_Module_Square_Foot_Area)-'Cumulative Volumes Imperial'!E25)*Imperial_Stone_Void_Percentage,((((B25-B26)/12)*Imperial_Module_Square_Foot_Area)-'Cumulative Volumes Imperial'!E25)*Imperial_Stone_Void_Percentage))","v":{"v":0,"d":"0.00"}},{"v":0,"d":"0.00"},{"$f":"IF(B25=\"\",\"\",((Imperial_System_Area_Input-Imperial_Number_Of_Stacks*_xlfn.XLOOKUP(Imperial_Layers,CrateData[Layer],CrateData[Surface Area (sf)]))/12)*Imperial_Stone_Void_Percentage)","v":{"v":2.141884700436064,"d":"2.14"}},{"v":2.141884700436064,"d":"2.14"},{"v":53.001361419389504,"d":"53.00"},{"$f":"IF(B25=\"\",\"\",SUM(J25:$J$233))","v":{"v":1783.0422040010735,"d":"1783.04"}},{"v":103.08333333333333,"d":"103.08"},{"$nulls":8},103.08333333333333,null,{"v":3.0416666666666656,"d":"3.04"},3.0416666666666656,{"v":636.0163370327098,"d":"636.016"},null,1,null,{"$f":"IF($AU$21=\"INVERT\",X25,IF(AC24>=$Y$12,\"\",IF(X24=\"\",\"\",INDEX($X$18:$X$227,$AA$17-ROWS($X$18:$X24)))))","v":""},"","","",{"$nulls":6},false,"Volume above Bottom of Storage","",{"$nulls":17},{"$f":"IF($AU$21=\"INVERT\",X25,IF(AC24>=$Y$12,\"\",IF(X24=\"\",\"\",INDEX($X$18:$X$227,$AA$17-ROWS($X$18:$X24)))))","v":""},"",{"$f":"IF(AE24=\"\",\"\",\n    IF($AU$21=\"TYP\",\n       IF(Y24=\"\",\"\", INDEX($Y$18:$Y$227, $AA$17-ROWS($Y$18:$Y24))),\n       IF($AU$21=\"INVERT\",Y25, \"\")\n    )\n)","v":""},"",null,{"$f":"IF(BL24>=$Y$12,\"\",IF(X24=\"\",\"\",INDEX($X$18:$X$227,$AA$17-ROWS($X$18:$X24))))","v":{"v":0.5416666666666645,"d":"0.54"}},{"v":0.014600926010851924,"d":"0.0146"},0,null,1.1617943003234996E-3,null,null,{"$f":"IF(Y24=\"\",\"\",INDEX($Y$17:$Y$227,$AA$17-ROWS($Y$17:$Y24)))","v":636.0163370327098}]
[26,{"v":36,"d":"36.00"},{"$f":"IF(B26=\"\",\"\",IFERROR(_xlfn.XLOOKUP(B26,ImperialIncrementalData[System Increment],_xlfn.XLOOKUP('Imperial Incremental Crate'!$R$3,ImperialIncrementalData[#Headers],ImperialIncrementalData[]),,1),0))","v":{"v":0.4843759687519375,"d":"0.48"}},{"v":50.85947671895344,"d":"50.86"},{"$f":"IF(B26=\"\",\"\",IFERROR(_xlfn.XLOOKUP(B26,ImperialIncrementalData[System Increment],_xlfn.XLOOKUP(Imperial_Incremental_Data_Target_Column,ImperialIncrementalData[#Headers],ImperialIncrementalData[]),,1),0))","v":{"v":0.5045583007832682,"d":"0.50"}},{"$f":"IF(B26=\"\",\"\",IF(B27=\"\",((((1)/12)*Imperial_Module_Square_Foot_Area)-'Cumulative Volumes Imperial'!E26)*Imperial_Stone_Void_Percentage,((((B26-B27)/12)*Imperial_Module_Square_Foot_Area)-'Cumulative Volumes Imperial'!E26)*Imperial_Stone_Void_Percentage))","v":{"v":0,"d":"0.00"}},{"v":0,"d":"0.00"},{"$f":"IF(B26=\"\",\"\",((Imperial_System_Area_Input-Imperial_Number_Of_Stacks*_xlfn.XLOOKUP(Imperial_Layers,CrateData[Layer],CrateData[Surface Area (sf)]))/12)*Imperial_Stone_Void_Percentage)","v":{"v":2.141884700436064,"d":"2.14"}},{"v":2.141884700436064,"d":"2.14"},{"v":53.001361419389504,"d":"53.00"},{"$f":"IF(B26=\"\",\"\",SUM(J26:$J$233))","v":{"v":1730.040842581684,"d":"1730.04"}},{"v":103,"d":"103.00"},{"$nulls":3},"Volume Between Top & Bottom",{"$f":"IFERROR(Q20-Q24,\"\")","v":""},"cf",null,null,103,null,{"v":2.958333333333332,"d":"2.96"},2.958333333333332,{"v":636.0163370327098,"d":"636.016"},null,1,null,{"$f":"IF($AU$21=\"INVERT\",X26,IF(AC25>=$Y$12,\"\",IF(X25=\"\",\"\",INDEX($X$18:$X$227,$AA$17-ROWS($X$18:$X25)))))","v":""},"","","",{"$nulls":6},false,"Volume below Bottom of Storage","",{"$nulls":17},{"$f":"IF($AU$21=\"INVERT\",X26,IF(AC25>=$Y$12,\"\",IF(X25=\"\",\"\",INDEX($X$18:$X$227,$AA$17-ROWS($X$18:$X25)))))","v":""},"",{"$f":"IF(AE25=\"\",\"\",\n    IF($AU$21=\"TYP\",\n       IF(Y25=\"\",\"\", INDEX($Y$18:$Y$227, $AA$17-ROWS($Y$18:$Y25))),\n       IF($AU$21=\"INVERT\",Y26, \"\")\n    )\n)","v":""},"",null,{"$f":"IF(BL25>=$Y$12,\"\",IF(X25=\"\",\"\",INDEX($X$18:$X$227,$AA$17-ROWS($X$18:$X25))))","v":{"v":0.6249999999999979,"d":"0.62"}},{"v":0.01460092601085194,"d":"0.0146"},0,null,1.1617943003234996E-3,null,null,{"$f":"IF(Y25=\"\",\"\",INDEX($Y$17:$Y$227,$AA$17-ROWS($Y$17:$Y25)))","v":636.0163370327105}]
[27,{"v":35,"d":"35.00"},{"$f":"IF(B27=\"\",\"\",IFERROR(_xlfn.XLOOKUP(B27,ImperialIncrementalData[System Increment],_xlfn.XLOOKUP('Imperial Incremental Crate'!$R$3,ImperialIncrementalData[#Headers],ImperialIncrementalData[]),,1),0))","v":{"v":0.4843759687519375,"d":"0.48"}},{"v":50.85947671895344,"d":"50.86"},{"$f":"IF(B27=\"\",\"\",IFERROR(_xlfn.XLOOKUP(B27,ImperialIncrementalData[System Increment],_xlfn.XLOOKUP(Imperial_Incremental_Data_Target_Column,ImperialIncrementalData[#Headers],ImperialIncrementalData[]),,1),0))","v":{"v":0.5045583007832682,"d":"0.50"}},{"$f":"IF(B27=\"\",\"\",IF(B28=\"\",((((1)/12)*Imperial_Module_Square_Foot_Area)-'Cumulative Volumes Imperial'!E27)*Imperial_Stone_Void_Percentage,((((B27-B28)/12)*Imperial_Module_Square_Foot_Area)-'Cumulative Volumes Imperial'!E27)*Imperial_Stone_Void_Percentage))","v":{"v":0,"d":"0.00"}},{"v":0,"d":"0.00"},{"$f":"IF(B27=\"\",\"\",((Imperial_System_Area_Input-Imperial_Number_Of_Stacks*_xlfn.XLOOKUP(Imperial_Layers,CrateData[Layer],CrateData[Surface Area (sf)]))/12)*Imperial_Stone_Void_Percentage)","v":{"v":2.141884700436064,"d":"2.14"}},{"v":2.141884700436064,"d":"2.14"},{"v":53.001361419389504,"d":"53.00"},{"$f":"IF(B27=\"\",\"\",SUM(J27:$J$233))","v":{"v":1677.0394811622946,"d":"1677.04"}},{"v":102.91666666666667,"d":"102.92"},{"$nulls":8},102.91666666666667,null,{"v":2.8749999999999987,"d":"2.88"},2.8749999999999987,{"v":636.0163370326013,"d":"636.016"},null,1,null,{"$f":"IF($AU$21=\"INVERT\",X27,IF(AC26>=$Y$12,\"\",IF(X26=\"\",\"\",INDEX($X$18:$X$227,$AA$17-ROWS($X$18:$X26)))))","v":""},"","","",{"$nulls":26},{"$f":"IF($AU$21=\"INVERT\",X27,IF(AC26>=$Y$12,\"\",IF(X26=\"\",\"\",INDEX($X$18:$X$227,$AA$17-ROWS($X$18:$X26)))))","v":""},"",{"$f":"IF(AE26=\"\",\"\",\n    IF($AU$21=\"TYP\",\n       IF(Y26=\"\",\"\", INDEX($Y$18:$Y$227, $AA$17-ROWS($Y$18:$Y26))),\n       IF($AU$21=\"INVERT\",Y27, \"\")\n    )\n)","v":""},"",null,{"$f":"IF(BL26>=$Y$12,\"\",IF(X26=\"\",\"\",INDEX($X$18:$X$227,$AA$17-ROWS($X$18:$X26))))","v":{"v":0.7083333333333313,"d":"0.71"}},{"v":0.014600926010849433,"d":"0.0146"},0,null,1.1617943003234996E-3,null,null,{"$f":"IF(Y26=\"\",\"\",INDEX($Y$17:$Y$227,$AA$17-ROWS($Y$17:$Y26)))","v":636.0163370326013}]
[28,{"v":34,"d":"34.00"},{"$f":"IF(B28=\"\",\"\",IFERROR(_xlfn.XLOOKUP(B28,ImperialIncrementalData[System Increment],_xlfn.XLOOKUP('Imperial Incremental Crate'!$R$3,ImperialIncrementalData[#Headers],ImperialIncrementalData[]),,1),0))","v":{"v":0.4843759687519375,"d":"0.48"}},{"v":50.85947671895344,"d":"50.86"},{"$f":"IF(B28=\"\",\"\",IFERROR(_xlfn.XLOOKUP(B28,ImperialIncrementalData[System Increment],_xlfn.XLOOKUP(Imperial_Incremental_Data_Target_Column,ImperialIncrementalData[#Headers],ImperialIncrementalData[]),,1),0))","v":{"v":0.5045583007832682,"d":"0.50"}},{"$f":"IF(B28=\"\",\"\",IF(B29=\"\",((((1)/12)*Imperial_Module_Square_Foot_Area)-'Cumulative Volumes Imperial'!E28)*Imperial_Stone_Void_Percentage,((((B28-B29)/12)*Imperial_Module_Square_Foot_Area)-'Cumulative Volumes Imperial'!E28)*Imperial_Stone_Void_Percentage))","v":{"v":0,"d":"0.00"}},{"v":0,"d":"0.00"},{"$f":"IF(B28=\"\",\"\",((Imperial_System_Area_Input-Imperial_Number_Of_Stacks*_xlfn.XLOOKUP(Imperial_Layers,CrateData[Layer],CrateData[Surface Area (sf)]))/12)*Imperial_Stone_Void_Percentage)","v":{"v":2.141884700436064,"d":"2.14"}},{"v":2.141884700436064,"d":"2.14"},{"v":53.001361419389504,"d":"53.00"},{"$f":"IF(B28=\"\",\"\",SUM(J28:$J$233))","v":{"v":1624.038119742905,"d":"1624.04"}},{"v":102.83333333333333,"d":"102.83"},{"$nulls":3},"Target Volume",null,"cf",null,null,102.83333333333333,null,{"v":2.791666666666665,"d":"2.79"},2.791666666666665,{"v":636.0163370327098,"d":"636.016"},null,1,null,{"$f":"IF($AU$21=\"INVERT\",X28,IF(AC27>=$Y$12,\"\",IF(X27=\"\",\"\",INDEX($X$18:$X$227,$AA$17-ROWS($X$18:$X27)))))","v":""},"","","",{"$nulls":26},{"$f":"IF($AU$21=\"INVERT\",X28,IF(AC27>=$Y$12,\"\",IF(X27=\"\",\"\",INDEX($X$18:$X$227,$AA$17-ROWS($X$18:$X27)))))","v":""},"",{"$f":"IF(AE27=\"\",\"\",\n    IF($AU$21=\"TYP\",\n       IF(Y27=\"\",\"\", INDEX($Y$18:$Y$227, $AA$17-ROWS($Y$18:$Y27))),\n       IF($AU$21=\"INVERT\",Y28, \"\")\n    )\n)","v":""},"",null,{"$f":"IF(BL27>=$Y$12,\"\",IF(X27=\"\",\"\",INDEX($X$18:$X$227,$AA$17-ROWS($X$18:$X27))))","v":{"v":0.7916666666666646,"d":"0.79"}},{"v":0.01460092601085194,"d":"0.0146"},0,null,1.1617943003234996E-3,null,null,{"$f":"IF(Y27=\"\",\"\",INDEX($Y$17:$Y$227,$AA$17-ROWS($Y$17:$Y27)))","v":636.0163370327105}]
[29,{"v":33,"d":"33.00"},{"$f":"IF(B29=\"\",\"\",IFERROR(_xlfn.XLOOKUP(B29,ImperialIncrementalData[System Increment],_xlfn.XLOOKUP('Imperial Incremental Crate'!$R$3,ImperialIncrementalData[#Headers],ImperialIncrementalData[]),,1),0))","v":{"v":0.4843759687519375,"d":"0.48"}},{"v":50.85947671895344,"d":"50.86"},{"$f":"IF(B29=\"\",\"\",IFERROR(_xlfn.XLOOKUP(B29,ImperialIncrementalData[System Increment],_xlfn.XLOOKUP(Imperial_Incremental_Data_Target_Column,ImperialIncrementalData[#Headers],ImperialIncrementalData[]),,1),0))","v":{"v":0.5045583007832682,"d":"0.50"}},{"$f":"IF(B29=\"\",\"\",IF(B30=\"\",((((1)/12)*Imperial_Module_Square_Foot_Area)-'Cumulative Volumes Imperial'!E29)*Imperial_Stone_Void_Percentage,((((B29-B30)/12)*Imperial_Module_Square_Foot_Area)-'Cumulative Volumes Imperial'!E29)*Imperial_Stone_Void_Percentage))","v":{"v":0,"d":"0.00"}},{"v":0,"d":"0.00"},{"$f":"IF(B29=\"\",\"\",((Imperial_System_Area_Input-Imperial_Number_Of_Stacks*_xlfn.XLOOKUP(Imperial_Layers,CrateData[Layer],CrateData[Surface Area (sf)]))/12)*Imperial_Stone_Void_Percentage)","v":{"v":2.141884700436064,"d":"2.14"}},{"v":2.141884700436064,"d":"2.14"},{"v":53.001361419389504,"d":"53.00"},{"$f":"IF(B29=\"\",\"\",SUM(J29:$J$233))","v":{"v":1571.0367583235156,"d":"1571.04"}},102.75,{"$nulls":3},"Target Volume Elevation",{"$f":"Interpolation!C11","v":""},"ft",null,null,102.75,null,{"v":2.7083333333333317,"d":"2.71"},2.7083333333333317,{"v":636.0163370327098,"d":"636.016"},null,1,null,{"$f":"IF($AU$21=\"INVERT\",X29,IF(AC28>=$Y$12,\"\",IF(X28=\"\",\"\",INDEX($X$18:$X$227,$AA$17-ROWS($X$18:$X28)))))","v":""},"","","",{"$nulls":6},"Toggle Printout",{"$nulls":19},{"$f":"IF($AU$21=\"INVERT\",X29,IF(AC28>=$Y$12,\"\",IF(X28=\"\",\"\",INDEX($X$18:$X$227,$AA$17-ROWS($X$18:$X28)))))","v":""},"",{"$f":"IF(AE28=\"\",\"\",\n    IF($AU$21=\"TYP\",\n       IF(Y28=\"\",\"\", INDEX($Y$18:$Y$227, $AA$17-ROWS($Y$18:$Y28))),\n       IF($AU$21=\"INVERT\",Y29, \"\")\n    )\n)","v":""},"",null,{"$f":"IF(BL28>=$Y$12,\"\",IF(X28=\"\",\"\",INDEX($X$18:$X$227,$AA$17-ROWS($X$18:$X28))))","v":{"v":0.874999999999998,"d":"0.87"}},{"v":0.01460092601085194,"d":"0.0146"},0,null,1.1617943003234996E-3,null,null,{"$f":"IF(Y28=\"\",\"\",INDEX($Y$17:$Y$227,$AA$17-ROWS($Y$17:$Y28)))","v":636.0163370327105}]
[30,{"v":32,"d":"32.00"},{"$f":"IF(B30=\"\",\"\",IFERROR(_xlfn.XLOOKUP(B30,ImperialIncrementalData[System Increment],_xlfn.XLOOKUP('Imperial Incremental Crate'!$R$3,ImperialIncrementalData[#Headers],ImperialIncrementalData[]),,1),0))","v":{"v":0.4843759687519375,"d":"0.48"}},{"v":50.85947671895344,"d":"50.86"},{"$f":"IF(B30=\"\",\"\",IFERROR(_xlfn.XLOOKUP(B30,ImperialIncrementalData[System Increment],_xlfn.XLOOKUP(Imperial_Incremental_Data_Target_Column,ImperialIncrementalData[#Headers],ImperialIncrementalData[]),,1),0))","v":{"v":0.5045583007832682,"d":"0.50"}},{"$f":"IF(B30=\"\",\"\",IF(B31=\"\",((((1)/12)*Imperial_Module_Square_Foot_Area)-'Cumulative Volumes Imperial'!E30)*Imperial_Stone_Void_Percentage,((((B30-B31)/12)*Imperial_Module_Square_Foot_Area)-'Cumulative Volumes Imperial'!E30)*Imperial_Stone_Void_Percentage))","v":{"v":0,"d":"0.00"}},{"v":0,"d":"0.00"},{"$f":"IF(B30=\"\",\"\",((Imperial_System_Area_Input-Imperial_Number_Of_Stacks*_xlfn.XLOOKUP(Imperial_Layers,CrateData[Layer],CrateData[Surface Area (sf)]))/12)*Imperial_Stone_Void_Percentage)","v":{"v":2.141884700436064,"d":"2.14"}},{"v":2.141884700436064,"d":"2.14"},{"v":53.001361419389504,"d":"53.00"},{"$f":"IF(B30=\"\",\"\",SUM(J30:$J$233))","v":{"v":1518.0353969041262,"d":"1518.04"}},{"v":102.66666666666667,"d":"102.67"},{"$nulls":8},102.66666666666667,null,{"v":2.6249999999999982,"d":"2.63"},2.6249999999999982,{"v":636.0163370326013,"d":"636.016"},null,1,null,{"$f":"IF($AU$21=\"INVERT\",X30,IF(AC29>=$Y$12,\"\",IF(X29=\"\",\"\",INDEX($X$18:$X$227,$AA$17-ROWS($X$18:$X29)))))","v":""},"","","",{"$nulls":7},"Target Volume",{"$nulls":5},{"$f":"NOT(AND(AU17=TRUE, AU23=TRUE))","v":true},{"$nulls":12},{"$f":"IF($AU$21=\"INVERT\",X30,IF(AC29>=$Y$12,\"\",IF(X29=\"\",\"\",INDEX($X$18:$X$227,$AA$17-ROWS($X$18:$X29)))))","v":""},"",{"$f":"IF(AE29=\"\",\"\",\n    IF($AU$21=\"TYP\",\n       IF(Y29=\"\",\"\", INDEX($Y$18:$Y$227, $AA$17-ROWS($Y$18:$Y29))),\n       IF($AU$21=\"INVERT\",Y30, \"\")\n    )\n)","v":""},"",null,{"$f":"IF(BL29>=$Y$12,\"\",IF(X29=\"\",\"\",INDEX($X$18:$X$227,$AA$17-ROWS($X$18:$X29))))","v":{"v":0.9583333333333314,"d":"0.96"}},{"v":0.01460092601084948,"d":"0.0146"},0,null,1.1617943003234996E-3,null,null,{"$f":"IF(Y29=\"\",\"\",INDEX($Y$17:$Y$227,$AA$17-ROWS($Y$17:$Y29)))","v":636.0163370326034}]
[31,{"v":31,"d":"31.00"},{"$f":"IF(B31=\"\",\"\",IFERROR(_xlfn.XLOOKUP(B31,ImperialIncrementalData[System Increment],_xlfn.XLOOKUP('Imperial Incremental Crate'!$R$3,ImperialIncrementalData[#Headers],ImperialIncrementalData[]),,1),0))","v":{"v":0.4843759687519375,"d":"0.48"}},{"v":50.85947671895344,"d":"50.86"},{"$f":"IF(B31=\"\",\"\",IFERROR(_xlfn.XLOOKUP(B31,ImperialIncrementalData[System Increment],_xlfn.XLOOKUP(Imperial_Incremental_Data_Target_Column,ImperialIncrementalData[#Headers],ImperialIncrementalData[]),,1),0))","v":{"v":0.5045583007832682,"d":"0.50"}},{"$f":"IF(B31=\"\",\"\",IF(B32=\"\",((((1)/12)*Imperial_Module_Square_Foot_Area)-'Cumulative Volumes Imperial'!E31)*Imperial_Stone_Void_Percentage,((((B31-B32)/12)*Imperial_Module_Square_Foot_Area)-'Cumulative Volumes Imperial'!E31)*Imperial_Stone_Void_Percentage))","v":{"v":0,"d":"0.00"}},{"v":0,"d":"0.00"},{"$f":"IF(B31=\"\",\"\",((Imperial_System_Area_Input-Imperial_Number_Of_Stacks*_xlfn.XLOOKUP(Imperial_Layers,CrateData[Layer],CrateData[Surface Area (sf)]))/12)*Imperial_Stone_Void_Percentage)","v":{"v":2.141884700436064,"d":"2.14"}},{"v":2.141884700436064,"d":"2.14"},{"v":53.001361419389504,"d":"53.00"},{"$f":"IF(B31=\"\",\"\",SUM(J31:$J$233))","v":{"v":1465.0340354847367,"d":"1465.03"}},{"v":102.58333333333333,"d":"102.58"},{"$nulls":8},102.58333333333333,null,{"v":2.5416666666666647,"d":"2.54"},2.5416666666666647,{"v":636.0163370327098,"d":"636.016"},null,1,null,{"$f":"IF($AU$21=\"INVERT\",X31,IF(AC30>=$Y$12,\"\",IF(X30=\"\",\"\",INDEX($X$18:$X$227,$AA$17-ROWS($X$18:$X30)))))","v":""},"","","",{"$nulls":7},"Reference Elevation",{"$nulls":18},{"$f":"IF($AU$21=\"INVERT\",X31,IF(AC30>=$Y$12,\"\",IF(X30=\"\",\"\",INDEX($X$18:$X$227,$AA$17-ROWS($X$18:$X30)))))","v":""},"",{"$f":"IF(AE30=\"\",\"\",\n    IF($AU$21=\"TYP\",\n       IF(Y30=\"\",\"\", INDEX($Y$18:$Y$227, $AA$17-ROWS($Y$18:$Y30))),\n       IF($AU$21=\"INVERT\",Y31, \"\")\n    )\n)","v":""},"",null,{"$f":"IF(BL30>=$Y$12,\"\",IF(X30=\"\",\"\",INDEX($X$18:$X$227,$AA$17-ROWS($X$18:$X30))))","v":{"v":1.0416666666666647,"d":"1.04"}},{"v":0.014600926010851986,"d":"0.0146"},0,null,1.1617943003234996E-3,null,null,{"$f":"IF(Y30=\"\",\"\",INDEX($Y$17:$Y$227,$AA$17-ROWS($Y$17:$Y30)))","v":636.0163370327125}]
[32,{"v":30,"d":"30.00"},{"$f":"IF(B32=\"\",\"\",IFERROR(_xlfn.XLOOKUP(B32,ImperialIncrementalData[System Increment],_xlfn.XLOOKUP('Imperial Incremental Crate'!$R$3,ImperialIncrementalData[#Headers],ImperialIncrementalData[]),,1),0))","v":{"v":0.4843759687519375,"d":"0.48"}},{"v":50.85947671895344,"d":"50.86"},{"$f":"IF(B32=\"\",\"\",IFERROR(_xlfn.XLOOKUP(B32,ImperialIncrementalData[System Increment],_xlfn.XLOOKUP(Imperial_Incremental_Data_Target_Column,ImperialIncrementalData[#Headers],ImperialIncrementalData[]),,1),0))","v":{"v":0.5045583007832682,"d":"0.50"}},{"$f":"IF(B32=\"\",\"\",IF(B33=\"\",((((1)/12)*Imperial_Module_Square_Foot_Area)-'Cumulative Volumes Imperial'!E32)*Imperial_Stone_Void_Percentage,((((B32-B33)/12)*Imperial_Module_Square_Foot_Area)-'Cumulative Volumes Imperial'!E32)*Imperial_Stone_Void_Percentage))","v":{"v":0,"d":"0.00"}},{"v":0,"d":"0.00"},{"$f":"IF(B32=\"\",\"\",((Imperial_System_Area_Input-Imperial_Number_Of_Stacks*_xlfn.XLOOKUP(Imperial_Layers,CrateData[Layer],CrateData[Surface Area (sf)]))/12)*Imperial_Stone_Void_Percentage)","v":{"v":2.141884700436064,"d":"2.14"}},{"v":2.141884700436064,"d":"2.14"},{"v":53.001361419389504,"d":"53.00"},{"$f":"IF(B32=\"\",\"\",SUM(J32:$J$233))","v":{"v":1412.0326740653472,"d":"1412.03"}},{"v":102.5,"d":"102.50"},{"$nulls":8},102.5,null,{"v":2.4583333333333313,"d":"2.46"},2.4583333333333313,{"v":636.0163370327098,"d":"636.016"},null,1,null,{"$f":"IF($AU$21=\"INVERT\",X32,IF(AC31>=$Y$12,\"\",IF(X31=\"\",\"\",INDEX($X$18:$X$227,$AA$17-ROWS($X$18:$X31)))))","v":""},"","","",{"$nulls":7},"Volume below Reference Elevation","",{"$nulls":17},{"$f":"IF($AU$21=\"INVERT\",X32,IF(AC31>=$Y$12,\"\",IF(X31=\"\",\"\",INDEX($X$18:$X$227,$AA$17-ROWS($X$18:$X31)))))","v":""},"",{"$f":"IF(AE31=\"\",\"\",\n    IF($AU$21=\"TYP\",\n       IF(Y31=\"\",\"\", INDEX($Y$18:$Y$227, $AA$17-ROWS($Y$18:$Y31))),\n       IF($AU$21=\"INVERT\",Y32, \"\")\n    )\n)","v":""},"",null,{"$f":"IF(BL31>=$Y$12,\"\",IF(X31=\"\",\"\",INDEX($X$18:$X$227,$AA$17-ROWS($X$18:$X31))))","v":{"v":1.124999999999998,"d":"1.13"}},{"v":0.014600926010851955,"d":"0.0146"},0,null,1.1600854091279999E-3,null,null,{"$f":"IF(Y31=\"\",\"\",INDEX($Y$17:$Y$227,$AA$17-ROWS($Y$17:$Y31)))","v":636.0163370327111}]
[33,{"v":29,"d":"29.00"},{"$f":"IF(B33=\"\",\"\",IFERROR(_xlfn.XLOOKUP(B33,ImperialIncrementalData[System Increment],_xlfn.XLOOKUP('Imperial Incremental Crate'!$R$3,ImperialIncrementalData[#Headers],ImperialIncrementalData[]),,1),0))","v":{"v":0.4843759687519375,"d":"0.48"}},{"v":50.85947671895344,"d":"50.86"},{"$f":"IF(B33=\"\",\"\",IFERROR(_xlfn.XLOOKUP(B33,ImperialIncrementalData[System Increment],_xlfn.XLOOKUP(Imperial_Incremental_Data_Target_Column,ImperialIncrementalData[#Headers],ImperialIncrementalData[]),,1),0))","v":{"v":0.5045583007832682,"d":"0.50"}},{"$f":"IF(B33=\"\",\"\",IF(B34=\"\",((((1)/12)*Imperial_Module_Square_Foot_Area)-'Cumulative Volumes Imperial'!E33)*Imperial_Stone_Void_Percentage,((((B33-B34)/12)*Imperial_Module_Square_Foot_Area)-'Cumulative Volumes Imperial'!E33)*Imperial_Stone_Void_Percentage))","v":{"v":0,"d":"0.00"}},{"v":0,"d":"0.00"},{"$f":"IF(B33=\"\",\"\",((Imperial_System_Area_Input-Imperial_Number_Of_Stacks*_xlfn.XLOOKUP(Imperial_Layers,CrateData[Layer],CrateData[Surface Area (sf)]))/12)*Imperial_Stone_Void_Percentage)","v":{"v":2.141884700436064,"d":"2.14"}},{"v":2.141884700436064,"d":"2.14"},{"v":53.001361419389504,"d":"53.00"},{"$f":"IF(B33=\"\",\"\",SUM(J33:$J$233))","v":{"v":1359.0313126459578,"d":"1359.03"}},{"v":102.41666666666667,"d":"102.42"},{"$nulls":8},102.41666666666667,null,{"v":2.374999999999998,"d":"2.38"},2.374999999999998,{"v":636.0163370326013,"d":"636.016"},null,1,null,{"$f":"IF($AU$21=\"INVERT\",X33,IF(AC32>=$Y$12,\"\",IF(X32=\"\",\"\",INDEX($X$18:$X$227,$AA$17-ROWS($X$18:$X32)))))","v":""},"","","",{"$nulls":7},"Target Volume + Volume Below Reference Elevation",{"$f":"IFERROR(AO32+AO30,\"\")","v":""},{"$nulls":17},{"$f":"IF($AU$21=\"INVERT\",X33,IF(AC32>=$Y$12,\"\",IF(X32=\"\",\"\",INDEX($X$18:$X$227,$AA$17-ROWS($X$18:$X32)))))","v":""},"",{"$f":"IF(AE32=\"\",\"\",\n    IF($AU$21=\"TYP\",\n       IF(Y32=\"\",\"\", INDEX($Y$18:$Y$227, $AA$17-ROWS($Y$18:$Y32))),\n       IF($AU$21=\"INVERT\",Y33, \"\")\n    )\n)","v":""},"",null,{"$f":"IF(BL32>=$Y$12,\"\",IF(X32=\"\",\"\",INDEX($X$18:$X$227,$AA$17-ROWS($X$18:$X32))))","v":{"v":1.2083333333333313,"d":"1.21"}},{"v":0.014600926010849433,"d":"0.0146"},0,null,1.1555699885954997E-3,null,null,{"$f":"IF(Y32=\"\",\"\",INDEX($Y$17:$Y$227,$AA$17-ROWS($Y$17:$Y32)))","v":636.0163370326013}]
[34,{"v":28,"d":"28.00"},{"$f":"IF(B34=\"\",\"\",IFERROR(_xlfn.XLOOKUP(B34,ImperialIncrementalData[System Increment],_xlfn.XLOOKUP('Imperial Incremental Crate'!$R$3,ImperialIncrementalData[#Headers],ImperialIncrementalData[]),,1),0))","v":{"v":0.4843759687519375,"d":"0.48"}},{"v":50.85947671895344,"d":"50.86"},{"$f":"IF(B34=\"\",\"\",IFERROR(_xlfn.XLOOKUP(B34,ImperialIncrementalData[System Increment],_xlfn.XLOOKUP(Imperial_Incremental_Data_Target_Column,ImperialIncrementalData[#Headers],ImperialIncrementalData[]),,1),0))","v":{"v":0.5045583007832682,"d":"0.50"}},{"$f":"IF(B34=\"\",\"\",IF(B35=\"\",((((1)/12)*Imperial_Module_Square_Foot_Area)-'Cumulative Volumes Imperial'!E34)*Imperial_Stone_Void_Percentage,((((B34-B35)/12)*Imperial_Module_Square_Foot_Area)-'Cumulative Volumes Imperial'!E34)*Imperial_Stone_Void_Percentage))","v":{"v":0,"d":"0.00"}},{"v":0,"d":"0.00"},{"$f":"IF(B34=\"\",\"\",((Imperial_System_Area_Input-Imperial_Number_Of_Stacks*_xlfn.XLOOKUP(Imperial_Layers,CrateData[Layer],CrateData[Surface Area (sf)]))/12)*Imperial_Stone_Void_Percentage)","v":{"v":2.141884700436064,"d":"2.14"}},{"v":2.141884700436064,"d":"2.14"},{"v":53.001361419389504,"d":"53.00"},{"$f":"IF(B34=\"\",\"\",SUM(J34:$J$233))","v":{"v":1306.0299512265683,"d":"1306.03"}},{"v":102.33333333333333,"d":"102.33"},{"$nulls":8},102.33333333333333,null,{"v":2.2916666666666643,"d":"2.29"},2.2916666666666643,{"v":636.0163370327098,"d":"636.016"},null,1,null,{"$f":"IF($AU$21=\"INVERT\",X34,IF(AC33>=$Y$12,\"\",IF(X33=\"\",\"\",INDEX($X$18:$X$227,$AA$17-ROWS($X$18:$X33)))))","v":""},"","","",{"$nulls":6},false,"Target Volume achieved at Elevation","",{"$nulls":17},{"$f":"IF($AU$21=\"INVERT\",X34,IF(AC33>=$Y$12,\"\",IF(X33=\"\",\"\",INDEX($X$18:$X$227,$AA$17-ROWS($X$18:$X33)))))","v":""},"",{"$f":"IF(AE33=\"\",\"\",\n    IF($AU$21=\"TYP\",\n       IF(Y33=\"\",\"\", INDEX($Y$18:$Y$227, $AA$17-ROWS($Y$18:$Y33))),\n       IF($AU$21=\"INVERT\",Y34, \"\")\n    )\n)","v":""},"",null,{"$f":"IF(BL33>=$Y$12,\"\",IF(X33=\"\",\"\",INDEX($X$18:$X$227,$AA$17-ROWS($X$18:$X33))))","v":{"v":1.2916666666666645,"d":"1.29"}},{"v":0.014600926010851924,"d":"0.0146"},0,null,1.1490210247904998E-3,null,null,{"$f":"IF(Y33=\"\",\"\",INDEX($Y$17:$Y$227,$AA$17-ROWS($Y$17:$Y33)))","v":636.0163370327098}]
[35,{"v":27,"d":"27.00"},{"$f":"IF(B35=\"\",\"\",IFERROR(_xlfn.XLOOKUP(B35,ImperialIncrementalData[System Increment],_xlfn.XLOOKUP('Imperial Incremental Crate'!$R$3,ImperialIncrementalData[#Headers],ImperialIncrementalData[]),,1),0))","v":{"v":0.4843759687519375,"d":"0.48"}},{"v":50.85947671895344,"d":"50.86"},{"$f":"IF(B35=\"\",\"\",IFERROR(_xlfn.XLOOKUP(B35,ImperialIncrementalData[System Increment],_xlfn.XLOOKUP(Imperial_Incremental_Data_Target_Column,ImperialIncrementalData[#Headers],ImperialIncrementalData[]),,1),0))","v":{"v":0.5045583007832682,"d":"0.50"}},{"$f":"IF(B35=\"\",\"\",IF(B36=\"\",((((1)/12)*Imperial_Module_Square_Foot_Area)-'Cumulative Volumes Imperial'!E35)*Imperial_Stone_Void_Percentage,((((B35-B36)/12)*Imperial_Module_Square_Foot_Area)-'Cumulative Volumes Imperial'!E35)*Imperial_Stone_Void_Percentage))","v":{"v":0,"d":"0.00"}},{"v":0,"d":"0.00"},{"$f":"IF(B35=\"\",\"\",((Imperial_System_Area_Input-Imperial_Number_Of_Stacks*_xlfn.XLOOKUP(Imperial_Layers,CrateData[Layer],CrateData[Surface Area (sf)]))/12)*Imperial_Stone_Void_Percentage)","v":{"v":2.141884700436064,"d":"2.14"}},{"v":2.141884700436064,"d":"2.14"},{"v":53.001361419389504,"d":"53.00"},{"$f":"IF(B35=\"\",\"\",SUM(J35:$J$233))","v":{"v":1253.0285898071788,"d":"1253.03"}},102.25,{"$nulls":8},102.25,null,{"v":2.208333333333331,"d":"2.21"},2.208333333333331,{"v":636.0163370327098,"d":"636.016"},null,1,null,{"$f":"IF($AU$21=\"INVERT\",X35,IF(AC34>=$Y$12,\"\",IF(X34=\"\",\"\",INDEX($X$18:$X$227,$AA$17-ROWS($X$18:$X34)))))","v":""},"","","",{"$nulls":7},"(Optional) Apply % Credit toward Target Volume",false,{"$nulls":17},{"$f":"IF($AU$21=\"INVERT\",X35,IF(AC34>=$Y$12,\"\",IF(X34=\"\",\"\",INDEX($X$18:$X$227,$AA$17-ROWS($X$18:$X34)))))","v":""},"",{"$f":"IF(AE34=\"\",\"\",\n    IF($AU$21=\"TYP\",\n       IF(Y34=\"\",\"\", INDEX($Y$18:$Y$227, $AA$17-ROWS($Y$18:$Y34))),\n       IF($AU$21=\"INVERT\",Y35, \"\")\n    )\n)","v":""},"",null,{"$f":"IF(BL34>=$Y$12,\"\",IF(X34=\"\",\"\",INDEX($X$18:$X$227,$AA$17-ROWS($X$18:$X34))))","v":{"v":1.3749999999999978,"d":"1.38"}},{"v":0.014600926010851924,"d":"0.0146"},0,null,1.1374305252434998E-3,null,null,{"$f":"IF(Y34=\"\",\"\",INDEX($Y$17:$Y$227,$AA$17-ROWS($Y$17:$Y34)))","v":636.0163370327098}]
[36,{"v":26,"d":"26.00"},{"$f":"IF(B36=\"\",\"\",IFERROR(_xlfn.XLOOKUP(B36,ImperialIncrementalData[System Increment],_xlfn.XLOOKUP('Imperial Incremental Crate'!$R$3,ImperialIncrementalData[#Headers],ImperialIncrementalData[]),,1),0))","v":{"v":0.4843759687519375,"d":"0.48"}},{"v":50.85947671895344,"d":"50.86"},{"$f":"IF(B36=\"\",\"\",IFERROR(_xlfn.XLOOKUP(B36,ImperialIncrementalData[System Increment],_xlfn.XLOOKUP(Imperial_Incremental_Data_Target_Column,ImperialIncrementalData[#Headers],ImperialIncrementalData[]),,1),0))","v":{"v":0.5045583007832682,"d":"0.50"}},{"$f":"IF(B36=\"\",\"\",IF(B37=\"\",((((1)/12)*Imperial_Module_Square_Foot_Area)-'Cumulative Volumes Imperial'!E36)*Imperial_Stone_Void_Percentage,((((B36-B37)/12)*Imperial_Module_Square_Foot_Area)-'Cumulative Volumes Imperial'!E36)*Imperial_Stone_Void_Percentage))","v":{"v":0,"d":"0.00"}},{"v":0,"d":"0.00"},{"$f":"IF(B36=\"\",\"\",((Imperial_System_Area_Input-Imperial_Number_Of_Stacks*_xlfn.XLOOKUP(Imperial_Layers,CrateData[Layer],CrateData[Surface Area (sf)]))/12)*Imperial_Stone_Void_Percentage)","v":{"v":2.141884700436064,"d":"2.14"}},{"v":2.141884700436064,"d":"2.14"},{"v":53.001361419389504,"d":"53.00"},{"$f":"IF(B36=\"\",\"\",SUM(J36:$J$233))","v":{"v":1200.0272283877894,"d":"1200.03"}},{"v":102.16666666666667,"d":"102.17"},{"$nulls":8},102.16666666666667,null,{"v":2.1249999999999973,"d":"2.13"},2.1249999999999973,{"v":636.0163370326013,"d":"636.016"},null,1,null,{"$f":"IF($AU$21=\"INVERT\",X36,IF(AC35>=$Y$12,\"\",IF(X35=\"\",\"\",INDEX($X$18:$X$227,$AA$17-ROWS($X$18:$X35)))))","v":""},"","","",{"$nulls":7},"% Credited toward Target Volume below Reference Elevation",{"v":1,"d":"100%"},{"$nulls":17},{"$f":"IF($AU$21=\"INVERT\",X36,IF(AC35>=$Y$12,\"\",IF(X35=\"\",\"\",INDEX($X$18:$X$227,$AA$17-ROWS($X$18:$X35)))))","v":""},"",{"$f":"IF(AE35=\"\",\"\",\n    IF($AU$21=\"TYP\",\n       IF(Y35=\"\",\"\", INDEX($Y$18:$Y$227, $AA$17-ROWS($Y$18:$Y35))),\n       IF($AU$21=\"INVERT\",Y36, \"\")\n    )\n)","v":""},"",null,{"$f":"IF(BL35>=$Y$12,\"\",IF(X35=\"\",\"\",INDEX($X$18:$X$227,$AA$17-ROWS($X$18:$X35))))","v":{"v":1.458333333333331,"d":"1.46"}},{"v":0.014600926010849433,"d":"0.0146"},0,null,1.1204331530354997E-3,null,null,{"$f":"IF(Y35=\"\",\"\",INDEX($Y$17:$Y$227,$AA$17-ROWS($Y$17:$Y35)))","v":636.0163370326013}]
[37,{"v":25,"d":"25.00"},{"$f":"IF(B37=\"\",\"\",IFERROR(_xlfn.XLOOKUP(B37,ImperialIncrementalData[System Increment],_xlfn.XLOOKUP('Imperial Incremental Crate'!$R$3,ImperialIncrementalData[#Headers],ImperialIncrementalData[]),,1),0))","v":{"v":0.4843759687519375,"d":"0.48"}},{"v":50.85947671895344,"d":"50.86"},{"$f":"IF(B37=\"\",\"\",IFERROR(_xlfn.XLOOKUP(B37,ImperialIncrementalData[System Increment],_xlfn.XLOOKUP(Imperial_Incremental_Data_Target_Column,ImperialIncrementalData[#Headers],ImperialIncrementalData[]),,1),0))","v":{"v":0.5045583007832682,"d":"0.50"}},{"$f":"IF(B37=\"\",\"\",IF(B38=\"\",((((1)/12)*Imperial_Module_Square_Foot_Area)-'Cumulative Volumes Imperial'!E37)*Imperial_Stone_Void_Percentage,((((B37-B38)/12)*Imperial_Module_Square_Foot_Area)-'Cumulative Volumes Imperial'!E37)*Imperial_Stone_Void_Percentage))","v":{"v":0,"d":"0.00"}},{"v":0,"d":"0.00"},{"$f":"IF(B37=\"\",\"\",((Imperial_System_Area_Input-Imperial_Number_Of_Stacks*_xlfn.XLOOKUP(Imperial_Layers,CrateData[Layer],CrateData[Surface Area (sf)]))/12)*Imperial_Stone_Void_Percentage)","v":{"v":2.141884700436064,"d":"2.14"}},{"v":2.141884700436064,"d":"2.14"},{"v":53.001361419389504,"d":"53.00"},{"$f":"IF(B37=\"\",\"\",SUM(J37:$J$233))","v":{"v":1147.0258669684,"d":"1147.03"}},{"v":102.08333333333333,"d":"102.08"},{"$nulls":8},102.08333333333333,null,{"v":2.041666666666664,"d":"2.04"},2.041666666666664,{"v":636.016337032707,"d":"636.016"},null,1,null,{"$f":"IF($AU$21=\"INVERT\",X37,IF(AC36>=$Y$12,\"\",IF(X36=\"\",\"\",INDEX($X$18:$X$227,$AA$17-ROWS($X$18:$X36)))))","v":""},"","","",{"$nulls":7},"Volume Credited below Reference Elevation",{"$f":"IFERROR(MIN(AO36*AO32,AO30),\"\")","v":""},{"$nulls":17},{"$f":"IF($AU$21=\"INVERT\",X37,IF(AC36>=$Y$12,\"\",IF(X36=\"\",\"\",INDEX($X$18:$X$227,$AA$17-ROWS($X$18:$X36)))))","v":""},"",{"$f":"IF(AE36=\"\",\"\",\n    IF($AU$21=\"TYP\",\n       IF(Y36=\"\",\"\", INDEX($Y$18:$Y$227, $AA$17-ROWS($Y$18:$Y36))),\n       IF($AU$21=\"INVERT\",Y37, \"\")\n    )\n)","v":""},"",null,{"$f":"IF(BL36>=$Y$12,\"\",IF(X36=\"\",\"\",INDEX($X$18:$X$227,$AA$17-ROWS($X$18:$X36))))","v":{"v":1.5416666666666643,"d":"1.54"}},{"v":0.014600926010851924,"d":"0.0146"},0,null,1.0999554195239999E-3,null,null,{"$f":"IF(Y36=\"\",\"\",INDEX($Y$17:$Y$227,$AA$17-ROWS($Y$17:$Y36)))","v":636.0163370327098}]
[38,{"v":24,"d":"24.00"},{"$f":"IF(B38=\"\",\"\",IFERROR(_xlfn.XLOOKUP(B38,ImperialIncrementalData[System Increment],_xlfn.XLOOKUP('Imperial Incremental Crate'!$R$3,ImperialIncrementalData[#Headers],ImperialIncrementalData[]),,1),0))","v":{"v":0.4843759687519375,"d":"0.48"}},{"v":50.85947671895344,"d":"50.86"},{"$f":"IF(B38=\"\",\"\",IFERROR(_xlfn.XLOOKUP(B38,ImperialIncrementalData[System Increment],_xlfn.XLOOKUP(Imperial_Incremental_Data_Target_Column,ImperialIncrementalData[#Headers],ImperialIncrementalData[]),,1),0))","v":{"v":0.5045583007832682,"d":"0.50"}},{"$f":"IF(B38=\"\",\"\",IF(B39=\"\",((((1)/12)*Imperial_Module_Square_Foot_Area)-'Cumulative Volumes Imperial'!E38)*Imperial_Stone_Void_Percentage,((((B38-B39)/12)*Imperial_Module_Square_Foot_Area)-'Cumulative Volumes Imperial'!E38)*Imperial_Stone_Void_Percentage))","v":{"v":0,"d":"0.00"}},{"v":0,"d":"0.00"},{"$f":"IF(B38=\"\",\"\",((Imperial_System_Area_Input-Imperial_Number_Of_Stacks*_xlfn.XLOOKUP(Imperial_Layers,CrateData[Layer],CrateData[Surface Area (sf)]))/12)*Imperial_Stone_Void_Percentage)","v":{"v":2.141884700436064,"d":"2.14"}},{"v":2.141884700436064,"d":"2.14"},{"v":53.001361419389504,"d":"53.00"},{"$f":"IF(B38=\"\",\"\",SUM(J38:$J$233))","v":{"v":1094.0245055490107,"d":"1094.02"}},{"v":102,"d":"102.00"},{"$nulls":8},102,null,{"v":1.9583333333333306,"d":"1.96"},1.9583333333333306,{"v":636.0163370327043,"d":"636.016"},null,1,null,{"$f":"IF($AU$21=\"INVERT\",X38,IF(AC37>=$Y$12,\"\",IF(X37=\"\",\"\",INDEX($X$18:$X$227,$AA$17-ROWS($X$18:$X37)))))","v":""},"","","",{"$nulls":7},"Volume Discredited below Reference Elevation",{"$f":"IFERROR(IF(AO37=0,0,(AO37/AO36)*(1-AO36)),\"\")","v":""},{"$nulls":17},{"$f":"IF($AU$21=\"INVERT\",X38,IF(AC37>=$Y$12,\"\",IF(X37=\"\",\"\",INDEX($X$18:$X$227,$AA$17-ROWS($X$18:$X37)))))","v":""},"",{"$f":"IF(AE37=\"\",\"\",\n    IF($AU$21=\"TYP\",\n       IF(Y37=\"\",\"\", INDEX($Y$18:$Y$227, $AA$17-ROWS($Y$18:$Y37))),\n       IF($AU$21=\"INVERT\",Y38, \"\")\n    )\n)","v":""},"",null,{"$f":"IF(BL37>=$Y$12,\"\",IF(X37=\"\",\"\",INDEX($X$18:$X$227,$AA$17-ROWS($X$18:$X37))))","v":{"v":1.6249999999999976,"d":"1.63"}},{"v":0.014600926010851924,"d":"0.0146"},0,null,1.0766642264639999E-3,null,null,{"$f":"IF(Y37=\"\",\"\",INDEX($Y$17:$Y$227,$AA$17-ROWS($Y$17:$Y37)))","v":636.0163370327098}]
[39,{"v":23,"d":"23.00"},{"$f":"IF(B39=\"\",\"\",IFERROR(_xlfn.XLOOKUP(B39,ImperialIncrementalData[System Increment],_xlfn.XLOOKUP('Imperial Incremental Crate'!$R$3,ImperialIncrementalData[#Headers],ImperialIncrementalData[]),,1),0))","v":{"v":0.4843759687519375,"d":"0.48"}},{"v":50.85947671895344,"d":"50.86"},{"$f":"IF(B39=\"\",\"\",IFERROR(_xlfn.XLOOKUP(B39,ImperialIncrementalData[System Increment],_xlfn.XLOOKUP(Imperial_Incremental_Data_Target_Column,ImperialIncrementalData[#Headers],ImperialIncrementalData[]),,1),0))","v":{"v":0.5045583007832682,"d":"0.50"}},{"$f":"IF(B39=\"\",\"\",IF(B40=\"\",((((1)/12)*Imperial_Module_Square_Foot_Area)-'Cumulative Volumes Imperial'!E39)*Imperial_Stone_Void_Percentage,((((B39-B40)/12)*Imperial_Module_Square_Foot_Area)-'Cumulative Volumes Imperial'!E39)*Imperial_Stone_Void_Percentage))","v":{"v":0,"d":"0.00"}},{"v":0,"d":"0.00"},{"$f":"IF(B39=\"\",\"\",((Imperial_System_Area_Input-Imperial_Number_Of_Stacks*_xlfn.XLOOKUP(Imperial_Layers,CrateData[Layer],CrateData[Surface Area (sf)]))/12)*Imperial_Stone_Void_Percentage)","v":{"v":2.141884700436064,"d":"2.14"}},{"v":2.141884700436064,"d":"2.14"},{"v":53.001361419389504,"d":"53.00"},{"$f":"IF(B39=\"\",\"\",SUM(J39:$J$233))","v":{"v":1041.0231441296216,"d":"1041.02"}},{"v":101.91666666666667,"d":"101.92"},{"$nulls":8},101.91666666666667,null,{"v":1.8749999999999973,"d":"1.88"},1.8749999999999973,{"v":636.0163370326013,"d":"636.016"},null,1,null,{"$f":"IF($AU$21=\"INVERT\",X39,IF(AC38>=$Y$12,\"\",IF(X38=\"\",\"\",INDEX($X$18:$X$227,$AA$17-ROWS($X$18:$X38)))))","v":""},"","","",{"$nulls":8},{"$f":"SUM(AO37:AO38)","v":0},{"$nulls":17},{"$f":"IF($AU$21=\"INVERT\",X39,IF(AC38>=$Y$12,\"\",IF(X38=\"\",\"\",INDEX($X$18:$X$227,$AA$17-ROWS($X$18:$X38)))))","v":""},"",{"$f":"IF(AE38=\"\",\"\",\n    IF($AU$21=\"TYP\",\n       IF(Y38=\"\",\"\", INDEX($Y$18:$Y$227, $AA$17-ROWS($Y$18:$Y38))),\n       IF($AU$21=\"INVERT\",Y39, \"\")\n    )\n)","v":""},"",null,{"$f":"IF(BL38>=$Y$12,\"\",IF(X38=\"\",\"\",INDEX($X$18:$X$227,$AA$17-ROWS($X$18:$X38))))","v":{"v":1.7083333333333308,"d":"1.71"}},{"v":0.014600926010849433,"d":"0.0146"},0,null,1.0509576969149998E-3,null,null,{"$f":"IF(Y38=\"\",\"\",INDEX($Y$17:$Y$227,$AA$17-ROWS($Y$17:$Y38)))","v":636.0163370326013}]
[40,{"v":22,"d":"22.00"},{"$f":"IF(B40=\"\",\"\",IFERROR(_xlfn.XLOOKUP(B40,ImperialIncrementalData[System Increment],_xlfn.XLOOKUP('Imperial Incremental Crate'!$R$3,ImperialIncrementalData[#Headers],ImperialIncrementalData[]),,1),0))","v":{"v":0.4843759687519375,"d":"0.48"}},{"v":50.85947671895344,"d":"50.86"},{"$f":"IF(B40=\"\",\"\",IFERROR(_xlfn.XLOOKUP(B40,ImperialIncrementalData[System Increment],_xlfn.XLOOKUP(Imperial_Incremental_Data_Target_Column,ImperialIncrementalData[#Headers],ImperialIncrementalData[]),,1),0))","v":{"v":0.5045583007832682,"d":"0.50"}},{"$f":"IF(B40=\"\",\"\",IF(B41=\"\",((((1)/12)*Imperial_Module_Square_Foot_Area)-'Cumulative Volumes Imperial'!E40)*Imperial_Stone_Void_Percentage,((((B40-B41)/12)*Imperial_Module_Square_Foot_Area)-'Cumulative Volumes Imperial'!E40)*Imperial_Stone_Void_Percentage))","v":{"v":0,"d":"0.00"}},{"v":0,"d":"0.00"},{"$f":"IF(B40=\"\",\"\",((Imperial_System_Area_Input-Imperial_Number_Of_Stacks*_xlfn.XLOOKUP(Imperial_Layers,CrateData[Layer],CrateData[Surface Area (sf)]))/12)*Imperial_Stone_Void_Percentage)","v":{"v":2.141884700436064,"d":"2.14"}},{"v":2.141884700436064,"d":"2.14"},{"v":53.001361419389504,"d":"53.00"},{"$f":"IF(B40=\"\",\"\",SUM(J40:$J$233))","v":{"v":988.0217827102322,"d":"988.02"}},{"v":101.83333333333333,"d":"101.83"},{"$nulls":8},101.83333333333333,null,{"v":1.791666666666664,"d":"1.79"},1.791666666666664,{"v":636.0163370327098,"d":"636.016"},null,1,null,{"$f":"IF($AU$21=\"INVERT\",X40,IF(AC39>=$Y$12,\"\",IF(X39=\"\",\"\",INDEX($X$18:$X$227,$AA$17-ROWS($X$18:$X39)))))","v":""},"","","",{"$nulls":7},"% Credited toward Target Volume above Reference Elevation",{"v":0.5,"d":"50%"},{"$nulls":17},{"$f":"IF($AU$21=\"INVERT\",X40,IF(AC39>=$Y$12,\"\",IF(X39=\"\",\"\",INDEX($X$18:$X$227,$AA$17-ROWS($X$18:$X39)))))","v":""},"",{"$f":"IF(AE39=\"\",\"\",\n    IF($AU$21=\"TYP\",\n       IF(Y39=\"\",\"\", INDEX($Y$18:$Y$227, $AA$17-ROWS($Y$18:$Y39))),\n       IF($AU$21=\"INVERT\",Y40, \"\")\n    )\n)","v":""},"",null,{"$f":"IF(BL39>=$Y$12,\"\",IF(X39=\"\",\"\",INDEX($X$18:$X$227,$AA$17-ROWS($X$18:$X39))))","v":{"v":1.791666666666664,"d":"1.79"}},{"v":0.014600926010851797,"d":"0.0146"},0,null,1.0231252306064998E-3,null,null,{"$f":"IF(Y39=\"\",\"\",INDEX($Y$17:$Y$227,$AA$17-ROWS($Y$17:$Y39)))","v":636.0163370327043}]
[41,{"v":21,"d":"21.00"},{"$f":"IF(B41=\"\",\"\",IFERROR(_xlfn.XLOOKUP(B41,ImperialIncrementalData[System Increment],_xlfn.XLOOKUP('Imperial Incremental Crate'!$R$3,ImperialIncrementalData[#Headers],ImperialIncrementalData[]),,1),0))","v":{"v":0.4843759687519375,"d":"0.48"}},{"v":50.85947671895344,"d":"50.86"},{"$f":"IF(B41=\"\",\"\",IFERROR(_xlfn.XLOOKUP(B41,ImperialIncrementalData[System Increment],_xlfn.XLOOKUP(Imperial_Incremental_Data_Target_Column,ImperialIncrementalData[#Headers],ImperialIncrementalData[]),,1),0))","v":{"v":0.5045583007832682,"d":"0.50"}},{"$f":"IF(B41=\"\",\"\",IF(B42=\"\",((((1)/12)*Imperial_Module_Square_Foot_Area)-'Cumulative Volumes Imperial'!E41)*Imperial_Stone_Void_Percentage,((((B41-B42)/12)*Imperial_Module_Square_Foot_Area)-'Cumulative Volumes Imperial'!E41)*Imperial_Stone_Void_Percentage))","v":{"v":0,"d":"0.00"}},{"v":0,"d":"0.00"},{"$f":"IF(B41=\"\",\"\",((Imperial_System_Area_Input-Imperial_Number_Of_Stacks*_xlfn.XLOOKUP(Imperial_Layers,CrateData[Layer],CrateData[Surface Area (sf)]))/12)*Imperial_Stone_Void_Percentage)","v":{"v":2.141884700436064,"d":"2.14"}},{"v":2.141884700436064,"d":"2.14"},{"v":53.001361419389504,"d":"53.00"},{"$f":"IF(B41=\"\",\"\",SUM(J41:$J$233))","v":{"v":935.0204212908427,"d":"935.02"}},101.75,{"$nulls":8},101.75,null,{"v":1.7083333333333308,"d":"1.71"},1.7083333333333308,{"v":636.0163370327098,"d":"636.016"},null,1,null,{"$f":"IF($AU$21=\"INVERT\",X41,IF(AC40>=$Y$12,\"\",IF(X40=\"\",\"\",INDEX($X$18:$X$227,$AA$17-ROWS($X$18:$X40)))))","v":""},"","","",{"$nulls":7},"Volume Credited above Reference Elevation",{"$f":"IFERROR(AO30-AO37,\"\")","v":""},{"$nulls":17},{"$f":"IF($AU$21=\"INVERT\",X41,IF(AC40>=$Y$12,\"\",IF(X40=\"\",\"\",INDEX($X$18:$X$227,$AA$17-ROWS($X$18:$X40)))))","v":""},"",{"$f":"IF(AE40=\"\",\"\",\n    IF($AU$21=\"TYP\",\n       IF(Y40=\"\",\"\", INDEX($Y$18:$Y$227, $AA$17-ROWS($Y$18:$Y40))),\n       IF($AU$21=\"INVERT\",Y41, \"\")\n    )\n)","v":""},"",null,{"$f":"IF(BL40>=$Y$12,\"\",IF(X40=\"\",\"\",INDEX($X$18:$X$227,$AA$17-ROWS($X$18:$X40))))","v":{"v":1.8749999999999973,"d":"1.88"}},{"v":0.014600926010851861,"d":"0.0146"},0,null,9.9337429875149988E-4,null,null,{"$f":"IF(Y40=\"\",\"\",INDEX($Y$17:$Y$227,$AA$17-ROWS($Y$17:$Y40)))","v":636.016337032707}]
[42,{"v":20,"d":"20.00"},{"$f":"IF(B42=\"\",\"\",IFERROR(_xlfn.XLOOKUP(B42,ImperialIncrementalData[System Increment],_xlfn.XLOOKUP('Imperial Incremental Crate'!$R$3,ImperialIncrementalData[#Headers],ImperialIncrementalData[]),,1),0))","v":{"v":0.4843759687519375,"d":"0.48"}},{"v":50.85947671895344,"d":"50.86"},{"$f":"IF(B42=\"\",\"\",IFERROR(_xlfn.XLOOKUP(B42,ImperialIncrementalData[System Increment],_xlfn.XLOOKUP(Imperial_Incremental_Data_Target_Column,ImperialIncrementalData[#Headers],ImperialIncrementalData[]),,1),0))","v":{"v":0.5045583007832682,"d":"0.50"}},{"$f":"IF(B42=\"\",\"\",IF(B43=\"\",((((1)/12)*Imperial_Module_Square_Foot_Area)-'Cumulative Volumes Imperial'!E42)*Imperial_Stone_Void_Percentage,((((B42-B43)/12)*Imperial_Module_Square_Foot_Area)-'Cumulative Volumes Imperial'!E42)*Imperial_Stone_Void_Percentage))","v":{"v":0,"d":"0.00"}},{"v":0,"d":"0.00"},{"$f":"IF(B42=\"\",\"\",((Imperial_System_Area_Input-Imperial_Number_Of_Stacks*_xlfn.XLOOKUP(Imperial_Layers,CrateData[Layer],CrateData[Surface Area (sf)]))/12)*Imperial_Stone_Void_Percentage)","v":{"v":2.141884700436064,"d":"2.14"}},{"v":2.141884700436064,"d":"2.14"},{"v":53.001361419389504,"d":"53.00"},{"$f":"IF(B42=\"\",\"\",SUM(J42:$J$233))","v":{"v":882.0190598714532,"d":"882.02"}},{"v":101.66666666666667,"d":"101.67"},{"$nulls":8},101.66666666666667,null,{"v":1.6249999999999976,"d":"1.63"},1.6249999999999976,{"v":636.0163370326013,"d":"636.016"},null,1,null,{"$f":"IF($AU$21=\"INVERT\",X42,IF(AC41>=$Y$12,\"\",IF(X41=\"\",\"\",INDEX($X$18:$X$227,$AA$17-ROWS($X$18:$X41)))))","v":""},"","","",{"$nulls":7},"Volume Discredited above Reference Elevation",{"$f":"IFERROR((AO41/AO40)*(1-AO40),\"\")","v":""},{"$nulls":17},{"$f":"IF($AU$21=\"INVERT\",X42,IF(AC41>=$Y$12,\"\",IF(X41=\"\",\"\",INDEX($X$18:$X$227,$AA$17-ROWS($X$18:$X41)))))","v":""},"",{"$f":"IF(AE41=\"\",\"\",\n    IF($AU$21=\"TYP\",\n       IF(Y41=\"\",\"\", INDEX($Y$18:$Y$227, $AA$17-ROWS($Y$18:$Y41))),\n       IF($AU$21=\"INVERT\",Y42, \"\")\n    )\n)","v":""},"",null,{"$f":"IF(BL41>=$Y$12,\"\",IF(X41=\"\",\"\",INDEX($X$18:$X$227,$AA$17-ROWS($X$18:$X41))))","v":{"v":1.9583333333333306,"d":"1.96"}},{"v":0.014600926010849433,"d":"0.0146"},0,null,9.6188137514549988E-4,null,null,{"$f":"IF(Y41=\"\",\"\",INDEX($Y$17:$Y$227,$AA$17-ROWS($Y$17:$Y41)))","v":636.0163370326013}]
[43,{"v":19,"d":"19.00"},{"$f":"IF(B43=\"\",\"\",IFERROR(_xlfn.XLOOKUP(B43,ImperialIncrementalData[System Increment],_xlfn.XLOOKUP('Imperial Incremental Crate'!$R$3,ImperialIncrementalData[#Headers],ImperialIncrementalData[]),,1),0))","v":{"v":0.4843759687519375,"d":"0.48"}},{"v":50.85947671895344,"d":"50.86"},{"$f":"IF(B43=\"\",\"\",IFERROR(_xlfn.XLOOKUP(B43,ImperialIncrementalData[System Increment],_xlfn.XLOOKUP(Imperial_Incremental_Data_Target_Column,ImperialIncrementalData[#Headers],ImperialIncrementalData[]),,1),0))","v":{"v":0.5045583007832682,"d":"0.50"}},{"$f":"IF(B43=\"\",\"\",IF(B44=\"\",((((1)/12)*Imperial_Module_Square_Foot_Area)-'Cumulative Volumes Imperial'!E43)*Imperial_Stone_Void_Percentage,((((B43-B44)/12)*Imperial_Module_Square_Foot_Area)-'Cumulative Volumes Imperial'!E43)*Imperial_Stone_Void_Percentage))","v":{"v":0,"d":"0.00"}},{"v":0,"d":"0.00"},{"$f":"IF(B43=\"\",\"\",((Imperial_System_Area_Input-Imperial_Number_Of_Stacks*_xlfn.XLOOKUP(Imperial_Layers,CrateData[Layer],CrateData[Surface Area (sf)]))/12)*Imperial_Stone_Void_Percentage)","v":{"v":2.141884700436064,"d":"2.14"}},{"v":2.141884700436064,"d":"2.14"},{"v":53.001361419389504,"d":"53.00"},{"$f":"IF(B43=\"\",\"\",SUM(J43:$J$233))","v":{"v":829.0176984520638,"d":"829.02"}},{"v":101.58333333333333,"d":"101.58"},{"$nulls":8},101.58333333333333,null,{"v":1.5416666666666643,"d":"1.54"},1.5416666666666643,{"v":636.0163370327098,"d":"636.016"},null,1,null,{"$f":"IF($AU$21=\"INVERT\",X43,IF(AC42>=$Y$12,\"\",IF(X42=\"\",\"\",INDEX($X$18:$X$227,$AA$17-ROWS($X$18:$X42)))))","v":""},"","","",{"$nulls":8},{"$f":"IFERROR(AO37+AO38+AO41+AO42,\"\")","v":""},{"$nulls":17},{"$f":"IF($AU$21=\"INVERT\",X43,IF(AC42>=$Y$12,\"\",IF(X42=\"\",\"\",INDEX($X$18:$X$227,$AA$17-ROWS($X$18:$X42)))))","v":""},"",{"$f":"IF(AE42=\"\",\"\",\n    IF($AU$21=\"TYP\",\n       IF(Y42=\"\",\"\", INDEX($Y$18:$Y$227, $AA$17-ROWS($Y$18:$Y42))),\n       IF($AU$21=\"INVERT\",Y43, \"\")\n    )\n)","v":""},"",null,{"$f":"IF(BL42>=$Y$12,\"\",IF(X42=\"\",\"\",INDEX($X$18:$X$227,$AA$17-ROWS($X$18:$X42))))","v":{"v":2.041666666666664,"d":"2.04"}},{"v":0.014600926010851924,"d":"0.0146"},0,null,0.0009287967189465,null,null,{"$f":"IF(Y42=\"\",\"\",INDEX($Y$17:$Y$227,$AA$17-ROWS($Y$17:$Y42)))","v":636.0163370327098}]
[44,{"v":18,"d":"18.00"},{"$f":"IF(B44=\"\",\"\",IFERROR(_xlfn.XLOOKUP(B44,ImperialIncrementalData[System Increment],_xlfn.XLOOKUP('Imperial Incremental Crate'!$R$3,ImperialIncrementalData[#Headers],ImperialIncrementalData[]),,1),0))","v":{"v":0.4843759687519375,"d":"0.48"}},{"v":50.85947671895344,"d":"50.86"},{"$f":"IF(B44=\"\",\"\",IFERROR(_xlfn.XLOOKUP(B44,ImperialIncrementalData[System Increment],_xlfn.XLOOKUP(Imperial_Incremental_Data_Target_Column,ImperialIncrementalData[#Headers],ImperialIncrementalData[]),,1),0))","v":{"v":0.5045583007832682,"d":"0.50"}},{"$f":"IF(B44=\"\",\"\",IF(B45=\"\",((((1)/12)*Imperial_Module_Square_Foot_Area)-'Cumulative Volumes Imperial'!E44)*Imperial_Stone_Void_Percentage,((((B44-B45)/12)*Imperial_Module_Square_Foot_Area)-'Cumulative Volumes Imperial'!E44)*Imperial_Stone_Void_Percentage))","v":{"v":0,"d":"0.00"}},{"v":0,"d":"0.00"},{"$f":"IF(B44=\"\",\"\",((Imperial_System_Area_Input-Imperial_Number_Of_Stacks*_xlfn.XLOOKUP(Imperial_Layers,CrateData[Layer],CrateData[Surface Area (sf)]))/12)*Imperial_Stone_Void_Percentage)","v":{"v":2.141884700436064,"d":"2.14"}},{"v":2.141884700436064,"d":"2.14"},{"v":53.001361419389504,"d":"53.00"},{"$f":"IF(B44=\"\",\"\",SUM(J44:$J$233))","v":{"v":776.0163370326743,"d":"776.02"}},{"v":101.5,"d":"101.50"},{"$nulls":8},101.5,null,{"v":1.458333333333331,"d":"1.46"},1.458333333333331,{"v":636.0163370327098,"d":"636.016"},null,1,null,{"$f":"IF($AU$21=\"INVERT\",X44,IF(AC43>=$Y$12,\"\",IF(X43=\"\",\"\",INDEX($X$18:$X$227,$AA$17-ROWS($X$18:$X43)))))","v":""},"","","",{"$nulls":6},false,"Target Volume achieved at Elevation","",{"$nulls":17},{"$f":"IF($AU$21=\"INVERT\",X44,IF(AC43>=$Y$12,\"\",IF(X43=\"\",\"\",INDEX($X$18:$X$227,$AA$17-ROWS($X$18:$X43)))))","v":""},"",{"$f":"IF(AE43=\"\",\"\",\n    IF($AU$21=\"TYP\",\n       IF(Y43=\"\",\"\", INDEX($Y$18:$Y$227, $AA$17-ROWS($Y$18:$Y43))),\n       IF($AU$21=\"INVERT\",Y44, \"\")\n    )\n)","v":""},"",null,{"$f":"IF(BL43>=$Y$12,\"\",IF(X43=\"\",\"\",INDEX($X$18:$X$227,$AA$17-ROWS($X$18:$X43))))","v":{"v":2.1249999999999973,"d":"2.13"}},{"v":0.014600926010851924,"d":"0.0146"},0,null,0.0008942417870625,null,null,{"$f":"IF(Y43=\"\",\"\",INDEX($Y$17:$Y$227,$AA$17-ROWS($Y$17:$Y43)))","v":636.0163370327098}]
[45,{"v":17,"d":"17.00"},{"$f":"IF(B45=\"\",\"\",IFERROR(_xlfn.XLOOKUP(B45,ImperialIncrementalData[System Increment],_xlfn.XLOOKUP('Imperial Incremental Crate'!$R$3,ImperialIncrementalData[#Headers],ImperialIncrementalData[]),,1),0))","v":{"v":0.4843759687519375,"d":"0.48"}},{"v":50.85947671895344,"d":"50.86"},{"$f":"IF(B45=\"\",\"\",IFERROR(_xlfn.XLOOKUP(B45,ImperialIncrementalData[System Increment],_xlfn.XLOOKUP(Imperial_Incremental_Data_Target_Column,ImperialIncrementalData[#Headers],ImperialIncrementalData[]),,1),0))","v":{"v":0.5045583007832682,"d":"0.50"}},{"$f":"IF(B45=\"\",\"\",IF(B46=\"\",((((1)/12)*Imperial_Module_Square_Foot_Area)-'Cumulative Volumes Imperial'!E45)*Imperial_Stone_Void_Percentage,((((B45-B46)/12)*Imperial_Module_Square_Foot_Area)-'Cumulative Volumes Imperial'!E45)*Imperial_Stone_Void_Percentage))","v":{"v":0,"d":"0.00"}},{"v":0,"d":"0.00"},{"$f":"IF(B45=\"\",\"\",((Imperial_System_Area_Input-Imperial_Number_Of_Stacks*_xlfn.XLOOKUP(Imperial_Layers,CrateData[Layer],CrateData[Surface Area (sf)]))/12)*Imperial_Stone_Void_Percentage)","v":{"v":2.141884700436064,"d":"2.14"}},{"v":2.141884700436064,"d":"2.14"},{"v":53.001361419389504,"d":"53.00"},{"$f":"IF(B45=\"\",\"\",SUM(J45:$J$233))","v":{"v":723.0149756132848,"d":"723.01"}},{"v":101.41666666666667,"d":"101.42"},{"$nulls":8},101.41666666666667,null,{"v":1.3749999999999978,"d":"1.38"},1.3749999999999978,{"v":636.0163370326013,"d":"636.016"},null,1,null,{"$f":"IF($AU$21=\"INVERT\",X45,IF(AC44>=$Y$12,\"\",IF(X44=\"\",\"\",INDEX($X$18:$X$227,$AA$17-ROWS($X$18:$X44)))))","v":""},"","","",{"$nulls":7},{"$f":"\"Remaining Volume above \"&AO44&\" =\"","v":"Remaining Volume above  ="},"",{"$nulls":17},{"$f":"IF($AU$21=\"INVERT\",X45,IF(AC44>=$Y$12,\"\",IF(X44=\"\",\"\",INDEX($X$18:$X$227,$AA$17-ROWS($X$18:$X44)))))","v":""},"",{"$f":"IF(AE44=\"\",\"\",\n    IF($AU$21=\"TYP\",\n       IF(Y44=\"\",\"\", INDEX($Y$18:$Y$227, $AA$17-ROWS($Y$18:$Y44))),\n       IF($AU$21=\"INVERT\",Y45, \"\")\n    )\n)","v":""},"",null,{"$f":"IF(BL44>=$Y$12,\"\",IF(X44=\"\",\"\",INDEX($X$18:$X$227,$AA$17-ROWS($X$18:$X44))))","v":{"v":2.208333333333331,"d":"2.21"}},{"v":0.014600926010849433,"d":"0.0146"},0,null,0.000858316007385,null,null,{"$f":"IF(Y44=\"\",\"\",INDEX($Y$17:$Y$227,$AA$17-ROWS($Y$17:$Y44)))","v":636.0163370326013}]
[46,{"v":16,"d":"16.00"},{"$f":"IF(B46=\"\",\"\",IFERROR(_xlfn.XLOOKUP(B46,ImperialIncrementalData[System Increment],_xlfn.XLOOKUP('Imperial Incremental Crate'!$R$3,ImperialIncrementalData[#Headers],ImperialIncrementalData[]),,1),0))","v":{"v":0.4843759687519375,"d":"0.48"}},{"v":50.85947671895344,"d":"50.86"},{"$f":"IF(B46=\"\",\"\",IFERROR(_xlfn.XLOOKUP(B46,ImperialIncrementalData[System Increment],_xlfn.XLOOKUP(Imperial_Incremental_Data_Target_Column,ImperialIncrementalData[#Headers],ImperialIncrementalData[]),,1),0))","v":{"v":0.5045583007832682,"d":"0.50"}},{"$f":"IF(B46=\"\",\"\",IF(B47=\"\",((((1)/12)*Imperial_Module_Square_Foot_Area)-'Cumulative Volumes Imperial'!E46)*Imperial_Stone_Void_Percentage,((((B46-B47)/12)*Imperial_Module_Square_Foot_Area)-'Cumulative Volumes Imperial'!E46)*Imperial_Stone_Void_Percentage))","v":{"v":0,"d":"0.00"}},{"v":0,"d":"0.00"},{"$f":"IF(B46=\"\",\"\",((Imperial_System_Area_Input-Imperial_Number_Of_Stacks*_xlfn.XLOOKUP(Imperial_Layers,CrateData[Layer],CrateData[Surface Area (sf)]))/12)*Imperial_Stone_Void_Percentage)","v":{"v":2.141884700436064,"d":"2.14"}},{"v":2.141884700436064,"d":"2.14"},{"v":53.001361419389504,"d":"53.00"},{"$f":"IF(B46=\"\",\"\",SUM(J46:$J$233))","v":{"v":670.0136141938954,"d":"670.01"}},{"v":101.33333333333333,"d":"101.33"},{"$nulls":8},101.33333333333333,null,{"v":1.2916666666666645,"d":"1.29"},1.2916666666666645,{"v":636.0163370327111,"d":"636.016"},null,1,null,{"$f":"IF($AU$21=\"INVERT\",X46,IF(AC45>=$Y$12,\"\",IF(X45=\"\",\"\",INDEX($X$18:$X$227,$AA$17-ROWS($X$18:$X45)))))","v":""},"","","",{"$nulls":26},{"$f":"IF($AU$21=\"INVERT\",X46,IF(AC45>=$Y$12,\"\",IF(X45=\"\",\"\",INDEX($X$18:$X$227,$AA$17-ROWS($X$18:$X45)))))","v":""},"",{"$f":"IF(AE45=\"\",\"\",\n    IF($AU$21=\"TYP\",\n       IF(Y45=\"\",\"\", INDEX($Y$18:$Y$227, $AA$17-ROWS($Y$18:$Y45))),\n       IF($AU$21=\"INVERT\",Y46, \"\")\n    )\n)","v":""},"",null,{"$f":"IF(BL45>=$Y$12,\"\",IF(X45=\"\",\"\",INDEX($X$18:$X$227,$AA$17-ROWS($X$18:$X45))))","v":{"v":2.2916666666666643,"d":"2.29"}},{"v":0.014600926010851924,"d":"0.0146"},0,null,8.2111086251549989E-4,null,null,{"$f":"IF(Y45=\"\",\"\",INDEX($Y$17:$Y$227,$AA$17-ROWS($Y$17:$Y45)))","v":636.0163370327098}]
[47,{"v":15,"d":"15.00"},{"$f":"IF(B47=\"\",\"\",IFERROR(_xlfn.XLOOKUP(B47,ImperialIncrementalData[System Increment],_xlfn.XLOOKUP('Imperial Incremental Crate'!$R$3,ImperialIncrementalData[#Headers],ImperialIncrementalData[]),,1),0))","v":{"v":0.4843759687519375,"d":"0.48"}},{"v":50.85947671895344,"d":"50.86"},{"$f":"IF(B47=\"\",\"\",IFERROR(_xlfn.XLOOKUP(B47,ImperialIncrementalData[System Increment],_xlfn.XLOOKUP(Imperial_Incremental_Data_Target_Column,ImperialIncrementalData[#Headers],ImperialIncrementalData[]),,1),0))","v":{"v":0.5045583007832682,"d":"0.50"}},{"$f":"IF(B47=\"\",\"\",IF(B48=\"\",((((1)/12)*Imperial_Module_Square_Foot_Area)-'Cumulative Volumes Imperial'!E47)*Imperial_Stone_Void_Percentage,((((B47-B48)/12)*Imperial_Module_Square_Foot_Area)-'Cumulative Volumes Imperial'!E47)*Imperial_Stone_Void_Percentage))","v":{"v":0,"d":"0.00"}},{"v":0,"d":"0.00"},{"$f":"IF(B47=\"\",\"\",((Imperial_System_Area_Input-Imperial_Number_Of_Stacks*_xlfn.XLOOKUP(Imperial_Layers,CrateData[Layer],CrateData[Surface Area (sf)]))/12)*Imperial_Stone_Void_Percentage)","v":{"v":2.141884700436064,"d":"2.14"}},{"v":2.141884700436064,"d":"2.14"},{"v":53.001361419389504,"d":"53.00"},{"$f":"IF(B47=\"\",\"\",SUM(J47:$J$233))","v":{"v":617.0122527745058,"d":"617.01"}},101.25,{"$nulls":8},101.25,null,{"v":1.2083333333333313,"d":"1.21"},1.2083333333333313,{"v":636.0163370327125,"d":"636.016"},null,1,null,{"$f":"IF($AU$21=\"INVERT\",X47,IF(AC46>=$Y$12,\"\",IF(X46=\"\",\"\",INDEX($X$18:$X$227,$AA$17-ROWS($X$18:$X46)))))","v":""},"","","",{"$nulls":26},{"$f":"IF($AU$21=\"INVERT\",X47,IF(AC46>=$Y$12,\"\",IF(X46=\"\",\"\",INDEX($X$18:$X$227,$AA$17-ROWS($X$18:$X46)))))","v":""},"",{"$f":"IF(AE46=\"\",\"\",\n    IF($AU$21=\"TYP\",\n       IF(Y46=\"\",\"\", INDEX($Y$18:$Y$227, $AA$17-ROWS($Y$18:$Y46))),\n       IF($AU$21=\"INVERT\",Y47, \"\")\n    )\n)","v":""},"",null,{"$f":"IF(BL46>=$Y$12,\"\",IF(X46=\"\",\"\",INDEX($X$18:$X$227,$AA$17-ROWS($X$18:$X46))))","v":{"v":2.374999999999998,"d":"2.38"}},{"v":0.014600926010851924,"d":"0.0146"},0,null,7.827074605079999E-4,null,null,{"$f":"IF(Y46=\"\",\"\",INDEX($Y$17:$Y$227,$AA$17-ROWS($Y$17:$Y46)))","v":636.0163370327098}]
[48,{"v":14,"d":"14.00"},{"$f":"IF(B48=\"\",\"\",IFERROR(_xlfn.XLOOKUP(B48,ImperialIncrementalData[System Increment],_xlfn.XLOOKUP('Imperial Incremental Crate'!$R$3,ImperialIncrementalData[#Headers],ImperialIncrementalData[]),,1),0))","v":{"v":0.4843759687519375,"d":"0.48"}},{"v":50.85947671895344,"d":"50.86"},{"$f":"IF(B48=\"\",\"\",IFERROR(_xlfn.XLOOKUP(B48,ImperialIncrementalData[System Increment],_xlfn.XLOOKUP(Imperial_Incremental_Data_Target_Column,ImperialIncrementalData[#Headers],ImperialIncrementalData[]),,1),0))","v":{"v":0.5045583007832682,"d":"0.50"}},{"$f":"IF(B48=\"\",\"\",IF(B49=\"\",((((1)/12)*Imperial_Module_Square_Foot_Area)-'Cumulative Volumes Imperial'!E48)*Imperial_Stone_Void_Percentage,((((B48-B49)/12)*Imperial_Module_Square_Foot_Area)-'Cumulative Volumes Imperial'!E48)*Imperial_Stone_Void_Percentage))","v":{"v":0,"d":"0.00"}},{"v":0,"d":"0.00"},{"$f":"IF(B48=\"\",\"\",((Imperial_System_Area_Input-Imperial_Number_Of_Stacks*_xlfn.XLOOKUP(Imperial_Layers,CrateData[Layer],CrateData[Surface Area (sf)]))/12)*Imperial_Stone_Void_Percentage)","v":{"v":2.141884700436064,"d":"2.14"}},{"v":2.141884700436064,"d":"2.14"},{"v":53.001361419389504,"d":"53.00"},{"$f":"IF(B48=\"\",\"\",SUM(J48:$J$233))","v":{"v":564.0108913551161,"d":"564.01"}},{"v":101.16666666666667,"d":"101.17"},{"$nulls":8},101.16666666666667,null,{"v":1.124999999999998,"d":"1.13"},1.124999999999998,{"v":636.0163370326034,"d":"636.016"},null,1,null,{"$f":"IF($AU$21=\"INVERT\",X48,IF(AC47>=$Y$12,\"\",IF(X47=\"\",\"\",INDEX($X$18:$X$227,$AA$17-ROWS($X$18:$X47)))))","v":""},"","","",{"$nulls":26},{"$f":"IF($AU$21=\"INVERT\",X48,IF(AC47>=$Y$12,\"\",IF(X47=\"\",\"\",INDEX($X$18:$X$227,$AA$17-ROWS($X$18:$X47)))))","v":""},"",{"$f":"IF(AE47=\"\",\"\",\n    IF($AU$21=\"TYP\",\n       IF(Y47=\"\",\"\", INDEX($Y$18:$Y$227, $AA$17-ROWS($Y$18:$Y47))),\n       IF($AU$21=\"INVERT\",Y48, \"\")\n    )\n)","v":""},"",null,{"$f":"IF(BL47>=$Y$12,\"\",IF(X47=\"\",\"\",INDEX($X$18:$X$227,$AA$17-ROWS($X$18:$X47))))","v":{"v":2.4583333333333313,"d":"2.46"}},{"v":0.014600926010849433,"d":"0.0146"},0,null,0.0007431782522175,null,null,{"$f":"IF(Y47=\"\",\"\",INDEX($Y$17:$Y$227,$AA$17-ROWS($Y$17:$Y47)))","v":636.0163370326013}]
[49,{"v":13,"d":"13.00"},{"$f":"IF(B49=\"\",\"\",IFERROR(_xlfn.XLOOKUP(B49,ImperialIncrementalData[System Increment],_xlfn.XLOOKUP('Imperial Incremental Crate'!$R$3,ImperialIncrementalData[#Headers],ImperialIncrementalData[]),,1),0))","v":{"v":0.4843759687519375,"d":"0.48"}},{"v":50.85947671895344,"d":"50.86"},{"$f":"IF(B49=\"\",\"\",IFERROR(_xlfn.XLOOKUP(B49,ImperialIncrementalData[System Increment],_xlfn.XLOOKUP(Imperial_Incremental_Data_Target_Column,ImperialIncrementalData[#Headers],ImperialIncrementalData[]),,1),0))","v":{"v":0.5045583007832682,"d":"0.50"}},{"$f":"IF(B49=\"\",\"\",IF(B50=\"\",((((1)/12)*Imperial_Module_Square_Foot_Area)-'Cumulative Volumes Imperial'!E49)*Imperial_Stone_Void_Percentage,((((B49-B50)/12)*Imperial_Module_Square_Foot_Area)-'Cumulative Volumes Imperial'!E49)*Imperial_Stone_Void_Percentage))","v":{"v":0,"d":"0.00"}},{"v":0,"d":"0.00"},{"$f":"IF(B49=\"\",\"\",((Imperial_System_Area_Input-Imperial_Number_Of_Stacks*_xlfn.XLOOKUP(Imperial_Layers,CrateData[Layer],CrateData[Surface Area (sf)]))/12)*Imperial_Stone_Void_Percentage)","v":{"v":2.141884700436064,"d":"2.14"}},{"v":2.141884700436064,"d":"2.14"},{"v":53.001361419389504,"d":"53.00"},{"$f":"IF(B49=\"\",\"\",SUM(J49:$J$233))","v":{"v":511.00952993572645,"d":"511.01"}},{"v":101.08333333333333,"d":"101.08"},{"$nulls":8},101.08333333333333,null,{"v":1.0416666666666647,"d":"1.04"},1.0416666666666647,{"v":636.0163370327105,"d":"636.016"},null,1,null,{"$f":"IF($AU$21=\"INVERT\",X49,IF(AC48>=$Y$12,\"\",IF(X48=\"\",\"\",INDEX($X$18:$X$227,$AA$17-ROWS($X$18:$X48)))))","v":""},"","","",{"$nulls":26},{"$f":"IF($AU$21=\"INVERT\",X49,IF(AC48>=$Y$12,\"\",IF(X48=\"\",\"\",INDEX($X$18:$X$227,$AA$17-ROWS($X$18:$X48)))))","v":""},"",{"$f":"IF(AE48=\"\",\"\",\n    IF($AU$21=\"TYP\",\n       IF(Y48=\"\",\"\", INDEX($Y$18:$Y$227, $AA$17-ROWS($Y$18:$Y48))),\n       IF($AU$21=\"INVERT\",Y49, \"\")\n    )\n)","v":""},"",null,{"$f":"IF(BL48>=$Y$12,\"\",IF(X48=\"\",\"\",INDEX($X$18:$X$227,$AA$17-ROWS($X$18:$X48))))","v":{"v":2.5416666666666647,"d":"2.54"}},{"v":0.014600926010851924,"d":"0.0146"},0,null,7.0258976648099986E-4,null,null,{"$f":"IF(Y48=\"\",\"\",INDEX($Y$17:$Y$227,$AA$17-ROWS($Y$17:$Y48)))","v":636.0163370327098}]
[50,{"v":12,"d":"12.00"},{"$f":"IF(B50=\"\",\"\",IFERROR(_xlfn.XLOOKUP(B50,ImperialIncrementalData[System Increment],_xlfn.XLOOKUP('Imperial Incremental Crate'!$R$3,ImperialIncrementalData[#Headers],ImperialIncrementalData[]),,1),0))","v":{"v":0.4843759687519375,"d":"0.48"}},{"v":50.85947671895344,"d":"50.86"},{"$f":"IF(B50=\"\",\"\",IFERROR(_xlfn.XLOOKUP(B50,ImperialIncrementalData[System Increment],_xlfn.XLOOKUP(Imperial_Incremental_Data_Target_Column,ImperialIncrementalData[#Headers],ImperialIncrementalData[]),,1),0))","v":{"v":0.5045583007832682,"d":"0.50"}},{"$f":"IF(B50=\"\",\"\",IF(B51=\"\",((((1)/12)*Imperial_Module_Square_Foot_Area)-'Cumulative Volumes Imperial'!E50)*Imperial_Stone_Void_Percentage,((((B50-B51)/12)*Imperial_Module_Square_Foot_Area)-'Cumulative Volumes Imperial'!E50)*Imperial_Stone_Void_Percentage))","v":{"v":0,"d":"0.00"}},{"v":0,"d":"0.00"},{"$f":"IF(B50=\"\",\"\",((Imperial_System_Area_Input-Imperial_Number_Of_Stacks*_xlfn.XLOOKUP(Imperial_Layers,CrateData[Layer],CrateData[Surface Area (sf)]))/12)*Imperial_Stone_Void_Percentage)","v":{"v":2.141884700436064,"d":"2.14"}},{"v":2.141884700436064,"d":"2.14"},{"v":53.001361419389504,"d":"53.00"},{"$f":"IF(B50=\"\",\"\",SUM(J50:$J$233))","v":{"v":458.0081685163369,"d":"458.01"}},{"v":101,"d":"101.00"},{"$nulls":8},101,null,{"v":0.9583333333333314,"d":"0.96"},0.9583333333333314,{"v":636.0163370327105,"d":"636.016"},null,1,null,{"$f":"IF($AU$21=\"INVERT\",X50,IF(AC49>=$Y$12,\"\",IF(X49=\"\",\"\",INDEX($X$18:$X$227,$AA$17-ROWS($X$18:$X49)))))","v":""},"","","",{"$nulls":26},{"$f":"IF($AU$21=\"INVERT\",X50,IF(AC49>=$Y$12,\"\",IF(X49=\"\",\"\",INDEX($X$18:$X$227,$AA$17-ROWS($X$18:$X49)))))","v":""},"",{"$f":"IF(AE49=\"\",\"\",\n    IF($AU$21=\"TYP\",\n       IF(Y49=\"\",\"\", INDEX($Y$18:$Y$227, $AA$17-ROWS($Y$18:$Y49))),\n       IF($AU$21=\"INVERT\",Y50, \"\")\n    )\n)","v":""},"",null,{"$f":"IF(BL49>=$Y$12,\"\",IF(X49=\"\",\"\",INDEX($X$18:$X$227,$AA$17-ROWS($X$18:$X49))))","v":{"v":2.6249999999999982,"d":"2.63"}},{"v":0.014600926010851924,"d":"0.0146"},0,null,6.6100349897099989E-4,null,null,{"$f":"IF(Y49=\"\",\"\",INDEX($Y$17:$Y$227,$AA$17-ROWS($Y$17:$Y49)))","v":636.0163370327098}]
[51,{"v":11,"d":"11.00"},{"$f":"IF(B51=\"\",\"\",IFERROR(_xlfn.XLOOKUP(B51,ImperialIncrementalData[System Increment],_xlfn.XLOOKUP('Imperial Incremental Crate'!$R$3,ImperialIncrementalData[#Headers],ImperialIncrementalData[]),,1),0))","v":{"v":0.4843759687519375,"d":"0.48"}},{"v":50.85947671895344,"d":"50.86"},{"$f":"IF(B51=\"\",\"\",IFERROR(_xlfn.XLOOKUP(B51,ImperialIncrementalData[System Increment],_xlfn.XLOOKUP(Imperial_Incremental_Data_Target_Column,ImperialIncrementalData[#Headers],ImperialIncrementalData[]),,1),0))","v":{"v":0.5045583007832682,"d":"0.50"}},{"$f":"IF(B51=\"\",\"\",IF(B52=\"\",((((1)/12)*Imperial_Module_Square_Foot_Area)-'Cumulative Volumes Imperial'!E51)*Imperial_Stone_Void_Percentage,((((B51-B52)/12)*Imperial_Module_Square_Foot_Area)-'Cumulative Volumes Imperial'!E51)*Imperial_Stone_Void_Percentage))","v":{"v":0,"d":"0.00"}},{"v":0,"d":"0.00"},{"$f":"IF(B51=\"\",\"\",((Imperial_System_Area_Input-Imperial_Number_Of_Stacks*_xlfn.XLOOKUP(Imperial_Layers,CrateData[Layer],CrateData[Surface Area (sf)]))/12)*Imperial_Stone_Void_Percentage)","v":{"v":2.141884700436064,"d":"2.14"}},{"v":2.141884700436064,"d":"2.14"},{"v":53.001361419389504,"d":"53.00"},{"$f":"IF(B51=\"\",\"\",SUM(J51:$J$233))","v":{"v":405.0068070969474,"d":"405.01"}},{"v":100.91666666666667,"d":"100.92"},{"$nulls":8},100.91666666666667,null,{"v":0.874999999999998,"d":"0.87"},0.874999999999998,{"v":636.0163370326013,"d":"636.016"},null,1,null,{"$f":"IF($AU$21=\"INVERT\",X51,IF(AC50>=$Y$12,\"\",IF(X50=\"\",\"\",INDEX($X$18:$X$227,$AA$17-ROWS($X$18:$X50)))))","v":""},"","","",{"$nulls":26},{"$f":"IF($AU$21=\"INVERT\",X51,IF(AC50>=$Y$12,\"\",IF(X50=\"\",\"\",INDEX($X$18:$X$227,$AA$17-ROWS($X$18:$X50)))))","v":""},"",{"$f":"IF(AE50=\"\",\"\",\n    IF($AU$21=\"TYP\",\n       IF(Y50=\"\",\"\", INDEX($Y$18:$Y$227, $AA$17-ROWS($Y$18:$Y50))),\n       IF($AU$21=\"INVERT\",Y51, \"\")\n    )\n)","v":""},"",null,{"$f":"IF(BL50>=$Y$12,\"\",IF(X50=\"\",\"\",INDEX($X$18:$X$227,$AA$17-ROWS($X$18:$X50))))","v":{"v":2.7083333333333317,"d":"2.71"}},{"v":0.014600926010849433,"d":"0.0146"},0,null,0.000618475798593,null,null,{"$f":"IF(Y50=\"\",\"\",INDEX($Y$17:$Y$227,$AA$17-ROWS($Y$17:$Y50)))","v":636.0163370326013}]
[52,{"v":10,"d":"10.00"},{"$f":"IF(B52=\"\",\"\",IFERROR(_xlfn.XLOOKUP(B52,ImperialIncrementalData[System Increment],_xlfn.XLOOKUP('Imperial Incremental Crate'!$R$3,ImperialIncrementalData[#Headers],ImperialIncrementalData[]),,1),0))","v":{"v":0.4843759687519375,"d":"0.48"}},{"v":50.85947671895344,"d":"50.86"},{"$f":"IF(B52=\"\",\"\",IFERROR(_xlfn.XLOOKUP(B52,ImperialIncrementalData[System Increment],_xlfn.XLOOKUP(Imperial_Incremental_Data_Target_Column,ImperialIncrementalData[#Headers],ImperialIncrementalData[]),,1),0))","v":{"v":0.5045583007832682,"d":"0.50"}},{"$f":"IF(B52=\"\",\"\",IF(B53=\"\",((((1)/12)*Imperial_Module_Square_Foot_Area)-'Cumulative Volumes Imperial'!E52)*Imperial_Stone_Void_Percentage,((((B52-B53)/12)*Imperial_Module_Square_Foot_Area)-'Cumulative Volumes Imperial'!E52)*Imperial_Stone_Void_Percentage))","v":{"v":0,"d":"0.00"}},{"v":0,"d":"0.00"},{"$f":"IF(B52=\"\",\"\",((Imperial_System_Area_Input-Imperial_Number_Of_Stacks*_xlfn.XLOOKUP(Imperial_Layers,CrateData[Layer],CrateData[Surface Area (sf)]))/12)*Imperial_Stone_Void_Percentage)","v":{"v":2.141884700436064,"d":"2.14"}},{"v":2.141884700436064,"d":"2.14"},{"v":53.001361419389504,"d":"53.00"},{"$f":"IF(B52=\"\",\"\",SUM(J52:$J$233))","v":{"v":352.00544567755793,"d":"352.01"}},{"v":100.83333333333333,"d":"100.83"},{"$nulls":8},100.83333333333333,null,{"v":0.7916666666666646,"d":"0.79"},0.7916666666666646,{"v":636.0163370327105,"d":"636.016"},null,1,null,{"$f":"IF($AU$21=\"INVERT\",X52,IF(AC51>=$Y$12,\"\",IF(X51=\"\",\"\",INDEX($X$18:$X$227,$AA$17-ROWS($X$18:$X51)))))","v":""},"","","",{"$nulls":26},{"$f":"IF($AU$21=\"INVERT\",X52,IF(AC51>=$Y$12,\"\",IF(X51=\"\",\"\",INDEX($X$18:$X$227,$AA$17-ROWS($X$18:$X51)))))","v":""},"",{"$f":"IF(AE51=\"\",\"\",\n    IF($AU$21=\"TYP\",\n       IF(Y51=\"\",\"\", INDEX($Y$18:$Y$227, $AA$17-ROWS($Y$18:$Y51))),\n       IF($AU$21=\"INVERT\",Y52, \"\")\n    )\n)","v":""},"",null,{"$f":"IF(BL51>=$Y$12,\"\",IF(X51=\"\",\"\",INDEX($X$18:$X$227,$AA$17-ROWS($X$18:$X51))))","v":{"v":2.791666666666665,"d":"2.79"}},{"v":0.014600926010851924,"d":"0.0146"},0,null,0.000575059308057,null,null,{"$f":"IF(Y51=\"\",\"\",INDEX($Y$17:$Y$227,$AA$17-ROWS($Y$17:$Y51)))","v":636.0163370327098}]
[53,{"v":9,"d":"9.00"},{"$f":"IF(B53=\"\",\"\",IFERROR(_xlfn.XLOOKUP(B53,ImperialIncrementalData[System Increment],_xlfn.XLOOKUP('Imperial Incremental Crate'!$R$3,ImperialIncrementalData[#Headers],ImperialIncrementalData[]),,1),0))","v":{"v":0.4843759687519375,"d":"0.48"}},{"v":50.85947671895344,"d":"50.86"},{"$f":"IF(B53=\"\",\"\",IFERROR(_xlfn.XLOOKUP(B53,ImperialIncrementalData[System Increment],_xlfn.XLOOKUP(Imperial_Incremental_Data_Target_Column,ImperialIncrementalData[#Headers],ImperialIncrementalData[]),,1),0))","v":{"v":0.5045583007832682,"d":"0.50"}},{"$f":"IF(B53=\"\",\"\",IF(B54=\"\",((((1)/12)*Imperial_Module_Square_Foot_Area)-'Cumulative Volumes Imperial'!E53)*Imperial_Stone_Void_Percentage,((((B53-B54)/12)*Imperial_Module_Square_Foot_Area)-'Cumulative Volumes Imperial'!E53)*Imperial_Stone_Void_Percentage))","v":{"v":0,"d":"0.00"}},{"v":0,"d":"0.00"},{"$f":"IF(B53=\"\",\"\",((Imperial_System_Area_Input-Imperial_Number_Of_Stacks*_xlfn.XLOOKUP(Imperial_Layers,CrateData[Layer],CrateData[Surface Area (sf)]))/12)*Imperial_Stone_Void_Percentage)","v":{"v":2.141884700436064,"d":"2.14"}},{"v":2.141884700436064,"d":"2.14"},{"v":53.001361419389504,"d":"53.00"},{"$f":"IF(B53=\"\",\"\",SUM(J53:$J$233))","v":{"v":299.0040842581684,"d":"299.00"}},100.75,{"$nulls":8},100.75,null,{"v":0.7083333333333313,"d":"0.71"},0.7083333333333313,{"v":636.0163370327098,"d":"636.016"},null,1,null,{"$f":"IF($AU$21=\"INVERT\",X53,IF(AC52>=$Y$12,\"\",IF(X52=\"\",\"\",INDEX($X$18:$X$227,$AA$17-ROWS($X$18:$X52)))))","v":""},"","","",{"$nulls":26},{"$f":"IF($AU$21=\"INVERT\",X53,IF(AC52>=$Y$12,\"\",IF(X52=\"\",\"\",INDEX($X$18:$X$227,$AA$17-ROWS($X$18:$X52)))))","v":""},"",{"$f":"IF(AE52=\"\",\"\",\n    IF($AU$21=\"TYP\",\n       IF(Y52=\"\",\"\", INDEX($Y$18:$Y$227, $AA$17-ROWS($Y$18:$Y52))),\n       IF($AU$21=\"INVERT\",Y53, \"\")\n    )\n)","v":""},"",null,{"$f":"IF(BL52>=$Y$12,\"\",IF(X52=\"\",\"\",INDEX($X$18:$X$227,$AA$17-ROWS($X$18:$X52))))","v":{"v":2.8749999999999987,"d":"2.88"}},{"v":0.014600926010851924,"d":"0.0146"},0,null,0.0005308032415725,null,null,{"$f":"IF(Y52=\"\",\"\",INDEX($Y$17:$Y$227,$AA$17-ROWS($Y$17:$Y52)))","v":636.0163370327098}]
[54,{"v":8,"d":"8.00"},{"$f":"IF(B54=\"\",\"\",IFERROR(_xlfn.XLOOKUP(B54,ImperialIncrementalData[System Increment],_xlfn.XLOOKUP('Imperial Incremental Crate'!$R$3,ImperialIncrementalData[#Headers],ImperialIncrementalData[]),,1),0))","v":{"v":0.4843759687519375,"d":"0.48"}},{"v":50.85947671895344,"d":"50.86"},{"$f":"IF(B54=\"\",\"\",IFERROR(_xlfn.XLOOKUP(B54,ImperialIncrementalData[System Increment],_xlfn.XLOOKUP(Imperial_Incremental_Data_Target_Column,ImperialIncrementalData[#Headers],ImperialIncrementalData[]),,1),0))","v":{"v":0.5045583007832682,"d":"0.50"}},{"$f":"IF(B54=\"\",\"\",IF(B55=\"\",((((1)/12)*Imperial_Module_Square_Foot_Area)-'Cumulative Volumes Imperial'!E54)*Imperial_Stone_Void_Percentage,((((B54-B55)/12)*Imperial_Module_Square_Foot_Area)-'Cumulative Volumes Imperial'!E54)*Imperial_Stone_Void_Percentage))","v":{"v":0,"d":"0.00"}},{"v":0,"d":"0.00"},{"$f":"IF(B54=\"\",\"\",((Imperial_System_Area_Input-Imperial_Number_Of_Stacks*_xlfn.XLOOKUP(Imperial_Layers,CrateData[Layer],CrateData[Surface Area (sf)]))/12)*Imperial_Stone_Void_Percentage)","v":{"v":2.141884700436064,"d":"2.14"}},{"v":2.141884700436064,"d":"2.14"},{"v":53.001361419389504,"d":"53.00"},{"$f":"IF(B54=\"\",\"\",SUM(J54:$J$233))","v":{"v":246.00272283877894,"d":"246.00"}},{"v":100.66666666666667,"d":"100.67"},{"$nulls":8},100.66666666666667,null,{"v":0.6249999999999979,"d":"0.62"},0.6249999999999979,{"v":636.0163370326013,"d":"636.016"},null,1,null,{"$f":"IF($AU$21=\"INVERT\",X54,IF(AC53>=$Y$12,\"\",IF(X53=\"\",\"\",INDEX($X$18:$X$227,$AA$17-ROWS($X$18:$X53)))))","v":""},"","","",{"$nulls":26},{"$f":"IF($AU$21=\"INVERT\",X54,IF(AC53>=$Y$12,\"\",IF(X53=\"\",\"\",INDEX($X$18:$X$227,$AA$17-ROWS($X$18:$X53)))))","v":""},"",{"$f":"IF(AE53=\"\",\"\",\n    IF($AU$21=\"TYP\",\n       IF(Y53=\"\",\"\", INDEX($Y$18:$Y$227, $AA$17-ROWS($Y$18:$Y53))),\n       IF($AU$21=\"INVERT\",Y54, \"\")\n    )\n)","v":""},"",null,{"$f":"IF(BL53>=$Y$12,\"\",IF(X53=\"\",\"\",INDEX($X$18:$X$227,$AA$17-ROWS($X$18:$X53))))","v":{"v":2.958333333333332,"d":"2.96"}},{"v":0.010514420764836677,"d":"0.0105"},0,null,0.0004857531732495,null,null,{"$f":"IF(Y53=\"\",\"\",INDEX($Y$17:$Y$227,$AA$17-ROWS($Y$17:$Y53)))","v":458.00816851628565}]
[55,{"v":7,"d":"7.00"},{"$f":"IF(B55=\"\",\"\",IFERROR(_xlfn.XLOOKUP(B55,ImperialIncrementalData[System Increment],_xlfn.XLOOKUP('Imperial Incremental Crate'!$R$3,ImperialIncrementalData[#Headers],ImperialIncrementalData[]),,1),0))","v":{"v":0.4843759687519375,"d":"0.48"}},{"v":50.85947671895344,"d":"50.86"},{"$f":"IF(B55=\"\",\"\",IFERROR(_xlfn.XLOOKUP(B55,ImperialIncrementalData[System Increment],_xlfn.XLOOKUP(Imperial_Incremental_Data_Target_Column,ImperialIncrementalData[#Headers],ImperialIncrementalData[]),,1),0))","v":{"v":0.5045583007832682,"d":"0.50"}},{"$f":"IF(B55=\"\",\"\",IF(B56=\"\",((((1)/12)*Imperial_Module_Square_Foot_Area)-'Cumulative Volumes Imperial'!E55)*Imperial_Stone_Void_Percentage,((((B55-B56)/12)*Imperial_Module_Square_Foot_Area)-'Cumulative Volumes Imperial'!E55)*Imperial_Stone_Void_Percentage))","v":{"v":0,"d":"0.00"}},{"v":0,"d":"0.00"},{"$f":"IF(B55=\"\",\"\",((Imperial_System_Area_Input-Imperial_Number_Of_Stacks*_xlfn.XLOOKUP(Imperial_Layers,CrateData[Layer],CrateData[Surface Area (sf)]))/12)*Imperial_Stone_Void_Percentage)","v":{"v":2.141884700436064,"d":"2.14"}},{"v":2.141884700436064,"d":"2.14"},{"v":53.001361419389504,"d":"53.00"},{"$f":"IF(B55=\"\",\"\",SUM(J55:$J$233))","v":{"v":193.00136141938947,"d":"193.00"}},{"v":100.58333333333333,"d":"100.58"},{"$nulls":8},100.58333333333333,null,{"v":0.5416666666666645,"d":"0.54"},0.5416666666666645,{"v":636.0163370327101,"d":"636.016"},null,1,null,{"$f":"IF($AU$21=\"INVERT\",X55,IF(AC54>=$Y$12,\"\",IF(X54=\"\",\"\",INDEX($X$18:$X$227,$AA$17-ROWS($X$18:$X54)))))","v":""},"","","",{"$nulls":26},{"$f":"IF($AU$21=\"INVERT\",X55,IF(AC54>=$Y$12,\"\",IF(X54=\"\",\"\",INDEX($X$18:$X$227,$AA$17-ROWS($X$18:$X54)))))","v":""},"",{"$f":"IF(AE54=\"\",\"\",\n    IF($AU$21=\"TYP\",\n       IF(Y54=\"\",\"\", INDEX($Y$18:$Y$227, $AA$17-ROWS($Y$18:$Y54))),\n       IF($AU$21=\"INVERT\",Y55, \"\")\n    )\n)","v":""},"",null,{"$f":"IF(BL54>=$Y$12,\"\",IF(X54=\"\",\"\",INDEX($X$18:$X$227,$AA$17-ROWS($X$18:$X54))))","v":{"v":3.0416666666666656,"d":"3.04"}},{"v":6.4279155188249545E-3,"d":"0.0064"},0,null,4.399524526545E-4,null,null,{"$f":"IF(Y54=\"\",\"\",INDEX($Y$17:$Y$227,$AA$17-ROWS($Y$17:$Y54)))","v":280.000000000015}]
[56,{"v":6,"d":"6.00"},{"$f":"IF(B56=\"\",\"\",IFERROR(_xlfn.XLOOKUP(B56,ImperialIncrementalData[System Increment],_xlfn.XLOOKUP('Imperial Incremental Crate'!$R$3,ImperialIncrementalData[#Headers],ImperialIncrementalData[]),,1),0))","v":{"v":0,"d":"0.00"}},{"v":0,"d":"0.00"},{"$f":"IF(B56=\"\",\"\",IFERROR(_xlfn.XLOOKUP(B56,ImperialIncrementalData[System Increment],_xlfn.XLOOKUP(Imperial_Incremental_Data_Target_Column,ImperialIncrementalData[#Headers],ImperialIncrementalData[]),,1),0))","v":{"v":0,"d":"0.00"}},{"$f":"IF(B56=\"\",\"\",IF(B57=\"\",((((1)/12)*Imperial_Module_Square_Foot_Area)-'Cumulative Volumes Imperial'!E56)*Imperial_Stone_Void_Percentage,((((B56-B57)/12)*Imperial_Module_Square_Foot_Area)-'Cumulative Volumes Imperial'!E56)*Imperial_Stone_Void_Percentage))","v":{"v":0.2018233203133073,"d":"0.20"}},{"v":21.191448632897266,"d":"21.19"},{"$f":"IF(B56=\"\",\"\",((Imperial_System_Area_Input-Imperial_Number_Of_Stacks*_xlfn.XLOOKUP(Imperial_Layers,CrateData[Layer],CrateData[Surface Area (sf)]))/12)*Imperial_Stone_Void_Percentage)","v":{"v":2.141884700436064,"d":"2.14"}},{"v":23.33333333333333,"d":"23.33"},{"v":23.33333333333333,"d":"23.33"},{"$f":"IF(B56=\"\",\"\",SUM(J56:$J$233))","v":{"v":139.99999999999997,"d":"140.00"}},{"v":100.5,"d":"100.50"},{"$nulls":8},100.5,null,{"v":0.4583333333333312,"d":"0.46"},0.4583333333333312,{"v":280.00000000001586,"d":"280.000"},null,1,null,{"$f":"IF($AU$21=\"INVERT\",X56,IF(AC55>=$Y$12,\"\",IF(X55=\"\",\"\",INDEX($X$18:$X$227,$AA$17-ROWS($X$18:$X55)))))","v":""},"","","",{"$nulls":26},{"$f":"IF($AU$21=\"INVERT\",X56,IF(AC55>=$Y$12,\"\",IF(X55=\"\",\"\",INDEX($X$18:$X$227,$AA$17-ROWS($X$18:$X55)))))","v":""},"",{"$f":"IF(AE55=\"\",\"\",\n    IF($AU$21=\"TYP\",\n       IF(Y55=\"\",\"\", INDEX($Y$18:$Y$227, $AA$17-ROWS($Y$18:$Y55))),\n       IF($AU$21=\"INVERT\",Y56, \"\")\n    )\n)","v":""},"",null,{"$f":"IF(BL55>=$Y$12,\"\",IF(X55=\"\",\"\",INDEX($X$18:$X$227,$AA$17-ROWS($X$18:$X55))))","v":{"v":3.124999999999999,"d":"3.13"}},{"v":6.4279155188249545E-3,"d":"0.0064"},0,null,0.0003934416521745,null,null,{"$f":"IF(Y55=\"\",\"\",INDEX($Y$17:$Y$227,$AA$17-ROWS($Y$17:$Y55)))","v":280.000000000015}]
[57,{"v":5,"d":"5.00"},{"$f":"IF(B57=\"\",\"\",IFERROR(_xlfn.XLOOKUP(B57,ImperialIncrementalData[System Increment],_xlfn.XLOOKUP('Imperial Incremental Crate'!$R$3,ImperialIncrementalData[#Headers],ImperialIncrementalData[]),,1),0))","v":{"v":0,"d":"0.00"}},{"v":0,"d":"0.00"},{"$f":"IF(B57=\"\",\"\",IFERROR(_xlfn.XLOOKUP(B57,ImperialIncrementalData[System Increment],_xlfn.XLOOKUP(Imperial_Incremental_Data_Target_Column,ImperialIncrementalData[#Headers],ImperialIncrementalData[]),,1),0))","v":{"v":0,"d":"0.00"}},{"$f":"IF(B57=\"\",\"\",IF(B58=\"\",((((1)/12)*Imperial_Module_Square_Foot_Area)-'Cumulative Volumes Imperial'!E57)*Imperial_Stone_Void_Percentage,((((B57-B58)/12)*Imperial_Module_Square_Foot_Area)-'Cumulative Volumes Imperial'!E57)*Imperial_Stone_Void_Percentage))","v":{"v":0.2018233203133073,"d":"0.20"}},{"v":21.191448632897266,"d":"21.19"},{"$f":"IF(B57=\"\",\"\",((Imperial_System_Area_Input-Imperial_Number_Of_Stacks*_xlfn.XLOOKUP(Imperial_Layers,CrateData[Layer],CrateData[Surface Area (sf)]))/12)*Imperial_Stone_Void_Percentage)","v":{"v":2.141884700436064,"d":"2.14"}},{"v":23.33333333333333,"d":"23.33"},{"v":23.33333333333333,"d":"23.33"},{"$f":"IF(B57=\"\",\"\",SUM(J57:$J$233))","v":{"v":116.66666666666664,"d":"116.67"}},{"v":100.41666666666667,"d":"100.42"},{"$nulls":8},100.41666666666667,null,{"v":0.3749999999999979,"d":"0.37"},0.3749999999999979,{"v":279.9999999999681,"d":"280.000"},null,1,null,{"$f":"IF($AU$21=\"INVERT\",X57,IF(AC56>=$Y$12,\"\",IF(X56=\"\",\"\",INDEX($X$18:$X$227,$AA$17-ROWS($X$18:$X56)))))","v":""},"","","",{"$nulls":26},{"$f":"IF($AU$21=\"INVERT\",X57,IF(AC56>=$Y$12,\"\",IF(X56=\"\",\"\",INDEX($X$18:$X$227,$AA$17-ROWS($X$18:$X56)))))","v":""},"",{"$f":"IF(AE56=\"\",\"\",\n    IF($AU$21=\"TYP\",\n       IF(Y56=\"\",\"\", INDEX($Y$18:$Y$227, $AA$17-ROWS($Y$18:$Y56))),\n       IF($AU$21=\"INVERT\",Y57, \"\")\n    )\n)","v":""},"",null,{"$f":"IF(BL56>=$Y$12,\"\",IF(X56=\"\",\"\",INDEX($X$18:$X$227,$AA$17-ROWS($X$18:$X56))))","v":{"v":3.2083333333333326,"d":"3.21"}},{"v":0.006427915518823921,"d":"0.0064"},0,null,3.4625948868900004E-4,null,null,{"$f":"IF(Y56=\"\",\"\",INDEX($Y$17:$Y$227,$AA$17-ROWS($Y$17:$Y56)))","v":279.99999999997}]
[58,{"v":4,"d":"4.00"},{"$f":"IF(B58=\"\",\"\",IFERROR(_xlfn.XLOOKUP(B58,ImperialIncrementalData[System Increment],_xlfn.XLOOKUP('Imperial Incremental Crate'!$R$3,ImperialIncrementalData[#Headers],ImperialIncrementalData[]),,1),0))","v":{"v":0,"d":"0.00"}},{"v":0,"d":"0.00"},{"$f":"IF(B58=\"\",\"\",IFERROR(_xlfn.XLOOKUP(B58,ImperialIncrementalData[System Increment],_xlfn.XLOOKUP(Imperial_Incremental_Data_Target_Column,ImperialIncrementalData[#Headers],ImperialIncrementalData[]),,1),0))","v":{"v":0,"d":"0.00"}},{"$f":"IF(B58=\"\",\"\",IF(B59=\"\",((((1)/12)*Imperial_Module_Square_Foot_Area)-'Cumulative Volumes Imperial'!E58)*Imperial_Stone_Void_Percentage,((((B58-B59)/12)*Imperial_Module_Square_Foot_Area)-'Cumulative Volumes Imperial'!E58)*Imperial_Stone_Void_Percentage))","v":{"v":0.2018233203133073,"d":"0.20"}},{"v":21.191448632897266,"d":"21.19"},{"$f":"IF(B58=\"\",\"\",((Imperial_System_Area_Input-Imperial_Number_Of_Stacks*_xlfn.XLOOKUP(Imperial_Layers,CrateData[Layer],CrateData[Surface Area (sf)]))/12)*Imperial_Stone_Void_Percentage)","v":{"v":2.141884700436064,"d":"2.14"}},{"v":23.33333333333333,"d":"23.33"},{"v":23.33333333333333,"d":"23.33"},{"$f":"IF(B58=\"\",\"\",SUM(J58:$J$233))","v":{"v":93.33333333333331,"d":"93.33"}},{"v":100.33333333333333,"d":"100.33"},{"$nulls":8},100.33333333333333,null,{"v":0.2916666666666646,"d":"0.29"},0.2916666666666646,{"v":280.00000000001586,"d":"280.000"},null,1,null,{"$f":"IF($AU$21=\"INVERT\",X58,IF(AC57>=$Y$12,\"\",IF(X57=\"\",\"\",INDEX($X$18:$X$227,$AA$17-ROWS($X$18:$X57)))))","v":""},"","","",{"$nulls":26},{"$f":"IF($AU$21=\"INVERT\",X58,IF(AC57>=$Y$12,\"\",IF(X57=\"\",\"\",INDEX($X$18:$X$227,$AA$17-ROWS($X$18:$X57)))))","v":""},"",{"$f":"IF(AE57=\"\",\"\",\n    IF($AU$21=\"TYP\",\n       IF(Y57=\"\",\"\", INDEX($Y$18:$Y$227, $AA$17-ROWS($Y$18:$Y57))),\n       IF($AU$21=\"INVERT\",Y58, \"\")\n    )\n)","v":""},"",null,{"$f":"IF(BL57>=$Y$12,\"\",IF(X57=\"\",\"\",INDEX($X$18:$X$227,$AA$17-ROWS($X$18:$X57))))","v":{"v":3.291666666666666,"d":"3.29"}},{"v":6.4279155188249545E-3,"d":"0.0064"},0,null,0.000298442909862,null,null,{"$f":"IF(Y57=\"\",\"\",INDEX($Y$17:$Y$227,$AA$17-ROWS($Y$17:$Y57)))","v":280.000000000015}]
[59,{"v":3,"d":"3.00"},{"$f":"IF(B59=\"\",\"\",IFERROR(_xlfn.XLOOKUP(B59,ImperialIncrementalData[System Increment],_xlfn.XLOOKUP('Imperial Incremental Crate'!$R$3,ImperialIncrementalData[#Headers],ImperialIncrementalData[]),,1),0))","v":{"v":0,"d":"0.00"}},{"v":0,"d":"0.00"},{"$f":"IF(B59=\"\",\"\",IFERROR(_xlfn.XLOOKUP(B59,ImperialIncrementalData[System Increment],_xlfn.XLOOKUP(Imperial_Incremental_Data_Target_Column,ImperialIncrementalData[#Headers],ImperialIncrementalData[]),,1),0))","v":{"v":0,"d":"0.00"}},{"$f":"IF(B59=\"\",\"\",IF(B60=\"\",((((1)/12)*Imperial_Module_Square_Foot_Area)-'Cumulative Volumes Imperial'!E59)*Imperial_Stone_Void_Percentage,((((B59-B60)/12)*Imperial_Module_Square_Foot_Area)-'Cumulative Volumes Imperial'!E59)*Imperial_Stone_Void_Percentage))","v":{"v":0.2018233203133073,"d":"0.20"}},{"v":21.191448632897266,"d":"21.19"},{"$f":"IF(B59=\"\",\"\",((Imperial_System_Area_Input-Imperial_Number_Of_Stacks*_xlfn.XLOOKUP(Imperial_Layers,CrateData[Layer],CrateData[Surface Area (sf)]))/12)*Imperial_Stone_Void_Percentage)","v":{"v":2.141884700436064,"d":"2.14"}},{"v":23.33333333333333,"d":"23.33"},{"v":23.33333333333333,"d":"23.33"},{"$f":"IF(B59=\"\",\"\",SUM(J59:$J$233))","v":{"v":69.99999999999999,"d":"70.00"}},100.25,{"$nulls":8},100.25,null,{"v":0.20833333333333126,"d":"0.21"},0.20833333333333126,{"v":280.00000000001586,"d":"280.000"},null,1,null,{"$f":"IF($AU$21=\"INVERT\",X59,IF(AC58>=$Y$12,\"\",IF(X58=\"\",\"\",INDEX($X$18:$X$227,$AA$17-ROWS($X$18:$X58)))))","v":""},"","","",{"$nulls":26},{"$f":"IF($AU$21=\"INVERT\",X59,IF(AC58>=$Y$12,\"\",IF(X58=\"\",\"\",INDEX($X$18:$X$227,$AA$17-ROWS($X$18:$X58)))))","v":""},"",{"$f":"IF(AE58=\"\",\"\",\n    IF($AU$21=\"TYP\",\n       IF(Y58=\"\",\"\", INDEX($Y$18:$Y$227, $AA$17-ROWS($Y$18:$Y58))),\n       IF($AU$21=\"INVERT\",Y59, \"\")\n    )\n)","v":""},"",null,{"$f":"IF(BL58>=$Y$12,\"\",IF(X58=\"\",\"\",INDEX($X$18:$X$227,$AA$17-ROWS($X$18:$X58))))","v":{"v":3.3749999999999996,"d":"3.38"}},{"v":6.4279155188249545E-3,"d":"0.0064"},0,null,2.5002653049E-4,null,null,{"$f":"IF(Y58=\"\",\"\",INDEX($Y$17:$Y$227,$AA$17-ROWS($Y$17:$Y58)))","v":280.000000000015}]
["",{"v":2,"d":"2.00"},{"$f":"IF(B60=\"\",\"\",IFERROR(_xlfn.XLOOKUP(B60,ImperialIncrementalData[System Increment],_xlfn.XLOOKUP('Imperial Incremental Crate'!$R$3,ImperialIncrementalData[#Headers],ImperialIncrementalData[]),,1),0))","v":{"v":0,"d":"0.00"}},{"v":0,"d":"0.00"},{"$f":"IF(B60=\"\",\"\",IFERROR(_xlfn.XLOOKUP(B60,ImperialIncrementalData[System Increment],_xlfn.XLOOKUP(Imperial_Incremental_Data_Target_Column,ImperialIncrementalData[#Headers],ImperialIncrementalData[]),,1),0))","v":{"v":0,"d":"0.00"}},{"$f":"IF(B60=\"\",\"\",IF(B61=\"\",((((1)/12)*Imperial_Module_Square_Foot_Area)-'Cumulative Volumes Imperial'!E60)*Imperial_Stone_Void_Percentage,((((B60-B61)/12)*Imperial_Module_Square_Foot_Area)-'Cumulative Volumes Imperial'!E60)*Imperial_Stone_Void_Percentage))","v":{"v":0.2018233203133073,"d":"0.20"}},{"v":21.191448632897266,"d":"21.19"},{"$f":"IF(B60=\"\",\"\",((Imperial_System_Area_Input-Imperial_Number_Of_Stacks*_xlfn.XLOOKUP(Imperial_Layers,CrateData[Layer],CrateData[Surface Area (sf)]))/12)*Imperial_Stone_Void_Percentage)","v":{"v":2.141884700436064,"d":"2.14"}},{"v":23.33333333333333,"d":"23.33"},{"v":23.33333333333333,"d":"23.33"},{"$f":"IF(B60=\"\",\"\",SUM(J60:$J$233))","v":{"v":46.66666666666666,"d":"46.67"}},{"v":100.16666666666667,"d":"100.17"},{"$nulls":8},100.16666666666667,null,{"v":0.12499999999999793,"d":"0.12"},0.12499999999999793,{"v":279.9999999999681,"d":"280.000"},null,1,null,{"$f":"IF($AU$21=\"INVERT\",X60,IF(AC59>=$Y$12,\"\",IF(X59=\"\",\"\",INDEX($X$18:$X$227,$AA$17-ROWS($X$18:$X59)))))","v":""},"","","",{"$nulls":26},{"$f":"IF($AU$21=\"INVERT\",X60,IF(AC59>=$Y$12,\"\",IF(X59=\"\",\"\",INDEX($X$18:$X$227,$AA$17-ROWS($X$18:$X59)))))","v":""},"",{"$f":"IF(AE59=\"\",\"\",\n    IF($AU$21=\"TYP\",\n       IF(Y59=\"\",\"\", INDEX($Y$18:$Y$227, $AA$17-ROWS($Y$18:$Y59))),\n       IF($AU$21=\"INVERT\",Y60, \"\")\n    )\n)","v":""},"",null,{"$f":"IF(BL59>=$Y$12,\"\",IF(X59=\"\",\"\",INDEX($X$18:$X$227,$AA$17-ROWS($X$18:$X59))))","v":{"v":3.458333333333333,"d":"3.46"}},{"v":0.006427915518823921,"d":"0.0064"},0,null,2.0104396635599997E-4,null,null,{"$f":"IF(Y59=\"\",\"\",INDEX($Y$17:$Y$227,$AA$17-ROWS($Y$17:$Y59)))","v":279.99999999997}]
["",{"v":1,"d":"1.00"},{"$f":"IF(B61=\"\",\"\",IFERROR(_xlfn.XLOOKUP(B61,ImperialIncrementalData[System Increment],_xlfn.XLOOKUP('Imperial Incremental Crate'!$R$3,ImperialIncrementalData[#Headers],ImperialIncrementalData[]),,1),0))","v":{"v":0,"d":"0.00"}},{"v":0,"d":"0.00"},{"$f":"IF(B61=\"\",\"\",IFERROR(_xlfn.XLOOKUP(B61,ImperialIncrementalData[System Increment],_xlfn.XLOOKUP(Imperial_Incremental_Data_Target_Column,ImperialIncrementalData[#Headers],ImperialIncrementalData[]),,1),0))","v":{"v":0,"d":"0.00"}},{"$f":"IF(B61=\"\",\"\",IF(B62=\"\",((((1)/12)*Imperial_Module_Square_Foot_Area)-'Cumulative Volumes Imperial'!E61)*Imperial_Stone_Void_Percentage,((((B61-B62)/12)*Imperial_Module_Square_Foot_Area)-'Cumulative Volumes Imperial'!E61)*Imperial_Stone_Void_Percentage))","v":{"v":0.2018233203133073,"d":"0.20"}},{"v":21.191448632897266,"d":"21.19"},{"$f":"IF(B61=\"\",\"\",((Imperial_System_Area_Input-Imperial_Number_Of_Stacks*_xlfn.XLOOKUP(Imperial_Layers,CrateData[Layer],CrateData[Surface Area (sf)]))/12)*Imperial_Stone_Void_Percentage)","v":{"v":2.141884700436064,"d":"2.14"}},{"v":23.33333333333333,"d":"23.33"},{"v":23.33333333333333,"d":"23.33"},{"$f":"IF(B61=\"\",\"\",SUM(J61:$J$233))","v":{"v":23.33333333333333,"d":"23.33"}},{"v":100.08333333333333,"d":"100.08"},{"$nulls":8},100,null,{"v":0.041666666666664604,"d":"0.04"},0.041666666666664604,{"v":279.9999999999681,"d":"280.000"},null,1,null,{"$f":"IF($AU$21=\"INVERT\",X61,IF(AC60>=$Y$12,\"\",IF(X60=\"\",\"\",INDEX($X$18:$X$227,$AA$17-ROWS($X$18:$X60)))))","v":""},"","","",{"$nulls":26},{"$f":"IF($AU$21=\"INVERT\",X61,IF(AC60>=$Y$12,\"\",IF(X60=\"\",\"\",INDEX($X$18:$X$227,$AA$17-ROWS($X$18:$X60)))))","v":""},"",{"$f":"IF(AE60=\"\",\"\",\n    IF($AU$21=\"TYP\",\n       IF(Y60=\"\",\"\", INDEX($Y$18:$Y$227, $AA$17-ROWS($Y$18:$Y60))),\n       IF($AU$21=\"INVERT\",Y61, \"\")\n    )\n)","v":""},"",null,{"$f":"IF(BL60>=$Y$12,\"\",IF(X60=\"\",\"\",INDEX($X$18:$X$227,$AA$17-ROWS($X$18:$X60))))","v":{"v":3.5416666666666665,"d":"3.54"}},{"$error":"#VALUE!"},0,null,0.000151527233628,null,null,{"$f":"IF(Y60=\"\",\"\",INDEX($Y$17:$Y$227,$AA$17-ROWS($Y$17:$Y60)))","v":"(ft2)"}]
["","",{"$f":"IF(B62=\"\",\"\",IFERROR(_xlfn.XLOOKUP(B62,ImperialIncrementalData[System Increment],_xlfn.XLOOKUP('Imperial Incremental Crate'!$R$3,ImperialIncrementalData[#Headers],ImperialIncrementalData[]),,1),0))","v":""},"",{"$f":"IF(B62=\"\",\"\",IFERROR(_xlfn.XLOOKUP(B62,ImperialIncrementalData[System Increment],_xlfn.XLOOKUP(Imperial_Incremental_Data_Target_Column,ImperialIncrementalData[#Headers],ImperialIncrementalData[]),,1),0))","v":""},{"$f":"IF(B62=\"\",\"\",IF(B63=\"\",((((1)/12)*Imperial_Module_Square_Foot_Area)-'Cumulative Volumes Imperial'!E62)*Imperial_Stone_Void_Percentage,((((B62-B63)/12)*Imperial_Module_Square_Foot_Area)-'Cumulative Volumes Imperial'!E62)*Imperial_Stone_Void_Percentage))","v":""},"",{"$f":"IF(B62=\"\",\"\",((Imperial_System_Area_Input-Imperial_Number_Of_Stacks*_xlfn.XLOOKUP(Imperial_Layers,CrateData[Layer],CrateData[Surface Area (sf)]))/12)*Imperial_Stone_Void_Percentage)","v":""},"","",{"$f":"IF(B62=\"\",\"\",SUM(J62:$J$233))","v":""},"",{"$nulls":8},"",null,{"v":-0.041666666666668725,"d":"-0.04"},0,{"v":279.99999999999994,"d":"280.000"},null,1,null,{"$f":"IF($AU$21=\"INVERT\",X62,IF(AC61>=$Y$12,\"\",IF(X61=\"\",\"\",INDEX($X$18:$X$227,$AA$17-ROWS($X$18:$X61)))))","v":""},"","","",{"$nulls":26},{"$f":"IF($AU$21=\"INVERT\",X62,IF(AC61>=$Y$12,\"\",IF(X61=\"\",\"\",INDEX($X$18:$X$227,$AA$17-ROWS($X$18:$X61)))))","v":""},"",{"$f":"IF(AE61=\"\",\"\",\n    IF($AU$21=\"TYP\",\n       IF(Y61=\"\",\"\", INDEX($Y$18:$Y$227, $AA$17-ROWS($Y$18:$Y61))),\n       IF($AU$21=\"INVERT\",Y62, \"\")\n    )\n)","v":""},"",null,{"$f":"IF(BL61>=$Y$12,\"\",IF(X61=\"\",\"\",INDEX($X$18:$X$227,$AA$17-ROWS($X$18:$X61))))","v":{"v":3.625,"d":"3.63"}},{"$error":"#VALUE!"},0,null,1.015070277015E-4,null,null,{"$f":"IF(Y61=\"\",\"\",INDEX($Y$17:$Y$227,$AA$17-ROWS($Y$17:$Y61)))","v":{"$error":"#VALUE!"}}]
["","",{"$f":"IF(B63=\"\",\"\",IFERROR(_xlfn.XLOOKUP(B63,ImperialIncrementalData[System Increment],_xlfn.XLOOKUP('Imperial Incremental Crate'!$R$3,ImperialIncrementalData[#Headers],ImperialIncrementalData[]),,1),0))","v":""},"",{"$f":"IF(B63=\"\",\"\",IFERROR(_xlfn.XLOOKUP(B63,ImperialIncrementalData[System Increment],_xlfn.XLOOKUP(Imperial_Incremental_Data_Target_Column,ImperialIncrementalData[#Headers],ImperialIncrementalData[]),,1),0))","v":""},{"$f":"IF(B63=\"\",\"\",IF(B64=\"\",((((1)/12)*Imperial_Module_Square_Foot_Area)-'Cumulative Volumes Imperial'!E63)*Imperial_Stone_Void_Percentage,((((B63-B64)/12)*Imperial_Module_Square_Foot_Area)-'Cumulative Volumes Imperial'!E63)*Imperial_Stone_Void_Percentage))","v":""},"",{"$f":"IF(B63=\"\",\"\",((Imperial_System_Area_Input-Imperial_Number_Of_Stacks*_xlfn.XLOOKUP(Imperial_Layers,CrateData[Layer],CrateData[Surface Area (sf)]))/12)*Imperial_Stone_Void_Percentage)","v":""},"","",{"$f":"IF(B63=\"\",\"\",SUM(J63:$J$233))","v":""},"",{"$nulls":8},"",null,{"v":-0.12500000000000205,"d":"-0.13"},"","",null,"",null,{"$f":"IF($AU$21=\"INVERT\",X63,IF(AC62>=$Y$12,\"\",IF(X62=\"\",\"\",INDEX($X$18:$X$227,$AA$17-ROWS($X$18:$X62)))))","v":""},"","","",{"$nulls":26},{"$f":"IF($AU$21=\"INVERT\",X63,IF(AC62>=$Y$12,\"\",IF(X62=\"\",\"\",INDEX($X$18:$X$227,$AA$17-ROWS($X$18:$X62)))))","v":""},"",{"$f":"IF(AE62=\"\",\"\",\n    IF($AU$21=\"TYP\",\n       IF(Y62=\"\",\"\", INDEX($Y$18:$Y$227, $AA$17-ROWS($Y$18:$Y62))),\n       IF($AU$21=\"INVERT\",Y63, \"\")\n    )\n)","v":""},"",null,{"$f":"IF(BL62>=$Y$12,\"\",IF(X62=\"\",\"\",INDEX($X$18:$X$227,$AA$17-ROWS($X$18:$X62))))","v":""},{"$error":"#VALUE!"},0,null,5.1012655956e-05,null,null,{"$f":"IF(Y62=\"\",\"\",INDEX($Y$17:$Y$227,$AA$17-ROWS($Y$17:$Y62)))","v":{"$error":"#VALUE!"}}]
["","",{"$f":"IF(B64=\"\",\"\",IFERROR(_xlfn.XLOOKUP(B64,ImperialIncrementalData[System Increment],_xlfn.XLOOKUP('Imperial Incremental Crate'!$R$3,ImperialIncrementalData[#Headers],ImperialIncrementalData[]),,1),0))","v":""},"",{"$f":"IF(B64=\"\",\"\",IFERROR(_xlfn.XLOOKUP(B64,ImperialIncrementalData[System Increment],_xlfn.XLOOKUP(Imperial_Incremental_Data_Target_Column,ImperialIncrementalData[#Headers],ImperialIncrementalData[]),,1),0))","v":""},{"$f":"IF(B64=\"\",\"\",IF(B65=\"\",((((1)/12)*Imperial_Module_Square_Foot_Area)-'Cumulative Volumes Imperial'!E64)*Imperial_Stone_Void_Percentage,((((B64-B65)/12)*Imperial_Module_Square_Foot_Area)-'Cumulative Volumes Imperial'!E64)*Imperial_Stone_Void_Percentage))","v":""},"",{"$f":"IF(B64=\"\",\"\",((Imperial_System_Area_Input-Imperial_Number_Of_Stacks*_xlfn.XLOOKUP(Imperial_Layers,CrateData[Layer],CrateData[Surface Area (sf)]))/12)*Imperial_Stone_Void_Percentage)","v":""},"","",{"$f":"IF(B64=\"\",\"\",SUM(J64:$J$233))","v":""},"",{"$nulls":8},"",null,{"v":-0.20833333333333537,"d":"-0.21"},"","",null,"",null,{"$f":"IF($AU$21=\"INVERT\",X64,IF(AC63>=$Y$12,\"\",IF(X63=\"\",\"\",INDEX($X$18:$X$227,$AA$17-ROWS($X$18:$X63)))))","v":""},"","","",{"$nulls":26},{"$f":"IF($AU$21=\"INVERT\",X64,IF(AC63>=$Y$12,\"\",IF(X63=\"\",\"\",INDEX($X$18:$X$227,$AA$17-ROWS($X$18:$X63)))))","v":""},"",{"$f":"IF(AE63=\"\",\"\",\n    IF($AU$21=\"TYP\",\n       IF(Y63=\"\",\"\", INDEX($Y$18:$Y$227, $AA$17-ROWS($Y$18:$Y63))),\n       IF($AU$21=\"INVERT\",Y64, \"\")\n    )\n)","v":""},"",null,{"$f":"IF(BL63>=$Y$12,\"\",IF(X63=\"\",\"\",INDEX($X$18:$X$227,$AA$17-ROWS($X$18:$X63))))","v":""},"",0,null,0,null,null,{"$f":"IF(Y63=\"\",\"\",INDEX($Y$17:$Y$227,$AA$17-ROWS($Y$17:$Y63)))","v":""}]
["","",{"$f":"IF(B65=\"\",\"\",IFERROR(_xlfn.XLOOKUP(B65,ImperialIncrementalData[System Increment],_xlfn.XLOOKUP('Imperial Incremental Crate'!$R$3,ImperialIncrementalData[#Headers],ImperialIncrementalData[]),,1),0))","v":""},"",{"$f":"IF(B65=\"\",\"\",IFERROR(_xlfn.XLOOKUP(B65,ImperialIncrementalData[System Increment],_xlfn.XLOOKUP(Imperial_Incremental_Data_Target_Column,ImperialIncrementalData[#Headers],ImperialIncrementalData[]),,1),0))","v":""},{"$f":"IF(B65=\"\",\"\",IF(B66=\"\",((((1)/12)*Imperial_Module_Square_Foot_Area)-'Cumulative Volumes Imperial'!E65)*Imperial_Stone_Void_Percentage,((((B65-B66)/12)*Imperial_Module_Square_Foot_Area)-'Cumulative Volumes Imperial'!E65)*Imperial_Stone_Void_Percentage))","v":""},"",{"$f":"IF(B65=\"\",\"\",((Imperial_System_Area_Input-Imperial_Number_Of_Stacks*_xlfn.XLOOKUP(Imperial_Layers,CrateData[Layer],CrateData[Surface Area (sf)]))/12)*Imperial_Stone_Void_Percentage)","v":""},"","",{"$f":"IF(B65=\"\",\"\",SUM(J65:$J$233))","v":""},"",{"$nulls":8},"",null,{"v":-0.2916666666666687,"d":"-0.29"},"","",null,"",null,{"$f":"IF($AU$21=\"INVERT\",X65,IF(AC64>=$Y$12,\"\",IF(X64=\"\",\"\",INDEX($X$18:$X$227,$AA$17-ROWS($X$18:$X64)))))","v":""},"","","",{"$nulls":26},{"$f":"IF($AU$21=\"INVERT\",X65,IF(AC64>=$Y$12,\"\",IF(X64=\"\",\"\",INDEX($X$18:$X$227,$AA$17-ROWS($X$18:$X64)))))","v":""},"",{"$f":"IF(AE64=\"\",\"\",\n    IF($AU$21=\"TYP\",\n       IF(Y64=\"\",\"\", INDEX($Y$18:$Y$227, $AA$17-ROWS($Y$18:$Y64))),\n       IF($AU$21=\"INVERT\",Y65, \"\")\n    )\n)","v":""},"",null,{"$f":"IF(BL64>=$Y$12,\"\",IF(X64=\"\",\"\",INDEX($X$18:$X$227,$AA$17-ROWS($X$18:$X64))))","v":""},"",0,null,0,null,null,{"$f":"IF(Y64=\"\",\"\",INDEX($Y$17:$Y$227,$AA$17-ROWS($Y$17:$Y64)))","v":""}]
["","",{"$f":"IF(B66=\"\",\"\",IFERROR(_xlfn.XLOOKUP(B66,ImperialIncrementalData[System Increment],_xlfn.XLOOKUP('Imperial Incremental Crate'!$R$3,ImperialIncrementalData[#Headers],ImperialIncrementalData[]),,1),0))","v":""},"",{"$f":"IF(B66=\"\",\"\",IFERROR(_xlfn.XLOOKUP(B66,ImperialIncrementalData[System Increment],_xlfn.XLOOKUP(Imperial_Incremental_Data_Target_Column,ImperialIncrementalData[#Headers],ImperialIncrementalData[]),,1),0))","v":""},{"$f":"IF(B66=\"\",\"\",IF(B67=\"\",((((1)/12)*Imperial_Module_Square_Foot_Area)-'Cumulative Volumes Imperial'!E66)*Imperial_Stone_Void_Percentage,((((B66-B67)/12)*Imperial_Module_Square_Foot_Area)-'Cumulative Volumes Imperial'!E66)*Imperial_Stone_Void_Percentage))","v":""},"",{"$f":"IF(B66=\"\",\"\",((Imperial_System_Area_Input-Imperial_Number_Of_Stacks*_xlfn.XLOOKUP(Imperial_Layers,CrateData[Layer],CrateData[Surface Area (sf)]))/12)*Imperial_Stone_Void_Percentage)","v":""},"","",{"$f":"IF(B66=\"\",\"\",SUM(J66:$J$233))","v":""},"",{"$nulls":8},"",null,{"v":-0.375000000000002,"d":"-0.38"},"","",null,"",null,{"$f":"IF($AU$21=\"INVERT\",X66,IF(AC65>=$Y$12,\"\",IF(X65=\"\",\"\",INDEX($X$18:$X$227,$AA$17-ROWS($X$18:$X65)))))","v":""},"","","",{"$nulls":26},{"$f":"IF($AU$21=\"INVERT\",X66,IF(AC65>=$Y$12,\"\",IF(X65=\"\",\"\",INDEX($X$18:$X$227,$AA$17-ROWS($X$18:$X65)))))","v":""},"",{"$f":"IF(AE65=\"\",\"\",\n    IF($AU$21=\"TYP\",\n       IF(Y65=\"\",\"\", INDEX($Y$18:$Y$227, $AA$17-ROWS($Y$18:$Y65))),\n       IF($AU$21=\"INVERT\",Y66, \"\")\n    )\n)","v":""},"",null,{"$f":"IF(BL65>=$Y$12,\"\",IF(X65=\"\",\"\",INDEX($X$18:$X$227,$AA$17-ROWS($X$18:$X65))))","v":""},"",0,null,0,null,null,{"$f":"IF(Y65=\"\",\"\",INDEX($Y$17:$Y$227,$AA$17-ROWS($Y$17:$Y65)))","v":""}]
["","",{"$f":"IF(B67=\"\",\"\",IFERROR(_xlfn.XLOOKUP(B67,ImperialIncrementalData[System Increment],_xlfn.XLOOKUP('Imperial Incremental Crate'!$R$3,ImperialIncrementalData[#Headers],ImperialIncrementalData[]),,1),0))","v":""},"",{"$f":"IF(B67=\"\",\"\",IFERROR(_xlfn.XLOOKUP(B67,ImperialIncrementalData[System Increment],_xlfn.XLOOKUP(Imperial_Incremental_Data_Target_Column,ImperialIncrementalData[#Headers],ImperialIncrementalData[]),,1),0))","v":""},{"$f":"IF(B67=\"\",\"\",IF(B68=\"\",((((1)/12)*Imperial_Module_Square_Foot_Area)-'Cumulative Volumes Imperial'!E67)*Imperial_Stone_Void_Percentage,((((B67-B68)/12)*Imperial_Module_Square_Foot_Area)-'Cumulative Volumes Imperial'!E67)*Imperial_Stone_Void_Percentage))","v":""},"",{"$f":"IF(B67=\"\",\"\",((Imperial_System_Area_Input-Imperial_Number_Of_Stacks*_xlfn.XLOOKUP(Imperial_Layers,CrateData[Layer],CrateData[Surface Area (sf)]))/12)*Imperial_Stone_Void_Percentage)","v":""},"","",{"$f":"IF(B67=\"\",\"\",SUM(J67:$J$233))","v":""},"",{"$nulls":8},"",null,{"v":-0.4583333333333353,"d":"-0.46"},"","",null,"",null,{"$f":"IF($AU$21=\"INVERT\",X67,IF(AC66>=$Y$12,\"\",IF(X66=\"\",\"\",INDEX($X$18:$X$227,$AA$17-ROWS($X$18:$X66)))))","v":""},"","","",{"$nulls":26},{"$f":"IF($AU$21=\"INVERT\",X67,IF(AC66>=$Y$12,\"\",IF(X66=\"\",\"\",INDEX($X$18:$X$227,$AA$17-ROWS($X$18:$X66)))))","v":""},"",{"$f":"IF(AE66=\"\",\"\",\n    IF($AU$21=\"TYP\",\n       IF(Y66=\"\",\"\", INDEX($Y$18:$Y$227, $AA$17-ROWS($Y$18:$Y66))),\n       IF($AU$21=\"INVERT\",Y67, \"\")\n    )\n)","v":""},"",null,{"$f":"IF(BL66>=$Y$12,\"\",IF(X66=\"\",\"\",INDEX($X$18:$X$227,$AA$17-ROWS($X$18:$X66))))","v":""},"",0,null,0,null,null,{"$f":"IF(Y66=\"\",\"\",INDEX($Y$17:$Y$227,$AA$17-ROWS($Y$17:$Y66)))","v":""}]
["","",{"$f":"IF(B68=\"\",\"\",IFERROR(_xlfn.XLOOKUP(B68,ImperialIncrementalData[System Increment],_xlfn.XLOOKUP('Imperial Incremental Crate'!$R$3,ImperialIncrementalData[#Headers],ImperialIncrementalData[]),,1),0))","v":""},"",{"$f":"IF(B68=\"\",\"\",IFERROR(_xlfn.XLOOKUP(B68,ImperialIncrementalData[System Increment],_xlfn.XLOOKUP(Imperial_Incremental_Data_Target_Column,ImperialIncrementalData[#Headers],ImperialIncrementalData[]),,1),0))","v":""},{"$f":"IF(B68=\"\",\"\",IF(B69=\"\",((((1)/12)*Imperial_Module_Square_Foot_Area)-'Cumulative Volumes Imperial'!E68)*Imperial_Stone_Void_Percentage,((((B68-B69)/12)*Imperial_Module_Square_Foot_Area)-'Cumulative Volumes Imperial'!E68)*Imperial_Stone_Void_Percentage))","v":""},"",{"$f":"IF(B68=\"\",\"\",((Imperial_System_Area_Input-Imperial_Number_Of_Stacks*_xlfn.XLOOKUP(Imperial_Layers,CrateData[Layer],CrateData[Surface Area (sf)]))/12)*Imperial_Stone_Void_Percentage)","v":""},"","",{"$f":"IF(B68=\"\",\"\",SUM(J68:$J$233))","v":""},"",{"$nulls":8},"",null,{"v":-0.5416666666666686,"d":"-0.54"},"","",null,"",null,{"$f":"IF($AU$21=\"INVERT\",X68,IF(AC67>=$Y$12,\"\",IF(X67=\"\",\"\",INDEX($X$18:$X$227,$AA$17-ROWS($X$18:$X67)))))","v":""},"","","",{"$nulls":26},{"$f":"IF($AU$21=\"INVERT\",X68,IF(AC67>=$Y$12,\"\",IF(X67=\"\",\"\",INDEX($X$18:$X$227,$AA$17-ROWS($X$18:$X67)))))","v":""},"",{"$f":"IF(AE67=\"\",\"\",\n    IF($AU$21=\"TYP\",\n       IF(Y67=\"\",\"\", INDEX($Y$18:$Y$227, $AA$17-ROWS($Y$18:$Y67))),\n       IF($AU$21=\"INVERT\",Y68, \"\")\n    )\n)","v":""},"",null,{"$f":"IF(BL67>=$Y$12,\"\",IF(X67=\"\",\"\",INDEX($X$18:$X$227,$AA$17-ROWS($X$18:$X67))))","v":""},"",0,null,0,null,null,{"$f":"IF(Y67=\"\",\"\",INDEX($Y$17:$Y$227,$AA$17-ROWS($Y$17:$Y67)))","v":""}]
["","",{"$f":"IF(B69=\"\",\"\",IFERROR(_xlfn.XLOOKUP(B69,ImperialIncrementalData[System Increment],_xlfn.XLOOKUP('Imperial Incremental Crate'!$R$3,ImperialIncrementalData[#Headers],ImperialIncrementalData[]),,1),0))","v":""},"",{"$f":"IF(B69=\"\",\"\",IFERROR(_xlfn.XLOOKUP(B69,ImperialIncrementalData[System Increment],_xlfn.XLOOKUP(Imperial_Incremental_Data_Target_Column,ImperialIncrementalData[#Headers],ImperialIncrementalData[]),,1),0))","v":""},{"$f":"IF(B69=\"\",\"\",IF(B70=\"\",((((1)/12)*Imperial_Module_Square_Foot_Area)-'Cumulative Volumes Imperial'!E69)*Imperial_Stone_Void_Percentage,((((B69-B70)/12)*Imperial_Module_Square_Foot_Area)-'Cumulative Volumes Imperial'!E69)*Imperial_Stone_Void_Percentage))","v":""},"",{"$f":"IF(B69=\"\",\"\",((Imperial_System_Area_Input-Imperial_Number_Of_Stacks*_xlfn.XLOOKUP(Imperial_Layers,CrateData[Layer],CrateData[Surface Area (sf)]))/12)*Imperial_Stone_Void_Percentage)","v":""},"","",{"$f":"IF(B69=\"\",\"\",SUM(J69:$J$233))","v":""},"",{"$nulls":8},"",null,{"v":-0.625000000000002,"d":"-0.63"},"","",null,"",null,{"$f":"IF($AU$21=\"INVERT\",X69,IF(AC68>=$Y$12,\"\",IF(X68=\"\",\"\",INDEX($X$18:$X$227,$AA$17-ROWS($X$18:$X68)))))","v":""},"","","",{"$nulls":26},{"$f":"IF($AU$21=\"INVERT\",X69,IF(AC68>=$Y$12,\"\",IF(X68=\"\",\"\",INDEX($X$18:$X$227,$AA$17-ROWS($X$18:$X68)))))","v":""},"",{"$f":"IF(AE68=\"\",\"\",\n    IF($AU$21=\"TYP\",\n       IF(Y68=\"\",\"\", INDEX($Y$18:$Y$227, $AA$17-ROWS($Y$18:$Y68))),\n       IF($AU$21=\"INVERT\",Y69, \"\")\n    )\n)","v":""},"",null,{"$f":"IF(BL68>=$Y$12,\"\",IF(X68=\"\",\"\",INDEX($X$18:$X$227,$AA$17-ROWS($X$18:$X68))))","v":""},"",0,null,0,null,null,{"$f":"IF(Y68=\"\",\"\",INDEX($Y$17:$Y$227,$AA$17-ROWS($Y$17:$Y68)))","v":""}]
["","",{"$f":"IF(B70=\"\",\"\",IFERROR(_xlfn.XLOOKUP(B70,ImperialIncrementalData[System Increment],_xlfn.XLOOKUP('Imperial Incremental Crate'!$R$3,ImperialIncrementalData[#Headers],ImperialIncrementalData[]),,1),0))","v":""},"",{"$f":"IF(B70=\"\",\"\",IFERROR(_xlfn.XLOOKUP(B70,ImperialIncrementalData[System Increment],_xlfn.XLOOKUP(Imperial_Incremental_Data_Target_Column,ImperialIncrementalData[#Headers],ImperialIncrementalData[]),,1),0))","v":""},{"$f":"IF(B70=\"\",\"\",IF(B71=\"\",((((1)/12)*Imperial_Module_Square_Foot_Area)-'Cumulative Volumes Imperial'!E70)*Imperial_Stone_Void_Percentage,((((B70-B71)/12)*Imperial_Module_Square_Foot_Area)-'Cumulative Volumes Imperial'!E70)*Imperial_Stone_Void_Percentage))","v":""},"",{"$f":"IF(B70=\"\",\"\",((Imperial_System_Area_Input-Imperial_Number_Of_Stacks*_xlfn.XLOOKUP(Imperial_Layers,CrateData[Layer],CrateData[Surface Area (sf)]))/12)*Imperial_Stone_Void_Percentage)","v":""},"","",{"$f":"IF(B70=\"\",\"\",SUM(J70:$J$233))","v":""},"",{"$nulls":8},"",null,{"v":-0.7083333333333354,"d":"-0.71"},"","",null,"",null,{"$f":"IF($AU$21=\"INVERT\",X70,IF(AC69>=$Y$12,\"\",IF(X69=\"\",\"\",INDEX($X$18:$X$227,$AA$17-ROWS($X$18:$X69)))))","v":""},"","","",{"$nulls":26},{"$f":"IF($AU$21=\"INVERT\",X70,IF(AC69>=$Y$12,\"\",IF(X69=\"\",\"\",INDEX($X$18:$X$227,$AA$17-ROWS($X$18:$X69)))))","v":""},"",{"$f":"IF(AE69=\"\",\"\",\n    IF($AU$21=\"TYP\",\n       IF(Y69=\"\",\"\", INDEX($Y$18:$Y$227, $AA$17-ROWS($Y$18:$Y69))),\n       IF($AU$21=\"INVERT\",Y70, \"\")\n    )\n)","v":""},"",null,{"$f":"IF(BL69>=$Y$12,\"\",IF(X69=\"\",\"\",INDEX($X$18:$X$227,$AA$17-ROWS($X$18:$X69))))","v":""},"",0,null,0,null,null,{"$f":"IF(Y69=\"\",\"\",INDEX($Y$17:$Y$227,$AA$17-ROWS($Y$17:$Y69)))","v":""}]
["","",{"$f":"IF(B71=\"\",\"\",IFERROR(_xlfn.XLOOKUP(B71,ImperialIncrementalData[System Increment],_xlfn.XLOOKUP('Imperial Incremental Crate'!$R$3,ImperialIncrementalData[#Headers],ImperialIncrementalData[]),,1),0))","v":""},"",{"$f":"IF(B71=\"\",\"\",IFERROR(_xlfn.XLOOKUP(B71,ImperialIncrementalData[System Increment],_xlfn.XLOOKUP(Imperial_Incremental_Data_Target_Column,ImperialIncrementalData[#Headers],ImperialIncrementalData[]),,1),0))","v":""},{"$f":"IF(B71=\"\",\"\",IF(B72=\"\",((((1)/12)*Imperial_Module_Square_Foot_Area)-'Cumulative Volumes Imperial'!E71)*Imperial_Stone_Void_Percentage,((((B71-B72)/12)*Imperial_Module_Square_Foot_Area)-'Cumulative Volumes Imperial'!E71)*Imperial_Stone_Void_Percentage))","v":""},"",{"$f":"IF(B71=\"\",\"\",((Imperial_System_Area_Input-Imperial_Number_Of_Stacks*_xlfn.XLOOKUP(Imperial_Layers,CrateData[Layer],CrateData[Surface Area (sf)]))/12)*Imperial_Stone_Void_Percentage)","v":""},"","",{"$f":"IF(B71=\"\",\"\",SUM(J71:$J$233))","v":""},"",{"$nulls":8},"",null,{"v":-0.7916666666666687,"d":"-0.79"},"","",null,"",null,{"$f":"IF($AU$21=\"INVERT\",X71,IF(AC70>=$Y$12,\"\",IF(X70=\"\",\"\",INDEX($X$18:$X$227,$AA$17-ROWS($X$18:$X70)))))","v":""},"","","",{"$nulls":26},{"$f":"IF($AU$21=\"INVERT\",X71,IF(AC70>=$Y$12,\"\",IF(X70=\"\",\"\",INDEX($X$18:$X$227,$AA$17-ROWS($X$18:$X70)))))","v":""},"",{"$f":"IF(AE70=\"\",\"\",\n    IF($AU$21=\"TYP\",\n       IF(Y70=\"\",\"\", INDEX($Y$18:$Y$227, $AA$17-ROWS($Y$18:$Y70))),\n       IF($AU$21=\"INVERT\",Y71, \"\")\n    )\n)","v":""},"",null,{"$f":"IF(BL70>=$Y$12,\"\",IF(X70=\"\",\"\",INDEX($X$18:$X$227,$AA$17-ROWS($X$18:$X70))))","v":""},"",0,null,0,null,null,{"$f":"IF(Y70=\"\",\"\",INDEX($Y$17:$Y$227,$AA$17-ROWS($Y$17:$Y70)))","v":""}]
["","",{"$f":"IF(B72=\"\",\"\",IFERROR(_xlfn.XLOOKUP(B72,ImperialIncrementalData[System Increment],_xlfn.XLOOKUP('Imperial Incremental Crate'!$R$3,ImperialIncrementalData[#Headers],ImperialIncrementalData[]),,1),0))","v":""},"",{"$f":"IF(B72=\"\",\"\",IFERROR(_xlfn.XLOOKUP(B72,ImperialIncrementalData[System Increment],_xlfn.XLOOKUP(Imperial_Incremental_Data_Target_Column,ImperialIncrementalData[#Headers],ImperialIncrementalData[]),,1),0))","v":""},{"$f":"IF(B72=\"\",\"\",IF(B73=\"\",((((1)/12)*Imperial_Module_Square_Foot_Area)-'Cumulative Volumes Imperial'!E72)*Imperial_Stone_Void_Percentage,((((B72-B73)/12)*Imperial_Module_Square_Foot_Area)-'Cumulative Volumes Imperial'!E72)*Imperial_Stone_Void_Percentage))","v":""},"",{"$f":"IF(B72=\"\",\"\",((Imperial_System_Area_Input-Imperial_Number_Of_Stacks*_xlfn.XLOOKUP(Imperial_Layers,CrateData[Layer],CrateData[Surface Area (sf)]))/12)*Imperial_Stone_Void_Percentage)","v":""},"","",{"$f":"IF(B72=\"\",\"\",SUM(J72:$J$233))","v":""},"",{"$nulls":8},"",null,{"v":-0.8750000000000021,"d":"-0.88"},"","",null,"",null,{"$f":"IF($AU$21=\"INVERT\",X72,IF(AC71>=$Y$12,\"\",IF(X71=\"\",\"\",INDEX($X$18:$X$227,$AA$17-ROWS($X$18:$X71)))))","v":""},"","","",{"$nulls":26},{"$f":"IF($AU$21=\"INVERT\",X72,IF(AC71>=$Y$12,\"\",IF(X71=\"\",\"\",INDEX($X$18:$X$227,$AA$17-ROWS($X$18:$X71)))))","v":""},"",{"$f":"IF(AE71=\"\",\"\",\n    IF($AU$21=\"TYP\",\n       IF(Y71=\"\",\"\", INDEX($Y$18:$Y$227, $AA$17-ROWS($Y$18:$Y71))),\n       IF($AU$21=\"INVERT\",Y72, \"\")\n    )\n)","v":""},"",null,{"$f":"IF(BL71>=$Y$12,\"\",IF(X71=\"\",\"\",INDEX($X$18:$X$227,$AA$17-ROWS($X$18:$X71))))","v":""},"",0,null,0,null,null,{"$f":"IF(Y71=\"\",\"\",INDEX($Y$17:$Y$227,$AA$17-ROWS($Y$17:$Y71)))","v":""}]
["","",{"$f":"IF(B73=\"\",\"\",IFERROR(_xlfn.XLOOKUP(B73,ImperialIncrementalData[System Increment],_xlfn.XLOOKUP('Imperial Incremental Crate'!$R$3,ImperialIncrementalData[#Headers],ImperialIncrementalData[]),,1),0))","v":""},"",{"$f":"IF(B73=\"\",\"\",IFERROR(_xlfn.XLOOKUP(B73,ImperialIncrementalData[System Increment],_xlfn.XLOOKUP(Imperial_Incremental_Data_Target_Column,ImperialIncrementalData[#Headers],ImperialIncrementalData[]),,1),0))","v":""},{"$f":"IF(B73=\"\",\"\",IF(B74=\"\",((((1)/12)*Imperial_Module_Square_Foot_Area)-'Cumulative Volumes Imperial'!E73)*Imperial_Stone_Void_Percentage,((((B73-B74)/12)*Imperial_Module_Square_Foot_Area)-'Cumulative Volumes Imperial'!E73)*Imperial_Stone_Void_Percentage))","v":""},"",{"$f":"IF(B73=\"\",\"\",((Imperial_System_Area_Input-Imperial_Number_Of_Stacks*_xlfn.XLOOKUP(Imperial_Layers,CrateData[Layer],CrateData[Surface Area (sf)]))/12)*Imperial_Stone_Void_Percentage)","v":""},"","",{"$f":"IF(B73=\"\",\"\",SUM(J73:$J$233))","v":""},"",{"$nulls":8},"",null,{"v":-0.9583333333333355,"d":"-0.96"},"","",null,"",null,{"$f":"IF($AU$21=\"INVERT\",X73,IF(AC72>=$Y$12,\"\",IF(X72=\"\",\"\",INDEX($X$18:$X$227,$AA$17-ROWS($X$18:$X72)))))","v":""},"","","",{"$nulls":26},{"$f":"IF($AU$21=\"INVERT\",X73,IF(AC72>=$Y$12,\"\",IF(X72=\"\",\"\",INDEX($X$18:$X$227,$AA$17-ROWS($X$18:$X72)))))","v":""},"",{"$f":"IF(AE72=\"\",\"\",\n    IF($AU$21=\"TYP\",\n       IF(Y72=\"\",\"\", INDEX($Y$18:$Y$227, $AA$17-ROWS($Y$18:$Y72))),\n       IF($AU$21=\"INVERT\",Y73, \"\")\n    )\n)","v":""},"",null,{"$f":"IF(BL72>=$Y$12,\"\",IF(X72=\"\",\"\",INDEX($X$18:$X$227,$AA$17-ROWS($X$18:$X72))))","v":""},"",0,null,"",null,null,{"$f":"IF(Y72=\"\",\"\",INDEX($Y$17:$Y$227,$AA$17-ROWS($Y$17:$Y72)))","v":""}]
["","",{"$f":"IF(B74=\"\",\"\",IFERROR(_xlfn.XLOOKUP(B74,ImperialIncrementalData[System Increment],_xlfn.XLOOKUP('Imperial Incremental Crate'!$R$3,ImperialIncrementalData[#Headers],ImperialIncrementalData[]),,1),0))","v":""},"",{"$f":"IF(B74=\"\",\"\",IFERROR(_xlfn.XLOOKUP(B74,ImperialIncrementalData[System Increment],_xlfn.XLOOKUP(Imperial_Incremental_Data_Target_Column,ImperialIncrementalData[#Headers],ImperialIncrementalData[]),,1),0))","v":""},{"$f":"IF(B74=\"\",\"\",IF(B75=\"\",((((1)/12)*Imperial_Module_Square_Foot_Area)-'Cumulative Volumes Imperial'!E74)*Imperial_Stone_Void_Percentage,((((B74-B75)/12)*Imperial_Module_Square_Foot_Area)-'Cumulative Volumes Imperial'!E74)*Imperial_Stone_Void_Percentage))","v":""},"",{"$f":"IF(B74=\"\",\"\",((Imperial_System_Area_Input-Imperial_Number_Of_Stacks*_xlfn.XLOOKUP(Imperial_Layers,CrateData[Layer],CrateData[Surface Area (sf)]))/12)*Imperial_Stone_Void_Percentage)","v":""},"","",{"$f":"IF(B74=\"\",\"\",SUM(J74:$J$233))","v":""},"",{"$nulls":8},"",null,{"v":-1.0416666666666687,"d":"-1.04"},"","",null,"",null,{"$f":"IF($AU$21=\"INVERT\",X74,IF(AC73>=$Y$12,\"\",IF(X73=\"\",\"\",INDEX($X$18:$X$227,$AA$17-ROWS($X$18:$X73)))))","v":""},"","","",{"$nulls":26},{"$f":"IF($AU$21=\"INVERT\",X74,IF(AC73>=$Y$12,\"\",IF(X73=\"\",\"\",INDEX($X$18:$X$227,$AA$17-ROWS($X$18:$X73)))))","v":""},"",{"$f":"IF(AE73=\"\",\"\",\n    IF($AU$21=\"TYP\",\n       IF(Y73=\"\",\"\", INDEX($Y$18:$Y$227, $AA$17-ROWS($Y$18:$Y73))),\n       IF($AU$21=\"INVERT\",Y74, \"\")\n    )\n)","v":""},"",null,{"$f":"IF(BL73>=$Y$12,\"\",IF(X73=\"\",\"\",INDEX($X$18:$X$227,$AA$17-ROWS($X$18:$X73))))","v":""},"",0,null,"",null,null,{"$f":"IF(Y73=\"\",\"\",INDEX($Y$17:$Y$227,$AA$17-ROWS($Y$17:$Y73)))","v":""}]
["","",{"$f":"IF(B75=\"\",\"\",IFERROR(_xlfn.XLOOKUP(B75,ImperialIncrementalData[System Increment],_xlfn.XLOOKUP('Imperial Incremental Crate'!$R$3,ImperialIncrementalData[#Headers],ImperialIncrementalData[]),,1),0))","v":""},"",{"$f":"IF(B75=\"\",\"\",IFERROR(_xlfn.XLOOKUP(B75,ImperialIncrementalData[System Increment],_xlfn.XLOOKUP(Imperial_Incremental_Data_Target_Column,ImperialIncrementalData[#Headers],ImperialIncrementalData[]),,1),0))","v":""},{"$f":"IF(B75=\"\",\"\",IF(B76=\"\",((((1)/12)*Imperial_Module_Square_Foot_Area)-'Cumulative Volumes Imperial'!E75)*Imperial_Stone_Void_Percentage,((((B75-B76)/12)*Imperial_Module_Square_Foot_Area)-'Cumulative Volumes Imperial'!E75)*Imperial_Stone_Void_Percentage))","v":""},"",{"$f":"IF(B75=\"\",\"\",((Imperial_System_Area_Input-Imperial_Number_Of_Stacks*_xlfn.XLOOKUP(Imperial_Layers,CrateData[Layer],CrateData[Surface Area (sf)]))/12)*Imperial_Stone_Void_Percentage)","v":""},"","",{"$f":"IF(B75=\"\",\"\",SUM(J75:$J$233))","v":""},"",{"$nulls":8},"",null,{"v":-1.125000000000002,"d":"-1.13"},"","",null,"",null,{"$f":"IF($AU$21=\"INVERT\",X75,IF(AC74>=$Y$12,\"\",IF(X74=\"\",\"\",INDEX($X$18:$X$227,$AA$17-ROWS($X$18:$X74)))))","v":""},"","","",{"$nulls":26},{"$f":"IF($AU$21=\"INVERT\",X75,IF(AC74>=$Y$12,\"\",IF(X74=\"\",\"\",INDEX($X$18:$X$227,$AA$17-ROWS($X$18:$X74)))))","v":""},"",{"$f":"IF(AE74=\"\",\"\",\n    IF($AU$21=\"TYP\",\n       IF(Y74=\"\",\"\", INDEX($Y$18:$Y$227, $AA$17-ROWS($Y$18:$Y74))),\n       IF($AU$21=\"INVERT\",Y75, \"\")\n    )\n)","v":""},"",null,{"$f":"IF(BL74>=$Y$12,\"\",IF(X74=\"\",\"\",INDEX($X$18:$X$227,$AA$17-ROWS($X$18:$X74))))","v":""},"",0,null,"",null,null,{"$f":"IF(Y74=\"\",\"\",INDEX($Y$17:$Y$227,$AA$17-ROWS($Y$17:$Y74)))","v":""}]
["","",{"$f":"IF(B76=\"\",\"\",IFERROR(_xlfn.XLOOKUP(B76,ImperialIncrementalData[System Increment],_xlfn.XLOOKUP('Imperial Incremental Crate'!$R$3,ImperialIncrementalData[#Headers],ImperialIncrementalData[]),,1),0))","v":""},"",{"$f":"IF(B76=\"\",\"\",IFERROR(_xlfn.XLOOKUP(B76,ImperialIncrementalData[System Increment],_xlfn.XLOOKUP(Imperial_Incremental_Data_Target_Column,ImperialIncrementalData[#Headers],ImperialIncrementalData[]),,1),0))","v":""},{"$f":"IF(B76=\"\",\"\",IF(B77=\"\",((((1)/12)*Imperial_Module_Square_Foot_Area)-'Cumulative Volumes Imperial'!E76)*Imperial_Stone_Void_Percentage,((((B76-B77)/12)*Imperial_Module_Square_Foot_Area)-'Cumulative Volumes Imperial'!E76)*Imperial_Stone_Void_Percentage))","v":""},"",{"$f":"IF(B76=\"\",\"\",((Imperial_System_Area_Input-Imperial_Number_Of_Stacks*_xlfn.XLOOKUP(Imperial_Layers,CrateData[Layer],CrateData[Surface Area (sf)]))/12)*Imperial_Stone_Void_Percentage)","v":""},"","",{"$f":"IF(B76=\"\",\"\",SUM(J76:$J$233))","v":""},"",{"$nulls":8},"",null,{"v":-1.2083333333333353,"d":"-1.21"},"","",null,"",null,{"$f":"IF($AU$21=\"INVERT\",X76,IF(AC75>=$Y$12,\"\",IF(X75=\"\",\"\",INDEX($X$18:$X$227,$AA$17-ROWS($X$18:$X75)))))","v":""},"","","",{"$nulls":26},{"$f":"IF($AU$21=\"INVERT\",X76,IF(AC75>=$Y$12,\"\",IF(X75=\"\",\"\",INDEX($X$18:$X$227,$AA$17-ROWS($X$18:$X75)))))","v":""},"",{"$f":"IF(AE75=\"\",\"\",\n    IF($AU$21=\"TYP\",\n       IF(Y75=\"\",\"\", INDEX($Y$18:$Y$227, $AA$17-ROWS($Y$18:$Y75))),\n       IF($AU$21=\"INVERT\",Y76, \"\")\n    )\n)","v":""},"",null,{"$f":"IF(BL75>=$Y$12,\"\",IF(X75=\"\",\"\",INDEX($X$18:$X$227,$AA$17-ROWS($X$18:$X75))))","v":""},"",0,null,"",null,null,{"$f":"IF(Y75=\"\",\"\",INDEX($Y$17:$Y$227,$AA$17-ROWS($Y$17:$Y75)))","v":""}]
["","",{"$f":"IF(B77=\"\",\"\",IFERROR(_xlfn.XLOOKUP(B77,ImperialIncrementalData[System Increment],_xlfn.XLOOKUP('Imperial Incremental Crate'!$R$3,ImperialIncrementalData[#Headers],ImperialIncrementalData[]),,1),0))","v":""},"",{"$f":"IF(B77=\"\",\"\",IFERROR(_xlfn.XLOOKUP(B77,ImperialIncrementalData[System Increment],_xlfn.XLOOKUP(Imperial_Incremental_Data_Target_Column,ImperialIncrementalData[#Headers],ImperialIncrementalData[]),,1),0))","v":""},{"$f":"IF(B77=\"\",\"\",IF(B78=\"\",((((1)/12)*Imperial_Module_Square_Foot_Area)-'Cumulative Volumes Imperial'!E77)*Imperial_Stone_Void_Percentage,((((B77-B78)/12)*Imperial_Module_Square_Foot_Area)-'Cumulative Volumes Imperial'!E77)*Imperial_Stone_Void_Percentage))","v":""},"",{"$f":"IF(B77=\"\",\"\",((Imperial_System_Area_Input-Imperial_Number_Of_Stacks*_xlfn.XLOOKUP(Imperial_Layers,CrateData[Layer],CrateData[Surface Area (sf)]))/12)*Imperial_Stone_Void_Percentage)","v":""},"","",{"$f":"IF(B77=\"\",\"\",SUM(J77:$J$233))","v":""},"",{"$nulls":8},"",null,{"v":-1.2916666666666685,"d":"-1.29"},"","",null,"",null,{"$f":"IF($AU$21=\"INVERT\",X77,IF(AC76>=$Y$12,\"\",IF(X76=\"\",\"\",INDEX($X$18:$X$227,$AA$17-ROWS($X$18:$X76)))))","v":""},"","","",{"$nulls":26},{"$f":"IF($AU$21=\"INVERT\",X77,IF(AC76>=$Y$12,\"\",IF(X76=\"\",\"\",INDEX($X$18:$X$227,$AA$17-ROWS($X$18:$X76)))))","v":""},"",{"$f":"IF(AE76=\"\",\"\",\n    IF($AU$21=\"TYP\",\n       IF(Y76=\"\",\"\", INDEX($Y$18:$Y$227, $AA$17-ROWS($Y$18:$Y76))),\n       IF($AU$21=\"INVERT\",Y77, \"\")\n    )\n)","v":""},"",null,{"$f":"IF(BL76>=$Y$12,\"\",IF(X76=\"\",\"\",INDEX($X$18:$X$227,$AA$17-ROWS($X$18:$X76))))","v":""},"",0,null,"",null,null,{"$f":"IF(Y76=\"\",\"\",INDEX($Y$17:$Y$227,$AA$17-ROWS($Y$17:$Y76)))","v":""}]
["","",{"$f":"IF(B78=\"\",\"\",IFERROR(_xlfn.XLOOKUP(B78,ImperialIncrementalData[System Increment],_xlfn.XLOOKUP('Imperial Incremental Crate'!$R$3,ImperialIncrementalData[#Headers],ImperialIncrementalData[]),,1),0))","v":""},"",{"$f":"IF(B78=\"\",\"\",IFERROR(_xlfn.XLOOKUP(B78,ImperialIncrementalData[System Increment],_xlfn.XLOOKUP(Imperial_Incremental_Data_Target_Column,ImperialIncrementalData[#Headers],ImperialIncrementalData[]),,1),0))","v":""},{"$f":"IF(B78=\"\",\"\",IF(B79=\"\",((((1)/12)*Imperial_Module_Square_Foot_Area)-'Cumulative Volumes Imperial'!E78)*Imperial_Stone_Void_Percentage,((((B78-B79)/12)*Imperial_Module_Square_Foot_Area)-'Cumulative Volumes Imperial'!E78)*Imperial_Stone_Void_Percentage))","v":""},"",{"$f":"IF(B78=\"\",\"\",((Imperial_System_Area_Input-Imperial_Number_Of_Stacks*_xlfn.XLOOKUP(Imperial_Layers,CrateData[Layer],CrateData[Surface Area (sf)]))/12)*Imperial_Stone_Void_Percentage)","v":""},"","",{"$f":"IF(B78=\"\",\"\",SUM(J78:$J$233))","v":""},"",{"$nulls":8},"",null,{"v":-1.3750000000000018,"d":"-1.38"},"","",null,"",null,{"$f":"IF($AU$21=\"INVERT\",X78,IF(AC77>=$Y$12,\"\",IF(X77=\"\",\"\",INDEX($X$18:$X$227,$AA$17-ROWS($X$18:$X77)))))","v":""},"","","",{"$nulls":26},{"$f":"IF($AU$21=\"INVERT\",X78,IF(AC77>=$Y$12,\"\",IF(X77=\"\",\"\",INDEX($X$18:$X$227,$AA$17-ROWS($X$18:$X77)))))","v":""},"",{"$f":"IF(AE77=\"\",\"\",\n    IF($AU$21=\"TYP\",\n       IF(Y77=\"\",\"\", INDEX($Y$18:$Y$227, $AA$17-ROWS($Y$18:$Y77))),\n       IF($AU$21=\"INVERT\",Y78, \"\")\n    )\n)","v":""},"",null,{"$f":"IF(BL77>=$Y$12,\"\",IF(X77=\"\",\"\",INDEX($X$18:$X$227,$AA$17-ROWS($X$18:$X77))))","v":""},"",0,null,"",null,null,{"$f":"IF(Y77=\"\",\"\",INDEX($Y$17:$Y$227,$AA$17-ROWS($Y$17:$Y77)))","v":""}]
["","",{"$f":"IF(B79=\"\",\"\",IFERROR(_xlfn.XLOOKUP(B79,ImperialIncrementalData[System Increment],_xlfn.XLOOKUP('Imperial Incremental Crate'!$R$3,ImperialIncrementalData[#Headers],ImperialIncrementalData[]),,1),0))","v":""},"",{"$f":"IF(B79=\"\",\"\",IFERROR(_xlfn.XLOOKUP(B79,ImperialIncrementalData[System Increment],_xlfn.XLOOKUP(Imperial_Incremental_Data_Target_Column,ImperialIncrementalData[#Headers],ImperialIncrementalData[]),,1),0))","v":""},{"$f":"IF(B79=\"\",\"\",IF(B80=\"\",((((1)/12)*Imperial_Module_Square_Foot_Area)-'Cumulative Volumes Imperial'!E79)*Imperial_Stone_Void_Percentage,((((B79-B80)/12)*Imperial_Module_Square_Foot_Area)-'Cumulative Volumes Imperial'!E79)*Imperial_Stone_Void_Percentage))","v":""},"",{"$f":"IF(B79=\"\",\"\",((Imperial_System_Area_Input-Imperial_Number_Of_Stacks*_xlfn.XLOOKUP(Imperial_Layers,CrateData[Layer],CrateData[Surface Area (sf)]))/12)*Imperial_Stone_Void_Percentage)","v":""},"","",{"$f":"IF(B79=\"\",\"\",SUM(J79:$J$233))","v":""},"",{"$nulls":8},"",null,{"v":-1.458333333333335,"d":"-1.46"},"","",null,"",null,{"$f":"IF($AU$21=\"INVERT\",X79,IF(AC78>=$Y$12,\"\",IF(X78=\"\",\"\",INDEX($X$18:$X$227,$AA$17-ROWS($X$18:$X78)))))","v":""},"","","",{"$nulls":26},{"$f":"IF($AU$21=\"INVERT\",X79,IF(AC78>=$Y$12,\"\",IF(X78=\"\",\"\",INDEX($X$18:$X$227,$AA$17-ROWS($X$18:$X78)))))","v":""},"",{"$f":"IF(AE78=\"\",\"\",\n    IF($AU$21=\"TYP\",\n       IF(Y78=\"\",\"\", INDEX($Y$18:$Y$227, $AA$17-ROWS($Y$18:$Y78))),\n       IF($AU$21=\"INVERT\",Y79, \"\")\n    )\n)","v":""},"",null,{"$f":"IF(BL78>=$Y$12,\"\",IF(X78=\"\",\"\",INDEX($X$18:$X$227,$AA$17-ROWS($X$18:$X78))))","v":""},"",0,null,"",null,null,{"$f":"IF(Y78=\"\",\"\",INDEX($Y$17:$Y$227,$AA$17-ROWS($Y$17:$Y78)))","v":""}]
[{"$f":"IF(B82<>\"\",A79+1,\"\")","v":""},"",{"$f":"IF(B80=\"\",\"\",IFERROR(_xlfn.XLOOKUP(B80,ImperialIncrementalData[System Increment],_xlfn.XLOOKUP('Imperial Incremental Crate'!$R$3,ImperialIncrementalData[#Headers],ImperialIncrementalData[]),,1),0))","v":""},"",{"$f":"IF(B80=\"\",\"\",IFERROR(_xlfn.XLOOKUP(B80,ImperialIncrementalData[System Increment],_xlfn.XLOOKUP(Imperial_Incremental_Data_Target_Column,ImperialIncrementalData[#Headers],ImperialIncrementalData[]),,1),0))","v":""},{"$f":"IF(B80=\"\",\"\",IF(B81=\"\",((((1)/12)*Imperial_Module_Square_Foot_Area)-'Cumulative Volumes Imperial'!E80)*Imperial_Stone_Void_Percentage,((((B80-B81)/12)*Imperial_Module_Square_Foot_Area)-'Cumulative Volumes Imperial'!E80)*Imperial_Stone_Void_Percentage))","v":""},"",{"$f":"IF(B80=\"\",\"\",((Imperial_System_Area_Input-Imperial_Number_Of_Stacks*_xlfn.XLOOKUP(Imperial_Layers,CrateData[Layer],CrateData[Surface Area (sf)]))/12)*Imperial_Stone_Void_Percentage)","v":""},"","",{"$f":"IF(B80=\"\",\"\",SUM(J80:$J$233))","v":""},"",{"$nulls":8},"",null,{"v":-1.5416666666666683,"d":"-1.54"},"","",null,"",null,{"$f":"IF($AU$21=\"INVERT\",X80,IF(AC79>=$Y$12,\"\",IF(X79=\"\",\"\",INDEX($X$18:$X$227,$AA$17-ROWS($X$18:$X79)))))","v":""},"","","",{"$nulls":26},{"$f":"IF($AU$21=\"INVERT\",X80,IF(AC79>=$Y$12,\"\",IF(X79=\"\",\"\",INDEX($X$18:$X$227,$AA$17-ROWS($X$18:$X79)))))","v":""},"",{"$f":"IF(AE79=\"\",\"\",\n    IF($AU$21=\"TYP\",\n       IF(Y79=\"\",\"\", INDEX($Y$18:$Y$227, $AA$17-ROWS($Y$18:$Y79))),\n       IF($AU$21=\"INVERT\",Y80, \"\")\n    )\n)","v":""},"",null,{"$f":"IF(BL79>=$Y$12,\"\",IF(X79=\"\",\"\",INDEX($X$18:$X$227,$AA$17-ROWS($X$18:$X79))))","v":""},"",0,null,"",null,null,{"$f":"IF(Y79=\"\",\"\",INDEX($Y$17:$Y$227,$AA$17-ROWS($Y$17:$Y79)))","v":""}]
["","",{"$f":"IF(B81=\"\",\"\",IFERROR(_xlfn.XLOOKUP(B81,ImperialIncrementalData[System Increment],_xlfn.XLOOKUP('Imperial Incremental Crate'!$R$3,ImperialIncrementalData[#Headers],ImperialIncrementalData[]),,1),0))","v":""},"",{"$f":"IF(B81=\"\",\"\",IFERROR(_xlfn.XLOOKUP(B81,ImperialIncrementalData[System Increment],_xlfn.XLOOKUP(Imperial_Incremental_Data_Target_Column,ImperialIncrementalData[#Headers],ImperialIncrementalData[]),,1),0))","v":""},{"$f":"IF(B81=\"\",\"\",IF(B82=\"\",((((1)/12)*Imperial_Module_Square_Foot_Area)-'Cumulative Volumes Imperial'!E81)*Imperial_Stone_Void_Percentage,((((B81-B82)/12)*Imperial_Module_Square_Foot_Area)-'Cumulative Volumes Imperial'!E81)*Imperial_Stone_Void_Percentage))","v":""},"",{"$f":"IF(B81=\"\",\"\",((Imperial_System_Area_Input-Imperial_Number_Of_Stacks*_xlfn.XLOOKUP(Imperial_Layers,CrateData[Layer],CrateData[Surface Area (sf)]))/12)*Imperial_Stone_Void_Percentage)","v":""},"","",{"$f":"IF(B81=\"\",\"\",SUM(J81:$J$233))","v":""},"",{"$nulls":8},"",null,{"v":-1.6250000000000016,"d":"-1.63"},"","",null,"",null,{"$f":"IF($AU$21=\"INVERT\",X81,IF(AC80>=$Y$12,\"\",IF(X80=\"\",\"\",INDEX($X$18:$X$227,$AA$17-ROWS($X$18:$X80)))))","v":""},"","","",{"$nulls":26},{"$f":"IF($AU$21=\"INVERT\",X81,IF(AC80>=$Y$12,\"\",IF(X80=\"\",\"\",INDEX($X$18:$X$227,$AA$17-ROWS($X$18:$X80)))))","v":""},"",{"$f":"IF(AE80=\"\",\"\",\n    IF($AU$21=\"TYP\",\n       IF(Y80=\"\",\"\", INDEX($Y$18:$Y$227, $AA$17-ROWS($Y$18:$Y80))),\n       IF($AU$21=\"INVERT\",Y81, \"\")\n    )\n)","v":""},"",null,{"$f":"IF(BL80>=$Y$12,\"\",IF(X80=\"\",\"\",INDEX($X$18:$X$227,$AA$17-ROWS($X$18:$X80))))","v":""},"",0,null,"",null,null,{"$f":"IF(Y80=\"\",\"\",INDEX($Y$17:$Y$227,$AA$17-ROWS($Y$17:$Y80)))","v":""}]
["","",{"$f":"IF(B82=\"\",\"\",IFERROR(_xlfn.XLOOKUP(B82,ImperialIncrementalData[System Increment],_xlfn.XLOOKUP('Imperial Incremental Crate'!$R$3,ImperialIncrementalData[#Headers],ImperialIncrementalData[]),,1),0))","v":""},{"$f":"IFERROR(C82*Imperial_Number_Of_Stacks,\"\")","v":""},{"$f":"IF(B82=\"\",\"\",IFERROR(_xlfn.XLOOKUP(B82,ImperialIncrementalData[System Increment],_xlfn.XLOOKUP(Imperial_Incremental_Data_Target_Column,ImperialIncrementalData[#Headers],ImperialIncrementalData[]),,1),0))","v":""},{"$f":"IF(B82=\"\",\"\",IF(B83=\"\",((((1)/12)*Imperial_Module_Square_Foot_Area)-'Cumulative Volumes Imperial'!E82)*Imperial_Stone_Void_Percentage,((((B82-B83)/12)*Imperial_Module_Square_Foot_Area)-'Cumulative Volumes Imperial'!E82)*Imperial_Stone_Void_Percentage))","v":""},{"$f":"IFERROR(F82*Imperial_Number_Of_Stacks,\"\")","v":""},{"$f":"IF(B82=\"\",\"\",((Imperial_System_Area_Input-Imperial_Number_Of_Stacks*_xlfn.XLOOKUP(Imperial_Layers,CrateData[Layer],CrateData[Surface Area (sf)]))/12)*Imperial_Stone_Void_Percentage)","v":""},{"$f":"IFERROR(IF($AW$17, H82+G82, G82), \"\")","v":""},{"$f":"IFERROR(I82+D82,\"\")","v":""},{"$f":"IF(B82=\"\",\"\",SUM(J82:$J$233))","v":""},{"$f":"IFERROR($I$11+B82/12,\"\")","v":""},{"$nulls":8},{"$f":"IF(L83=\"\",IF(L82=\"\",\"\",$I$11),L82)","v":""},null,{"v":-1.7083333333333348,"d":"-1.71"},"","",null,"",null,{"$f":"IF($AU$21=\"INVERT\",X82,IF(AC81>=$Y$12,\"\",IF(X81=\"\",\"\",INDEX($X$18:$X$227,$AA$17-ROWS($X$18:$X81)))))","v":""},"","",{"$f":"IF($AU$17=TRUE, BJ82, IF($AU$23=TRUE, \"\", \"\"))","v":""},{"$nulls":26},{"$f":"IF($AU$21=\"INVERT\",X82,IF(AC81>=$Y$12,\"\",IF(X81=\"\",\"\",INDEX($X$18:$X$227,$AA$17-ROWS($X$18:$X81)))))","v":""},{"$f":"IF(AC82=\"\",\"\",$I$11+AC82)","v":""},{"$f":"IF(AE81=\"\",\"\",\n    IF($AU$21=\"TYP\",\n       IF(Y81=\"\",\"\", INDEX($Y$18:$Y$227, $AA$17-ROWS($Y$18:$Y81))),\n       IF($AU$21=\"INVERT\",Y82, \"\")\n    )\n)","v":""},{"$f":"IF(AE82=\"\",\"\",AE82/43560)","v":""},null,{"$f":"IF(BL81>=$Y$12,\"\",IF(X81=\"\",\"\",INDEX($X$18:$X$227,$AA$17-ROWS($X$18:$X81))))","v":""},"",0,null,"",null,null,{"$f":"IF(Y81=\"\",\"\",INDEX($Y$17:$Y$227,$AA$17-ROWS($Y$17:$Y81)))","v":""}]
["","",{"$f":"IF(B83=\"\",\"\",IFERROR(_xlfn.XLOOKUP(B83,ImperialIncrementalData[System Increment],_xlfn.XLOOKUP('Imperial Incremental Crate'!$R$3,ImperialIncrementalData[#Headers],ImperialIncrementalData[]),,1),0))","v":""},"",{"$f":"IF(B83=\"\",\"\",IFERROR(_xlfn.XLOOKUP(B83,ImperialIncrementalData[System Increment],_xlfn.XLOOKUP(Imperial_Incremental_Data_Target_Column,ImperialIncrementalData[#Headers],ImperialIncrementalData[]),,1),0))","v":""},{"$f":"IF(B83=\"\",\"\",IF(B84=\"\",((((1)/12)*Imperial_Module_Square_Foot_Area)-'Cumulative Volumes Imperial'!E83)*Imperial_Stone_Void_Percentage,((((B83-B84)/12)*Imperial_Module_Square_Foot_Area)-'Cumulative Volumes Imperial'!E83)*Imperial_Stone_Void_Percentage))","v":""},"",{"$f":"IF(B83=\"\",\"\",((Imperial_System_Area_Input-Imperial_Number_Of_Stacks*_xlfn.XLOOKUP(Imperial_Layers,CrateData[Layer],CrateData[Surface Area (sf)]))/12)*Imperial_Stone_Void_Percentage)","v":""},"","",{"$f":"IF(B83=\"\",\"\",SUM(J83:$J$233))","v":""},"",{"$nulls":8},"",null,{"v":-1.791666666666668,"d":"-1.79"},{"$f":"IF(AND(B83=\"\",B82=1),0,IF(B83=\"\",\"\",IF(OR(W83=0,W83>0),W83,\"\")))","v":""},{"$f":"IF(X83=\"\",\"\",IF(X83=0,K82/$AA$11,IF(ISNUMBER(U84),(K83-K84)/(L83-L84),Y82)))","v":""},null,{"$f":"IF(X83=\"\",\"\",1)","v":""},null,{"$f":"IF($AU$21=\"INVERT\",X83,IF(AC82>=$Y$12,\"\",IF(X82=\"\",\"\",INDEX($X$18:$X$227,$AA$17-ROWS($X$18:$X82)))))","v":""},{"$f":"IF($AN$17=TRUE, BH83, IF($AN$23=TRUE, BM83, \"\"))","v":""},{"$f":"IF($AU$17=TRUE, BI83, IF($AU$23=TRUE, BN83, \"\"))","v":""},"",{"$nulls":26},{"$f":"IF($AU$21=\"INVERT\",X83,IF(AC82>=$Y$12,\"\",IF(X82=\"\",\"\",INDEX($X$18:$X$227,$AA$17-ROWS($X$18:$X82)))))","v":""},"",{"$f":"IF(AE82=\"\",\"\",\n    IF($AU$21=\"TYP\",\n       IF(Y82=\"\",\"\", INDEX($Y$18:$Y$227, $AA$17-ROWS($Y$18:$Y82))),\n       IF($AU$21=\"INVERT\",Y83, \"\")\n    )\n)","v":""},"",null,{"$f":"IF(BL82>=$Y$12,\"\",IF(X82=\"\",\"\",INDEX($X$18:$X$227,$AA$17-ROWS($X$18:$X82))))","v":""},"",0,null,"",null,null,{"$f":"IF(Y82=\"\",\"\",INDEX($Y$17:$Y$227,$AA$17-ROWS($Y$17:$Y82)))","v":""}]
["",{"$f":"IFERROR(IF(B83-1<1,\"\",B83-1),\"\")","v":""},{"$f":"IF(B84=\"\",\"\",IFERROR(_xlfn.XLOOKUP(B84,ImperialIncrementalData[System Increment],_xlfn.XLOOKUP('Imperial Incremental Crate'!$R$3,ImperialIncrementalData[#Headers],ImperialIncrementalData[]),,1),0))","v":""},"",{"$f":"IF(B84=\"\",\"\",IFERROR(_xlfn.XLOOKUP(B84,ImperialIncrementalData[System Increment],_xlfn.XLOOKUP(Imperial_Incremental_Data_Target_Column,ImperialIncrementalData[#Headers],ImperialIncrementalData[]),,1),0))","v":""},{"$f":"IF(B84=\"\",\"\",IF(B85=\"\",((((1)/12)*Imperial_Module_Square_Foot_Area)-'Cumulative Volumes Imperial'!E84)*Imperial_Stone_Void_Percentage,((((B84-B85)/12)*Imperial_Module_Square_Foot_Area)-'Cumulative Volumes Imperial'!E84)*Imperial_Stone_Void_Percentage))","v":""},"",{"$f":"IF(B84=\"\",\"\",((Imperial_System_Area_Input-Imperial_Number_Of_Stacks*_xlfn.XLOOKUP(Imperial_Layers,CrateData[Layer],CrateData[Surface Area (sf)]))/12)*Imperial_Stone_Void_Percentage)","v":""},"","",{"$f":"IF(B84=\"\",\"\",SUM(J84:$J$233))","v":""},"",{"$nulls":8},"",null,{"$f":"W83-($AA$11)","v":{"v":-1.8750000000000013,"d":"-1.88"}},"","",null,"",null,{"$f":"IF($AU$21=\"INVERT\",X84,IF(AC83>=$Y$12,\"\",IF(X83=\"\",\"\",INDEX($X$18:$X$227,$AA$17-ROWS($X$18:$X83)))))","v":""},"","","",{"$nulls":26},{"$f":"IF($AU$21=\"INVERT\",X84,IF(AC83>=$Y$12,\"\",IF(X83=\"\",\"\",INDEX($X$18:$X$227,$AA$17-ROWS($X$18:$X83)))))","v":""},"",{"$f":"IF(AE83=\"\",\"\",\n    IF($AU$21=\"TYP\",\n       IF(Y83=\"\",\"\", INDEX($Y$18:$Y$227, $AA$17-ROWS($Y$18:$Y83))),\n       IF($AU$21=\"INVERT\",Y84, \"\")\n    )\n)","v":""},"",null,{"$f":"IF(BL83>=$Y$12,\"\",IF(X83=\"\",\"\",INDEX($X$18:$X$227,$AA$17-ROWS($X$18:$X83))))","v":""},{"$f":"IF(BS84=\"\",\"\",BS84/43560)","v":""},{"$f":"BQ84","v":0},null,"",null,null,{"$f":"IF(Y83=\"\",\"\",INDEX($Y$17:$Y$227,$AA$17-ROWS($Y$17:$Y83)))","v":""}]
["","",{"$f":"IF(B85=\"\",\"\",IFERROR(_xlfn.XLOOKUP(B85,ImperialIncrementalData[System Increment],_xlfn.XLOOKUP('Imperial Incremental Crate'!$R$3,ImperialIncrementalData[#Headers],ImperialIncrementalData[]),,1),0))","v":""},"",{"$f":"IF(B85=\"\",\"\",IFERROR(_xlfn.XLOOKUP(B85,ImperialIncrementalData[System Increment],_xlfn.XLOOKUP(Imperial_Incremental_Data_Target_Column,ImperialIncrementalData[#Headers],ImperialIncrementalData[]),,1),0))","v":""},{"$f":"IF(B85=\"\",\"\",IF(B86=\"\",((((1)/12)*Imperial_Module_Square_Foot_Area)-'Cumulative Volumes Imperial'!E85)*Imperial_Stone_Void_Percentage,((((B85-B86)/12)*Imperial_Module_Square_Foot_Area)-'Cumulative Volumes Imperial'!E85)*Imperial_Stone_Void_Percentage))","v":""},"",{"$f":"IF(B85=\"\",\"\",((Imperial_System_Area_Input-Imperial_Number_Of_Stacks*_xlfn.XLOOKUP(Imperial_Layers,CrateData[Layer],CrateData[Surface Area (sf)]))/12)*Imperial_Stone_Void_Percentage)","v":""},"","",{"$f":"IF(B85=\"\",\"\",SUM(J85:$J$233))","v":""},"",{"$nulls":8},"",null,{"v":-1.9583333333333346,"d":"-1.96"},"","",null,"",null,{"$f":"IF($AU$21=\"INVERT\",X85,IF(AC84>=$Y$12,\"\",IF(X84=\"\",\"\",INDEX($X$18:$X$227,$AA$17-ROWS($X$18:$X84)))))","v":""},"","","",{"$nulls":26},{"$f":"IF($AU$21=\"INVERT\",X85,IF(AC84>=$Y$12,\"\",IF(X84=\"\",\"\",INDEX($X$18:$X$227,$AA$17-ROWS($X$18:$X84)))))","v":""},"",{"$f":"IF(AE84=\"\",\"\",\n    IF($AU$21=\"TYP\",\n       IF(Y84=\"\",\"\", INDEX($Y$18:$Y$227, $AA$17-ROWS($Y$18:$Y84))),\n       IF($AU$21=\"INVERT\",Y85, \"\")\n    )\n)","v":""},"",null,{"$f":"IF(BL84>=$Y$12,\"\",IF(X84=\"\",\"\",INDEX($X$18:$X$227,$AA$17-ROWS($X$18:$X84))))","v":""},"",0,null,"",null,null,{"$f":"IF(Y84=\"\",\"\",INDEX($Y$17:$Y$227,$AA$17-ROWS($Y$17:$Y84)))","v":""}]
["","",{"$f":"IF(B86=\"\",\"\",IFERROR(_xlfn.XLOOKUP(B86,ImperialIncrementalData[System Increment],_xlfn.XLOOKUP('Imperial Incremental Crate'!$R$3,ImperialIncrementalData[#Headers],ImperialIncrementalData[]),,1),0))","v":""},"",{"$f":"IF(B86=\"\",\"\",IFERROR(_xlfn.XLOOKUP(B86,ImperialIncrementalData[System Increment],_xlfn.XLOOKUP(Imperial_Incremental_Data_Target_Column,ImperialIncrementalData[#Headers],ImperialIncrementalData[]),,1),0))","v":""},{"$f":"IF(B86=\"\",\"\",IF(B87=\"\",((((1)/12)*Imperial_Module_Square_Foot_Area)-'Cumulative Volumes Imperial'!E86)*Imperial_Stone_Void_Percentage,((((B86-B87)/12)*Imperial_Module_Square_Foot_Area)-'Cumulative Volumes Imperial'!E86)*Imperial_Stone_Void_Percentage))","v":""},"",{"$f":"IF(B86=\"\",\"\",((Imperial_System_Area_Input-Imperial_Number_Of_Stacks*_xlfn.XLOOKUP(Imperial_Layers,CrateData[Layer],CrateData[Surface Area (sf)]))/12)*Imperial_Stone_Void_Percentage)","v":""},"","",{"$f":"IF(B86=\"\",\"\",SUM(J86:$J$233))","v":""},"",{"$nulls":8},"",null,{"v":-2.041666666666668,"d":"-2.04"},"","",null,"",null,{"$f":"IF($AU$21=\"INVERT\",X86,IF(AC85>=$Y$12,\"\",IF(X85=\"\",\"\",INDEX($X$18:$X$227,$AA$17-ROWS($X$18:$X85)))))","v":""},"","","",{"$nulls":26},{"$f":"IF($AU$21=\"INVERT\",X86,IF(AC85>=$Y$12,\"\",IF(X85=\"\",\"\",INDEX($X$18:$X$227,$AA$17-ROWS($X$18:$X85)))))","v":""},"",{"$f":"IF(AE85=\"\",\"\",\n    IF($AU$21=\"TYP\",\n       IF(Y85=\"\",\"\", INDEX($Y$18:$Y$227, $AA$17-ROWS($Y$18:$Y85))),\n       IF($AU$21=\"INVERT\",Y86, \"\")\n    )\n)","v":""},"",null,{"$f":"IF(BL85>=$Y$12,\"\",IF(X85=\"\",\"\",INDEX($X$18:$X$227,$AA$17-ROWS($X$18:$X85))))","v":""},"",0,null,"",null,null,{"$f":"IF(Y85=\"\",\"\",INDEX($Y$17:$Y$227,$AA$17-ROWS($Y$17:$Y85)))","v":""}]
["","",{"$f":"IF(B87=\"\",\"\",IFERROR(_xlfn.XLOOKUP(B87,ImperialIncrementalData[System Increment],_xlfn.XLOOKUP('Imperial Incremental Crate'!$R$3,ImperialIncrementalData[#Headers],ImperialIncrementalData[]),,1),0))","v":""},"",{"$f":"IF(B87=\"\",\"\",IFERROR(_xlfn.XLOOKUP(B87,ImperialIncrementalData[System Increment],_xlfn.XLOOKUP(Imperial_Incremental_Data_Target_Column,ImperialIncrementalData[#Headers],ImperialIncrementalData[]),,1),0))","v":""},{"$f":"IF(B87=\"\",\"\",IF(B88=\"\",((((1)/12)*Imperial_Module_Square_Foot_Area)-'Cumulative Volumes Imperial'!E87)*Imperial_Stone_Void_Percentage,((((B87-B88)/12)*Imperial_Module_Square_Foot_Area)-'Cumulative Volumes Imperial'!E87)*Imperial_Stone_Void_Percentage))","v":""},"",{"$f":"IF(B87=\"\",\"\",((Imperial_System_Area_Input-Imperial_Number_Of_Stacks*_xlfn.XLOOKUP(Imperial_Layers,CrateData[Layer],CrateData[Surface Area (sf)]))/12)*Imperial_Stone_Void_Percentage)","v":""},"","",{"$f":"IF(B87=\"\",\"\",SUM(J87:$J$233))","v":""},"",{"$nulls":8},"",null,{"v":-2.1250000000000013,"d":"-2.13"},"","",null,"",null,{"$f":"IF($AU$21=\"INVERT\",X87,IF(AC86>=$Y$12,\"\",IF(X86=\"\",\"\",INDEX($X$18:$X$227,$AA$17-ROWS($X$18:$X86)))))","v":""},"","","",{"$nulls":26},{"$f":"IF($AU$21=\"INVERT\",X87,IF(AC86>=$Y$12,\"\",IF(X86=\"\",\"\",INDEX($X$18:$X$227,$AA$17-ROWS($X$18:$X86)))))","v":""},"",{"$f":"IF(AE86=\"\",\"\",\n    IF($AU$21=\"TYP\",\n       IF(Y86=\"\",\"\", INDEX($Y$18:$Y$227, $AA$17-ROWS($Y$18:$Y86))),\n       IF($AU$21=\"INVERT\",Y87, \"\")\n    )\n)","v":""},"",null,{"$f":"IF(BL86>=$Y$12,\"\",IF(X86=\"\",\"\",INDEX($X$18:$X$227,$AA$17-ROWS($X$18:$X86))))","v":""},"",0,null,"",null,null,{"$f":"IF(Y86=\"\",\"\",INDEX($Y$17:$Y$227,$AA$17-ROWS($Y$17:$Y86)))","v":""}]
["","",{"$f":"IF(B88=\"\",\"\",IFERROR(_xlfn.XLOOKUP(B88,ImperialIncrementalData[System Increment],_xlfn.XLOOKUP('Imperial Incremental Crate'!$R$3,ImperialIncrementalData[#Headers],ImperialIncrementalData[]),,1),0))","v":""},"",{"$f":"IF(B88=\"\",\"\",IFERROR(_xlfn.XLOOKUP(B88,ImperialIncrementalData[System Increment],_xlfn.XLOOKUP(Imperial_Incremental_Data_Target_Column,ImperialIncrementalData[#Headers],ImperialIncrementalData[]),,1),0))","v":""},{"$f":"IF(B88=\"\",\"\",IF(B89=\"\",((((1)/12)*Imperial_Module_Square_Foot_Area)-'Cumulative Volumes Imperial'!E88)*Imperial_Stone_Void_Percentage,((((B88-B89)/12)*Imperial_Module_Square_Foot_Area)-'Cumulative Volumes Imperial'!E88)*Imperial_Stone_Void_Percentage))","v":""},"",{"$f":"IF(B88=\"\",\"\",((Imperial_System_Area_Input-Imperial_Number_Of_Stacks*_xlfn.XLOOKUP(Imperial_Layers,CrateData[Layer],CrateData[Surface Area (sf)]))/12)*Imperial_Stone_Void_Percentage)","v":""},"","",{"$f":"IF(B88=\"\",\"\",SUM(J88:$J$233))","v":""},"",{"$nulls":8},"",null,{"v":-2.208333333333335,"d":"-2.21"},"","",null,"",null,{"$f":"IF($AU$21=\"INVERT\",X88,IF(AC87>=$Y$12,\"\",IF(X87=\"\",\"\",INDEX($X$18:$X$227,$AA$17-ROWS($X$18:$X87)))))","v":""},"","","",{"$nulls":26},{"$f":"IF($AU$21=\"INVERT\",X88,IF(AC87>=$Y$12,\"\",IF(X87=\"\",\"\",INDEX($X$18:$X$227,$AA$17-ROWS($X$18:$X87)))))","v":""},"",{"$f":"IF(AE87=\"\",\"\",\n    IF($AU$21=\"TYP\",\n       IF(Y87=\"\",\"\", INDEX($Y$18:$Y$227, $AA$17-ROWS($Y$18:$Y87))),\n       IF($AU$21=\"INVERT\",Y88, \"\")\n    )\n)","v":""},"",null,{"$f":"IF(BL87>=$Y$12,\"\",IF(X87=\"\",\"\",INDEX($X$18:$X$227,$AA$17-ROWS($X$18:$X87))))","v":""},"",0,null,"",null,null,{"$f":"IF(Y87=\"\",\"\",INDEX($Y$17:$Y$227,$AA$17-ROWS($Y$17:$Y87)))","v":""}]
["","",{"$f":"IF(B89=\"\",\"\",IFERROR(_xlfn.XLOOKUP(B89,ImperialIncrementalData[System Increment],_xlfn.XLOOKUP('Imperial Incremental Crate'!$R$3,ImperialIncrementalData[#Headers],ImperialIncrementalData[]),,1),0))","v":""},"",{"$f":"IF(B89=\"\",\"\",IFERROR(_xlfn.XLOOKUP(B89,ImperialIncrementalData[System Increment],_xlfn.XLOOKUP(Imperial_Incremental_Data_Target_Column,ImperialIncrementalData[#Headers],ImperialIncrementalData[]),,1),0))","v":""},{"$f":"IF(B89=\"\",\"\",IF(B90=\"\",((((1)/12)*Imperial_Module_Square_Foot_Area)-'Cumulative Volumes Imperial'!E89)*Imperial_Stone_Void_Percentage,((((B89-B90)/12)*Imperial_Module_Square_Foot_Area)-'Cumulative Volumes Imperial'!E89)*Imperial_Stone_Void_Percentage))","v":""},"",{"$f":"IF(B89=\"\",\"\",((Imperial_System_Area_Input-Imperial_Number_Of_Stacks*_xlfn.XLOOKUP(Imperial_Layers,CrateData[Layer],CrateData[Surface Area (sf)]))/12)*Imperial_Stone_Void_Percentage)","v":""},"","",{"$f":"IF(B89=\"\",\"\",SUM(J89:$J$233))","v":""},"",{"$nulls":8},"",null,{"v":-2.2916666666666683,"d":"-2.29"},"","",null,"",null,{"$f":"IF($AU$21=\"INVERT\",X89,IF(AC88>=$Y$12,\"\",IF(X88=\"\",\"\",INDEX($X$18:$X$227,$AA$17-ROWS($X$18:$X88)))))","v":""},"","","",{"$nulls":26},{"$f":"IF($AU$21=\"INVERT\",X89,IF(AC88>=$Y$12,\"\",IF(X88=\"\",\"\",INDEX($X$18:$X$227,$AA$17-ROWS($X$18:$X88)))))","v":""},"",{"$f":"IF(AE88=\"\",\"\",\n    IF($AU$21=\"TYP\",\n       IF(Y88=\"\",\"\", INDEX($Y$18:$Y$227, $AA$17-ROWS($Y$18:$Y88))),\n       IF($AU$21=\"INVERT\",Y89, \"\")\n    )\n)","v":""},"",null,{"$f":"IF(BL88>=$Y$12,\"\",IF(X88=\"\",\"\",INDEX($X$18:$X$227,$AA$17-ROWS($X$18:$X88))))","v":""},"",0,null,"",null,null,{"$f":"IF(Y88=\"\",\"\",INDEX($Y$17:$Y$227,$AA$17-ROWS($Y$17:$Y88)))","v":""}]
["","",{"$f":"IF(B90=\"\",\"\",IFERROR(_xlfn.XLOOKUP(B90,ImperialIncrementalData[System Increment],_xlfn.XLOOKUP('Imperial Incremental Crate'!$R$3,ImperialIncrementalData[#Headers],ImperialIncrementalData[]),,1),0))","v":""},"",{"$f":"IF(B90=\"\",\"\",IFERROR(_xlfn.XLOOKUP(B90,ImperialIncrementalData[System Increment],_xlfn.XLOOKUP(Imperial_Incremental_Data_Target_Column,ImperialIncrementalData[#Headers],ImperialIncrementalData[]),,1),0))","v":""},{"$f":"IF(B90=\"\",\"\",IF(B91=\"\",((((1)/12)*Imperial_Module_Square_Foot_Area)-'Cumulative Volumes Imperial'!E90)*Imperial_Stone_Void_Percentage,((((B90-B91)/12)*Imperial_Module_Square_Foot_Area)-'Cumulative Volumes Imperial'!E90)*Imperial_Stone_Void_Percentage))","v":""},"",{"$f":"IF(B90=\"\",\"\",((Imperial_System_Area_Input-Imperial_Number_Of_Stacks*_xlfn.XLOOKUP(Imperial_Layers,CrateData[Layer],CrateData[Surface Area (sf)]))/12)*Imperial_Stone_Void_Percentage)","v":""},"","",{"$f":"IF(B90=\"\",\"\",SUM(J90:$J$233))","v":""},"",{"$nulls":8},"",null,{"v":-2.3750000000000018,"d":"-2.38"},"","",null,"",null,{"$f":"IF($AU$21=\"INVERT\",X90,IF(AC89>=$Y$12,\"\",IF(X89=\"\",\"\",INDEX($X$18:$X$227,$AA$17-ROWS($X$18:$X89)))))","v":""},"","","",{"$nulls":26},{"$f":"IF($AU$21=\"INVERT\",X90,IF(AC89>=$Y$12,\"\",IF(X89=\"\",\"\",INDEX($X$18:$X$227,$AA$17-ROWS($X$18:$X89)))))","v":""},"",{"$f":"IF(AE89=\"\",\"\",\n    IF($AU$21=\"TYP\",\n       IF(Y89=\"\",\"\", INDEX($Y$18:$Y$227, $AA$17-ROWS($Y$18:$Y89))),\n       IF($AU$21=\"INVERT\",Y90, \"\")\n    )\n)","v":""},"",null,{"$f":"IF(BL89>=$Y$12,\"\",IF(X89=\"\",\"\",INDEX($X$18:$X$227,$AA$17-ROWS($X$18:$X89))))","v":""},"",0,null,"",null,null,{"$f":"IF(Y89=\"\",\"\",INDEX($Y$17:$Y$227,$AA$17-ROWS($Y$17:$Y89)))","v":""}]
["","",{"$f":"IF(B91=\"\",\"\",IFERROR(_xlfn.XLOOKUP(B91,ImperialIncrementalData[System Increment],_xlfn.XLOOKUP('Imperial Incremental Crate'!$R$3,ImperialIncrementalData[#Headers],ImperialIncrementalData[]),,1),0))","v":""},"",{"$f":"IF(B91=\"\",\"\",IFERROR(_xlfn.XLOOKUP(B91,ImperialIncrementalData[System Increment],_xlfn.XLOOKUP(Imperial_Incremental_Data_Target_Column,ImperialIncrementalData[#Headers],ImperialIncrementalData[]),,1),0))","v":""},{"$f":"IF(B91=\"\",\"\",IF(B92=\"\",((((1)/12)*Imperial_Module_Square_Foot_Area)-'Cumulative Volumes Imperial'!E91)*Imperial_Stone_Void_Percentage,((((B91-B92)/12)*Imperial_Module_Square_Foot_Area)-'Cumulative Volumes Imperial'!E91)*Imperial_Stone_Void_Percentage))","v":""},"",{"$f":"IF(B91=\"\",\"\",((Imperial_System_Area_Input-Imperial_Number_Of_Stacks*_xlfn.XLOOKUP(Imperial_Layers,CrateData[Layer],CrateData[Surface Area (sf)]))/12)*Imperial_Stone_Void_Percentage)","v":""},"","",{"$f":"IF(B91=\"\",\"\",SUM(J91:$J$233))","v":""},"",{"$nulls":8},"",null,{"v":-2.4583333333333353,"d":"-2.46"},"","",null,"",null,{"$f":"IF($AU$21=\"INVERT\",X91,IF(AC90>=$Y$12,\"\",IF(X90=\"\",\"\",INDEX($X$18:$X$227,$AA$17-ROWS($X$18:$X90)))))","v":""},"","","",{"$nulls":26},{"$f":"IF($AU$21=\"INVERT\",X91,IF(AC90>=$Y$12,\"\",IF(X90=\"\",\"\",INDEX($X$18:$X$227,$AA$17-ROWS($X$18:$X90)))))","v":""},"",{"$f":"IF(AE90=\"\",\"\",\n    IF($AU$21=\"TYP\",\n       IF(Y90=\"\",\"\", INDEX($Y$18:$Y$227, $AA$17-ROWS($Y$18:$Y90))),\n       IF($AU$21=\"INVERT\",Y91, \"\")\n    )\n)","v":""},"",null,{"$f":"IF(BL90>=$Y$12,\"\",IF(X90=\"\",\"\",INDEX($X$18:$X$227,$AA$17-ROWS($X$18:$X90))))","v":""},"",0,null,"",null,null,{"$f":"IF(Y90=\"\",\"\",INDEX($Y$17:$Y$227,$AA$17-ROWS($Y$17:$Y90)))","v":""}]
["","",{"$f":"IF(B92=\"\",\"\",IFERROR(_xlfn.XLOOKUP(B92,ImperialIncrementalData[System Increment],_xlfn.XLOOKUP('Imperial Incremental Crate'!$R$3,ImperialIncrementalData[#Headers],ImperialIncrementalData[]),,1),0))","v":""},"",{"$f":"IF(B92=\"\",\"\",IFERROR(_xlfn.XLOOKUP(B92,ImperialIncrementalData[System Increment],_xlfn.XLOOKUP(Imperial_Incremental_Data_Target_Column,ImperialIncrementalData[#Headers],ImperialIncrementalData[]),,1),0))","v":""},{"$f":"IF(B92=\"\",\"\",IF(B93=\"\",((((1)/12)*Imperial_Module_Square_Foot_Area)-'Cumulative Volumes Imperial'!E92)*Imperial_Stone_Void_Percentage,((((B92-B93)/12)*Imperial_Module_Square_Foot_Area)-'Cumulative Volumes Imperial'!E92)*Imperial_Stone_Void_Percentage))","v":""},"",{"$f":"IF(B92=\"\",\"\",((Imperial_System_Area_Input-Imperial_Number_Of_Stacks*_xlfn.XLOOKUP(Imperial_Layers,CrateData[Layer],CrateData[Surface Area (sf)]))/12)*Imperial_Stone_Void_Percentage)","v":""},"","",{"$f":"IF(B92=\"\",\"\",SUM(J92:$J$233))","v":""},"",{"$nulls":8},"",null,{"v":-2.5416666666666687,"d":"-2.54"},"","",null,"",null,{"$f":"IF($AU$21=\"INVERT\",X92,IF(AC91>=$Y$12,\"\",IF(X91=\"\",\"\",INDEX($X$18:$X$227,$AA$17-ROWS($X$18:$X91)))))","v":""},"","","",{"$nulls":26},{"$f":"IF($AU$21=\"INVERT\",X92,IF(AC91>=$Y$12,\"\",IF(X91=\"\",\"\",INDEX($X$18:$X$227,$AA$17-ROWS($X$18:$X91)))))","v":""},"",{"$f":"IF(AE91=\"\",\"\",\n    IF($AU$21=\"TYP\",\n       IF(Y91=\"\",\"\", INDEX($Y$18:$Y$227, $AA$17-ROWS($Y$18:$Y91))),\n       IF($AU$21=\"INVERT\",Y92, \"\")\n    )\n)","v":""},"",null,{"$f":"IF(BL91>=$Y$12,\"\",IF(X91=\"\",\"\",INDEX($X$18:$X$227,$AA$17-ROWS($X$18:$X91))))","v":""},"",0,null,"",null,null,{"$f":"IF(Y91=\"\",\"\",INDEX($Y$17:$Y$227,$AA$17-ROWS($Y$17:$Y91)))","v":""}]
["","",{"$f":"IF(B93=\"\",\"\",IFERROR(_xlfn.XLOOKUP(B93,ImperialIncrementalData[System Increment],_xlfn.XLOOKUP('Imperial Incremental Crate'!$R$3,ImperialIncrementalData[#Headers],ImperialIncrementalData[]),,1),0))","v":""},"",{"$f":"IF(B93=\"\",\"\",IFERROR(_xlfn.XLOOKUP(B93,ImperialIncrementalData[System Increment],_xlfn.XLOOKUP(Imperial_Incremental_Data_Target_Column,ImperialIncrementalData[#Headers],ImperialIncrementalData[]),,1),0))","v":""},{"$f":"IF(B93=\"\",\"\",IF(B94=\"\",((((1)/12)*Imperial_Module_Square_Foot_Area)-'Cumulative Volumes Imperial'!E93)*Imperial_Stone_Void_Percentage,((((B93-B94)/12)*Imperial_Module_Square_Foot_Area)-'Cumulative Volumes Imperial'!E93)*Imperial_Stone_Void_Percentage))","v":""},"",{"$f":"IF(B93=\"\",\"\",((Imperial_System_Area_Input-Imperial_Number_Of_Stacks*_xlfn.XLOOKUP(Imperial_Layers,CrateData[Layer],CrateData[Surface Area (sf)]))/12)*Imperial_Stone_Void_Percentage)","v":""},"","",{"$f":"IF(B93=\"\",\"\",SUM(J93:$J$233))","v":""},"",{"$nulls":8},"",null,{"v":-2.625000000000002,"d":"-2.63"},"","",null,"",null,{"$f":"IF($AU$21=\"INVERT\",X93,IF(AC92>=$Y$12,\"\",IF(X92=\"\",\"\",INDEX($X$18:$X$227,$AA$17-ROWS($X$18:$X92)))))","v":""},"","","",{"$nulls":26},{"$f":"IF($AU$21=\"INVERT\",X93,IF(AC92>=$Y$12,\"\",IF(X92=\"\",\"\",INDEX($X$18:$X$227,$AA$17-ROWS($X$18:$X92)))))","v":""},"",{"$f":"IF(AE92=\"\",\"\",\n    IF($AU$21=\"TYP\",\n       IF(Y92=\"\",\"\", INDEX($Y$18:$Y$227, $AA$17-ROWS($Y$18:$Y92))),\n       IF($AU$21=\"INVERT\",Y93, \"\")\n    )\n)","v":""},"",null,{"$f":"IF(BL92>=$Y$12,\"\",IF(X92=\"\",\"\",INDEX($X$18:$X$227,$AA$17-ROWS($X$18:$X92))))","v":""},"",0,null,"",null,null,{"$f":"IF(Y92=\"\",\"\",INDEX($Y$17:$Y$227,$AA$17-ROWS($Y$17:$Y92)))","v":""}]
["","",{"$f":"IF(B94=\"\",\"\",IFERROR(_xlfn.XLOOKUP(B94,ImperialIncrementalData[System Increment],_xlfn.XLOOKUP('Imperial Incremental Crate'!$R$3,ImperialIncrementalData[#Headers],ImperialIncrementalData[]),,1),0))","v":""},"",{"$f":"IF(B94=\"\",\"\",IFERROR(_xlfn.XLOOKUP(B94,ImperialIncrementalData[System Increment],_xlfn.XLOOKUP(Imperial_Incremental_Data_Target_Column,ImperialIncrementalData[#Headers],ImperialIncrementalData[]),,1),0))","v":""},{"$f":"IF(B94=\"\",\"\",IF(B95=\"\",((((1)/12)*Imperial_Module_Square_Foot_Area)-'Cumulative Volumes Imperial'!E94)*Imperial_Stone_Void_Percentage,((((B94-B95)/12)*Imperial_Module_Square_Foot_Area)-'Cumulative Volumes Imperial'!E94)*Imperial_Stone_Void_Percentage))","v":""},"",{"$f":"IF(B94=\"\",\"\",((Imperial_System_Area_Input-Imperial_Number_Of_Stacks*_xlfn.XLOOKUP(Imperial_Layers,CrateData[Layer],CrateData[Surface Area (sf)]))/12)*Imperial_Stone_Void_Percentage)","v":""},"","",{"$f":"IF(B94=\"\",\"\",SUM(J94:$J$233))","v":""},"",{"$nulls":8},"",null,{"v":-2.7083333333333357,"d":"-2.71"},"","",null,"",null,{"$f":"IF($AU$21=\"INVERT\",X94,IF(AC93>=$Y$12,\"\",IF(X93=\"\",\"\",INDEX($X$18:$X$227,$AA$17-ROWS($X$18:$X93)))))","v":""},"","","",{"$nulls":26},{"$f":"IF($AU$21=\"INVERT\",X94,IF(AC93>=$Y$12,\"\",IF(X93=\"\",\"\",INDEX($X$18:$X$227,$AA$17-ROWS($X$18:$X93)))))","v":""},"",{"$f":"IF(AE93=\"\",\"\",\n    IF($AU$21=\"TYP\",\n       IF(Y93=\"\",\"\", INDEX($Y$18:$Y$227, $AA$17-ROWS($Y$18:$Y93))),\n       IF($AU$21=\"INVERT\",Y94, \"\")\n    )\n)","v":""},"",null,{"$f":"IF(BL93>=$Y$12,\"\",IF(X93=\"\",\"\",INDEX($X$18:$X$227,$AA$17-ROWS($X$18:$X93))))","v":""},"",0,null,"",null,null,{"$f":"IF(Y93=\"\",\"\",INDEX($Y$17:$Y$227,$AA$17-ROWS($Y$17:$Y93)))","v":""}]
["","",{"$f":"IF(B95=\"\",\"\",IFERROR(_xlfn.XLOOKUP(B95,ImperialIncrementalData[System Increment],_xlfn.XLOOKUP('Imperial Incremental Crate'!$R$3,ImperialIncrementalData[#Headers],ImperialIncrementalData[]),,1),0))","v":""},"",{"$f":"IF(B95=\"\",\"\",IFERROR(_xlfn.XLOOKUP(B95,ImperialIncrementalData[System Increment],_xlfn.XLOOKUP(Imperial_Incremental_Data_Target_Column,ImperialIncrementalData[#Headers],ImperialIncrementalData[]),,1),0))","v":""},{"$f":"IF(B95=\"\",\"\",IF(B96=\"\",((((1)/12)*Imperial_Module_Square_Foot_Area)-'Cumulative Volumes Imperial'!E95)*Imperial_Stone_Void_Percentage,((((B95-B96)/12)*Imperial_Module_Square_Foot_Area)-'Cumulative Volumes Imperial'!E95)*Imperial_Stone_Void_Percentage))","v":""},"",{"$f":"IF(B95=\"\",\"\",((Imperial_System_Area_Input-Imperial_Number_Of_Stacks*_xlfn.XLOOKUP(Imperial_Layers,CrateData[Layer],CrateData[Surface Area (sf)]))/12)*Imperial_Stone_Void_Percentage)","v":""},"","",{"$f":"IF(B95=\"\",\"\",SUM(J95:$J$233))","v":""},"",{"$nulls":8},"",null,{"v":-2.791666666666669,"d":"-2.79"},"","",null,"",null,{"$f":"IF($AU$21=\"INVERT\",X95,IF(AC94>=$Y$12,\"\",IF(X94=\"\",\"\",INDEX($X$18:$X$227,$AA$17-ROWS($X$18:$X94)))))","v":""},"","","",{"$nulls":26},{"$f":"IF($AU$21=\"INVERT\",X95,IF(AC94>=$Y$12,\"\",IF(X94=\"\",\"\",INDEX($X$18:$X$227,$AA$17-ROWS($X$18:$X94)))))","v":""},"",{"$f":"IF(AE94=\"\",\"\",\n    IF($AU$21=\"TYP\",\n       IF(Y94=\"\",\"\", INDEX($Y$18:$Y$227, $AA$17-ROWS($Y$18:$Y94))),\n       IF($AU$21=\"INVERT\",Y95, \"\")\n    )\n)","v":""},"",null,{"$f":"IF(BL94>=$Y$12,\"\",IF(X94=\"\",\"\",INDEX($X$18:$X$227,$AA$17-ROWS($X$18:$X94))))","v":""},"",0,null,"",null,null,{"$f":"IF(Y94=\"\",\"\",INDEX($Y$17:$Y$227,$AA$17-ROWS($Y$17:$Y94)))","v":""}]
["","",{"$f":"IF(B96=\"\",\"\",IFERROR(_xlfn.XLOOKUP(B96,ImperialIncrementalData[System Increment],_xlfn.XLOOKUP('Imperial Incremental Crate'!$R$3,ImperialIncrementalData[#Headers],ImperialIncrementalData[]),,1),0))","v":""},"",{"$f":"IF(B96=\"\",\"\",IFERROR(_xlfn.XLOOKUP(B96,ImperialIncrementalData[System Increment],_xlfn.XLOOKUP(Imperial_Incremental_Data_Target_Column,ImperialIncrementalData[#Headers],ImperialIncrementalData[]),,1),0))","v":""},{"$f":"IF(B96=\"\",\"\",IF(B97=\"\",((((1)/12)*Imperial_Module_Square_Foot_Area)-'Cumulative Volumes Imperial'!E96)*Imperial_Stone_Void_Percentage,((((B96-B97)/12)*Imperial_Module_Square_Foot_Area)-'Cumulative Volumes Imperial'!E96)*Imperial_Stone_Void_Percentage))","v":""},"",{"$f":"IF(B96=\"\",\"\",((Imperial_System_Area_Input-Imperial_Number_Of_Stacks*_xlfn.XLOOKUP(Imperial_Layers,CrateData[Layer],CrateData[Surface Area (sf)]))/12)*Imperial_Stone_Void_Percentage)","v":""},"","",{"$f":"IF(B96=\"\",\"\",SUM(J96:$J$233))","v":""},"",{"$nulls":8},"",null,{"v":-2.8750000000000027,"d":"-2.88"},"","",null,"",null,{"$f":"IF($AU$21=\"INVERT\",X96,IF(AC95>=$Y$12,\"\",IF(X95=\"\",\"\",INDEX($X$18:$X$227,$AA$17-ROWS($X$18:$X95)))))","v":""},"","","",{"$nulls":26},{"$f":"IF($AU$21=\"INVERT\",X96,IF(AC95>=$Y$12,\"\",IF(X95=\"\",\"\",INDEX($X$18:$X$227,$AA$17-ROWS($X$18:$X95)))))","v":""},"",{"$f":"IF(AE95=\"\",\"\",\n    IF($AU$21=\"TYP\",\n       IF(Y95=\"\",\"\", INDEX($Y$18:$Y$227, $AA$17-ROWS($Y$18:$Y95))),\n       IF($AU$21=\"INVERT\",Y96, \"\")\n    )\n)","v":""},"",null,{"$f":"IF(BL95>=$Y$12,\"\",IF(X95=\"\",\"\",INDEX($X$18:$X$227,$AA$17-ROWS($X$18:$X95))))","v":""},"",0,null,"",null,null,{"$f":"IF(Y95=\"\",\"\",INDEX($Y$17:$Y$227,$AA$17-ROWS($Y$17:$Y95)))","v":""}]
["","",{"$f":"IF(B97=\"\",\"\",IFERROR(_xlfn.XLOOKUP(B97,ImperialIncrementalData[System Increment],_xlfn.XLOOKUP('Imperial Incremental Crate'!$R$3,ImperialIncrementalData[#Headers],ImperialIncrementalData[]),,1),0))","v":""},"",{"$f":"IF(B97=\"\",\"\",IFERROR(_xlfn.XLOOKUP(B97,ImperialIncrementalData[System Increment],_xlfn.XLOOKUP(Imperial_Incremental_Data_Target_Column,ImperialIncrementalData[#Headers],ImperialIncrementalData[]),,1),0))","v":""},{"$f":"IF(B97=\"\",\"\",IF(B98=\"\",((((1)/12)*Imperial_Module_Square_Foot_Area)-'Cumulative Volumes Imperial'!E97)*Imperial_Stone_Void_Percentage,((((B97-B98)/12)*Imperial_Module_Square_Foot_Area)-'Cumulative Volumes Imperial'!E97)*Imperial_Stone_Void_Percentage))","v":""},"",{"$f":"IF(B97=\"\",\"\",((Imperial_System_Area_Input-Imperial_Number_Of_Stacks*_xlfn.XLOOKUP(Imperial_Layers,CrateData[Layer],CrateData[Surface Area (sf)]))/12)*Imperial_Stone_Void_Percentage)","v":""},"","",{"$f":"IF(B97=\"\",\"\",SUM(J97:$J$233))","v":""},"",{"$nulls":8},"",null,{"v":-2.958333333333336,"d":"-2.96"},"","",null,"",null,{"$f":"IF($AU$21=\"INVERT\",X97,IF(AC96>=$Y$12,\"\",IF(X96=\"\",\"\",INDEX($X$18:$X$227,$AA$17-ROWS($X$18:$X96)))))","v":""},"","","",{"$nulls":26},{"$f":"IF($AU$21=\"INVERT\",X97,IF(AC96>=$Y$12,\"\",IF(X96=\"\",\"\",INDEX($X$18:$X$227,$AA$17-ROWS($X$18:$X96)))))","v":""},"",{"$f":"IF(AE96=\"\",\"\",\n    IF($AU$21=\"TYP\",\n       IF(Y96=\"\",\"\", INDEX($Y$18:$Y$227, $AA$17-ROWS($Y$18:$Y96))),\n       IF($AU$21=\"INVERT\",Y97, \"\")\n    )\n)","v":""},"",null,{"$f":"IF(BL96>=$Y$12,\"\",IF(X96=\"\",\"\",INDEX($X$18:$X$227,$AA$17-ROWS($X$18:$X96))))","v":""},"",0,null,"",null,null,{"$f":"IF(Y96=\"\",\"\",INDEX($Y$17:$Y$227,$AA$17-ROWS($Y$17:$Y96)))","v":""}]
["","",{"$f":"IF(B98=\"\",\"\",IFERROR(_xlfn.XLOOKUP(B98,ImperialIncrementalData[System Increment],_xlfn.XLOOKUP('Imperial Incremental Crate'!$R$3,ImperialIncrementalData[#Headers],ImperialIncrementalData[]),,1),0))","v":""},"",{"$f":"IF(B98=\"\",\"\",IFERROR(_xlfn.XLOOKUP(B98,ImperialIncrementalData[System Increment],_xlfn.XLOOKUP(Imperial_Incremental_Data_Target_Column,ImperialIncrementalData[#Headers],ImperialIncrementalData[]),,1),0))","v":""},{"$f":"IF(B98=\"\",\"\",IF(B99=\"\",((((1)/12)*Imperial_Module_Square_Foot_Area)-'Cumulative Volumes Imperial'!E98)*Imperial_Stone_Void_Percentage,((((B98-B99)/12)*Imperial_Module_Square_Foot_Area)-'Cumulative Volumes Imperial'!E98)*Imperial_Stone_Void_Percentage))","v":""},"",{"$f":"IF(B98=\"\",\"\",((Imperial_System_Area_Input-Imperial_Number_Of_Stacks*_xlfn.XLOOKUP(Imperial_Layers,CrateData[Layer],CrateData[Surface Area (sf)]))/12)*Imperial_Stone_Void_Percentage)","v":""},"","",{"$f":"IF(B98=\"\",\"\",SUM(J98:$J$233))","v":""},"",{"$nulls":8},"",null,{"v":-3.0416666666666696,"d":"-3.04"},"","",null,"",null,{"$f":"IF($AU$21=\"INVERT\",X98,IF(AC97>=$Y$12,\"\",IF(X97=\"\",\"\",INDEX($X$18:$X$227,$AA$17-ROWS($X$18:$X97)))))","v":""},"","","",{"$nulls":26},{"$f":"IF($AU$21=\"INVERT\",X98,IF(AC97>=$Y$12,\"\",IF(X97=\"\",\"\",INDEX($X$18:$X$227,$AA$17-ROWS($X$18:$X97)))))","v":""},"",{"$f":"IF(AE97=\"\",\"\",\n    IF($AU$21=\"TYP\",\n       IF(Y97=\"\",\"\", INDEX($Y$18:$Y$227, $AA$17-ROWS($Y$18:$Y97))),\n       IF($AU$21=\"INVERT\",Y98, \"\")\n    )\n)","v":""},"",null,{"$f":"IF(BL97>=$Y$12,\"\",IF(X97=\"\",\"\",INDEX($X$18:$X$227,$AA$17-ROWS($X$18:$X97))))","v":""},"",0,null,"",null,null,{"$f":"IF(Y97=\"\",\"\",INDEX($Y$17:$Y$227,$AA$17-ROWS($Y$17:$Y97)))","v":""}]
["","",{"$f":"IF(B99=\"\",\"\",IFERROR(_xlfn.XLOOKUP(B99,ImperialIncrementalData[System Increment],_xlfn.XLOOKUP('Imperial Incremental Crate'!$R$3,ImperialIncrementalData[#Headers],ImperialIncrementalData[]),,1),0))","v":""},"",{"$f":"IF(B99=\"\",\"\",IFERROR(_xlfn.XLOOKUP(B99,ImperialIncrementalData[System Increment],_xlfn.XLOOKUP(Imperial_Incremental_Data_Target_Column,ImperialIncrementalData[#Headers],ImperialIncrementalData[]),,1),0))","v":""},{"$f":"IF(B99=\"\",\"\",IF(B100=\"\",((((1)/12)*Imperial_Module_Square_Foot_Area)-'Cumulative Volumes Imperial'!E99)*Imperial_Stone_Void_Percentage,((((B99-B100)/12)*Imperial_Module_Square_Foot_Area)-'Cumulative Volumes Imperial'!E99)*Imperial_Stone_Void_Percentage))","v":""},"",{"$f":"IF(B99=\"\",\"\",((Imperial_System_Area_Input-Imperial_Number_Of_Stacks*_xlfn.XLOOKUP(Imperial_Layers,CrateData[Layer],CrateData[Surface Area (sf)]))/12)*Imperial_Stone_Void_Percentage)","v":""},"","",{"$f":"IF(B99=\"\",\"\",SUM(J99:$J$233))","v":""},"",{"$nulls":8},"",null,{"v":-3.125000000000003,"d":"-3.13"},"","",null,"",null,{"$f":"IF($AU$21=\"INVERT\",X99,IF(AC98>=$Y$12,\"\",IF(X98=\"\",\"\",INDEX($X$18:$X$227,$AA$17-ROWS($X$18:$X98)))))","v":""},"","","",{"$nulls":26},{"$f":"IF($AU$21=\"INVERT\",X99,IF(AC98>=$Y$12,\"\",IF(X98=\"\",\"\",INDEX($X$18:$X$227,$AA$17-ROWS($X$18:$X98)))))","v":""},"",{"$f":"IF(AE98=\"\",\"\",\n    IF($AU$21=\"TYP\",\n       IF(Y98=\"\",\"\", INDEX($Y$18:$Y$227, $AA$17-ROWS($Y$18:$Y98))),\n       IF($AU$21=\"INVERT\",Y99, \"\")\n    )\n)","v":""},"",null,{"$f":"IF(BL98>=$Y$12,\"\",IF(X98=\"\",\"\",INDEX($X$18:$X$227,$AA$17-ROWS($X$18:$X98))))","v":""},"",0,null,"",null,null,{"$f":"IF(Y98=\"\",\"\",INDEX($Y$17:$Y$227,$AA$17-ROWS($Y$17:$Y98)))","v":""}]
["","",{"$f":"IF(B100=\"\",\"\",IFERROR(_xlfn.XLOOKUP(B100,ImperialIncrementalData[System Increment],_xlfn.XLOOKUP('Imperial Incremental Crate'!$R$3,ImperialIncrementalData[#Headers],ImperialIncrementalData[]),,1),0))","v":""},"",{"$f":"IF(B100=\"\",\"\",IFERROR(_xlfn.XLOOKUP(B100,ImperialIncrementalData[System Increment],_xlfn.XLOOKUP(Imperial_Incremental_Data_Target_Column,ImperialIncrementalData[#Headers],ImperialIncrementalData[]),,1),0))","v":""},{"$f":"IF(B100=\"\",\"\",IF(B101=\"\",((((1)/12)*Imperial_Module_Square_Foot_Area)-'Cumulative Volumes Imperial'!E100)*Imperial_Stone_Void_Percentage,((((B100-B101)/12)*Imperial_Module_Square_Foot_Area)-'Cumulative Volumes Imperial'!E100)*Imperial_Stone_Void_Percentage))","v":""},"",{"$f":"IF(B100=\"\",\"\",((Imperial_System_Area_Input-Imperial_Number_Of_Stacks*_xlfn.XLOOKUP(Imperial_Layers,CrateData[Layer],CrateData[Surface Area (sf)]))/12)*Imperial_Stone_Void_Percentage)","v":""},"","",{"$f":"IF(B100=\"\",\"\",SUM(J100:$J$233))","v":""},"",{"$nulls":8},"",null,{"v":-3.2083333333333366,"d":"-3.21"},"","",null,"",null,{"$f":"IF($AU$21=\"INVERT\",X100,IF(AC99>=$Y$12,\"\",IF(X99=\"\",\"\",INDEX($X$18:$X$227,$AA$17-ROWS($X$18:$X99)))))","v":""},"","","",{"$nulls":26},{"$f":"IF($AU$21=\"INVERT\",X100,IF(AC99>=$Y$12,\"\",IF(X99=\"\",\"\",INDEX($X$18:$X$227,$AA$17-ROWS($X$18:$X99)))))","v":""},"",{"$f":"IF(AE99=\"\",\"\",\n    IF($AU$21=\"TYP\",\n       IF(Y99=\"\",\"\", INDEX($Y$18:$Y$227, $AA$17-ROWS($Y$18:$Y99))),\n       IF($AU$21=\"INVERT\",Y100, \"\")\n    )\n)","v":""},"",null,{"$f":"IF(BL99>=$Y$12,\"\",IF(X99=\"\",\"\",INDEX($X$18:$X$227,$AA$17-ROWS($X$18:$X99))))","v":""},"",0,null,"",null,null,{"$f":"IF(Y99=\"\",\"\",INDEX($Y$17:$Y$227,$AA$17-ROWS($Y$17:$Y99)))","v":""}]
["","",{"$f":"IF(B101=\"\",\"\",IFERROR(_xlfn.XLOOKUP(B101,ImperialIncrementalData[System Increment],_xlfn.XLOOKUP('Imperial Incremental Crate'!$R$3,ImperialIncrementalData[#Headers],ImperialIncrementalData[]),,1),0))","v":""},"",{"$f":"IF(B101=\"\",\"\",IFERROR(_xlfn.XLOOKUP(B101,ImperialIncrementalData[System Increment],_xlfn.XLOOKUP(Imperial_Incremental_Data_Target_Column,ImperialIncrementalData[#Headers],ImperialIncrementalData[]),,1),0))","v":""},{"$f":"IF(B101=\"\",\"\",IF(B102=\"\",((((1)/12)*Imperial_Module_Square_Foot_Area)-'Cumulative Volumes Imperial'!E101)*Imperial_Stone_Void_Percentage,((((B101-B102)/12)*Imperial_Module_Square_Foot_Area)-'Cumulative Volumes Imperial'!E101)*Imperial_Stone_Void_Percentage))","v":""},"",{"$f":"IF(B101=\"\",\"\",((Imperial_System_Area_Input-Imperial_Number_Of_Stacks*_xlfn.XLOOKUP(Imperial_Layers,CrateData[Layer],CrateData[Surface Area (sf)]))/12)*Imperial_Stone_Void_Percentage)","v":""},"","",{"$f":"IF(B101=\"\",\"\",SUM(J101:$J$233))","v":""},"",{"$nulls":8},"",null,{"v":-3.29166666666667,"d":"-3.29"},"","",null,"",null,{"$f":"IF($AU$21=\"INVERT\",X101,IF(AC100>=$Y$12,\"\",IF(X100=\"\",\"\",INDEX($X$18:$X$227,$AA$17-ROWS($X$18:$X100)))))","v":""},"","","",{"$nulls":26},{"$f":"IF($AU$21=\"INVERT\",X101,IF(AC100>=$Y$12,\"\",IF(X100=\"\",\"\",INDEX($X$18:$X$227,$AA$17-ROWS($X$18:$X100)))))","v":""},"",{"$f":"IF(AE100=\"\",\"\",\n    IF($AU$21=\"TYP\",\n       IF(Y100=\"\",\"\", INDEX($Y$18:$Y$227, $AA$17-ROWS($Y$18:$Y100))),\n       IF($AU$21=\"INVERT\",Y101, \"\")\n    )\n)","v":""},"",null,{"$f":"IF(BL100>=$Y$12,\"\",IF(X100=\"\",\"\",INDEX($X$18:$X$227,$AA$17-ROWS($X$18:$X100))))","v":""},"",0,null,"",null,null,{"$f":"IF(Y100=\"\",\"\",INDEX($Y$17:$Y$227,$AA$17-ROWS($Y$17:$Y100)))","v":""}]
["","",{"$f":"IF(B102=\"\",\"\",IFERROR(_xlfn.XLOOKUP(B102,ImperialIncrementalData[System Increment],_xlfn.XLOOKUP('Imperial Incremental Crate'!$R$3,ImperialIncrementalData[#Headers],ImperialIncrementalData[]),,1),0))","v":""},"",{"$f":"IF(B102=\"\",\"\",IFERROR(_xlfn.XLOOKUP(B102,ImperialIncrementalData[System Increment],_xlfn.XLOOKUP(Imperial_Incremental_Data_Target_Column,ImperialIncrementalData[#Headers],ImperialIncrementalData[]),,1),0))","v":""},{"$f":"IF(B102=\"\",\"\",IF(B103=\"\",((((1)/12)*Imperial_Module_Square_Foot_Area)-'Cumulative Volumes Imperial'!E102)*Imperial_Stone_Void_Percentage,((((B102-B103)/12)*Imperial_Module_Square_Foot_Area)-'Cumulative Volumes Imperial'!E102)*Imperial_Stone_Void_Percentage))","v":""},"",{"$f":"IF(B102=\"\",\"\",((Imperial_System_Area_Input-Imperial_Number_Of_Stacks*_xlfn.XLOOKUP(Imperial_Layers,CrateData[Layer],CrateData[Surface Area (sf)]))/12)*Imperial_Stone_Void_Percentage)","v":""},"","",{"$f":"IF(B102=\"\",\"\",SUM(J102:$J$233))","v":""},"",{"$nulls":8},"",null,{"v":-3.3750000000000036,"d":"-3.38"},"","",null,"",null,{"$f":"IF($AU$21=\"INVERT\",X102,IF(AC101>=$Y$12,\"\",IF(X101=\"\",\"\",INDEX($X$18:$X$227,$AA$17-ROWS($X$18:$X101)))))","v":""},"","","",{"$nulls":26},{"$f":"IF($AU$21=\"INVERT\",X102,IF(AC101>=$Y$12,\"\",IF(X101=\"\",\"\",INDEX($X$18:$X$227,$AA$17-ROWS($X$18:$X101)))))","v":""},"",{"$f":"IF(AE101=\"\",\"\",\n    IF($AU$21=\"TYP\",\n       IF(Y101=\"\",\"\", INDEX($Y$18:$Y$227, $AA$17-ROWS($Y$18:$Y101))),\n       IF($AU$21=\"INVERT\",Y102, \"\")\n    )\n)","v":""},"",null,{"$f":"IF(BL101>=$Y$12,\"\",IF(X101=\"\",\"\",INDEX($X$18:$X$227,$AA$17-ROWS($X$18:$X101))))","v":""},"",0,null,"",null,null,{"$f":"IF(Y101=\"\",\"\",INDEX($Y$17:$Y$227,$AA$17-ROWS($Y$17:$Y101)))","v":""}]
["","",{"$f":"IF(B103=\"\",\"\",IFERROR(_xlfn.XLOOKUP(B103,ImperialIncrementalData[System Increment],_xlfn.XLOOKUP('Imperial Incremental Crate'!$R$3,ImperialIncrementalData[#Headers],ImperialIncrementalData[]),,1),0))","v":""},"",{"$f":"IF(B103=\"\",\"\",IFERROR(_xlfn.XLOOKUP(B103,ImperialIncrementalData[System Increment],_xlfn.XLOOKUP(Imperial_Incremental_Data_Target_Column,ImperialIncrementalData[#Headers],ImperialIncrementalData[]),,1),0))","v":""},{"$f":"IF(B103=\"\",\"\",IF(B104=\"\",((((1)/12)*Imperial_Module_Square_Foot_Area)-'Cumulative Volumes Imperial'!E103)*Imperial_Stone_Void_Percentage,((((B103-B104)/12)*Imperial_Module_Square_Foot_Area)-'Cumulative Volumes Imperial'!E103)*Imperial_Stone_Void_Percentage))","v":""},"",{"$f":"IF(B103=\"\",\"\",((Imperial_System_Area_Input-Imperial_Number_Of_Stacks*_xlfn.XLOOKUP(Imperial_Layers,CrateData[Layer],CrateData[Surface Area (sf)]))/12)*Imperial_Stone_Void_Percentage)","v":""},"","",{"$f":"IF(B103=\"\",\"\",SUM(J103:$J$233))","v":""},"",{"$nulls":8},"",null,{"v":-3.458333333333337,"d":"-3.46"},"","",null,"",null,{"$f":"IF($AU$21=\"INVERT\",X103,IF(AC102>=$Y$12,\"\",IF(X102=\"\",\"\",INDEX($X$18:$X$227,$AA$17-ROWS($X$18:$X102)))))","v":""},"","","",{"$nulls":26},{"$f":"IF($AU$21=\"INVERT\",X103,IF(AC102>=$Y$12,\"\",IF(X102=\"\",\"\",INDEX($X$18:$X$227,$AA$17-ROWS($X$18:$X102)))))","v":""},"",{"$f":"IF(AE102=\"\",\"\",\n    IF($AU$21=\"TYP\",\n       IF(Y102=\"\",\"\", INDEX($Y$18:$Y$227, $AA$17-ROWS($Y$18:$Y102))),\n       IF($AU$21=\"INVERT\",Y103, \"\")\n    )\n)","v":""},"",null,{"$f":"IF(BL102>=$Y$12,\"\",IF(X102=\"\",\"\",INDEX($X$18:$X$227,$AA$17-ROWS($X$18:$X102))))","v":""},"",0,null,"",null,null,{"$f":"IF(Y102=\"\",\"\",INDEX($Y$17:$Y$227,$AA$17-ROWS($Y$17:$Y102)))","v":""}]
["","",{"$f":"IF(B104=\"\",\"\",IFERROR(_xlfn.XLOOKUP(B104,ImperialIncrementalData[System Increment],_xlfn.XLOOKUP('Imperial Incremental Crate'!$R$3,ImperialIncrementalData[#Headers],ImperialIncrementalData[]),,1),0))","v":""},"",{"$f":"IF(B104=\"\",\"\",IFERROR(_xlfn.XLOOKUP(B104,ImperialIncrementalData[System Increment],_xlfn.XLOOKUP(Imperial_Incremental_Data_Target_Column,ImperialIncrementalData[#Headers],ImperialIncrementalData[]),,1),0))","v":""},{"$f":"IF(B104=\"\",\"\",IF(B105=\"\",((((1)/12)*Imperial_Module_Square_Foot_Area)-'Cumulative Volumes Imperial'!E104)*Imperial_Stone_Void_Percentage,((((B104-B105)/12)*Imperial_Module_Square_Foot_Area)-'Cumulative Volumes Imperial'!E104)*Imperial_Stone_Void_Percentage))","v":""},"",{"$f":"IF(B104=\"\",\"\",((Imperial_System_Area_Input-Imperial_Number_Of_Stacks*_xlfn.XLOOKUP(Imperial_Layers,CrateData[Layer],CrateData[Surface Area (sf)]))/12)*Imperial_Stone_Void_Percentage)","v":""},"","",{"$f":"IF(B104=\"\",\"\",SUM(J104:$J$233))","v":""},"",{"$nulls":8},"",null,{"v":-3.5416666666666705,"d":"-3.54"},"","",null,"",null,{"$f":"IF($AU$21=\"INVERT\",X104,IF(AC103>=$Y$12,\"\",IF(X103=\"\",\"\",INDEX($X$18:$X$227,$AA$17-ROWS($X$18:$X103)))))","v":""},"","","",{"$nulls":26},{"$f":"IF($AU$21=\"INVERT\",X104,IF(AC103>=$Y$12,\"\",IF(X103=\"\",\"\",INDEX($X$18:$X$227,$AA$17-ROWS($X$18:$X103)))))","v":""},"",{"$f":"IF(AE103=\"\",\"\",\n    IF($AU$21=\"TYP\",\n       IF(Y103=\"\",\"\", INDEX($Y$18:$Y$227, $AA$17-ROWS($Y$18:$Y103))),\n       IF($AU$21=\"INVERT\",Y104, \"\")\n    )\n)","v":""},"",null,{"$f":"IF(BL103>=$Y$12,\"\",IF(X103=\"\",\"\",INDEX($X$18:$X$227,$AA$17-ROWS($X$18:$X103))))","v":""},"",0,null,"",null,null,{"$f":"IF(Y103=\"\",\"\",INDEX($Y$17:$Y$227,$AA$17-ROWS($Y$17:$Y103)))","v":""}]
["","",{"$f":"IF(B105=\"\",\"\",IFERROR(_xlfn.XLOOKUP(B105,ImperialIncrementalData[System Increment],_xlfn.XLOOKUP('Imperial Incremental Crate'!$R$3,ImperialIncrementalData[#Headers],ImperialIncrementalData[]),,1),0))","v":""},"",{"$f":"IF(B105=\"\",\"\",IFERROR(_xlfn.XLOOKUP(B105,ImperialIncrementalData[System Increment],_xlfn.XLOOKUP(Imperial_Incremental_Data_Target_Column,ImperialIncrementalData[#Headers],ImperialIncrementalData[]),,1),0))","v":""},{"$f":"IF(B105=\"\",\"\",IF(B106=\"\",((((1)/12)*Imperial_Module_Square_Foot_Area)-'Cumulative Volumes Imperial'!E105)*Imperial_Stone_Void_Percentage,((((B105-B106)/12)*Imperial_Module_Square_Foot_Area)-'Cumulative Volumes Imperial'!E105)*Imperial_Stone_Void_Percentage))","v":""},"",{"$f":"IF(B105=\"\",\"\",((Imperial_System_Area_Input-Imperial_Number_Of_Stacks*_xlfn.XLOOKUP(Imperial_Layers,CrateData[Layer],CrateData[Surface Area (sf)]))/12)*Imperial_Stone_Void_Percentage)","v":""},"","",{"$f":"IF(B105=\"\",\"\",SUM(J105:$J$233))","v":""},"",{"$nulls":8},"",null,{"v":-3.625000000000004,"d":"-3.63"},"","",null,"",null,{"$f":"IF($AU$21=\"INVERT\",X105,IF(AC104>=$Y$12,\"\",IF(X104=\"\",\"\",INDEX($X$18:$X$227,$AA$17-ROWS($X$18:$X104)))))","v":""},"","","",{"$nulls":26},{"$f":"IF($AU$21=\"INVERT\",X105,IF(AC104>=$Y$12,\"\",IF(X104=\"\",\"\",INDEX($X$18:$X$227,$AA$17-ROWS($X$18:$X104)))))","v":""},"",{"$f":"IF(AE104=\"\",\"\",\n    IF($AU$21=\"TYP\",\n       IF(Y104=\"\",\"\", INDEX($Y$18:$Y$227, $AA$17-ROWS($Y$18:$Y104))),\n       IF($AU$21=\"INVERT\",Y105, \"\")\n    )\n)","v":""},"",null,{"$f":"IF(BL104>=$Y$12,\"\",IF(X104=\"\",\"\",INDEX($X$18:$X$227,$AA$17-ROWS($X$18:$X104))))","v":""},"",0,null,"",null,null,{"$f":"IF(Y104=\"\",\"\",INDEX($Y$17:$Y$227,$AA$17-ROWS($Y$17:$Y104)))","v":""}]
["","",{"$f":"IF(B106=\"\",\"\",IFERROR(_xlfn.XLOOKUP(B106,ImperialIncrementalData[System Increment],_xlfn.XLOOKUP('Imperial Incremental Crate'!$R$3,ImperialIncrementalData[#Headers],ImperialIncrementalData[]),,1),0))","v":""},"",{"$f":"IF(B106=\"\",\"\",IFERROR(_xlfn.XLOOKUP(B106,ImperialIncrementalData[System Increment],_xlfn.XLOOKUP(Imperial_Incremental_Data_Target_Column,ImperialIncrementalData[#Headers],ImperialIncrementalData[]),,1),0))","v":""},{"$f":"IF(B106=\"\",\"\",IF(B107=\"\",((((1)/12)*Imperial_Module_Square_Foot_Area)-'Cumulative Volumes Imperial'!E106)*Imperial_Stone_Void_Percentage,((((B106-B107)/12)*Imperial_Module_Square_Foot_Area)-'Cumulative Volumes Imperial'!E106)*Imperial_Stone_Void_Percentage))","v":""},"",{"$f":"IF(B106=\"\",\"\",((Imperial_System_Area_Input-Imperial_Number_Of_Stacks*_xlfn.XLOOKUP(Imperial_Layers,CrateData[Layer],CrateData[Surface Area (sf)]))/12)*Imperial_Stone_Void_Percentage)","v":""},"","",{"$f":"IF(B106=\"\",\"\",SUM(J106:$J$233))","v":""},"",{"$nulls":8},"",null,{"v":-3.7083333333333375,"d":"-3.71"},"","",null,"",null,{"$f":"IF($AU$21=\"INVERT\",X106,IF(AC105>=$Y$12,\"\",IF(X105=\"\",\"\",INDEX($X$18:$X$227,$AA$17-ROWS($X$18:$X105)))))","v":""},"","","",{"$nulls":26},{"$f":"IF($AU$21=\"INVERT\",X106,IF(AC105>=$Y$12,\"\",IF(X105=\"\",\"\",INDEX($X$18:$X$227,$AA$17-ROWS($X$18:$X105)))))","v":""},"",{"$f":"IF(AE105=\"\",\"\",\n    IF($AU$21=\"TYP\",\n       IF(Y105=\"\",\"\", INDEX($Y$18:$Y$227, $AA$17-ROWS($Y$18:$Y105))),\n       IF($AU$21=\"INVERT\",Y106, \"\")\n    )\n)","v":""},"",null,{"$f":"IF(BL105>=$Y$12,\"\",IF(X105=\"\",\"\",INDEX($X$18:$X$227,$AA$17-ROWS($X$18:$X105))))","v":""},"",0,null,"",null,null,{"$f":"IF(Y105=\"\",\"\",INDEX($Y$17:$Y$227,$AA$17-ROWS($Y$17:$Y105)))","v":""}]
["","",{"$f":"IF(B107=\"\",\"\",IFERROR(_xlfn.XLOOKUP(B107,ImperialIncrementalData[System Increment],_xlfn.XLOOKUP('Imperial Incremental Crate'!$R$3,ImperialIncrementalData[#Headers],ImperialIncrementalData[]),,1),0))","v":""},"",{"$f":"IF(B107=\"\",\"\",IFERROR(_xlfn.XLOOKUP(B107,ImperialIncrementalData[System Increment],_xlfn.XLOOKUP(Imperial_Incremental_Data_Target_Column,ImperialIncrementalData[#Headers],ImperialIncrementalData[]),,1),0))","v":""},{"$f":"IF(B107=\"\",\"\",IF(B108=\"\",((((1)/12)*Imperial_Module_Square_Foot_Area)-'Cumulative Volumes Imperial'!E107)*Imperial_Stone_Void_Percentage,((((B107-B108)/12)*Imperial_Module_Square_Foot_Area)-'Cumulative Volumes Imperial'!E107)*Imperial_Stone_Void_Percentage))","v":""},"",{"$f":"IF(B107=\"\",\"\",((Imperial_System_Area_Input-Imperial_Number_Of_Stacks*_xlfn.XLOOKUP(Imperial_Layers,CrateData[Layer],CrateData[Surface Area (sf)]))/12)*Imperial_Stone_Void_Percentage)","v":""},"","",{"$f":"IF(B107=\"\",\"\",SUM(J107:$J$233))","v":""},"",{"$nulls":8},"",null,{"v":-3.791666666666671,"d":"-3.79"},"","",null,"",null,{"$f":"IF($AU$21=\"INVERT\",X107,IF(AC106>=$Y$12,\"\",IF(X106=\"\",\"\",INDEX($X$18:$X$227,$AA$17-ROWS($X$18:$X106)))))","v":""},"","","",{"$nulls":26},{"$f":"IF($AU$21=\"INVERT\",X107,IF(AC106>=$Y$12,\"\",IF(X106=\"\",\"\",INDEX($X$18:$X$227,$AA$17-ROWS($X$18:$X106)))))","v":""},"",{"$f":"IF(AE106=\"\",\"\",\n    IF($AU$21=\"TYP\",\n       IF(Y106=\"\",\"\", INDEX($Y$18:$Y$227, $AA$17-ROWS($Y$18:$Y106))),\n       IF($AU$21=\"INVERT\",Y107, \"\")\n    )\n)","v":""},"",null,{"$f":"IF(BL106>=$Y$12,\"\",IF(X106=\"\",\"\",INDEX($X$18:$X$227,$AA$17-ROWS($X$18:$X106))))","v":""},"",0,null,"",null,null,{"$f":"IF(Y106=\"\",\"\",INDEX($Y$17:$Y$227,$AA$17-ROWS($Y$17:$Y106)))","v":""}]
["","",{"$f":"IF(B108=\"\",\"\",IFERROR(_xlfn.XLOOKUP(B108,ImperialIncrementalData[System Increment],_xlfn.XLOOKUP('Imperial Incremental Crate'!$R$3,ImperialIncrementalData[#Headers],ImperialIncrementalData[]),,1),0))","v":""},"",{"$f":"IF(B108=\"\",\"\",IFERROR(_xlfn.XLOOKUP(B108,ImperialIncrementalData[System Increment],_xlfn.XLOOKUP(Imperial_Incremental_Data_Target_Column,ImperialIncrementalData[#Headers],ImperialIncrementalData[]),,1),0))","v":""},{"$f":"IF(B108=\"\",\"\",IF(B109=\"\",((((1)/12)*Imperial_Module_Square_Foot_Area)-'Cumulative Volumes Imperial'!E108)*Imperial_Stone_Void_Percentage,((((B108-B109)/12)*Imperial_Module_Square_Foot_Area)-'Cumulative Volumes Imperial'!E108)*Imperial_Stone_Void_Percentage))","v":""},"",{"$f":"IF(B108=\"\",\"\",((Imperial_System_Area_Input-Imperial_Number_Of_Stacks*_xlfn.XLOOKUP(Imperial_Layers,CrateData[Layer],CrateData[Surface Area (sf)]))/12)*Imperial_Stone_Void_Percentage)","v":""},"","",{"$f":"IF(B108=\"\",\"\",SUM(J108:$J$233))","v":""},"",{"$nulls":8},"",null,{"v":-3.8750000000000044,"d":"-3.88"},"","",null,"",null,{"$f":"IF($AU$21=\"INVERT\",X108,IF(AC107>=$Y$12,\"\",IF(X107=\"\",\"\",INDEX($X$18:$X$227,$AA$17-ROWS($X$18:$X107)))))","v":""},"","","",{"$nulls":26},{"$f":"IF($AU$21=\"INVERT\",X108,IF(AC107>=$Y$12,\"\",IF(X107=\"\",\"\",INDEX($X$18:$X$227,$AA$17-ROWS($X$18:$X107)))))","v":""},"",{"$f":"IF(AE107=\"\",\"\",\n    IF($AU$21=\"TYP\",\n       IF(Y107=\"\",\"\", INDEX($Y$18:$Y$227, $AA$17-ROWS($Y$18:$Y107))),\n       IF($AU$21=\"INVERT\",Y108, \"\")\n    )\n)","v":""},"",null,{"$f":"IF(BL107>=$Y$12,\"\",IF(X107=\"\",\"\",INDEX($X$18:$X$227,$AA$17-ROWS($X$18:$X107))))","v":""},"",0,null,"",null,null,{"$f":"IF(Y107=\"\",\"\",INDEX($Y$17:$Y$227,$AA$17-ROWS($Y$17:$Y107)))","v":""}]
["","",{"$f":"IF(B109=\"\",\"\",IFERROR(_xlfn.XLOOKUP(B109,ImperialIncrementalData[System Increment],_xlfn.XLOOKUP('Imperial Incremental Crate'!$R$3,ImperialIncrementalData[#Headers],ImperialIncrementalData[]),,1),0))","v":""},"",{"$f":"IF(B109=\"\",\"\",IFERROR(_xlfn.XLOOKUP(B109,ImperialIncrementalData[System Increment],_xlfn.XLOOKUP(Imperial_Incremental_Data_Target_Column,ImperialIncrementalData[#Headers],ImperialIncrementalData[]),,1),0))","v":""},{"$f":"IF(B109=\"\",\"\",IF(B110=\"\",((((1)/12)*Imperial_Module_Square_Foot_Area)-'Cumulative Volumes Imperial'!E109)*Imperial_Stone_Void_Percentage,((((B109-B110)/12)*Imperial_Module_Square_Foot_Area)-'Cumulative Volumes Imperial'!E109)*Imperial_Stone_Void_Percentage))","v":""},"",{"$f":"IF(B109=\"\",\"\",((Imperial_System_Area_Input-Imperial_Number_Of_Stacks*_xlfn.XLOOKUP(Imperial_Layers,CrateData[Layer],CrateData[Surface Area (sf)]))/12)*Imperial_Stone_Void_Percentage)","v":""},"","",{"$f":"IF(B109=\"\",\"\",SUM(J109:$J$233))","v":""},"",{"$nulls":8},"",null,{"v":-3.958333333333338,"d":"-3.96"},"","",null,"",null,{"$f":"IF($AU$21=\"INVERT\",X109,IF(AC108>=$Y$12,\"\",IF(X108=\"\",\"\",INDEX($X$18:$X$227,$AA$17-ROWS($X$18:$X108)))))","v":""},"","","",{"$nulls":26},{"$f":"IF($AU$21=\"INVERT\",X109,IF(AC108>=$Y$12,\"\",IF(X108=\"\",\"\",INDEX($X$18:$X$227,$AA$17-ROWS($X$18:$X108)))))","v":""},"",{"$f":"IF(AE108=\"\",\"\",\n    IF($AU$21=\"TYP\",\n       IF(Y108=\"\",\"\", INDEX($Y$18:$Y$227, $AA$17-ROWS($Y$18:$Y108))),\n       IF($AU$21=\"INVERT\",Y109, \"\")\n    )\n)","v":""},"",null,{"$f":"IF(BL108>=$Y$12,\"\",IF(X108=\"\",\"\",INDEX($X$18:$X$227,$AA$17-ROWS($X$18:$X108))))","v":""},"",0,null,"",null,null,{"$f":"IF(Y108=\"\",\"\",INDEX($Y$17:$Y$227,$AA$17-ROWS($Y$17:$Y108)))","v":""}]
["","",{"$f":"IF(B110=\"\",\"\",IFERROR(_xlfn.XLOOKUP(B110,ImperialIncrementalData[System Increment],_xlfn.XLOOKUP('Imperial Incremental Crate'!$R$3,ImperialIncrementalData[#Headers],ImperialIncrementalData[]),,1),0))","v":""},"",{"$f":"IF(B110=\"\",\"\",IFERROR(_xlfn.XLOOKUP(B110,ImperialIncrementalData[System Increment],_xlfn.XLOOKUP(Imperial_Incremental_Data_Target_Column,ImperialIncrementalData[#Headers],ImperialIncrementalData[]),,1),0))","v":""},{"$f":"IF(B110=\"\",\"\",IF(B111=\"\",((((1)/12)*Imperial_Module_Square_Foot_Area)-'Cumulative Volumes Imperial'!E110)*Imperial_Stone_Void_Percentage,((((B110-B111)/12)*Imperial_Module_Square_Foot_Area)-'Cumulative Volumes Imperial'!E110)*Imperial_Stone_Void_Percentage))","v":""},"",{"$f":"IF(B110=\"\",\"\",((Imperial_System_Area_Input-Imperial_Number_Of_Stacks*_xlfn.XLOOKUP(Imperial_Layers,CrateData[Layer],CrateData[Surface Area (sf)]))/12)*Imperial_Stone_Void_Percentage)","v":""},"","",{"$f":"IF(B110=\"\",\"\",SUM(J110:$J$233))","v":""},"",{"$nulls":8},"",null,{"v":-4.041666666666671,"d":"-4.04"},"","",null,"",null,{"$f":"IF($AU$21=\"INVERT\",X110,IF(AC109>=$Y$12,\"\",IF(X109=\"\",\"\",INDEX($X$18:$X$227,$AA$17-ROWS($X$18:$X109)))))","v":""},"","","",{"$nulls":26},{"$f":"IF($AU$21=\"INVERT\",X110,IF(AC109>=$Y$12,\"\",IF(X109=\"\",\"\",INDEX($X$18:$X$227,$AA$17-ROWS($X$18:$X109)))))","v":""},"",{"$f":"IF(AE109=\"\",\"\",\n    IF($AU$21=\"TYP\",\n       IF(Y109=\"\",\"\", INDEX($Y$18:$Y$227, $AA$17-ROWS($Y$18:$Y109))),\n       IF($AU$21=\"INVERT\",Y110, \"\")\n    )\n)","v":""},"",null,{"$f":"IF(BL109>=$Y$12,\"\",IF(X109=\"\",\"\",INDEX($X$18:$X$227,$AA$17-ROWS($X$18:$X109))))","v":""},"",0,null,"",null,null,{"$f":"IF(Y109=\"\",\"\",INDEX($Y$17:$Y$227,$AA$17-ROWS($Y$17:$Y109)))","v":""}]
["","",{"$f":"IF(B111=\"\",\"\",IFERROR(_xlfn.XLOOKUP(B111,ImperialIncrementalData[System Increment],_xlfn.XLOOKUP('Imperial Incremental Crate'!$R$3,ImperialIncrementalData[#Headers],ImperialIncrementalData[]),,1),0))","v":""},"",{"$f":"IF(B111=\"\",\"\",IFERROR(_xlfn.XLOOKUP(B111,ImperialIncrementalData[System Increment],_xlfn.XLOOKUP(Imperial_Incremental_Data_Target_Column,ImperialIncrementalData[#Headers],ImperialIncrementalData[]),,1),0))","v":""},{"$f":"IF(B111=\"\",\"\",IF(B112=\"\",((((1)/12)*Imperial_Module_Square_Foot_Area)-'Cumulative Volumes Imperial'!E111)*Imperial_Stone_Void_Percentage,((((B111-B112)/12)*Imperial_Module_Square_Foot_Area)-'Cumulative Volumes Imperial'!E111)*Imperial_Stone_Void_Percentage))","v":""},"",{"$f":"IF(B111=\"\",\"\",((Imperial_System_Area_Input-Imperial_Number_Of_Stacks*_xlfn.XLOOKUP(Imperial_Layers,CrateData[Layer],CrateData[Surface Area (sf)]))/12)*Imperial_Stone_Void_Percentage)","v":""},"","",{"$f":"IF(B111=\"\",\"\",SUM(J111:$J$233))","v":""},"",{"$nulls":8},"",null,{"v":-4.125000000000004,"d":"-4.13"},"","",null,"",null,{"$f":"IF($AU$21=\"INVERT\",X111,IF(AC110>=$Y$12,\"\",IF(X110=\"\",\"\",INDEX($X$18:$X$227,$AA$17-ROWS($X$18:$X110)))))","v":""},"","","",{"$nulls":26},{"$f":"IF($AU$21=\"INVERT\",X111,IF(AC110>=$Y$12,\"\",IF(X110=\"\",\"\",INDEX($X$18:$X$227,$AA$17-ROWS($X$18:$X110)))))","v":""},"",{"$f":"IF(AE110=\"\",\"\",\n    IF($AU$21=\"TYP\",\n       IF(Y110=\"\",\"\", INDEX($Y$18:$Y$227, $AA$17-ROWS($Y$18:$Y110))),\n       IF($AU$21=\"INVERT\",Y111, \"\")\n    )\n)","v":""},"",null,{"$f":"IF(BL110>=$Y$12,\"\",IF(X110=\"\",\"\",INDEX($X$18:$X$227,$AA$17-ROWS($X$18:$X110))))","v":""},"",0,null,"",null,null,{"$f":"IF(Y110=\"\",\"\",INDEX($Y$17:$Y$227,$AA$17-ROWS($Y$17:$Y110)))","v":""}]
["","",{"$f":"IF(B112=\"\",\"\",IFERROR(_xlfn.XLOOKUP(B112,ImperialIncrementalData[System Increment],_xlfn.XLOOKUP('Imperial Incremental Crate'!$R$3,ImperialIncrementalData[#Headers],ImperialIncrementalData[]),,1),0))","v":""},"",{"$f":"IF(B112=\"\",\"\",IFERROR(_xlfn.XLOOKUP(B112,ImperialIncrementalData[System Increment],_xlfn.XLOOKUP(Imperial_Incremental_Data_Target_Column,ImperialIncrementalData[#Headers],ImperialIncrementalData[]),,1),0))","v":""},{"$f":"IF(B112=\"\",\"\",IF(B113=\"\",((((1)/12)*Imperial_Module_Square_Foot_Area)-'Cumulative Volumes Imperial'!E112)*Imperial_Stone_Void_Percentage,((((B112-B113)/12)*Imperial_Module_Square_Foot_Area)-'Cumulative Volumes Imperial'!E112)*Imperial_Stone_Void_Percentage))","v":""},"",{"$f":"IF(B112=\"\",\"\",((Imperial_System_Area_Input-Imperial_Number_Of_Stacks*_xlfn.XLOOKUP(Imperial_Layers,CrateData[Layer],CrateData[Surface Area (sf)]))/12)*Imperial_Stone_Void_Percentage)","v":""},"","",{"$f":"IF(B112=\"\",\"\",SUM(J112:$J$233))","v":""},"",{"$nulls":8},"",null,{"v":-4.2083333333333375,"d":"-4.21"},"","",null,"",null,{"$f":"IF($AU$21=\"INVERT\",X112,IF(AC111>=$Y$12,\"\",IF(X111=\"\",\"\",INDEX($X$18:$X$227,$AA$17-ROWS($X$18:$X111)))))","v":""},"","","",{"$nulls":26},{"$f":"IF($AU$21=\"INVERT\",X112,IF(AC111>=$Y$12,\"\",IF(X111=\"\",\"\",INDEX($X$18:$X$227,$AA$17-ROWS($X$18:$X111)))))","v":""},"",{"$f":"IF(AE111=\"\",\"\",\n    IF($AU$21=\"TYP\",\n       IF(Y111=\"\",\"\", INDEX($Y$18:$Y$227, $AA$17-ROWS($Y$18:$Y111))),\n       IF($AU$21=\"INVERT\",Y112, \"\")\n    )\n)","v":""},"",null,{"$f":"IF(BL111>=$Y$12,\"\",IF(X111=\"\",\"\",INDEX($X$18:$X$227,$AA$17-ROWS($X$18:$X111))))","v":""},"",0,null,"",null,null,{"$f":"IF(Y111=\"\",\"\",INDEX($Y$17:$Y$227,$AA$17-ROWS($Y$17:$Y111)))","v":""}]
["","",{"$f":"IF(B113=\"\",\"\",IFERROR(_xlfn.XLOOKUP(B113,ImperialIncrementalData[System Increment],_xlfn.XLOOKUP('Imperial Incremental Crate'!$R$3,ImperialIncrementalData[#Headers],ImperialIncrementalData[]),,1),0))","v":""},"",{"$f":"IF(B113=\"\",\"\",IFERROR(_xlfn.XLOOKUP(B113,ImperialIncrementalData[System Increment],_xlfn.XLOOKUP(Imperial_Incremental_Data_Target_Column,ImperialIncrementalData[#Headers],ImperialIncrementalData[]),,1),0))","v":""},{"$f":"IF(B113=\"\",\"\",IF(B114=\"\",((((1)/12)*Imperial_Module_Square_Foot_Area)-'Cumulative Volumes Imperial'!E113)*Imperial_Stone_Void_Percentage,((((B113-B114)/12)*Imperial_Module_Square_Foot_Area)-'Cumulative Volumes Imperial'!E113)*Imperial_Stone_Void_Percentage))","v":""},"",{"$f":"IF(B113=\"\",\"\",((Imperial_System_Area_Input-Imperial_Number_Of_Stacks*_xlfn.XLOOKUP(Imperial_Layers,CrateData[Layer],CrateData[Surface Area (sf)]))/12)*Imperial_Stone_Void_Percentage)","v":""},"","",{"$f":"IF(B113=\"\",\"\",SUM(J113:$J$233))","v":""},"",{"$nulls":8},"",null,{"v":-4.2916666666666705,"d":"-4.29"},"","",null,"",null,{"$f":"IF($AU$21=\"INVERT\",X113,IF(AC112>=$Y$12,\"\",IF(X112=\"\",\"\",INDEX($X$18:$X$227,$AA$17-ROWS($X$18:$X112)))))","v":""},"","","",{"$nulls":26},{"$f":"IF($AU$21=\"INVERT\",X113,IF(AC112>=$Y$12,\"\",IF(X112=\"\",\"\",INDEX($X$18:$X$227,$AA$17-ROWS($X$18:$X112)))))","v":""},"",{"$f":"IF(AE112=\"\",\"\",\n    IF($AU$21=\"TYP\",\n       IF(Y112=\"\",\"\", INDEX($Y$18:$Y$227, $AA$17-ROWS($Y$18:$Y112))),\n       IF($AU$21=\"INVERT\",Y113, \"\")\n    )\n)","v":""},"",null,{"$f":"IF(BL112>=$Y$12,\"\",IF(X112=\"\",\"\",INDEX($X$18:$X$227,$AA$17-ROWS($X$18:$X112))))","v":""},"",0,null,"",null,null,{"$f":"IF(Y112=\"\",\"\",INDEX($Y$17:$Y$227,$AA$17-ROWS($Y$17:$Y112)))","v":""}]
["","",{"$f":"IF(B114=\"\",\"\",IFERROR(_xlfn.XLOOKUP(B114,ImperialIncrementalData[System Increment],_xlfn.XLOOKUP('Imperial Incremental Crate'!$R$3,ImperialIncrementalData[#Headers],ImperialIncrementalData[]),,1),0))","v":""},"",{"$f":"IF(B114=\"\",\"\",IFERROR(_xlfn.XLOOKUP(B114,ImperialIncrementalData[System Increment],_xlfn.XLOOKUP(Imperial_Incremental_Data_Target_Column,ImperialIncrementalData[#Headers],ImperialIncrementalData[]),,1),0))","v":""},{"$f":"IF(B114=\"\",\"\",IF(B115=\"\",((((1)/12)*Imperial_Module_Square_Foot_Area)-'Cumulative Volumes Imperial'!E114)*Imperial_Stone_Void_Percentage,((((B114-B115)/12)*Imperial_Module_Square_Foot_Area)-'Cumulative Volumes Imperial'!E114)*Imperial_Stone_Void_Percentage))","v":""},"",{"$f":"IF(B114=\"\",\"\",((Imperial_System_Area_Input-Imperial_Number_Of_Stacks*_xlfn.XLOOKUP(Imperial_Layers,CrateData[Layer],CrateData[Surface Area (sf)]))/12)*Imperial_Stone_Void_Percentage)","v":""},"","",{"$f":"IF(B114=\"\",\"\",SUM(J114:$J$233))","v":""},"",{"$nulls":8},"",null,{"v":-4.3750000000000036,"d":"-4.38"},"","",null,"",null,{"$f":"IF($AU$21=\"INVERT\",X114,IF(AC113>=$Y$12,\"\",IF(X113=\"\",\"\",INDEX($X$18:$X$227,$AA$17-ROWS($X$18:$X113)))))","v":""},"","","",{"$nulls":26},{"$f":"IF($AU$21=\"INVERT\",X114,IF(AC113>=$Y$12,\"\",IF(X113=\"\",\"\",INDEX($X$18:$X$227,$AA$17-ROWS($X$18:$X113)))))","v":""},"",{"$f":"IF(AE113=\"\",\"\",\n    IF($AU$21=\"TYP\",\n       IF(Y113=\"\",\"\", INDEX($Y$18:$Y$227, $AA$17-ROWS($Y$18:$Y113))),\n       IF($AU$21=\"INVERT\",Y114, \"\")\n    )\n)","v":""},"",null,{"$f":"IF(BL113>=$Y$12,\"\",IF(X113=\"\",\"\",INDEX($X$18:$X$227,$AA$17-ROWS($X$18:$X113))))","v":""},"",0,null,"",null,null,{"$f":"IF(Y113=\"\",\"\",INDEX($Y$17:$Y$227,$AA$17-ROWS($Y$17:$Y113)))","v":""}]
["","",{"$f":"IF(B115=\"\",\"\",IFERROR(_xlfn.XLOOKUP(B115,ImperialIncrementalData[System Increment],_xlfn.XLOOKUP('Imperial Incremental Crate'!$R$3,ImperialIncrementalData[#Headers],ImperialIncrementalData[]),,1),0))","v":""},"",{"$f":"IF(B115=\"\",\"\",IFERROR(_xlfn.XLOOKUP(B115,ImperialIncrementalData[System Increment],_xlfn.XLOOKUP(Imperial_Incremental_Data_Target_Column,ImperialIncrementalData[#Headers],ImperialIncrementalData[]),,1),0))","v":""},{"$f":"IF(B115=\"\",\"\",IF(B116=\"\",((((1)/12)*Imperial_Module_Square_Foot_Area)-'Cumulative Volumes Imperial'!E115)*Imperial_Stone_Void_Percentage,((((B115-B116)/12)*Imperial_Module_Square_Foot_Area)-'Cumulative Volumes Imperial'!E115)*Imperial_Stone_Void_Percentage))","v":""},"",{"$f":"IF(B115=\"\",\"\",((Imperial_System_Area_Input-Imperial_Number_Of_Stacks*_xlfn.XLOOKUP(Imperial_Layers,CrateData[Layer],CrateData[Surface Area (sf)]))/12)*Imperial_Stone_Void_Percentage)","v":""},"","",{"$f":"IF(B115=\"\",\"\",SUM(J115:$J$233))","v":""},"",{"$nulls":8},"",null,{"v":-4.458333333333337,"d":"-4.46"},"","",null,"",null,{"$f":"IF($AU$21=\"INVERT\",X115,IF(AC114>=$Y$12,\"\",IF(X114=\"\",\"\",INDEX($X$18:$X$227,$AA$17-ROWS($X$18:$X114)))))","v":""},"","","",{"$nulls":26},{"$f":"IF($AU$21=\"INVERT\",X115,IF(AC114>=$Y$12,\"\",IF(X114=\"\",\"\",INDEX($X$18:$X$227,$AA$17-ROWS($X$18:$X114)))))","v":""},"",{"$f":"IF(AE114=\"\",\"\",\n    IF($AU$21=\"TYP\",\n       IF(Y114=\"\",\"\", INDEX($Y$18:$Y$227, $AA$17-ROWS($Y$18:$Y114))),\n       IF($AU$21=\"INVERT\",Y115, \"\")\n    )\n)","v":""},"",null,{"$f":"IF(BL114>=$Y$12,\"\",IF(X114=\"\",\"\",INDEX($X$18:$X$227,$AA$17-ROWS($X$18:$X114))))","v":""},"",0,null,"",null,null,{"$f":"IF(Y114=\"\",\"\",INDEX($Y$17:$Y$227,$AA$17-ROWS($Y$17:$Y114)))","v":""}]
["","",{"$f":"IF(B116=\"\",\"\",IFERROR(_xlfn.XLOOKUP(B116,ImperialIncrementalData[System Increment],_xlfn.XLOOKUP('Imperial Incremental Crate'!$R$3,ImperialIncrementalData[#Headers],ImperialIncrementalData[]),,1),0))","v":""},"",{"$f":"IF(B116=\"\",\"\",IFERROR(_xlfn.XLOOKUP(B116,ImperialIncrementalData[System Increment],_xlfn.XLOOKUP(Imperial_Incremental_Data_Target_Column,ImperialIncrementalData[#Headers],ImperialIncrementalData[]),,1),0))","v":""},{"$f":"IF(B116=\"\",\"\",IF(B117=\"\",((((1)/12)*Imperial_Module_Square_Foot_Area)-'Cumulative Volumes Imperial'!E116)*Imperial_Stone_Void_Percentage,((((B116-B117)/12)*Imperial_Module_Square_Foot_Area)-'Cumulative Volumes Imperial'!E116)*Imperial_Stone_Void_Percentage))","v":""},"",{"$f":"IF(B116=\"\",\"\",((Imperial_System_Area_Input-Imperial_Number_Of_Stacks*_xlfn.XLOOKUP(Imperial_Layers,CrateData[Layer],CrateData[Surface Area (sf)]))/12)*Imperial_Stone_Void_Percentage)","v":""},"","",{"$f":"IF(B116=\"\",\"\",SUM(J116:$J$233))","v":""},"",{"$nulls":8},"",null,{"v":-4.54166666666667,"d":"-4.54"},"","",null,"",null,{"$f":"IF($AU$21=\"INVERT\",X116,IF(AC115>=$Y$12,\"\",IF(X115=\"\",\"\",INDEX($X$18:$X$227,$AA$17-ROWS($X$18:$X115)))))","v":""},"","","",{"$nulls":26},{"$f":"IF($AU$21=\"INVERT\",X116,IF(AC115>=$Y$12,\"\",IF(X115=\"\",\"\",INDEX($X$18:$X$227,$AA$17-ROWS($X$18:$X115)))))","v":""},"",{"$f":"IF(AE115=\"\",\"\",\n    IF($AU$21=\"TYP\",\n       IF(Y115=\"\",\"\", INDEX($Y$18:$Y$227, $AA$17-ROWS($Y$18:$Y115))),\n       IF($AU$21=\"INVERT\",Y116, \"\")\n    )\n)","v":""},"",null,{"$f":"IF(BL115>=$Y$12,\"\",IF(X115=\"\",\"\",INDEX($X$18:$X$227,$AA$17-ROWS($X$18:$X115))))","v":""},"",0,null,"",null,null,{"$f":"IF(Y115=\"\",\"\",INDEX($Y$17:$Y$227,$AA$17-ROWS($Y$17:$Y115)))","v":""}]
["","",{"$f":"IF(B117=\"\",\"\",IFERROR(_xlfn.XLOOKUP(B117,ImperialIncrementalData[System Increment],_xlfn.XLOOKUP('Imperial Incremental Crate'!$R$3,ImperialIncrementalData[#Headers],ImperialIncrementalData[]),,1),0))","v":""},"",{"$f":"IF(B117=\"\",\"\",IFERROR(_xlfn.XLOOKUP(B117,ImperialIncrementalData[System Increment],_xlfn.XLOOKUP(Imperial_Incremental_Data_Target_Column,ImperialIncrementalData[#Headers],ImperialIncrementalData[]),,1),0))","v":""},{"$f":"IF(B117=\"\",\"\",IF(B118=\"\",((((1)/12)*Imperial_Module_Square_Foot_Area)-'Cumulative Volumes Imperial'!E117)*Imperial_Stone_Void_Percentage,((((B117-B118)/12)*Imperial_Module_Square_Foot_Area)-'Cumulative Volumes Imperial'!E117)*Imperial_Stone_Void_Percentage))","v":""},"",{"$f":"IF(B117=\"\",\"\",((Imperial_System_Area_Input-Imperial_Number_Of_Stacks*_xlfn.XLOOKUP(Imperial_Layers,CrateData[Layer],CrateData[Surface Area (sf)]))/12)*Imperial_Stone_Void_Percentage)","v":""},"","",{"$f":"IF(B117=\"\",\"\",SUM(J117:$J$233))","v":""},"",{"$nulls":8},"",null,{"v":-4.625000000000003,"d":"-4.63"},"","",null,"",null,{"$f":"IF($AU$21=\"INVERT\",X117,IF(AC116>=$Y$12,\"\",IF(X116=\"\",\"\",INDEX($X$18:$X$227,$AA$17-ROWS($X$18:$X116)))))","v":""},"","","",{"$nulls":26},{"$f":"IF($AU$21=\"INVERT\",X117,IF(AC116>=$Y$12,\"\",IF(X116=\"\",\"\",INDEX($X$18:$X$227,$AA$17-ROWS($X$18:$X116)))))","v":""},"",{"$f":"IF(AE116=\"\",\"\",\n    IF($AU$21=\"TYP\",\n       IF(Y116=\"\",\"\", INDEX($Y$18:$Y$227, $AA$17-ROWS($Y$18:$Y116))),\n       IF($AU$21=\"INVERT\",Y117, \"\")\n    )\n)","v":""},"",null,{"$f":"IF(BL116>=$Y$12,\"\",IF(X116=\"\",\"\",INDEX($X$18:$X$227,$AA$17-ROWS($X$18:$X116))))","v":""},"",0,null,"",null,null,{"$f":"IF(Y116=\"\",\"\",INDEX($Y$17:$Y$227,$AA$17-ROWS($Y$17:$Y116)))","v":""}]
["","",{"$f":"IF(B118=\"\",\"\",IFERROR(_xlfn.XLOOKUP(B118,ImperialIncrementalData[System Increment],_xlfn.XLOOKUP('Imperial Incremental Crate'!$R$3,ImperialIncrementalData[#Headers],ImperialIncrementalData[]),,1),0))","v":""},"",{"$f":"IF(B118=\"\",\"\",IFERROR(_xlfn.XLOOKUP(B118,ImperialIncrementalData[System Increment],_xlfn.XLOOKUP(Imperial_Incremental_Data_Target_Column,ImperialIncrementalData[#Headers],ImperialIncrementalData[]),,1),0))","v":""},{"$f":"IF(B118=\"\",\"\",IF(B119=\"\",((((1)/12)*Imperial_Module_Square_Foot_Area)-'Cumulative Volumes Imperial'!E118)*Imperial_Stone_Void_Percentage,((((B118-B119)/12)*Imperial_Module_Square_Foot_Area)-'Cumulative Volumes Imperial'!E118)*Imperial_Stone_Void_Percentage))","v":""},"",{"$f":"IF(B118=\"\",\"\",((Imperial_System_Area_Input-Imperial_Number_Of_Stacks*_xlfn.XLOOKUP(Imperial_Layers,CrateData[Layer],CrateData[Surface Area (sf)]))/12)*Imperial_Stone_Void_Percentage)","v":""},"","",{"$f":"IF(B118=\"\",\"\",SUM(J118:$J$233))","v":""},"",{"$nulls":8},"",null,{"v":-4.708333333333336,"d":"-4.71"},"","",null,"",null,{"$f":"IF($AU$21=\"INVERT\",X118,IF(AC117>=$Y$12,\"\",IF(X117=\"\",\"\",INDEX($X$18:$X$227,$AA$17-ROWS($X$18:$X117)))))","v":""},"","","",{"$nulls":26},{"$f":"IF($AU$21=\"INVERT\",X118,IF(AC117>=$Y$12,\"\",IF(X117=\"\",\"\",INDEX($X$18:$X$227,$AA$17-ROWS($X$18:$X117)))))","v":""},"",{"$f":"IF(AE117=\"\",\"\",\n    IF($AU$21=\"TYP\",\n       IF(Y117=\"\",\"\", INDEX($Y$18:$Y$227, $AA$17-ROWS($Y$18:$Y117))),\n       IF($AU$21=\"INVERT\",Y118, \"\")\n    )\n)","v":""},"",null,{"$f":"IF(BL117>=$Y$12,\"\",IF(X117=\"\",\"\",INDEX($X$18:$X$227,$AA$17-ROWS($X$18:$X117))))","v":""},"",0,null,"",null,null,{"$f":"IF(Y117=\"\",\"\",INDEX($Y$17:$Y$227,$AA$17-ROWS($Y$17:$Y117)))","v":""}]
["","",{"$f":"IF(B119=\"\",\"\",IFERROR(_xlfn.XLOOKUP(B119,ImperialIncrementalData[System Increment],_xlfn.XLOOKUP('Imperial Incremental Crate'!$R$3,ImperialIncrementalData[#Headers],ImperialIncrementalData[]),,1),0))","v":""},"",{"$f":"IF(B119=\"\",\"\",IFERROR(_xlfn.XLOOKUP(B119,ImperialIncrementalData[System Increment],_xlfn.XLOOKUP(Imperial_Incremental_Data_Target_Column,ImperialIncrementalData[#Headers],ImperialIncrementalData[]),,1),0))","v":""},{"$f":"IF(B119=\"\",\"\",IF(B120=\"\",((((1)/12)*Imperial_Module_Square_Foot_Area)-'Cumulative Volumes Imperial'!E119)*Imperial_Stone_Void_Percentage,((((B119-B120)/12)*Imperial_Module_Square_Foot_Area)-'Cumulative Volumes Imperial'!E119)*Imperial_Stone_Void_Percentage))","v":""},"",{"$f":"IF(B119=\"\",\"\",((Imperial_System_Area_Input-Imperial_Number_Of_Stacks*_xlfn.XLOOKUP(Imperial_Layers,CrateData[Layer],CrateData[Surface Area (sf)]))/12)*Imperial_Stone_Void_Percentage)","v":""},"","",{"$f":"IF(B119=\"\",\"\",SUM(J119:$J$233))","v":""},"",{"$nulls":8},"",null,{"v":-4.791666666666669,"d":"-4.79"},"","",null,"",null,{"$f":"IF($AU$21=\"INVERT\",X119,IF(AC118>=$Y$12,\"\",IF(X118=\"\",\"\",INDEX($X$18:$X$227,$AA$17-ROWS($X$18:$X118)))))","v":""},"","","",{"$nulls":26},{"$f":"IF($AU$21=\"INVERT\",X119,IF(AC118>=$Y$12,\"\",IF(X118=\"\",\"\",INDEX($X$18:$X$227,$AA$17-ROWS($X$18:$X118)))))","v":""},"",{"$f":"IF(AE118=\"\",\"\",\n    IF($AU$21=\"TYP\",\n       IF(Y118=\"\",\"\", INDEX($Y$18:$Y$227, $AA$17-ROWS($Y$18:$Y118))),\n       IF($AU$21=\"INVERT\",Y119, \"\")\n    )\n)","v":""},"",null,{"$f":"IF(BL118>=$Y$12,\"\",IF(X118=\"\",\"\",INDEX($X$18:$X$227,$AA$17-ROWS($X$18:$X118))))","v":""},"",0,null,"",null,null,{"$f":"IF(Y118=\"\",\"\",INDEX($Y$17:$Y$227,$AA$17-ROWS($Y$17:$Y118)))","v":""}]
["","",{"$f":"IF(B120=\"\",\"\",IFERROR(_xlfn.XLOOKUP(B120,ImperialIncrementalData[System Increment],_xlfn.XLOOKUP('Imperial Incremental Crate'!$R$3,ImperialIncrementalData[#Headers],ImperialIncrementalData[]),,1),0))","v":""},"",{"$f":"IF(B120=\"\",\"\",IFERROR(_xlfn.XLOOKUP(B120,ImperialIncrementalData[System Increment],_xlfn.XLOOKUP(Imperial_Incremental_Data_Target_Column,ImperialIncrementalData[#Headers],ImperialIncrementalData[]),,1),0))","v":""},{"$f":"IF(B120=\"\",\"\",IF(B121=\"\",((((1)/12)*Imperial_Module_Square_Foot_Area)-'Cumulative Volumes Imperial'!E120)*Imperial_Stone_Void_Percentage,((((B120-B121)/12)*Imperial_Module_Square_Foot_Area)-'Cumulative Volumes Imperial'!E120)*Imperial_Stone_Void_Percentage))","v":""},"",{"$f":"IF(B120=\"\",\"\",((Imperial_System_Area_Input-Imperial_Number_Of_Stacks*_xlfn.XLOOKUP(Imperial_Layers,CrateData[Layer],CrateData[Surface Area (sf)]))/12)*Imperial_Stone_Void_Percentage)","v":""},"","",{"$f":"IF(B120=\"\",\"\",SUM(J120:$J$233))","v":""},"",{"$nulls":8},"",null,{"v":-4.875000000000002,"d":"-4.88"},"","",null,"",null,{"$f":"IF($AU$21=\"INVERT\",X120,IF(AC119>=$Y$12,\"\",IF(X119=\"\",\"\",INDEX($X$18:$X$227,$AA$17-ROWS($X$18:$X119)))))","v":""},"","","",{"$nulls":26},{"$f":"IF($AU$21=\"INVERT\",X120,IF(AC119>=$Y$12,\"\",IF(X119=\"\",\"\",INDEX($X$18:$X$227,$AA$17-ROWS($X$18:$X119)))))","v":""},"",{"$f":"IF(AE119=\"\",\"\",\n    IF($AU$21=\"TYP\",\n       IF(Y119=\"\",\"\", INDEX($Y$18:$Y$227, $AA$17-ROWS($Y$18:$Y119))),\n       IF($AU$21=\"INVERT\",Y120, \"\")\n    )\n)","v":""},"",null,{"$f":"IF(BL119>=$Y$12,\"\",IF(X119=\"\",\"\",INDEX($X$18:$X$227,$AA$17-ROWS($X$18:$X119))))","v":""},"",0,null,"",null,null,{"$f":"IF(Y119=\"\",\"\",INDEX($Y$17:$Y$227,$AA$17-ROWS($Y$17:$Y119)))","v":""}]
["","",{"$f":"IF(B121=\"\",\"\",IFERROR(_xlfn.XLOOKUP(B121,ImperialIncrementalData[System Increment],_xlfn.XLOOKUP('Imperial Incremental Crate'!$R$3,ImperialIncrementalData[#Headers],ImperialIncrementalData[]),,1),0))","v":""},"",{"$f":"IF(B121=\"\",\"\",IFERROR(_xlfn.XLOOKUP(B121,ImperialIncrementalData[System Increment],_xlfn.XLOOKUP(Imperial_Incremental_Data_Target_Column,ImperialIncrementalData[#Headers],ImperialIncrementalData[]),,1),0))","v":""},{"$f":"IF(B121=\"\",\"\",IF(B122=\"\",((((1)/12)*Imperial_Module_Square_Foot_Area)-'Cumulative Volumes Imperial'!E121)*Imperial_Stone_Void_Percentage,((((B121-B122)/12)*Imperial_Module_Square_Foot_Area)-'Cumulative Volumes Imperial'!E121)*Imperial_Stone_Void_Percentage))","v":""},"",{"$f":"IF(B121=\"\",\"\",((Imperial_System_Area_Input-Imperial_Number_Of_Stacks*_xlfn.XLOOKUP(Imperial_Layers,CrateData[Layer],CrateData[Surface Area (sf)]))/12)*Imperial_Stone_Void_Percentage)","v":""},"","",{"$f":"IF(B121=\"\",\"\",SUM(J121:$J$233))","v":""},"",{"$nulls":8},"",null,{"v":-4.958333333333335,"d":"-4.96"},"","",null,"",null,{"$f":"IF($AU$21=\"INVERT\",X121,IF(AC120>=$Y$12,\"\",IF(X120=\"\",\"\",INDEX($X$18:$X$227,$AA$17-ROWS($X$18:$X120)))))","v":""},"","","",{"$nulls":26},{"$f":"IF($AU$21=\"INVERT\",X121,IF(AC120>=$Y$12,\"\",IF(X120=\"\",\"\",INDEX($X$18:$X$227,$AA$17-ROWS($X$18:$X120)))))","v":""},"",{"$f":"IF(AE120=\"\",\"\",\n    IF($AU$21=\"TYP\",\n       IF(Y120=\"\",\"\", INDEX($Y$18:$Y$227, $AA$17-ROWS($Y$18:$Y120))),\n       IF($AU$21=\"INVERT\",Y121, \"\")\n    )\n)","v":""},"",null,{"$f":"IF(BL120>=$Y$12,\"\",IF(X120=\"\",\"\",INDEX($X$18:$X$227,$AA$17-ROWS($X$18:$X120))))","v":""},"",0,null,"",null,null,{"$f":"IF(Y120=\"\",\"\",INDEX($Y$17:$Y$227,$AA$17-ROWS($Y$17:$Y120)))","v":""}]
["","",{"$f":"IF(B122=\"\",\"\",IFERROR(_xlfn.XLOOKUP(B122,ImperialIncrementalData[System Increment],_xlfn.XLOOKUP('Imperial Incremental Crate'!$R$3,ImperialIncrementalData[#Headers],ImperialIncrementalData[]),,1),0))","v":""},"",{"$f":"IF(B122=\"\",\"\",IFERROR(_xlfn.XLOOKUP(B122,ImperialIncrementalData[System Increment],_xlfn.XLOOKUP(Imperial_Incremental_Data_Target_Column,ImperialIncrementalData[#Headers],ImperialIncrementalData[]),,1),0))","v":""},{"$f":"IF(B122=\"\",\"\",IF(B123=\"\",((((1)/12)*Imperial_Module_Square_Foot_Area)-'Cumulative Volumes Imperial'!E122)*Imperial_Stone_Void_Percentage,((((B122-B123)/12)*Imperial_Module_Square_Foot_Area)-'Cumulative Volumes Imperial'!E122)*Imperial_Stone_Void_Percentage))","v":""},"",{"$f":"IF(B122=\"\",\"\",((Imperial_System_Area_Input-Imperial_Number_Of_Stacks*_xlfn.XLOOKUP(Imperial_Layers,CrateData[Layer],CrateData[Surface Area (sf)]))/12)*Imperial_Stone_Void_Percentage)","v":""},"","",{"$f":"IF(B122=\"\",\"\",SUM(J122:$J$233))","v":""},"",{"$nulls":8},"",null,{"v":-5.041666666666668,"d":"-5.04"},"","",null,"",null,{"$f":"IF($AU$21=\"INVERT\",X122,IF(AC121>=$Y$12,\"\",IF(X121=\"\",\"\",INDEX($X$18:$X$227,$AA$17-ROWS($X$18:$X121)))))","v":""},"","","",{"$nulls":26},{"$f":"IF($AU$21=\"INVERT\",X122,IF(AC121>=$Y$12,\"\",IF(X121=\"\",\"\",INDEX($X$18:$X$227,$AA$17-ROWS($X$18:$X121)))))","v":""},"",{"$f":"IF(AE121=\"\",\"\",\n    IF($AU$21=\"TYP\",\n       IF(Y121=\"\",\"\", INDEX($Y$18:$Y$227, $AA$17-ROWS($Y$18:$Y121))),\n       IF($AU$21=\"INVERT\",Y122, \"\")\n    )\n)","v":""},"",null,{"$f":"IF(BL121>=$Y$12,\"\",IF(X121=\"\",\"\",INDEX($X$18:$X$227,$AA$17-ROWS($X$18:$X121))))","v":""},"",0,null,"",null,null,{"$f":"IF(Y121=\"\",\"\",INDEX($Y$17:$Y$227,$AA$17-ROWS($Y$17:$Y121)))","v":""}]
["","",{"$f":"IF(B123=\"\",\"\",IFERROR(_xlfn.XLOOKUP(B123,ImperialIncrementalData[System Increment],_xlfn.XLOOKUP('Imperial Incremental Crate'!$R$3,ImperialIncrementalData[#Headers],ImperialIncrementalData[]),,1),0))","v":""},"",{"$f":"IF(B123=\"\",\"\",IFERROR(_xlfn.XLOOKUP(B123,ImperialIncrementalData[System Increment],_xlfn.XLOOKUP(Imperial_Incremental_Data_Target_Column,ImperialIncrementalData[#Headers],ImperialIncrementalData[]),,1),0))","v":""},{"$f":"IF(B123=\"\",\"\",IF(B124=\"\",((((1)/12)*Imperial_Module_Square_Foot_Area)-'Cumulative Volumes Imperial'!E123)*Imperial_Stone_Void_Percentage,((((B123-B124)/12)*Imperial_Module_Square_Foot_Area)-'Cumulative Volumes Imperial'!E123)*Imperial_Stone_Void_Percentage))","v":""},"",{"$f":"IF(B123=\"\",\"\",((Imperial_System_Area_Input-Imperial_Number_Of_Stacks*_xlfn.XLOOKUP(Imperial_Layers,CrateData[Layer],CrateData[Surface Area (sf)]))/12)*Imperial_Stone_Void_Percentage)","v":""},"","",{"$f":"IF(B123=\"\",\"\",SUM(J123:$J$233))","v":""},"",{"$nulls":8},"",null,{"v":-5.125000000000001,"d":"-5.13"},"","",null,"",null,{"$f":"IF($AU$21=\"INVERT\",X123,IF(AC122>=$Y$12,\"\",IF(X122=\"\",\"\",INDEX($X$18:$X$227,$AA$17-ROWS($X$18:$X122)))))","v":""},"","","",{"$nulls":26},{"$f":"IF($AU$21=\"INVERT\",X123,IF(AC122>=$Y$12,\"\",IF(X122=\"\",\"\",INDEX($X$18:$X$227,$AA$17-ROWS($X$18:$X122)))))","v":""},"",{"$f":"IF(AE122=\"\",\"\",\n    IF($AU$21=\"TYP\",\n       IF(Y122=\"\",\"\", INDEX($Y$18:$Y$227, $AA$17-ROWS($Y$18:$Y122))),\n       IF($AU$21=\"INVERT\",Y123, \"\")\n    )\n)","v":""},"",null,{"$f":"IF(BL122>=$Y$12,\"\",IF(X122=\"\",\"\",INDEX($X$18:$X$227,$AA$17-ROWS($X$18:$X122))))","v":""},"",0,null,"",null,null,{"$f":"IF(Y122=\"\",\"\",INDEX($Y$17:$Y$227,$AA$17-ROWS($Y$17:$Y122)))","v":""}]
["","",{"$f":"IF(B124=\"\",\"\",IFERROR(_xlfn.XLOOKUP(B124,ImperialIncrementalData[System Increment],_xlfn.XLOOKUP('Imperial Incremental Crate'!$R$3,ImperialIncrementalData[#Headers],ImperialIncrementalData[]),,1),0))","v":""},"",{"$f":"IF(B124=\"\",\"\",IFERROR(_xlfn.XLOOKUP(B124,ImperialIncrementalData[System Increment],_xlfn.XLOOKUP(Imperial_Incremental_Data_Target_Column,ImperialIncrementalData[#Headers],ImperialIncrementalData[]),,1),0))","v":""},{"$f":"IF(B124=\"\",\"\",IF(B125=\"\",((((1)/12)*Imperial_Module_Square_Foot_Area)-'Cumulative Volumes Imperial'!E124)*Imperial_Stone_Void_Percentage,((((B124-B125)/12)*Imperial_Module_Square_Foot_Area)-'Cumulative Volumes Imperial'!E124)*Imperial_Stone_Void_Percentage))","v":""},"",{"$f":"IF(B124=\"\",\"\",((Imperial_System_Area_Input-Imperial_Number_Of_Stacks*_xlfn.XLOOKUP(Imperial_Layers,CrateData[Layer],CrateData[Surface Area (sf)]))/12)*Imperial_Stone_Void_Percentage)","v":""},"","",{"$f":"IF(B124=\"\",\"\",SUM(J124:$J$233))","v":""},"",{"$nulls":8},"",null,{"v":-5.208333333333334,"d":"-5.21"},"","",null,"",null,{"$f":"IF($AU$21=\"INVERT\",X124,IF(AC123>=$Y$12,\"\",IF(X123=\"\",\"\",INDEX($X$18:$X$227,$AA$17-ROWS($X$18:$X123)))))","v":""},"","","",{"$nulls":26},{"$f":"IF($AU$21=\"INVERT\",X124,IF(AC123>=$Y$12,\"\",IF(X123=\"\",\"\",INDEX($X$18:$X$227,$AA$17-ROWS($X$18:$X123)))))","v":""},"",{"$f":"IF(AE123=\"\",\"\",\n    IF($AU$21=\"TYP\",\n       IF(Y123=\"\",\"\", INDEX($Y$18:$Y$227, $AA$17-ROWS($Y$18:$Y123))),\n       IF($AU$21=\"INVERT\",Y124, \"\")\n    )\n)","v":""},"",null,{"$f":"IF(BL123>=$Y$12,\"\",IF(X123=\"\",\"\",INDEX($X$18:$X$227,$AA$17-ROWS($X$18:$X123))))","v":""},"",0,null,"",null,null,{"$f":"IF(Y123=\"\",\"\",INDEX($Y$17:$Y$227,$AA$17-ROWS($Y$17:$Y123)))","v":""}]
["","",{"$f":"IF(B125=\"\",\"\",IFERROR(_xlfn.XLOOKUP(B125,ImperialIncrementalData[System Increment],_xlfn.XLOOKUP('Imperial Incremental Crate'!$R$3,ImperialIncrementalData[#Headers],ImperialIncrementalData[]),,1),0))","v":""},"",{"$f":"IF(B125=\"\",\"\",IFERROR(_xlfn.XLOOKUP(B125,ImperialIncrementalData[System Increment],_xlfn.XLOOKUP(Imperial_Incremental_Data_Target_Column,ImperialIncrementalData[#Headers],ImperialIncrementalData[]),,1),0))","v":""},{"$f":"IF(B125=\"\",\"\",IF(B126=\"\",((((1)/12)*Imperial_Module_Square_Foot_Area)-'Cumulative Volumes Imperial'!E125)*Imperial_Stone_Void_Percentage,((((B125-B126)/12)*Imperial_Module_Square_Foot_Area)-'Cumulative Volumes Imperial'!E125)*Imperial_Stone_Void_Percentage))","v":""},"",{"$f":"IF(B125=\"\",\"\",((Imperial_System_Area_Input-Imperial_Number_Of_Stacks*_xlfn.XLOOKUP(Imperial_Layers,CrateData[Layer],CrateData[Surface Area (sf)]))/12)*Imperial_Stone_Void_Percentage)","v":""},"","",{"$f":"IF(B125=\"\",\"\",SUM(J125:$J$233))","v":""},"",{"$nulls":8},"",null,{"v":-5.291666666666667,"d":"-5.29"},"","",null,"",null,{"$f":"IF($AU$21=\"INVERT\",X125,IF(AC124>=$Y$12,\"\",IF(X124=\"\",\"\",INDEX($X$18:$X$227,$AA$17-ROWS($X$18:$X124)))))","v":""},"","","",{"$nulls":26},{"$f":"IF($AU$21=\"INVERT\",X125,IF(AC124>=$Y$12,\"\",IF(X124=\"\",\"\",INDEX($X$18:$X$227,$AA$17-ROWS($X$18:$X124)))))","v":""},"",{"$f":"IF(AE124=\"\",\"\",\n    IF($AU$21=\"TYP\",\n       IF(Y124=\"\",\"\", INDEX($Y$18:$Y$227, $AA$17-ROWS($Y$18:$Y124))),\n       IF($AU$21=\"INVERT\",Y125, \"\")\n    )\n)","v":""},"",null,{"$f":"IF(BL124>=$Y$12,\"\",IF(X124=\"\",\"\",INDEX($X$18:$X$227,$AA$17-ROWS($X$18:$X124))))","v":""},"",0,null,"",null,null,{"$f":"IF(Y124=\"\",\"\",INDEX($Y$17:$Y$227,$AA$17-ROWS($Y$17:$Y124)))","v":""}]
["","",{"$f":"IF(B126=\"\",\"\",IFERROR(_xlfn.XLOOKUP(B126,ImperialIncrementalData[System Increment],_xlfn.XLOOKUP('Imperial Incremental Crate'!$R$3,ImperialIncrementalData[#Headers],ImperialIncrementalData[]),,1),0))","v":""},"",{"$f":"IF(B126=\"\",\"\",IFERROR(_xlfn.XLOOKUP(B126,ImperialIncrementalData[System Increment],_xlfn.XLOOKUP(Imperial_Incremental_Data_Target_Column,ImperialIncrementalData[#Headers],ImperialIncrementalData[]),,1),0))","v":""},{"$f":"IF(B126=\"\",\"\",IF(B127=\"\",((((1)/12)*Imperial_Module_Square_Foot_Area)-'Cumulative Volumes Imperial'!E126)*Imperial_Stone_Void_Percentage,((((B126-B127)/12)*Imperial_Module_Square_Foot_Area)-'Cumulative Volumes Imperial'!E126)*Imperial_Stone_Void_Percentage))","v":""},"",{"$f":"IF(B126=\"\",\"\",((Imperial_System_Area_Input-Imperial_Number_Of_Stacks*_xlfn.XLOOKUP(Imperial_Layers,CrateData[Layer],CrateData[Surface Area (sf)]))/12)*Imperial_Stone_Void_Percentage)","v":""},"","",{"$f":"IF(B126=\"\",\"\",SUM(J126:$J$233))","v":""},"",{"$nulls":8},"",null,{"v":-5.375,"d":"-5.38"},"","",null,"",null,{"$f":"IF($AU$21=\"INVERT\",X126,IF(AC125>=$Y$12,\"\",IF(X125=\"\",\"\",INDEX($X$18:$X$227,$AA$17-ROWS($X$18:$X125)))))","v":""},"","","",{"$nulls":26},{"$f":"IF($AU$21=\"INVERT\",X126,IF(AC125>=$Y$12,\"\",IF(X125=\"\",\"\",INDEX($X$18:$X$227,$AA$17-ROWS($X$18:$X125)))))","v":""},"",{"$f":"IF(AE125=\"\",\"\",\n    IF($AU$21=\"TYP\",\n       IF(Y125=\"\",\"\", INDEX($Y$18:$Y$227, $AA$17-ROWS($Y$18:$Y125))),\n       IF($AU$21=\"INVERT\",Y126, \"\")\n    )\n)","v":""},"",null,{"$f":"IF(BL125>=$Y$12,\"\",IF(X125=\"\",\"\",INDEX($X$18:$X$227,$AA$17-ROWS($X$18:$X125))))","v":""},"",0,null,"",null,null,{"$f":"IF(Y125=\"\",\"\",INDEX($Y$17:$Y$227,$AA$17-ROWS($Y$17:$Y125)))","v":""}]
["","",{"$f":"IF(B127=\"\",\"\",IFERROR(_xlfn.XLOOKUP(B127,ImperialIncrementalData[System Increment],_xlfn.XLOOKUP('Imperial Incremental Crate'!$R$3,ImperialIncrementalData[#Headers],ImperialIncrementalData[]),,1),0))","v":""},"",{"$f":"IF(B127=\"\",\"\",IFERROR(_xlfn.XLOOKUP(B127,ImperialIncrementalData[System Increment],_xlfn.XLOOKUP(Imperial_Incremental_Data_Target_Column,ImperialIncrementalData[#Headers],ImperialIncrementalData[]),,1),0))","v":""},{"$f":"IF(B127=\"\",\"\",IF(B128=\"\",((((1)/12)*Imperial_Module_Square_Foot_Area)-'Cumulative Volumes Imperial'!E127)*Imperial_Stone_Void_Percentage,((((B127-B128)/12)*Imperial_Module_Square_Foot_Area)-'Cumulative Volumes Imperial'!E127)*Imperial_Stone_Void_Percentage))","v":""},"",{"$f":"IF(B127=\"\",\"\",((Imperial_System_Area_Input-Imperial_Number_Of_Stacks*_xlfn.XLOOKUP(Imperial_Layers,CrateData[Layer],CrateData[Surface Area (sf)]))/12)*Imperial_Stone_Void_Percentage)","v":""},"","",{"$f":"IF(B127=\"\",\"\",SUM(J127:$J$233))","v":""},"",{"$nulls":8},"",null,{"v":-5.458333333333333,"d":"-5.46"},"","",null,"",null,{"$f":"IF($AU$21=\"INVERT\",X127,IF(AC126>=$Y$12,\"\",IF(X126=\"\",\"\",INDEX($X$18:$X$227,$AA$17-ROWS($X$18:$X126)))))","v":""},"","","",{"$nulls":26},{"$f":"IF($AU$21=\"INVERT\",X127,IF(AC126>=$Y$12,\"\",IF(X126=\"\",\"\",INDEX($X$18:$X$227,$AA$17-ROWS($X$18:$X126)))))","v":""},"",{"$f":"IF(AE126=\"\",\"\",\n    IF($AU$21=\"TYP\",\n       IF(Y126=\"\",\"\", INDEX($Y$18:$Y$227, $AA$17-ROWS($Y$18:$Y126))),\n       IF($AU$21=\"INVERT\",Y127, \"\")\n    )\n)","v":""},"",null,{"$f":"IF(BL126>=$Y$12,\"\",IF(X126=\"\",\"\",INDEX($X$18:$X$227,$AA$17-ROWS($X$18:$X126))))","v":""},"",0,null,"",null,null,{"$f":"IF(Y126=\"\",\"\",INDEX($Y$17:$Y$227,$AA$17-ROWS($Y$17:$Y126)))","v":""}]
["","",{"$f":"IF(B128=\"\",\"\",IFERROR(_xlfn.XLOOKUP(B128,ImperialIncrementalData[System Increment],_xlfn.XLOOKUP('Imperial Incremental Crate'!$R$3,ImperialIncrementalData[#Headers],ImperialIncrementalData[]),,1),0))","v":""},"",{"$f":"IF(B128=\"\",\"\",IFERROR(_xlfn.XLOOKUP(B128,ImperialIncrementalData[System Increment],_xlfn.XLOOKUP(Imperial_Incremental_Data_Target_Column,ImperialIncrementalData[#Headers],ImperialIncrementalData[]),,1),0))","v":""},{"$f":"IF(B128=\"\",\"\",IF(B129=\"\",((((1)/12)*Imperial_Module_Square_Foot_Area)-'Cumulative Volumes Imperial'!E128)*Imperial_Stone_Void_Percentage,((((B128-B129)/12)*Imperial_Module_Square_Foot_Area)-'Cumulative Volumes Imperial'!E128)*Imperial_Stone_Void_Percentage))","v":""},"",{"$f":"IF(B128=\"\",\"\",((Imperial_System_Area_Input-Imperial_Number_Of_Stacks*_xlfn.XLOOKUP(Imperial_Layers,CrateData[Layer],CrateData[Surface Area (sf)]))/12)*Imperial_Stone_Void_Percentage)","v":""},"","",{"$f":"IF(B128=\"\",\"\",SUM(J128:$J$233))","v":""},"",{"$nulls":8},"",null,{"v":-5.541666666666666,"d":"-5.54"},"","",null,"",null,{"$f":"IF($AU$21=\"INVERT\",X128,IF(AC127>=$Y$12,\"\",IF(X127=\"\",\"\",INDEX($X$18:$X$227,$AA$17-ROWS($X$18:$X127)))))","v":""},"","","",{"$nulls":26},{"$f":"IF($AU$21=\"INVERT\",X128,IF(AC127>=$Y$12,\"\",IF(X127=\"\",\"\",INDEX($X$18:$X$227,$AA$17-ROWS($X$18:$X127)))))","v":""},"",{"$f":"IF(AE127=\"\",\"\",\n    IF($AU$21=\"TYP\",\n       IF(Y127=\"\",\"\", INDEX($Y$18:$Y$227, $AA$17-ROWS($Y$18:$Y127))),\n       IF($AU$21=\"INVERT\",Y128, \"\")\n    )\n)","v":""},"",null,{"$f":"IF(BL127>=$Y$12,\"\",IF(X127=\"\",\"\",INDEX($X$18:$X$227,$AA$17-ROWS($X$18:$X127))))","v":""},"",0,null,"",null,null,{"$f":"IF(Y127=\"\",\"\",INDEX($Y$17:$Y$227,$AA$17-ROWS($Y$17:$Y127)))","v":""}]
["","",{"$f":"IF(B129=\"\",\"\",IFERROR(_xlfn.XLOOKUP(B129,ImperialIncrementalData[System Increment],_xlfn.XLOOKUP('Imperial Incremental Crate'!$R$3,ImperialIncrementalData[#Headers],ImperialIncrementalData[]),,1),0))","v":""},"",{"$f":"IF(B129=\"\",\"\",IFERROR(_xlfn.XLOOKUP(B129,ImperialIncrementalData[System Increment],_xlfn.XLOOKUP(Imperial_Incremental_Data_Target_Column,ImperialIncrementalData[#Headers],ImperialIncrementalData[]),,1),0))","v":""},{"$f":"IF(B129=\"\",\"\",IF(B130=\"\",((((1)/12)*Imperial_Module_Square_Foot_Area)-'Cumulative Volumes Imperial'!E129)*Imperial_Stone_Void_Percentage,((((B129-B130)/12)*Imperial_Module_Square_Foot_Area)-'Cumulative Volumes Imperial'!E129)*Imperial_Stone_Void_Percentage))","v":""},"",{"$f":"IF(B129=\"\",\"\",((Imperial_System_Area_Input-Imperial_Number_Of_Stacks*_xlfn.XLOOKUP(Imperial_Layers,CrateData[Layer],CrateData[Surface Area (sf)]))/12)*Imperial_Stone_Void_Percentage)","v":""},"","",{"$f":"IF(B129=\"\",\"\",SUM(J129:$J$233))","v":""},"",{"$nulls":8},"",null,{"v":-5.624999999999999,"d":"-5.63"},"","",null,"",null,{"$f":"IF($AU$21=\"INVERT\",X129,IF(AC128>=$Y$12,\"\",IF(X128=\"\",\"\",INDEX($X$18:$X$227,$AA$17-ROWS($X$18:$X128)))))","v":""},"","","",{"$nulls":26},{"$f":"IF($AU$21=\"INVERT\",X129,IF(AC128>=$Y$12,\"\",IF(X128=\"\",\"\",INDEX($X$18:$X$227,$AA$17-ROWS($X$18:$X128)))))","v":""},"",{"$f":"IF(AE128=\"\",\"\",\n    IF($AU$21=\"TYP\",\n       IF(Y128=\"\",\"\", INDEX($Y$18:$Y$227, $AA$17-ROWS($Y$18:$Y128))),\n       IF($AU$21=\"INVERT\",Y129, \"\")\n    )\n)","v":""},"",null,{"$f":"IF(BL128>=$Y$12,\"\",IF(X128=\"\",\"\",INDEX($X$18:$X$227,$AA$17-ROWS($X$18:$X128))))","v":""},"",0,null,"",null,null,{"$f":"IF(Y128=\"\",\"\",INDEX($Y$17:$Y$227,$AA$17-ROWS($Y$17:$Y128)))","v":""}]
["","",{"$f":"IF(B130=\"\",\"\",IFERROR(_xlfn.XLOOKUP(B130,ImperialIncrementalData[System Increment],_xlfn.XLOOKUP('Imperial Incremental Crate'!$R$3,ImperialIncrementalData[#Headers],ImperialIncrementalData[]),,1),0))","v":""},"",{"$f":"IF(B130=\"\",\"\",IFERROR(_xlfn.XLOOKUP(B130,ImperialIncrementalData[System Increment],_xlfn.XLOOKUP(Imperial_Incremental_Data_Target_Column,ImperialIncrementalData[#Headers],ImperialIncrementalData[]),,1),0))","v":""},{"$f":"IF(B130=\"\",\"\",IF(B131=\"\",((((1)/12)*Imperial_Module_Square_Foot_Area)-'Cumulative Volumes Imperial'!E130)*Imperial_Stone_Void_Percentage,((((B130-B131)/12)*Imperial_Module_Square_Foot_Area)-'Cumulative Volumes Imperial'!E130)*Imperial_Stone_Void_Percentage))","v":""},"",{"$f":"IF(B130=\"\",\"\",((Imperial_System_Area_Input-Imperial_Number_Of_Stacks*_xlfn.XLOOKUP(Imperial_Layers,CrateData[Layer],CrateData[Surface Area (sf)]))/12)*Imperial_Stone_Void_Percentage)","v":""},"","",{"$f":"IF(B130=\"\",\"\",SUM(J130:$J$233))","v":""},"",{"$nulls":8},"",null,{"v":-5.708333333333332,"d":"-5.71"},"","",null,"",null,{"$f":"IF($AU$21=\"INVERT\",X130,IF(AC129>=$Y$12,\"\",IF(X129=\"\",\"\",INDEX($X$18:$X$227,$AA$17-ROWS($X$18:$X129)))))","v":""},"","","",{"$nulls":26},{"$f":"IF($AU$21=\"INVERT\",X130,IF(AC129>=$Y$12,\"\",IF(X129=\"\",\"\",INDEX($X$18:$X$227,$AA$17-ROWS($X$18:$X129)))))","v":""},"",{"$f":"IF(AE129=\"\",\"\",\n    IF($AU$21=\"TYP\",\n       IF(Y129=\"\",\"\", INDEX($Y$18:$Y$227, $AA$17-ROWS($Y$18:$Y129))),\n       IF($AU$21=\"INVERT\",Y130, \"\")\n    )\n)","v":""},"",null,{"$f":"IF(BL129>=$Y$12,\"\",IF(X129=\"\",\"\",INDEX($X$18:$X$227,$AA$17-ROWS($X$18:$X129))))","v":""},"",0,null,"",null,null,{"$f":"IF(Y129=\"\",\"\",INDEX($Y$17:$Y$227,$AA$17-ROWS($Y$17:$Y129)))","v":""}]
["","",{"$f":"IF(B131=\"\",\"\",IFERROR(_xlfn.XLOOKUP(B131,ImperialIncrementalData[System Increment],_xlfn.XLOOKUP('Imperial Incremental Crate'!$R$3,ImperialIncrementalData[#Headers],ImperialIncrementalData[]),,1),0))","v":""},"",{"$f":"IF(B131=\"\",\"\",IFERROR(_xlfn.XLOOKUP(B131,ImperialIncrementalData[System Increment],_xlfn.XLOOKUP(Imperial_Incremental_Data_Target_Column,ImperialIncrementalData[#Headers],ImperialIncrementalData[]),,1),0))","v":""},{"$f":"IF(B131=\"\",\"\",IF(B132=\"\",((((1)/12)*Imperial_Module_Square_Foot_Area)-'Cumulative Volumes Imperial'!E131)*Imperial_Stone_Void_Percentage,((((B131-B132)/12)*Imperial_Module_Square_Foot_Area)-'Cumulative Volumes Imperial'!E131)*Imperial_Stone_Void_Percentage))","v":""},"",{"$f":"IF(B131=\"\",\"\",((Imperial_System_Area_Input-Imperial_Number_Of_Stacks*_xlfn.XLOOKUP(Imperial_Layers,CrateData[Layer],CrateData[Surface Area (sf)]))/12)*Imperial_Stone_Void_Percentage)","v":""},"","",{"$f":"IF(B131=\"\",\"\",SUM(J131:$J$233))","v":""},"",{"$nulls":8},"",null,{"v":-5.791666666666665,"d":"-5.79"},"","",null,"",null,{"$f":"IF($AU$21=\"INVERT\",X131,IF(AC130>=$Y$12,\"\",IF(X130=\"\",\"\",INDEX($X$18:$X$227,$AA$17-ROWS($X$18:$X130)))))","v":""},"","","",{"$nulls":26},{"$f":"IF($AU$21=\"INVERT\",X131,IF(AC130>=$Y$12,\"\",IF(X130=\"\",\"\",INDEX($X$18:$X$227,$AA$17-ROWS($X$18:$X130)))))","v":""},"",{"$f":"IF(AE130=\"\",\"\",\n    IF($AU$21=\"TYP\",\n       IF(Y130=\"\",\"\", INDEX($Y$18:$Y$227, $AA$17-ROWS($Y$18:$Y130))),\n       IF($AU$21=\"INVERT\",Y131, \"\")\n    )\n)","v":""},"",null,{"$f":"IF(BL130>=$Y$12,\"\",IF(X130=\"\",\"\",INDEX($X$18:$X$227,$AA$17-ROWS($X$18:$X130))))","v":""},"",0,null,"",null,null,{"$f":"IF(Y130=\"\",\"\",INDEX($Y$17:$Y$227,$AA$17-ROWS($Y$17:$Y130)))","v":""}]
["","",{"$f":"IF(B132=\"\",\"\",IFERROR(_xlfn.XLOOKUP(B132,ImperialIncrementalData[System Increment],_xlfn.XLOOKUP('Imperial Incremental Crate'!$R$3,ImperialIncrementalData[#Headers],ImperialIncrementalData[]),,1),0))","v":""},"",{"$f":"IF(B132=\"\",\"\",IFERROR(_xlfn.XLOOKUP(B132,ImperialIncrementalData[System Increment],_xlfn.XLOOKUP(Imperial_Incremental_Data_Target_Column,ImperialIncrementalData[#Headers],ImperialIncrementalData[]),,1),0))","v":""},{"$f":"IF(B132=\"\",\"\",IF(B133=\"\",((((1)/12)*Imperial_Module_Square_Foot_Area)-'Cumulative Volumes Imperial'!E132)*Imperial_Stone_Void_Percentage,((((B132-B133)/12)*Imperial_Module_Square_Foot_Area)-'Cumulative Volumes Imperial'!E132)*Imperial_Stone_Void_Percentage))","v":""},"",{"$f":"IF(B132=\"\",\"\",((Imperial_System_Area_Input-Imperial_Number_Of_Stacks*_xlfn.XLOOKUP(Imperial_Layers,CrateData[Layer],CrateData[Surface Area (sf)]))/12)*Imperial_Stone_Void_Percentage)","v":""},"","",{"$f":"IF(B132=\"\",\"\",SUM(J132:$J$233))","v":""},"",{"$nulls":8},"",null,{"v":-5.874999999999998,"d":"-5.88"},"","",null,"",null,{"$f":"IF($AU$21=\"INVERT\",X132,IF(AC131>=$Y$12,\"\",IF(X131=\"\",\"\",INDEX($X$18:$X$227,$AA$17-ROWS($X$18:$X131)))))","v":""},"","","",{"$nulls":26},{"$f":"IF($AU$21=\"INVERT\",X132,IF(AC131>=$Y$12,\"\",IF(X131=\"\",\"\",INDEX($X$18:$X$227,$AA$17-ROWS($X$18:$X131)))))","v":""},"",{"$f":"IF(AE131=\"\",\"\",\n    IF($AU$21=\"TYP\",\n       IF(Y131=\"\",\"\", INDEX($Y$18:$Y$227, $AA$17-ROWS($Y$18:$Y131))),\n       IF($AU$21=\"INVERT\",Y132, \"\")\n    )\n)","v":""},"",null,{"$f":"IF(BL131>=$Y$12,\"\",IF(X131=\"\",\"\",INDEX($X$18:$X$227,$AA$17-ROWS($X$18:$X131))))","v":""},"",0,null,"",null,null,{"$f":"IF(Y131=\"\",\"\",INDEX($Y$17:$Y$227,$AA$17-ROWS($Y$17:$Y131)))","v":""}]
["","",{"$f":"IF(B133=\"\",\"\",IFERROR(_xlfn.XLOOKUP(B133,ImperialIncrementalData[System Increment],_xlfn.XLOOKUP('Imperial Incremental Crate'!$R$3,ImperialIncrementalData[#Headers],ImperialIncrementalData[]),,1),0))","v":""},"",{"$f":"IF(B133=\"\",\"\",IFERROR(_xlfn.XLOOKUP(B133,ImperialIncrementalData[System Increment],_xlfn.XLOOKUP(Imperial_Incremental_Data_Target_Column,ImperialIncrementalData[#Headers],ImperialIncrementalData[]),,1),0))","v":""},{"$f":"IF(B133=\"\",\"\",IF(B134=\"\",((((1)/12)*Imperial_Module_Square_Foot_Area)-'Cumulative Volumes Imperial'!E133)*Imperial_Stone_Void_Percentage,((((B133-B134)/12)*Imperial_Module_Square_Foot_Area)-'Cumulative Volumes Imperial'!E133)*Imperial_Stone_Void_Percentage))","v":""},"",{"$f":"IF(B133=\"\",\"\",((Imperial_System_Area_Input-Imperial_Number_Of_Stacks*_xlfn.XLOOKUP(Imperial_Layers,CrateData[Layer],CrateData[Surface Area (sf)]))/12)*Imperial_Stone_Void_Percentage)","v":""},"","",{"$f":"IF(B133=\"\",\"\",SUM(J133:$J$233))","v":""},"",{"$nulls":8},"",null,{"v":-5.958333333333331,"d":"-5.96"},"","",null,"",null,{"$f":"IF($AU$21=\"INVERT\",X133,IF(AC132>=$Y$12,\"\",IF(X132=\"\",\"\",INDEX($X$18:$X$227,$AA$17-ROWS($X$18:$X132)))))","v":""},"","","",{"$nulls":26},{"$f":"IF($AU$21=\"INVERT\",X133,IF(AC132>=$Y$12,\"\",IF(X132=\"\",\"\",INDEX($X$18:$X$227,$AA$17-ROWS($X$18:$X132)))))","v":""},"",{"$f":"IF(AE132=\"\",\"\",\n    IF($AU$21=\"TYP\",\n       IF(Y132=\"\",\"\", INDEX($Y$18:$Y$227, $AA$17-ROWS($Y$18:$Y132))),\n       IF($AU$21=\"INVERT\",Y133, \"\")\n    )\n)","v":""},"",null,{"$f":"IF(BL132>=$Y$12,\"\",IF(X132=\"\",\"\",INDEX($X$18:$X$227,$AA$17-ROWS($X$18:$X132))))","v":""},"",0,null,"",null,null,{"$f":"IF(Y132=\"\",\"\",INDEX($Y$17:$Y$227,$AA$17-ROWS($Y$17:$Y132)))","v":""}]
["","",{"$f":"IF(B134=\"\",\"\",IFERROR(_xlfn.XLOOKUP(B134,ImperialIncrementalData[System Increment],_xlfn.XLOOKUP('Imperial Incremental Crate'!$R$3,ImperialIncrementalData[#Headers],ImperialIncrementalData[]),,1),0))","v":""},"",{"$f":"IF(B134=\"\",\"\",IFERROR(_xlfn.XLOOKUP(B134,ImperialIncrementalData[System Increment],_xlfn.XLOOKUP(Imperial_Incremental_Data_Target_Column,ImperialIncrementalData[#Headers],ImperialIncrementalData[]),,1),0))","v":""},{"$f":"IF(B134=\"\",\"\",IF(B135=\"\",((((1)/12)*Imperial_Module_Square_Foot_Area)-'Cumulative Volumes Imperial'!E134)*Imperial_Stone_Void_Percentage,((((B134-B135)/12)*Imperial_Module_Square_Foot_Area)-'Cumulative Volumes Imperial'!E134)*Imperial_Stone_Void_Percentage))","v":""},"",{"$f":"IF(B134=\"\",\"\",((Imperial_System_Area_Input-Imperial_Number_Of_Stacks*_xlfn.XLOOKUP(Imperial_Layers,CrateData[Layer],CrateData[Surface Area (sf)]))/12)*Imperial_Stone_Void_Percentage)","v":""},"","",{"$f":"IF(B134=\"\",\"\",SUM(J134:$J$233))","v":""},"",{"$nulls":8},"",null,{"v":-6.041666666666664,"d":"-6.04"},"","",null,"",null,{"$f":"IF($AU$21=\"INVERT\",X134,IF(AC133>=$Y$12,\"\",IF(X133=\"\",\"\",INDEX($X$18:$X$227,$AA$17-ROWS($X$18:$X133)))))","v":""},"","","",{"$nulls":26},{"$f":"IF($AU$21=\"INVERT\",X134,IF(AC133>=$Y$12,\"\",IF(X133=\"\",\"\",INDEX($X$18:$X$227,$AA$17-ROWS($X$18:$X133)))))","v":""},"",{"$f":"IF(AE133=\"\",\"\",\n    IF($AU$21=\"TYP\",\n       IF(Y133=\"\",\"\", INDEX($Y$18:$Y$227, $AA$17-ROWS($Y$18:$Y133))),\n       IF($AU$21=\"INVERT\",Y134, \"\")\n    )\n)","v":""},"",null,{"$f":"IF(BL133>=$Y$12,\"\",IF(X133=\"\",\"\",INDEX($X$18:$X$227,$AA$17-ROWS($X$18:$X133))))","v":""},"",0,null,"",null,null,{"$f":"IF(Y133=\"\",\"\",INDEX($Y$17:$Y$227,$AA$17-ROWS($Y$17:$Y133)))","v":""}]
["","",{"$f":"IF(B135=\"\",\"\",IFERROR(_xlfn.XLOOKUP(B135,ImperialIncrementalData[System Increment],_xlfn.XLOOKUP('Imperial Incremental Crate'!$R$3,ImperialIncrementalData[#Headers],ImperialIncrementalData[]),,1),0))","v":""},"",{"$f":"IF(B135=\"\",\"\",IFERROR(_xlfn.XLOOKUP(B135,ImperialIncrementalData[System Increment],_xlfn.XLOOKUP(Imperial_Incremental_Data_Target_Column,ImperialIncrementalData[#Headers],ImperialIncrementalData[]),,1),0))","v":""},{"$f":"IF(B135=\"\",\"\",IF(B136=\"\",((((1)/12)*Imperial_Module_Square_Foot_Area)-'Cumulative Volumes Imperial'!E135)*Imperial_Stone_Void_Percentage,((((B135-B136)/12)*Imperial_Module_Square_Foot_Area)-'Cumulative Volumes Imperial'!E135)*Imperial_Stone_Void_Percentage))","v":""},"",{"$f":"IF(B135=\"\",\"\",((Imperial_System_Area_Input-Imperial_Number_Of_Stacks*_xlfn.XLOOKUP(Imperial_Layers,CrateData[Layer],CrateData[Surface Area (sf)]))/12)*Imperial_Stone_Void_Percentage)","v":""},"","",{"$f":"IF(B135=\"\",\"\",SUM(J135:$J$233))","v":""},"",{"$nulls":8},"",null,{"v":-6.124999999999997,"d":"-6.13"},"","",null,"",null,{"$f":"IF($AU$21=\"INVERT\",X135,IF(AC134>=$Y$12,\"\",IF(X134=\"\",\"\",INDEX($X$18:$X$227,$AA$17-ROWS($X$18:$X134)))))","v":""},"","","",{"$nulls":26},{"$f":"IF($AU$21=\"INVERT\",X135,IF(AC134>=$Y$12,\"\",IF(X134=\"\",\"\",INDEX($X$18:$X$227,$AA$17-ROWS($X$18:$X134)))))","v":""},"",{"$f":"IF(AE134=\"\",\"\",\n    IF($AU$21=\"TYP\",\n       IF(Y134=\"\",\"\", INDEX($Y$18:$Y$227, $AA$17-ROWS($Y$18:$Y134))),\n       IF($AU$21=\"INVERT\",Y135, \"\")\n    )\n)","v":""},"",null,{"$f":"IF(BL134>=$Y$12,\"\",IF(X134=\"\",\"\",INDEX($X$18:$X$227,$AA$17-ROWS($X$18:$X134))))","v":""},"",0,null,"",null,null,{"$f":"IF(Y134=\"\",\"\",INDEX($Y$17:$Y$227,$AA$17-ROWS($Y$17:$Y134)))","v":""}]
["","",{"$f":"IF(B136=\"\",\"\",IFERROR(_xlfn.XLOOKUP(B136,ImperialIncrementalData[System Increment],_xlfn.XLOOKUP('Imperial Incremental Crate'!$R$3,ImperialIncrementalData[#Headers],ImperialIncrementalData[]),,1),0))","v":""},"",{"$f":"IF(B136=\"\",\"\",IFERROR(_xlfn.XLOOKUP(B136,ImperialIncrementalData[System Increment],_xlfn.XLOOKUP(Imperial_Incremental_Data_Target_Column,ImperialIncrementalData[#Headers],ImperialIncrementalData[]),,1),0))","v":""},{"$f":"IF(B136=\"\",\"\",IF(B137=\"\",((((1)/12)*Imperial_Module_Square_Foot_Area)-'Cumulative Volumes Imperial'!E136)*Imperial_Stone_Void_Percentage,((((B136-B137)/12)*Imperial_Module_Square_Foot_Area)-'Cumulative Volumes Imperial'!E136)*Imperial_Stone_Void_Percentage))","v":""},"",{"$f":"IF(B136=\"\",\"\",((Imperial_System_Area_Input-Imperial_Number_Of_Stacks*_xlfn.XLOOKUP(Imperial_Layers,CrateData[Layer],CrateData[Surface Area (sf)]))/12)*Imperial_Stone_Void_Percentage)","v":""},"","",{"$f":"IF(B136=\"\",\"\",SUM(J136:$J$233))","v":""},"",{"$nulls":8},"",null,{"v":-6.20833333333333,"d":"-6.21"},"","",null,"",null,{"$f":"IF($AU$21=\"INVERT\",X136,IF(AC135>=$Y$12,\"\",IF(X135=\"\",\"\",INDEX($X$18:$X$227,$AA$17-ROWS($X$18:$X135)))))","v":""},"","","",{"$nulls":26},{"$f":"IF($AU$21=\"INVERT\",X136,IF(AC135>=$Y$12,\"\",IF(X135=\"\",\"\",INDEX($X$18:$X$227,$AA$17-ROWS($X$18:$X135)))))","v":""},"",{"$f":"IF(AE135=\"\",\"\",\n    IF($AU$21=\"TYP\",\n       IF(Y135=\"\",\"\", INDEX($Y$18:$Y$227, $AA$17-ROWS($Y$18:$Y135))),\n       IF($AU$21=\"INVERT\",Y136, \"\")\n    )\n)","v":""},"",null,{"$f":"IF(BL135>=$Y$12,\"\",IF(X135=\"\",\"\",INDEX($X$18:$X$227,$AA$17-ROWS($X$18:$X135))))","v":""},"",0,null,"",null,null,{"$f":"IF(Y135=\"\",\"\",INDEX($Y$17:$Y$227,$AA$17-ROWS($Y$17:$Y135)))","v":""}]
["","",{"$f":"IF(B137=\"\",\"\",IFERROR(_xlfn.XLOOKUP(B137,ImperialIncrementalData[System Increment],_xlfn.XLOOKUP('Imperial Incremental Crate'!$R$3,ImperialIncrementalData[#Headers],ImperialIncrementalData[]),,1),0))","v":""},"",{"$f":"IF(B137=\"\",\"\",IFERROR(_xlfn.XLOOKUP(B137,ImperialIncrementalData[System Increment],_xlfn.XLOOKUP(Imperial_Incremental_Data_Target_Column,ImperialIncrementalData[#Headers],ImperialIncrementalData[]),,1),0))","v":""},{"$f":"IF(B137=\"\",\"\",IF(B138=\"\",((((1)/12)*Imperial_Module_Square_Foot_Area)-'Cumulative Volumes Imperial'!E137)*Imperial_Stone_Void_Percentage,((((B137-B138)/12)*Imperial_Module_Square_Foot_Area)-'Cumulative Volumes Imperial'!E137)*Imperial_Stone_Void_Percentage))","v":""},"",{"$f":"IF(B137=\"\",\"\",((Imperial_System_Area_Input-Imperial_Number_Of_Stacks*_xlfn.XLOOKUP(Imperial_Layers,CrateData[Layer],CrateData[Surface Area (sf)]))/12)*Imperial_Stone_Void_Percentage)","v":""},"","",{"$f":"IF(B137=\"\",\"\",SUM(J137:$J$233))","v":""},"",{"$nulls":8},"",null,{"v":-6.291666666666663,"d":"-6.29"},"","",null,"",null,{"$f":"IF($AU$21=\"INVERT\",X137,IF(AC136>=$Y$12,\"\",IF(X136=\"\",\"\",INDEX($X$18:$X$227,$AA$17-ROWS($X$18:$X136)))))","v":""},"","","",{"$nulls":26},{"$f":"IF($AU$21=\"INVERT\",X137,IF(AC136>=$Y$12,\"\",IF(X136=\"\",\"\",INDEX($X$18:$X$227,$AA$17-ROWS($X$18:$X136)))))","v":""},"",{"$f":"IF(AE136=\"\",\"\",\n    IF($AU$21=\"TYP\",\n       IF(Y136=\"\",\"\", INDEX($Y$18:$Y$227, $AA$17-ROWS($Y$18:$Y136))),\n       IF($AU$21=\"INVERT\",Y137, \"\")\n    )\n)","v":""},"",null,{"$f":"IF(BL136>=$Y$12,\"\",IF(X136=\"\",\"\",INDEX($X$18:$X$227,$AA$17-ROWS($X$18:$X136))))","v":""},"",0,null,"",null,null,{"$f":"IF(Y136=\"\",\"\",INDEX($Y$17:$Y$227,$AA$17-ROWS($Y$17:$Y136)))","v":""}]
["","",{"$f":"IF(B138=\"\",\"\",IFERROR(_xlfn.XLOOKUP(B138,ImperialIncrementalData[System Increment],_xlfn.XLOOKUP('Imperial Incremental Crate'!$R$3,ImperialIncrementalData[#Headers],ImperialIncrementalData[]),,1),0))","v":""},"",{"$f":"IF(B138=\"\",\"\",IFERROR(_xlfn.XLOOKUP(B138,ImperialIncrementalData[System Increment],_xlfn.XLOOKUP(Imperial_Incremental_Data_Target_Column,ImperialIncrementalData[#Headers],ImperialIncrementalData[]),,1),0))","v":""},{"$f":"IF(B138=\"\",\"\",IF(B139=\"\",((((1)/12)*Imperial_Module_Square_Foot_Area)-'Cumulative Volumes Imperial'!E138)*Imperial_Stone_Void_Percentage,((((B138-B139)/12)*Imperial_Module_Square_Foot_Area)-'Cumulative Volumes Imperial'!E138)*Imperial_Stone_Void_Percentage))","v":""},"",{"$f":"IF(B138=\"\",\"\",((Imperial_System_Area_Input-Imperial_Number_Of_Stacks*_xlfn.XLOOKUP(Imperial_Layers,CrateData[Layer],CrateData[Surface Area (sf)]))/12)*Imperial_Stone_Void_Percentage)","v":""},"","",{"$f":"IF(B138=\"\",\"\",SUM(J138:$J$233))","v":""},"",{"$nulls":8},"",null,{"v":-6.3749999999999964,"d":"-6.38"},"","",null,"",null,{"$f":"IF($AU$21=\"INVERT\",X138,IF(AC137>=$Y$12,\"\",IF(X137=\"\",\"\",INDEX($X$18:$X$227,$AA$17-ROWS($X$18:$X137)))))","v":""},"","","",{"$nulls":26},{"$f":"IF($AU$21=\"INVERT\",X138,IF(AC137>=$Y$12,\"\",IF(X137=\"\",\"\",INDEX($X$18:$X$227,$AA$17-ROWS($X$18:$X137)))))","v":""},"",{"$f":"IF(AE137=\"\",\"\",\n    IF($AU$21=\"TYP\",\n       IF(Y137=\"\",\"\", INDEX($Y$18:$Y$227, $AA$17-ROWS($Y$18:$Y137))),\n       IF($AU$21=\"INVERT\",Y138, \"\")\n    )\n)","v":""},"",null,{"$f":"IF(BL137>=$Y$12,\"\",IF(X137=\"\",\"\",INDEX($X$18:$X$227,$AA$17-ROWS($X$18:$X137))))","v":""},"",0,null,"",null,null,{"$f":"IF(Y137=\"\",\"\",INDEX($Y$17:$Y$227,$AA$17-ROWS($Y$17:$Y137)))","v":""}]
["","",{"$f":"IF(B139=\"\",\"\",IFERROR(_xlfn.XLOOKUP(B139,ImperialIncrementalData[System Increment],_xlfn.XLOOKUP('Imperial Incremental Crate'!$R$3,ImperialIncrementalData[#Headers],ImperialIncrementalData[]),,1),0))","v":""},"",{"$f":"IF(B139=\"\",\"\",IFERROR(_xlfn.XLOOKUP(B139,ImperialIncrementalData[System Increment],_xlfn.XLOOKUP(Imperial_Incremental_Data_Target_Column,ImperialIncrementalData[#Headers],ImperialIncrementalData[]),,1),0))","v":""},{"$f":"IF(B139=\"\",\"\",IF(B140=\"\",((((1)/12)*Imperial_Module_Square_Foot_Area)-'Cumulative Volumes Imperial'!E139)*Imperial_Stone_Void_Percentage,((((B139-B140)/12)*Imperial_Module_Square_Foot_Area)-'Cumulative Volumes Imperial'!E139)*Imperial_Stone_Void_Percentage))","v":""},"",{"$f":"IF(B139=\"\",\"\",((Imperial_System_Area_Input-Imperial_Number_Of_Stacks*_xlfn.XLOOKUP(Imperial_Layers,CrateData[Layer],CrateData[Surface Area (sf)]))/12)*Imperial_Stone_Void_Percentage)","v":""},"","",{"$f":"IF(B139=\"\",\"\",SUM(J139:$J$233))","v":""},"",{"$nulls":8},"",null,{"v":-6.4583333333333295,"d":"-6.46"},"","",null,"",null,{"$f":"IF($AU$21=\"INVERT\",X139,IF(AC138>=$Y$12,\"\",IF(X138=\"\",\"\",INDEX($X$18:$X$227,$AA$17-ROWS($X$18:$X138)))))","v":""},"","","",{"$nulls":26},{"$f":"IF($AU$21=\"INVERT\",X139,IF(AC138>=$Y$12,\"\",IF(X138=\"\",\"\",INDEX($X$18:$X$227,$AA$17-ROWS($X$18:$X138)))))","v":""},"",{"$f":"IF(AE138=\"\",\"\",\n    IF($AU$21=\"TYP\",\n       IF(Y138=\"\",\"\", INDEX($Y$18:$Y$227, $AA$17-ROWS($Y$18:$Y138))),\n       IF($AU$21=\"INVERT\",Y139, \"\")\n    )\n)","v":""},"",null,{"$f":"IF(BL138>=$Y$12,\"\",IF(X138=\"\",\"\",INDEX($X$18:$X$227,$AA$17-ROWS($X$18:$X138))))","v":""},"",0,null,"",null,null,{"$f":"IF(Y138=\"\",\"\",INDEX($Y$17:$Y$227,$AA$17-ROWS($Y$17:$Y138)))","v":""}]
["","",{"$f":"IF(B140=\"\",\"\",IFERROR(_xlfn.XLOOKUP(B140,ImperialIncrementalData[System Increment],_xlfn.XLOOKUP('Imperial Incremental Crate'!$R$3,ImperialIncrementalData[#Headers],ImperialIncrementalData[]),,1),0))","v":""},"",{"$f":"IF(B140=\"\",\"\",IFERROR(_xlfn.XLOOKUP(B140,ImperialIncrementalData[System Increment],_xlfn.XLOOKUP(Imperial_Incremental_Data_Target_Column,ImperialIncrementalData[#Headers],ImperialIncrementalData[]),,1),0))","v":""},{"$f":"IF(B140=\"\",\"\",IF(B141=\"\",((((1)/12)*Imperial_Module_Square_Foot_Area)-'Cumulative Volumes Imperial'!E140)*Imperial_Stone_Void_Percentage,((((B140-B141)/12)*Imperial_Module_Square_Foot_Area)-'Cumulative Volumes Imperial'!E140)*Imperial_Stone_Void_Percentage))","v":""},"",{"$f":"IF(B140=\"\",\"\",((Imperial_System_Area_Input-Imperial_Number_Of_Stacks*_xlfn.XLOOKUP(Imperial_Layers,CrateData[Layer],CrateData[Surface Area (sf)]))/12)*Imperial_Stone_Void_Percentage)","v":""},"","",{"$f":"IF(B140=\"\",\"\",SUM(J140:$J$233))","v":""},"",{"$nulls":8},"",null,{"v":-6.5416666666666625,"d":"-6.54"},"","",null,"",null,{"$f":"IF($AU$21=\"INVERT\",X140,IF(AC139>=$Y$12,\"\",IF(X139=\"\",\"\",INDEX($X$18:$X$227,$AA$17-ROWS($X$18:$X139)))))","v":""},"","","",{"$nulls":26},{"$f":"IF($AU$21=\"INVERT\",X140,IF(AC139>=$Y$12,\"\",IF(X139=\"\",\"\",INDEX($X$18:$X$227,$AA$17-ROWS($X$18:$X139)))))","v":""},"",{"$f":"IF(AE139=\"\",\"\",\n    IF($AU$21=\"TYP\",\n       IF(Y139=\"\",\"\", INDEX($Y$18:$Y$227, $AA$17-ROWS($Y$18:$Y139))),\n       IF($AU$21=\"INVERT\",Y140, \"\")\n    )\n)","v":""},"",null,{"$f":"IF(BL139>=$Y$12,\"\",IF(X139=\"\",\"\",INDEX($X$18:$X$227,$AA$17-ROWS($X$18:$X139))))","v":""},"",0,null,"",null,null,{"$f":"IF(Y139=\"\",\"\",INDEX($Y$17:$Y$227,$AA$17-ROWS($Y$17:$Y139)))","v":""}]
["","",{"$f":"IF(B141=\"\",\"\",IFERROR(_xlfn.XLOOKUP(B141,ImperialIncrementalData[System Increment],_xlfn.XLOOKUP('Imperial Incremental Crate'!$R$3,ImperialIncrementalData[#Headers],ImperialIncrementalData[]),,1),0))","v":""},"",{"$f":"IF(B141=\"\",\"\",IFERROR(_xlfn.XLOOKUP(B141,ImperialIncrementalData[System Increment],_xlfn.XLOOKUP(Imperial_Incremental_Data_Target_Column,ImperialIncrementalData[#Headers],ImperialIncrementalData[]),,1),0))","v":""},{"$f":"IF(B141=\"\",\"\",IF(B142=\"\",((((1)/12)*Imperial_Module_Square_Foot_Area)-'Cumulative Volumes Imperial'!E141)*Imperial_Stone_Void_Percentage,((((B141-B142)/12)*Imperial_Module_Square_Foot_Area)-'Cumulative Volumes Imperial'!E141)*Imperial_Stone_Void_Percentage))","v":""},"",{"$f":"IF(B141=\"\",\"\",((Imperial_System_Area_Input-Imperial_Number_Of_Stacks*_xlfn.XLOOKUP(Imperial_Layers,CrateData[Layer],CrateData[Surface Area (sf)]))/12)*Imperial_Stone_Void_Percentage)","v":""},"","",{"$f":"IF(B141=\"\",\"\",SUM(J141:$J$233))","v":""},"",{"$nulls":8},"",null,{"v":-6.624999999999996,"d":"-6.63"},"","",null,"",null,{"$f":"IF($AU$21=\"INVERT\",X141,IF(AC140>=$Y$12,\"\",IF(X140=\"\",\"\",INDEX($X$18:$X$227,$AA$17-ROWS($X$18:$X140)))))","v":""},"","","",{"$nulls":26},{"$f":"IF($AU$21=\"INVERT\",X141,IF(AC140>=$Y$12,\"\",IF(X140=\"\",\"\",INDEX($X$18:$X$227,$AA$17-ROWS($X$18:$X140)))))","v":""},"",{"$f":"IF(AE140=\"\",\"\",\n    IF($AU$21=\"TYP\",\n       IF(Y140=\"\",\"\", INDEX($Y$18:$Y$227, $AA$17-ROWS($Y$18:$Y140))),\n       IF($AU$21=\"INVERT\",Y141, \"\")\n    )\n)","v":""},"",null,{"$f":"IF(BL140>=$Y$12,\"\",IF(X140=\"\",\"\",INDEX($X$18:$X$227,$AA$17-ROWS($X$18:$X140))))","v":""},"",0,null,"",null,null,{"$f":"IF(Y140=\"\",\"\",INDEX($Y$17:$Y$227,$AA$17-ROWS($Y$17:$Y140)))","v":""}]
["","",{"$f":"IF(B142=\"\",\"\",IFERROR(_xlfn.XLOOKUP(B142,ImperialIncrementalData[System Increment],_xlfn.XLOOKUP('Imperial Incremental Crate'!$R$3,ImperialIncrementalData[#Headers],ImperialIncrementalData[]),,1),0))","v":""},"",{"$f":"IF(B142=\"\",\"\",IFERROR(_xlfn.XLOOKUP(B142,ImperialIncrementalData[System Increment],_xlfn.XLOOKUP(Imperial_Incremental_Data_Target_Column,ImperialIncrementalData[#Headers],ImperialIncrementalData[]),,1),0))","v":""},{"$f":"IF(B142=\"\",\"\",IF(B143=\"\",((((1)/12)*Imperial_Module_Square_Foot_Area)-'Cumulative Volumes Imperial'!E142)*Imperial_Stone_Void_Percentage,((((B142-B143)/12)*Imperial_Module_Square_Foot_Area)-'Cumulative Volumes Imperial'!E142)*Imperial_Stone_Void_Percentage))","v":""},"",{"$f":"IF(B142=\"\",\"\",((Imperial_System_Area_Input-Imperial_Number_Of_Stacks*_xlfn.XLOOKUP(Imperial_Layers,CrateData[Layer],CrateData[Surface Area (sf)]))/12)*Imperial_Stone_Void_Percentage)","v":""},"","",{"$f":"IF(B142=\"\",\"\",SUM(J142:$J$233))","v":""},"",{"$nulls":8},"",null,{"v":-6.708333333333329,"d":"-6.71"},"","",null,"",null,{"$f":"IF($AU$21=\"INVERT\",X142,IF(AC141>=$Y$12,\"\",IF(X141=\"\",\"\",INDEX($X$18:$X$227,$AA$17-ROWS($X$18:$X141)))))","v":""},"","","",{"$nulls":26},{"$f":"IF($AU$21=\"INVERT\",X142,IF(AC141>=$Y$12,\"\",IF(X141=\"\",\"\",INDEX($X$18:$X$227,$AA$17-ROWS($X$18:$X141)))))","v":""},"",{"$f":"IF(AE141=\"\",\"\",\n    IF($AU$21=\"TYP\",\n       IF(Y141=\"\",\"\", INDEX($Y$18:$Y$227, $AA$17-ROWS($Y$18:$Y141))),\n       IF($AU$21=\"INVERT\",Y142, \"\")\n    )\n)","v":""},"",null,{"$f":"IF(BL141>=$Y$12,\"\",IF(X141=\"\",\"\",INDEX($X$18:$X$227,$AA$17-ROWS($X$18:$X141))))","v":""},"",0,null,"",null,null,{"$f":"IF(Y141=\"\",\"\",INDEX($Y$17:$Y$227,$AA$17-ROWS($Y$17:$Y141)))","v":""}]
["","",{"$f":"IF(B143=\"\",\"\",IFERROR(_xlfn.XLOOKUP(B143,ImperialIncrementalData[System Increment],_xlfn.XLOOKUP('Imperial Incremental Crate'!$R$3,ImperialIncrementalData[#Headers],ImperialIncrementalData[]),,1),0))","v":""},"",{"$f":"IF(B143=\"\",\"\",IFERROR(_xlfn.XLOOKUP(B143,ImperialIncrementalData[System Increment],_xlfn.XLOOKUP(Imperial_Incremental_Data_Target_Column,ImperialIncrementalData[#Headers],ImperialIncrementalData[]),,1),0))","v":""},{"$f":"IF(B143=\"\",\"\",IF(B144=\"\",((((1)/12)*Imperial_Module_Square_Foot_Area)-'Cumulative Volumes Imperial'!E143)*Imperial_Stone_Void_Percentage,((((B143-B144)/12)*Imperial_Module_Square_Foot_Area)-'Cumulative Volumes Imperial'!E143)*Imperial_Stone_Void_Percentage))","v":""},"",{"$f":"IF(B143=\"\",\"\",((Imperial_System_Area_Input-Imperial_Number_Of_Stacks*_xlfn.XLOOKUP(Imperial_Layers,CrateData[Layer],CrateData[Surface Area (sf)]))/12)*Imperial_Stone_Void_Percentage)","v":""},"","",{"$f":"IF(B143=\"\",\"\",SUM(J143:$J$233))","v":""},"",{"$nulls":8},"",null,{"v":-6.791666666666662,"d":"-6.79"},"","",null,"",null,{"$f":"IF($AU$21=\"INVERT\",X143,IF(AC142>=$Y$12,\"\",IF(X142=\"\",\"\",INDEX($X$18:$X$227,$AA$17-ROWS($X$18:$X142)))))","v":""},"","","",{"$nulls":26},{"$f":"IF($AU$21=\"INVERT\",X143,IF(AC142>=$Y$12,\"\",IF(X142=\"\",\"\",INDEX($X$18:$X$227,$AA$17-ROWS($X$18:$X142)))))","v":""},"",{"$f":"IF(AE142=\"\",\"\",\n    IF($AU$21=\"TYP\",\n       IF(Y142=\"\",\"\", INDEX($Y$18:$Y$227, $AA$17-ROWS($Y$18:$Y142))),\n       IF($AU$21=\"INVERT\",Y143, \"\")\n    )\n)","v":""},"",null,{"$f":"IF(BL142>=$Y$12,\"\",IF(X142=\"\",\"\",INDEX($X$18:$X$227,$AA$17-ROWS($X$18:$X142))))","v":""},"",0,null,"",null,null,{"$f":"IF(Y142=\"\",\"\",INDEX($Y$17:$Y$227,$AA$17-ROWS($Y$17:$Y142)))","v":""}]
[{"$f":"IF(B146<>\"\",A143+1,\"\")","v":""},"",{"$f":"IF(B144=\"\",\"\",IFERROR(_xlfn.XLOOKUP(B144,ImperialIncrementalData[System Increment],_xlfn.XLOOKUP('Imperial Incremental Crate'!$R$3,ImperialIncrementalData[#Headers],ImperialIncrementalData[]),,1),0))","v":""},"",{"$f":"IF(B144=\"\",\"\",IFERROR(_xlfn.XLOOKUP(B144,ImperialIncrementalData[System Increment],_xlfn.XLOOKUP(Imperial_Incremental_Data_Target_Column,ImperialIncrementalData[#Headers],ImperialIncrementalData[]),,1),0))","v":""},{"$f":"IF(B144=\"\",\"\",IF(B145=\"\",((((1)/12)*Imperial_Module_Square_Foot_Area)-'Cumulative Volumes Imperial'!E144)*Imperial_Stone_Void_Percentage,((((B144-B145)/12)*Imperial_Module_Square_Foot_Area)-'Cumulative Volumes Imperial'!E144)*Imperial_Stone_Void_Percentage))","v":""},"",{"$f":"IF(B144=\"\",\"\",((Imperial_System_Area_Input-Imperial_Number_Of_Stacks*_xlfn.XLOOKUP(Imperial_Layers,CrateData[Layer],CrateData[Surface Area (sf)]))/12)*Imperial_Stone_Void_Percentage)","v":""},"","",{"$f":"IF(B144=\"\",\"\",SUM(J144:$J$233))","v":""},"",{"$nulls":8},"",null,{"v":-6.874999999999995,"d":"-6.87"},"","",null,"",null,{"$f":"IF($AU$21=\"INVERT\",X144,IF(AC143>=$Y$12,\"\",IF(X143=\"\",\"\",INDEX($X$18:$X$227,$AA$17-ROWS($X$18:$X143)))))","v":""},"","","",{"$nulls":26},{"$f":"IF($AU$21=\"INVERT\",X144,IF(AC143>=$Y$12,\"\",IF(X143=\"\",\"\",INDEX($X$18:$X$227,$AA$17-ROWS($X$18:$X143)))))","v":""},"",{"$f":"IF(AE143=\"\",\"\",\n    IF($AU$21=\"TYP\",\n       IF(Y143=\"\",\"\", INDEX($Y$18:$Y$227, $AA$17-ROWS($Y$18:$Y143))),\n       IF($AU$21=\"INVERT\",Y144, \"\")\n    )\n)","v":""},"",null,{"$f":"IF(BL143>=$Y$12,\"\",IF(X143=\"\",\"\",INDEX($X$18:$X$227,$AA$17-ROWS($X$18:$X143))))","v":""},"",0,null,"",null,null,{"$f":"IF(Y143=\"\",\"\",INDEX($Y$17:$Y$227,$AA$17-ROWS($Y$17:$Y143)))","v":""}]
["","",{"$f":"IF(B145=\"\",\"\",IFERROR(_xlfn.XLOOKUP(B145,ImperialIncrementalData[System Increment],_xlfn.XLOOKUP('Imperial Incremental Crate'!$R$3,ImperialIncrementalData[#Headers],ImperialIncrementalData[]),,1),0))","v":""},"",{"$f":"IF(B145=\"\",\"\",IFERROR(_xlfn.XLOOKUP(B145,ImperialIncrementalData[System Increment],_xlfn.XLOOKUP(Imperial_Incremental_Data_Target_Column,ImperialIncrementalData[#Headers],ImperialIncrementalData[]),,1),0))","v":""},{"$f":"IF(B145=\"\",\"\",IF(B146=\"\",((((1)/12)*Imperial_Module_Square_Foot_Area)-'Cumulative Volumes Imperial'!E145)*Imperial_Stone_Void_Percentage,((((B145-B146)/12)*Imperial_Module_Square_Foot_Area)-'Cumulative Volumes Imperial'!E145)*Imperial_Stone_Void_Percentage))","v":""},"",{"$f":"IF(B145=\"\",\"\",((Imperial_System_Area_Input-Imperial_Number_Of_Stacks*_xlfn.XLOOKUP(Imperial_Layers,CrateData[Layer],CrateData[Surface Area (sf)]))/12)*Imperial_Stone_Void_Percentage)","v":""},"","",{"$f":"IF(B145=\"\",\"\",SUM(J145:$J$233))","v":""},"",{"$nulls":8},"",null,{"v":-6.958333333333328,"d":"-6.96"},"","",null,"",null,{"$f":"IF($AU$21=\"INVERT\",X145,IF(AC144>=$Y$12,\"\",IF(X144=\"\",\"\",INDEX($X$18:$X$227,$AA$17-ROWS($X$18:$X144)))))","v":""},"","","",{"$nulls":26},{"$f":"IF($AU$21=\"INVERT\",X145,IF(AC144>=$Y$12,\"\",IF(X144=\"\",\"\",INDEX($X$18:$X$227,$AA$17-ROWS($X$18:$X144)))))","v":""},"",{"$f":"IF(AE144=\"\",\"\",\n    IF($AU$21=\"TYP\",\n       IF(Y144=\"\",\"\", INDEX($Y$18:$Y$227, $AA$17-ROWS($Y$18:$Y144))),\n       IF($AU$21=\"INVERT\",Y145, \"\")\n    )\n)","v":""},"",null,{"$f":"IF(BL144>=$Y$12,\"\",IF(X144=\"\",\"\",INDEX($X$18:$X$227,$AA$17-ROWS($X$18:$X144))))","v":""},"",0,null,"",null,null,{"$f":"IF(Y144=\"\",\"\",INDEX($Y$17:$Y$227,$AA$17-ROWS($Y$17:$Y144)))","v":""}]
["","",{"$f":"IF(B146=\"\",\"\",IFERROR(_xlfn.XLOOKUP(B146,ImperialIncrementalData[System Increment],_xlfn.XLOOKUP('Imperial Incremental Crate'!$R$3,ImperialIncrementalData[#Headers],ImperialIncrementalData[]),,1),0))","v":""},{"$f":"IFERROR(C146*Imperial_Number_Of_Stacks,\"\")","v":""},{"$f":"IF(B146=\"\",\"\",IFERROR(_xlfn.XLOOKUP(B146,ImperialIncrementalData[System Increment],_xlfn.XLOOKUP(Imperial_Incremental_Data_Target_Column,ImperialIncrementalData[#Headers],ImperialIncrementalData[]),,1),0))","v":""},{"$f":"IF(B146=\"\",\"\",IF(B147=\"\",((((1)/12)*Imperial_Module_Square_Foot_Area)-'Cumulative Volumes Imperial'!E146)*Imperial_Stone_Void_Percentage,((((B146-B147)/12)*Imperial_Module_Square_Foot_Area)-'Cumulative Volumes Imperial'!E146)*Imperial_Stone_Void_Percentage))","v":""},{"$f":"IFERROR(F146*Imperial_Number_Of_Stacks,\"\")","v":""},{"$f":"IF(B146=\"\",\"\",((Imperial_System_Area_Input-Imperial_Number_Of_Stacks*_xlfn.XLOOKUP(Imperial_Layers,CrateData[Layer],CrateData[Surface Area (sf)]))/12)*Imperial_Stone_Void_Percentage)","v":""},{"$f":"IFERROR(IF($AW$17, H146+G146, G146), \"\")","v":""},{"$f":"IFERROR(I146+D146,\"\")","v":""},{"$f":"IF(B146=\"\",\"\",SUM(J146:$J$233))","v":""},{"$f":"IFERROR($I$11+B146/12,\"\")","v":""},{"$nulls":8},{"$f":"IF(L147=\"\",IF(L146=\"\",\"\",$I$11),L146)","v":""},null,{"v":-7.041666666666661,"d":"-7.04"},"","",null,"",null,{"$f":"IF($AU$21=\"INVERT\",X146,IF(AC145>=$Y$12,\"\",IF(X145=\"\",\"\",INDEX($X$18:$X$227,$AA$17-ROWS($X$18:$X145)))))","v":""},"","",{"$f":"IF($AU$17=TRUE, BJ146, IF($AU$23=TRUE, \"\", \"\"))","v":""},{"$nulls":26},{"$f":"IF($AU$21=\"INVERT\",X146,IF(AC145>=$Y$12,\"\",IF(X145=\"\",\"\",INDEX($X$18:$X$227,$AA$17-ROWS($X$18:$X145)))))","v":""},{"$f":"IF(AC146=\"\",\"\",$I$11+AC146)","v":""},{"$f":"IF(AE145=\"\",\"\",\n    IF($AU$21=\"TYP\",\n       IF(Y145=\"\",\"\", INDEX($Y$18:$Y$227, $AA$17-ROWS($Y$18:$Y145))),\n       IF($AU$21=\"INVERT\",Y146, \"\")\n    )\n)","v":""},{"$f":"IF(AE146=\"\",\"\",AE146/43560)","v":""},null,{"$f":"IF(BL145>=$Y$12,\"\",IF(X145=\"\",\"\",INDEX($X$18:$X$227,$AA$17-ROWS($X$18:$X145))))","v":""},"",0,null,"",null,null,{"$f":"IF(Y145=\"\",\"\",INDEX($Y$17:$Y$227,$AA$17-ROWS($Y$17:$Y145)))","v":""}]
["","",{"$f":"IF(B147=\"\",\"\",IFERROR(_xlfn.XLOOKUP(B147,ImperialIncrementalData[System Increment],_xlfn.XLOOKUP('Imperial Incremental Crate'!$R$3,ImperialIncrementalData[#Headers],ImperialIncrementalData[]),,1),0))","v":""},"",{"$f":"IF(B147=\"\",\"\",IFERROR(_xlfn.XLOOKUP(B147,ImperialIncrementalData[System Increment],_xlfn.XLOOKUP(Imperial_Incremental_Data_Target_Column,ImperialIncrementalData[#Headers],ImperialIncrementalData[]),,1),0))","v":""},{"$f":"IF(B147=\"\",\"\",IF(B148=\"\",((((1)/12)*Imperial_Module_Square_Foot_Area)-'Cumulative Volumes Imperial'!E147)*Imperial_Stone_Void_Percentage,((((B147-B148)/12)*Imperial_Module_Square_Foot_Area)-'Cumulative Volumes Imperial'!E147)*Imperial_Stone_Void_Percentage))","v":""},"",{"$f":"IF(B147=\"\",\"\",((Imperial_System_Area_Input-Imperial_Number_Of_Stacks*_xlfn.XLOOKUP(Imperial_Layers,CrateData[Layer],CrateData[Surface Area (sf)]))/12)*Imperial_Stone_Void_Percentage)","v":""},"","",{"$f":"IF(B147=\"\",\"\",SUM(J147:$J$233))","v":""},"",{"$nulls":8},"",null,{"v":-7.124999999999994,"d":"-7.12"},{"$f":"IF(AND(B147=\"\",B146=1),0,IF(B147=\"\",\"\",IF(OR(W147=0,W147>0),W147,\"\")))","v":""},{"$f":"IF(X147=\"\",\"\",IF(X147=0,K146/$AA$11,IF(ISNUMBER(U148),(K147-K148)/(L147-L148),Y146)))","v":""},null,{"$f":"IF(X147=\"\",\"\",1)","v":""},null,{"$f":"IF($AU$21=\"INVERT\",X147,IF(AC146>=$Y$12,\"\",IF(X146=\"\",\"\",INDEX($X$18:$X$227,$AA$17-ROWS($X$18:$X146)))))","v":""},{"$f":"IF($AN$17=TRUE, BH147, IF($AN$23=TRUE, BM147, \"\"))","v":""},{"$f":"IF($AU$17=TRUE, BI147, IF($AU$23=TRUE, BN147, \"\"))","v":""},"",{"$nulls":26},{"$f":"IF($AU$21=\"INVERT\",X147,IF(AC146>=$Y$12,\"\",IF(X146=\"\",\"\",INDEX($X$18:$X$227,$AA$17-ROWS($X$18:$X146)))))","v":""},"",{"$f":"IF(AE146=\"\",\"\",\n    IF($AU$21=\"TYP\",\n       IF(Y146=\"\",\"\", INDEX($Y$18:$Y$227, $AA$17-ROWS($Y$18:$Y146))),\n       IF($AU$21=\"INVERT\",Y147, \"\")\n    )\n)","v":""},"",null,{"$f":"IF(BL146>=$Y$12,\"\",IF(X146=\"\",\"\",INDEX($X$18:$X$227,$AA$17-ROWS($X$18:$X146))))","v":""},"",0,null,"",null,null,{"$f":"IF(Y146=\"\",\"\",INDEX($Y$17:$Y$227,$AA$17-ROWS($Y$17:$Y146)))","v":""}]
["",{"$f":"IFERROR(IF(B147-1<1,\"\",B147-1),\"\")","v":""},{"$f":"IF(B148=\"\",\"\",IFERROR(_xlfn.XLOOKUP(B148,ImperialIncrementalData[System Increment],_xlfn.XLOOKUP('Imperial Incremental Crate'!$R$3,ImperialIncrementalData[#Headers],ImperialIncrementalData[]),,1),0))","v":""},"",{"$f":"IF(B148=\"\",\"\",IFERROR(_xlfn.XLOOKUP(B148,ImperialIncrementalData[System Increment],_xlfn.XLOOKUP(Imperial_Incremental_Data_Target_Column,ImperialIncrementalData[#Headers],ImperialIncrementalData[]),,1),0))","v":""},{"$f":"IF(B148=\"\",\"\",IF(B149=\"\",((((1)/12)*Imperial_Module_Square_Foot_Area)-'Cumulative Volumes Imperial'!E148)*Imperial_Stone_Void_Percentage,((((B148-B149)/12)*Imperial_Module_Square_Foot_Area)-'Cumulative Volumes Imperial'!E148)*Imperial_Stone_Void_Percentage))","v":""},"",{"$f":"IF(B148=\"\",\"\",((Imperial_System_Area_Input-Imperial_Number_Of_Stacks*_xlfn.XLOOKUP(Imperial_Layers,CrateData[Layer],CrateData[Surface Area (sf)]))/12)*Imperial_Stone_Void_Percentage)","v":""},"","",{"$f":"IF(B148=\"\",\"\",SUM(J148:$J$233))","v":""},"",{"$nulls":8},"",null,{"$f":"W147-($AA$11)","v":{"v":-7.208333333333327,"d":"-7.21"}},"","",null,"",null,{"$f":"IF($AU$21=\"INVERT\",X148,IF(AC147>=$Y$12,\"\",IF(X147=\"\",\"\",INDEX($X$18:$X$227,$AA$17-ROWS($X$18:$X147)))))","v":""},"","","",{"$nulls":26},{"$f":"IF($AU$21=\"INVERT\",X148,IF(AC147>=$Y$12,\"\",IF(X147=\"\",\"\",INDEX($X$18:$X$227,$AA$17-ROWS($X$18:$X147)))))","v":""},"",{"$f":"IF(AE147=\"\",\"\",\n    IF($AU$21=\"TYP\",\n       IF(Y147=\"\",\"\", INDEX($Y$18:$Y$227, $AA$17-ROWS($Y$18:$Y147))),\n       IF($AU$21=\"INVERT\",Y148, \"\")\n    )\n)","v":""},"",null,{"$f":"IF(BL147>=$Y$12,\"\",IF(X147=\"\",\"\",INDEX($X$18:$X$227,$AA$17-ROWS($X$18:$X147))))","v":""},{"$f":"IF(BS148=\"\",\"\",BS148/43560)","v":""},{"$f":"BQ148","v":0},null,"",null,null,{"$f":"IF(Y147=\"\",\"\",INDEX($Y$17:$Y$227,$AA$17-ROWS($Y$17:$Y147)))","v":""}]
["","",{"$f":"IF(B149=\"\",\"\",IFERROR(_xlfn.XLOOKUP(B149,ImperialIncrementalData[System Increment],_xlfn.XLOOKUP('Imperial Incremental Crate'!$R$3,ImperialIncrementalData[#Headers],ImperialIncrementalData[]),,1),0))","v":""},"",{"$f":"IF(B149=\"\",\"\",IFERROR(_xlfn.XLOOKUP(B149,ImperialIncrementalData[System Increment],_xlfn.XLOOKUP(Imperial_Incremental_Data_Target_Column,ImperialIncrementalData[#Headers],ImperialIncrementalData[]),,1),0))","v":""},{"$f":"IF(B149=\"\",\"\",IF(B150=\"\",((((1)/12)*Imperial_Module_Square_Foot_Area)-'Cumulative Volumes Imperial'!E149)*Imperial_Stone_Void_Percentage,((((B149-B150)/12)*Imperial_Module_Square_Foot_Area)-'Cumulative Volumes Imperial'!E149)*Imperial_Stone_Void_Percentage))","v":""},"",{"$f":"IF(B149=\"\",\"\",((Imperial_System_Area_Input-Imperial_Number_Of_Stacks*_xlfn.XLOOKUP(Imperial_Layers,CrateData[Layer],CrateData[Surface Area (sf)]))/12)*Imperial_Stone_Void_Percentage)","v":""},"","",{"$f":"IF(B149=\"\",\"\",SUM(J149:$J$233))","v":""},"",{"$nulls":8},"",null,{"v":-7.29166666666666,"d":"-7.29"},"","",null,"",null,{"$f":"IF($AU$21=\"INVERT\",X149,IF(AC148>=$Y$12,\"\",IF(X148=\"\",\"\",INDEX($X$18:$X$227,$AA$17-ROWS($X$18:$X148)))))","v":""},"","","",{"$nulls":26},{"$f":"IF($AU$21=\"INVERT\",X149,IF(AC148>=$Y$12,\"\",IF(X148=\"\",\"\",INDEX($X$18:$X$227,$AA$17-ROWS($X$18:$X148)))))","v":""},"",{"$f":"IF(AE148=\"\",\"\",\n    IF($AU$21=\"TYP\",\n       IF(Y148=\"\",\"\", INDEX($Y$18:$Y$227, $AA$17-ROWS($Y$18:$Y148))),\n       IF($AU$21=\"INVERT\",Y149, \"\")\n    )\n)","v":""},"",null,{"$f":"IF(BL148>=$Y$12,\"\",IF(X148=\"\",\"\",INDEX($X$18:$X$227,$AA$17-ROWS($X$18:$X148))))","v":""},"",0,null,"",null,null,{"$f":"IF(Y148=\"\",\"\",INDEX($Y$17:$Y$227,$AA$17-ROWS($Y$17:$Y148)))","v":""}]
["","",{"$f":"IF(B150=\"\",\"\",IFERROR(_xlfn.XLOOKUP(B150,ImperialIncrementalData[System Increment],_xlfn.XLOOKUP('Imperial Incremental Crate'!$R$3,ImperialIncrementalData[#Headers],ImperialIncrementalData[]),,1),0))","v":""},"",{"$f":"IF(B150=\"\",\"\",IFERROR(_xlfn.XLOOKUP(B150,ImperialIncrementalData[System Increment],_xlfn.XLOOKUP(Imperial_Incremental_Data_Target_Column,ImperialIncrementalData[#Headers],ImperialIncrementalData[]),,1),0))","v":""},{"$f":"IF(B150=\"\",\"\",IF(B151=\"\",((((1)/12)*Imperial_Module_Square_Foot_Area)-'Cumulative Volumes Imperial'!E150)*Imperial_Stone_Void_Percentage,((((B150-B151)/12)*Imperial_Module_Square_Foot_Area)-'Cumulative Volumes Imperial'!E150)*Imperial_Stone_Void_Percentage))","v":""},"",{"$f":"IF(B150=\"\",\"\",((Imperial_System_Area_Input-Imperial_Number_Of_Stacks*_xlfn.XLOOKUP(Imperial_Layers,CrateData[Layer],CrateData[Surface Area (sf)]))/12)*Imperial_Stone_Void_Percentage)","v":""},"","",{"$f":"IF(B150=\"\",\"\",SUM(J150:$J$233))","v":""},"",{"$nulls":8},"",null,{"v":-7.374999999999993,"d":"-7.37"},"","",null,"",null,{"$f":"IF($AU$21=\"INVERT\",X150,IF(AC149>=$Y$12,\"\",IF(X149=\"\",\"\",INDEX($X$18:$X$227,$AA$17-ROWS($X$18:$X149)))))","v":""},"","","",{"$nulls":26},{"$f":"IF($AU$21=\"INVERT\",X150,IF(AC149>=$Y$12,\"\",IF(X149=\"\",\"\",INDEX($X$18:$X$227,$AA$17-ROWS($X$18:$X149)))))","v":""},"",{"$f":"IF(AE149=\"\",\"\",\n    IF($AU$21=\"TYP\",\n       IF(Y149=\"\",\"\", INDEX($Y$18:$Y$227, $AA$17-ROWS($Y$18:$Y149))),\n       IF($AU$21=\"INVERT\",Y150, \"\")\n    )\n)","v":""},"",null,{"$f":"IF(BL149>=$Y$12,\"\",IF(X149=\"\",\"\",INDEX($X$18:$X$227,$AA$17-ROWS($X$18:$X149))))","v":""},"",0,null,"",null,null,{"$f":"IF(Y149=\"\",\"\",INDEX($Y$17:$Y$227,$AA$17-ROWS($Y$17:$Y149)))","v":""}]
["","",{"$f":"IF(B151=\"\",\"\",IFERROR(_xlfn.XLOOKUP(B151,ImperialIncrementalData[System Increment],_xlfn.XLOOKUP('Imperial Incremental Crate'!$R$3,ImperialIncrementalData[#Headers],ImperialIncrementalData[]),,1),0))","v":""},"",{"$f":"IF(B151=\"\",\"\",IFERROR(_xlfn.XLOOKUP(B151,ImperialIncrementalData[System Increment],_xlfn.XLOOKUP(Imperial_Incremental_Data_Target_Column,ImperialIncrementalData[#Headers],ImperialIncrementalData[]),,1),0))","v":""},{"$f":"IF(B151=\"\",\"\",IF(B152=\"\",((((1)/12)*Imperial_Module_Square_Foot_Area)-'Cumulative Volumes Imperial'!E151)*Imperial_Stone_Void_Percentage,((((B151-B152)/12)*Imperial_Module_Square_Foot_Area)-'Cumulative Volumes Imperial'!E151)*Imperial_Stone_Void_Percentage))","v":""},"",{"$f":"IF(B151=\"\",\"\",((Imperial_System_Area_Input-Imperial_Number_Of_Stacks*_xlfn.XLOOKUP(Imperial_Layers,CrateData[Layer],CrateData[Surface Area (sf)]))/12)*Imperial_Stone_Void_Percentage)","v":""},"","",{"$f":"IF(B151=\"\",\"\",SUM(J151:$J$233))","v":""},"",{"$nulls":8},"",null,{"v":-7.458333333333326,"d":"-7.46"},"","",null,"",null,{"$f":"IF($AU$21=\"INVERT\",X151,IF(AC150>=$Y$12,\"\",IF(X150=\"\",\"\",INDEX($X$18:$X$227,$AA$17-ROWS($X$18:$X150)))))","v":""},"","","",{"$nulls":26},{"$f":"IF($AU$21=\"INVERT\",X151,IF(AC150>=$Y$12,\"\",IF(X150=\"\",\"\",INDEX($X$18:$X$227,$AA$17-ROWS($X$18:$X150)))))","v":""},"",{"$f":"IF(AE150=\"\",\"\",\n    IF($AU$21=\"TYP\",\n       IF(Y150=\"\",\"\", INDEX($Y$18:$Y$227, $AA$17-ROWS($Y$18:$Y150))),\n       IF($AU$21=\"INVERT\",Y151, \"\")\n    )\n)","v":""},"",null,{"$f":"IF(BL150>=$Y$12,\"\",IF(X150=\"\",\"\",INDEX($X$18:$X$227,$AA$17-ROWS($X$18:$X150))))","v":""},"",0,null,"",null,null,{"$f":"IF(Y150=\"\",\"\",INDEX($Y$17:$Y$227,$AA$17-ROWS($Y$17:$Y150)))","v":""}]
["","",{"$f":"IF(B152=\"\",\"\",IFERROR(_xlfn.XLOOKUP(B152,ImperialIncrementalData[System Increment],_xlfn.XLOOKUP('Imperial Incremental Crate'!$R$3,ImperialIncrementalData[#Headers],ImperialIncrementalData[]),,1),0))","v":""},"",{"$f":"IF(B152=\"\",\"\",IFERROR(_xlfn.XLOOKUP(B152,ImperialIncrementalData[System Increment],_xlfn.XLOOKUP(Imperial_Incremental_Data_Target_Column,ImperialIncrementalData[#Headers],ImperialIncrementalData[]),,1),0))","v":""},{"$f":"IF(B152=\"\",\"\",IF(B153=\"\",((((1)/12)*Imperial_Module_Square_Foot_Area)-'Cumulative Volumes Imperial'!E152)*Imperial_Stone_Void_Percentage,((((B152-B153)/12)*Imperial_Module_Square_Foot_Area)-'Cumulative Volumes Imperial'!E152)*Imperial_Stone_Void_Percentage))","v":""},"",{"$f":"IF(B152=\"\",\"\",((Imperial_System_Area_Input-Imperial_Number_Of_Stacks*_xlfn.XLOOKUP(Imperial_Layers,CrateData[Layer],CrateData[Surface Area (sf)]))/12)*Imperial_Stone_Void_Percentage)","v":""},"","",{"$f":"IF(B152=\"\",\"\",SUM(J152:$J$233))","v":""},"",{"$nulls":8},"",null,{"v":-7.541666666666659,"d":"-7.54"},"","",null,"",null,{"$f":"IF($AU$21=\"INVERT\",X152,IF(AC151>=$Y$12,\"\",IF(X151=\"\",\"\",INDEX($X$18:$X$227,$AA$17-ROWS($X$18:$X151)))))","v":""},"","","",{"$nulls":26},{"$f":"IF($AU$21=\"INVERT\",X152,IF(AC151>=$Y$12,\"\",IF(X151=\"\",\"\",INDEX($X$18:$X$227,$AA$17-ROWS($X$18:$X151)))))","v":""},"",{"$f":"IF(AE151=\"\",\"\",\n    IF($AU$21=\"TYP\",\n       IF(Y151=\"\",\"\", INDEX($Y$18:$Y$227, $AA$17-ROWS($Y$18:$Y151))),\n       IF($AU$21=\"INVERT\",Y152, \"\")\n    )\n)","v":""},"",null,{"$f":"IF(BL151>=$Y$12,\"\",IF(X151=\"\",\"\",INDEX($X$18:$X$227,$AA$17-ROWS($X$18:$X151))))","v":""},"",0,null,"",null,null,{"$f":"IF(Y151=\"\",\"\",INDEX($Y$17:$Y$227,$AA$17-ROWS($Y$17:$Y151)))","v":""}]
["","",{"$f":"IF(B153=\"\",\"\",IFERROR(_xlfn.XLOOKUP(B153,ImperialIncrementalData[System Increment],_xlfn.XLOOKUP('Imperial Incremental Crate'!$R$3,ImperialIncrementalData[#Headers],ImperialIncrementalData[]),,1),0))","v":""},"",{"$f":"IF(B153=\"\",\"\",IFERROR(_xlfn.XLOOKUP(B153,ImperialIncrementalData[System Increment],_xlfn.XLOOKUP(Imperial_Incremental_Data_Target_Column,ImperialIncrementalData[#Headers],ImperialIncrementalData[]),,1),0))","v":""},{"$f":"IF(B153=\"\",\"\",IF(B154=\"\",((((1)/12)*Imperial_Module_Square_Foot_Area)-'Cumulative Volumes Imperial'!E153)*Imperial_Stone_Void_Percentage,((((B153-B154)/12)*Imperial_Module_Square_Foot_Area)-'Cumulative Volumes Imperial'!E153)*Imperial_Stone_Void_Percentage))","v":""},"",{"$f":"IF(B153=\"\",\"\",((Imperial_System_Area_Input-Imperial_Number_Of_Stacks*_xlfn.XLOOKUP(Imperial_Layers,CrateData[Layer],CrateData[Surface Area (sf)]))/12)*Imperial_Stone_Void_Percentage)","v":""},"","",{"$f":"IF(B153=\"\",\"\",SUM(J153:$J$233))","v":""},"",{"$nulls":8},"",null,{"v":-7.624999999999992,"d":"-7.62"},"","",null,"",null,{"$f":"IF($AU$21=\"INVERT\",X153,IF(AC152>=$Y$12,\"\",IF(X152=\"\",\"\",INDEX($X$18:$X$227,$AA$17-ROWS($X$18:$X152)))))","v":""},"","","",{"$nulls":26},{"$f":"IF($AU$21=\"INVERT\",X153,IF(AC152>=$Y$12,\"\",IF(X152=\"\",\"\",INDEX($X$18:$X$227,$AA$17-ROWS($X$18:$X152)))))","v":""},"",{"$f":"IF(AE152=\"\",\"\",\n    IF($AU$21=\"TYP\",\n       IF(Y152=\"\",\"\", INDEX($Y$18:$Y$227, $AA$17-ROWS($Y$18:$Y152))),\n       IF($AU$21=\"INVERT\",Y153, \"\")\n    )\n)","v":""},"",null,{"$f":"IF(BL152>=$Y$12,\"\",IF(X152=\"\",\"\",INDEX($X$18:$X$227,$AA$17-ROWS($X$18:$X152))))","v":""},"",0,null,"",null,null,{"$f":"IF(Y152=\"\",\"\",INDEX($Y$17:$Y$227,$AA$17-ROWS($Y$17:$Y152)))","v":""}]
["","",{"$f":"IF(B154=\"\",\"\",IFERROR(_xlfn.XLOOKUP(B154,ImperialIncrementalData[System Increment],_xlfn.XLOOKUP('Imperial Incremental Crate'!$R$3,ImperialIncrementalData[#Headers],ImperialIncrementalData[]),,1),0))","v":""},"",{"$f":"IF(B154=\"\",\"\",IFERROR(_xlfn.XLOOKUP(B154,ImperialIncrementalData[System Increment],_xlfn.XLOOKUP(Imperial_Incremental_Data_Target_Column,ImperialIncrementalData[#Headers],ImperialIncrementalData[]),,1),0))","v":""},{"$f":"IF(B154=\"\",\"\",IF(B155=\"\",((((1)/12)*Imperial_Module_Square_Foot_Area)-'Cumulative Volumes Imperial'!E154)*Imperial_Stone_Void_Percentage,((((B154-B155)/12)*Imperial_Module_Square_Foot_Area)-'Cumulative Volumes Imperial'!E154)*Imperial_Stone_Void_Percentage))","v":""},"",{"$f":"IF(B154=\"\",\"\",((Imperial_System_Area_Input-Imperial_Number_Of_Stacks*_xlfn.XLOOKUP(Imperial_Layers,CrateData[Layer],CrateData[Surface Area (sf)]))/12)*Imperial_Stone_Void_Percentage)","v":""},"","",{"$f":"IF(B154=\"\",\"\",SUM(J154:$J$233))","v":""},"",{"$nulls":8},"",null,{"v":-7.708333333333325,"d":"-7.71"},"","",null,"",null,{"$f":"IF($AU$21=\"INVERT\",X154,IF(AC153>=$Y$12,\"\",IF(X153=\"\",\"\",INDEX($X$18:$X$227,$AA$17-ROWS($X$18:$X153)))))","v":""},"","","",{"$nulls":26},{"$f":"IF($AU$21=\"INVERT\",X154,IF(AC153>=$Y$12,\"\",IF(X153=\"\",\"\",INDEX($X$18:$X$227,$AA$17-ROWS($X$18:$X153)))))","v":""},"",{"$f":"IF(AE153=\"\",\"\",\n    IF($AU$21=\"TYP\",\n       IF(Y153=\"\",\"\", INDEX($Y$18:$Y$227, $AA$17-ROWS($Y$18:$Y153))),\n       IF($AU$21=\"INVERT\",Y154, \"\")\n    )\n)","v":""},"",null,{"$f":"IF(BL153>=$Y$12,\"\",IF(X153=\"\",\"\",INDEX($X$18:$X$227,$AA$17-ROWS($X$18:$X153))))","v":""},"",0,null,"",null,null,{"$f":"IF(Y153=\"\",\"\",INDEX($Y$17:$Y$227,$AA$17-ROWS($Y$17:$Y153)))","v":""}]
["","",{"$f":"IF(B155=\"\",\"\",IFERROR(_xlfn.XLOOKUP(B155,ImperialIncrementalData[System Increment],_xlfn.XLOOKUP('Imperial Incremental Crate'!$R$3,ImperialIncrementalData[#Headers],ImperialIncrementalData[]),,1),0))","v":""},"",{"$f":"IF(B155=\"\",\"\",IFERROR(_xlfn.XLOOKUP(B155,ImperialIncrementalData[System Increment],_xlfn.XLOOKUP(Imperial_Incremental_Data_Target_Column,ImperialIncrementalData[#Headers],ImperialIncrementalData[]),,1),0))","v":""},{"$f":"IF(B155=\"\",\"\",IF(B156=\"\",((((1)/12)*Imperial_Module_Square_Foot_Area)-'Cumulative Volumes Imperial'!E155)*Imperial_Stone_Void_Percentage,((((B155-B156)/12)*Imperial_Module_Square_Foot_Area)-'Cumulative Volumes Imperial'!E155)*Imperial_Stone_Void_Percentage))","v":""},"",{"$f":"IF(B155=\"\",\"\",((Imperial_System_Area_Input-Imperial_Number_Of_Stacks*_xlfn.XLOOKUP(Imperial_Layers,CrateData[Layer],CrateData[Surface Area (sf)]))/12)*Imperial_Stone_Void_Percentage)","v":""},"","",{"$f":"IF(B155=\"\",\"\",SUM(J155:$J$233))","v":""},"",{"$nulls":8},"",null,{"v":-7.791666666666658,"d":"-7.79"},"","",null,"",null,{"$f":"IF($AU$21=\"INVERT\",X155,IF(AC154>=$Y$12,\"\",IF(X154=\"\",\"\",INDEX($X$18:$X$227,$AA$17-ROWS($X$18:$X154)))))","v":""},"","","",{"$nulls":26},{"$f":"IF($AU$21=\"INVERT\",X155,IF(AC154>=$Y$12,\"\",IF(X154=\"\",\"\",INDEX($X$18:$X$227,$AA$17-ROWS($X$18:$X154)))))","v":""},"",{"$f":"IF(AE154=\"\",\"\",\n    IF($AU$21=\"TYP\",\n       IF(Y154=\"\",\"\", INDEX($Y$18:$Y$227, $AA$17-ROWS($Y$18:$Y154))),\n       IF($AU$21=\"INVERT\",Y155, \"\")\n    )\n)","v":""},"",null,{"$f":"IF(BL154>=$Y$12,\"\",IF(X154=\"\",\"\",INDEX($X$18:$X$227,$AA$17-ROWS($X$18:$X154))))","v":""},"",0,null,"",null,null,{"$f":"IF(Y154=\"\",\"\",INDEX($Y$17:$Y$227,$AA$17-ROWS($Y$17:$Y154)))","v":""}]
["","",{"$f":"IF(B156=\"\",\"\",IFERROR(_xlfn.XLOOKUP(B156,ImperialIncrementalData[System Increment],_xlfn.XLOOKUP('Imperial Incremental Crate'!$R$3,ImperialIncrementalData[#Headers],ImperialIncrementalData[]),,1),0))","v":""},"",{"$f":"IF(B156=\"\",\"\",IFERROR(_xlfn.XLOOKUP(B156,ImperialIncrementalData[System Increment],_xlfn.XLOOKUP(Imperial_Incremental_Data_Target_Column,ImperialIncrementalData[#Headers],ImperialIncrementalData[]),,1),0))","v":""},{"$f":"IF(B156=\"\",\"\",IF(B157=\"\",((((1)/12)*Imperial_Module_Square_Foot_Area)-'Cumulative Volumes Imperial'!E156)*Imperial_Stone_Void_Percentage,((((B156-B157)/12)*Imperial_Module_Square_Foot_Area)-'Cumulative Volumes Imperial'!E156)*Imperial_Stone_Void_Percentage))","v":""},"",{"$f":"IF(B156=\"\",\"\",((Imperial_System_Area_Input-Imperial_Number_Of_Stacks*_xlfn.XLOOKUP(Imperial_Layers,CrateData[Layer],CrateData[Surface Area (sf)]))/12)*Imperial_Stone_Void_Percentage)","v":""},"","",{"$f":"IF(B156=\"\",\"\",SUM(J156:$J$233))","v":""},"",{"$nulls":8},"",null,{"v":-7.874999999999991,"d":"-7.87"},"","",null,"",null,{"$f":"IF($AU$21=\"INVERT\",X156,IF(AC155>=$Y$12,\"\",IF(X155=\"\",\"\",INDEX($X$18:$X$227,$AA$17-ROWS($X$18:$X155)))))","v":""},"","","",{"$nulls":26},{"$f":"IF($AU$21=\"INVERT\",X156,IF(AC155>=$Y$12,\"\",IF(X155=\"\",\"\",INDEX($X$18:$X$227,$AA$17-ROWS($X$18:$X155)))))","v":""},"",{"$f":"IF(AE155=\"\",\"\",\n    IF($AU$21=\"TYP\",\n       IF(Y155=\"\",\"\", INDEX($Y$18:$Y$227, $AA$17-ROWS($Y$18:$Y155))),\n       IF($AU$21=\"INVERT\",Y156, \"\")\n    )\n)","v":""},"",null,{"$f":"IF(BL155>=$Y$12,\"\",IF(X155=\"\",\"\",INDEX($X$18:$X$227,$AA$17-ROWS($X$18:$X155))))","v":""},"",0,null,"",null,null,{"$f":"IF(Y155=\"\",\"\",INDEX($Y$17:$Y$227,$AA$17-ROWS($Y$17:$Y155)))","v":""}]
["","",{"$f":"IF(B157=\"\",\"\",IFERROR(_xlfn.XLOOKUP(B157,ImperialIncrementalData[System Increment],_xlfn.XLOOKUP('Imperial Incremental Crate'!$R$3,ImperialIncrementalData[#Headers],ImperialIncrementalData[]),,1),0))","v":""},"",{"$f":"IF(B157=\"\",\"\",IFERROR(_xlfn.XLOOKUP(B157,ImperialIncrementalData[System Increment],_xlfn.XLOOKUP(Imperial_Incremental_Data_Target_Column,ImperialIncrementalData[#Headers],ImperialIncrementalData[]),,1),0))","v":""},{"$f":"IF(B157=\"\",\"\",IF(B158=\"\",((((1)/12)*Imperial_Module_Square_Foot_Area)-'Cumulative Volumes Imperial'!E157)*Imperial_Stone_Void_Percentage,((((B157-B158)/12)*Imperial_Module_Square_Foot_Area)-'Cumulative Volumes Imperial'!E157)*Imperial_Stone_Void_Percentage))","v":""},"",{"$f":"IF(B157=\"\",\"\",((Imperial_System_Area_Input-Imperial_Number_Of_Stacks*_xlfn.XLOOKUP(Imperial_Layers,CrateData[Layer],CrateData[Surface Area (sf)]))/12)*Imperial_Stone_Void_Percentage)","v":""},"","",{"$f":"IF(B157=\"\",\"\",SUM(J157:$J$233))","v":""},"",{"$nulls":8},"",null,{"v":-7.958333333333324,"d":"-7.96"},"","",null,"",null,{"$f":"IF($AU$21=\"INVERT\",X157,IF(AC156>=$Y$12,\"\",IF(X156=\"\",\"\",INDEX($X$18:$X$227,$AA$17-ROWS($X$18:$X156)))))","v":""},"","","",{"$nulls":26},{"$f":"IF($AU$21=\"INVERT\",X157,IF(AC156>=$Y$12,\"\",IF(X156=\"\",\"\",INDEX($X$18:$X$227,$AA$17-ROWS($X$18:$X156)))))","v":""},"",{"$f":"IF(AE156=\"\",\"\",\n    IF($AU$21=\"TYP\",\n       IF(Y156=\"\",\"\", INDEX($Y$18:$Y$227, $AA$17-ROWS($Y$18:$Y156))),\n       IF($AU$21=\"INVERT\",Y157, \"\")\n    )\n)","v":""},"",null,{"$f":"IF(BL156>=$Y$12,\"\",IF(X156=\"\",\"\",INDEX($X$18:$X$227,$AA$17-ROWS($X$18:$X156))))","v":""},"",0,null,"",null,null,{"$f":"IF(Y156=\"\",\"\",INDEX($Y$17:$Y$227,$AA$17-ROWS($Y$17:$Y156)))","v":""}]
["","",{"$f":"IF(B158=\"\",\"\",IFERROR(_xlfn.XLOOKUP(B158,ImperialIncrementalData[System Increment],_xlfn.XLOOKUP('Imperial Incremental Crate'!$R$3,ImperialIncrementalData[#Headers],ImperialIncrementalData[]),,1),0))","v":""},"",{"$f":"IF(B158=\"\",\"\",IFERROR(_xlfn.XLOOKUP(B158,ImperialIncrementalData[System Increment],_xlfn.XLOOKUP(Imperial_Incremental_Data_Target_Column,ImperialIncrementalData[#Headers],ImperialIncrementalData[]),,1),0))","v":""},{"$f":"IF(B158=\"\",\"\",IF(B159=\"\",((((1)/12)*Imperial_Module_Square_Foot_Area)-'Cumulative Volumes Imperial'!E158)*Imperial_Stone_Void_Percentage,((((B158-B159)/12)*Imperial_Module_Square_Foot_Area)-'Cumulative Volumes Imperial'!E158)*Imperial_Stone_Void_Percentage))","v":""},"",{"$f":"IF(B158=\"\",\"\",((Imperial_System_Area_Input-Imperial_Number_Of_Stacks*_xlfn.XLOOKUP(Imperial_Layers,CrateData[Layer],CrateData[Surface Area (sf)]))/12)*Imperial_Stone_Void_Percentage)","v":""},"","",{"$f":"IF(B158=\"\",\"\",SUM(J158:$J$233))","v":""},"",{"$nulls":8},"",null,{"v":-8.041666666666657,"d":"-8.04"},"","",null,"",null,{"$f":"IF($AU$21=\"INVERT\",X158,IF(AC157>=$Y$12,\"\",IF(X157=\"\",\"\",INDEX($X$18:$X$227,$AA$17-ROWS($X$18:$X157)))))","v":""},"","","",{"$nulls":26},{"$f":"IF($AU$21=\"INVERT\",X158,IF(AC157>=$Y$12,\"\",IF(X157=\"\",\"\",INDEX($X$18:$X$227,$AA$17-ROWS($X$18:$X157)))))","v":""},"",{"$f":"IF(AE157=\"\",\"\",\n    IF($AU$21=\"TYP\",\n       IF(Y157=\"\",\"\", INDEX($Y$18:$Y$227, $AA$17-ROWS($Y$18:$Y157))),\n       IF($AU$21=\"INVERT\",Y158, \"\")\n    )\n)","v":""},"",null,{"$f":"IF(BL157>=$Y$12,\"\",IF(X157=\"\",\"\",INDEX($X$18:$X$227,$AA$17-ROWS($X$18:$X157))))","v":""},"",0,null,"",null,null,{"$f":"IF(Y157=\"\",\"\",INDEX($Y$17:$Y$227,$AA$17-ROWS($Y$17:$Y157)))","v":""}]
["","",{"$f":"IF(B159=\"\",\"\",IFERROR(_xlfn.XLOOKUP(B159,ImperialIncrementalData[System Increment],_xlfn.XLOOKUP('Imperial Incremental Crate'!$R$3,ImperialIncrementalData[#Headers],ImperialIncrementalData[]),,1),0))","v":""},"",{"$f":"IF(B159=\"\",\"\",IFERROR(_xlfn.XLOOKUP(B159,ImperialIncrementalData[System Increment],_xlfn.XLOOKUP(Imperial_Incremental_Data_Target_Column,ImperialIncrementalData[#Headers],ImperialIncrementalData[]),,1),0))","v":""},{"$f":"IF(B159=\"\",\"\",IF(B160=\"\",((((1)/12)*Imperial_Module_Square_Foot_Area)-'Cumulative Volumes Imperial'!E159)*Imperial_Stone_Void_Percentage,((((B159-B160)/12)*Imperial_Module_Square_Foot_Area)-'Cumulative Volumes Imperial'!E159)*Imperial_Stone_Void_Percentage))","v":""},"",{"$f":"IF(B159=\"\",\"\",((Imperial_System_Area_Input-Imperial_Number_Of_Stacks*_xlfn.XLOOKUP(Imperial_Layers,CrateData[Layer],CrateData[Surface Area (sf)]))/12)*Imperial_Stone_Void_Percentage)","v":""},"","",{"$f":"IF(B159=\"\",\"\",SUM(J159:$J$233))","v":""},"",{"$nulls":8},"",null,{"v":-8.124999999999991,"d":"-8.12"},"","",null,"",null,{"$f":"IF($AU$21=\"INVERT\",X159,IF(AC158>=$Y$12,\"\",IF(X158=\"\",\"\",INDEX($X$18:$X$227,$AA$17-ROWS($X$18:$X158)))))","v":""},"","","",{"$nulls":26},{"$f":"IF($AU$21=\"INVERT\",X159,IF(AC158>=$Y$12,\"\",IF(X158=\"\",\"\",INDEX($X$18:$X$227,$AA$17-ROWS($X$18:$X158)))))","v":""},"",{"$f":"IF(AE158=\"\",\"\",\n    IF($AU$21=\"TYP\",\n       IF(Y158=\"\",\"\", INDEX($Y$18:$Y$227, $AA$17-ROWS($Y$18:$Y158))),\n       IF($AU$21=\"INVERT\",Y159, \"\")\n    )\n)","v":""},"",null,{"$f":"IF(BL158>=$Y$12,\"\",IF(X158=\"\",\"\",INDEX($X$18:$X$227,$AA$17-ROWS($X$18:$X158))))","v":""},"",0,null,"",null,null,{"$f":"IF(Y158=\"\",\"\",INDEX($Y$17:$Y$227,$AA$17-ROWS($Y$17:$Y158)))","v":""}]
["","",{"$f":"IF(B160=\"\",\"\",IFERROR(_xlfn.XLOOKUP(B160,ImperialIncrementalData[System Increment],_xlfn.XLOOKUP('Imperial Incremental Crate'!$R$3,ImperialIncrementalData[#Headers],ImperialIncrementalData[]),,1),0))","v":""},"",{"$f":"IF(B160=\"\",\"\",IFERROR(_xlfn.XLOOKUP(B160,ImperialIncrementalData[System Increment],_xlfn.XLOOKUP(Imperial_Incremental_Data_Target_Column,ImperialIncrementalData[#Headers],ImperialIncrementalData[]),,1),0))","v":""},{"$f":"IF(B160=\"\",\"\",IF(B161=\"\",((((1)/12)*Imperial_Module_Square_Foot_Area)-'Cumulative Volumes Imperial'!E160)*Imperial_Stone_Void_Percentage,((((B160-B161)/12)*Imperial_Module_Square_Foot_Area)-'Cumulative Volumes Imperial'!E160)*Imperial_Stone_Void_Percentage))","v":""},"",{"$f":"IF(B160=\"\",\"\",((Imperial_System_Area_Input-Imperial_Number_Of_Stacks*_xlfn.XLOOKUP(Imperial_Layers,CrateData[Layer],CrateData[Surface Area (sf)]))/12)*Imperial_Stone_Void_Percentage)","v":""},"","",{"$f":"IF(B160=\"\",\"\",SUM(J160:$J$233))","v":""},"",{"$nulls":8},"",null,{"v":-8.208333333333325,"d":"-8.21"},"","",null,"",null,{"$f":"IF($AU$21=\"INVERT\",X160,IF(AC159>=$Y$12,\"\",IF(X159=\"\",\"\",INDEX($X$18:$X$227,$AA$17-ROWS($X$18:$X159)))))","v":""},"","","",{"$nulls":26},{"$f":"IF($AU$21=\"INVERT\",X160,IF(AC159>=$Y$12,\"\",IF(X159=\"\",\"\",INDEX($X$18:$X$227,$AA$17-ROWS($X$18:$X159)))))","v":""},"",{"$f":"IF(AE159=\"\",\"\",\n    IF($AU$21=\"TYP\",\n       IF(Y159=\"\",\"\", INDEX($Y$18:$Y$227, $AA$17-ROWS($Y$18:$Y159))),\n       IF($AU$21=\"INVERT\",Y160, \"\")\n    )\n)","v":""},"",null,{"$f":"IF(BL159>=$Y$12,\"\",IF(X159=\"\",\"\",INDEX($X$18:$X$227,$AA$17-ROWS($X$18:$X159))))","v":""},"",0,null,"",null,null,{"$f":"IF(Y159=\"\",\"\",INDEX($Y$17:$Y$227,$AA$17-ROWS($Y$17:$Y159)))","v":""}]
["","",{"$f":"IF(B161=\"\",\"\",IFERROR(_xlfn.XLOOKUP(B161,ImperialIncrementalData[System Increment],_xlfn.XLOOKUP('Imperial Incremental Crate'!$R$3,ImperialIncrementalData[#Headers],ImperialIncrementalData[]),,1),0))","v":""},"",{"$f":"IF(B161=\"\",\"\",IFERROR(_xlfn.XLOOKUP(B161,ImperialIncrementalData[System Increment],_xlfn.XLOOKUP(Imperial_Incremental_Data_Target_Column,ImperialIncrementalData[#Headers],ImperialIncrementalData[]),,1),0))","v":""},{"$f":"IF(B161=\"\",\"\",IF(B162=\"\",((((1)/12)*Imperial_Module_Square_Foot_Area)-'Cumulative Volumes Imperial'!E161)*Imperial_Stone_Void_Percentage,((((B161-B162)/12)*Imperial_Module_Square_Foot_Area)-'Cumulative Volumes Imperial'!E161)*Imperial_Stone_Void_Percentage))","v":""},"",{"$f":"IF(B161=\"\",\"\",((Imperial_System_Area_Input-Imperial_Number_Of_Stacks*_xlfn.XLOOKUP(Imperial_Layers,CrateData[Layer],CrateData[Surface Area (sf)]))/12)*Imperial_Stone_Void_Percentage)","v":""},"","",{"$f":"IF(B161=\"\",\"\",SUM(J161:$J$233))","v":""},"",{"$nulls":8},"",null,{"v":-8.291666666666659,"d":"-8.29"},"","",null,"",null,{"$f":"IF($AU$21=\"INVERT\",X161,IF(AC160>=$Y$12,\"\",IF(X160=\"\",\"\",INDEX($X$18:$X$227,$AA$17-ROWS($X$18:$X160)))))","v":""},"","","",{"$nulls":26},{"$f":"IF($AU$21=\"INVERT\",X161,IF(AC160>=$Y$12,\"\",IF(X160=\"\",\"\",INDEX($X$18:$X$227,$AA$17-ROWS($X$18:$X160)))))","v":""},"",{"$f":"IF(AE160=\"\",\"\",\n    IF($AU$21=\"TYP\",\n       IF(Y160=\"\",\"\", INDEX($Y$18:$Y$227, $AA$17-ROWS($Y$18:$Y160))),\n       IF($AU$21=\"INVERT\",Y161, \"\")\n    )\n)","v":""},"",null,{"$f":"IF(BL160>=$Y$12,\"\",IF(X160=\"\",\"\",INDEX($X$18:$X$227,$AA$17-ROWS($X$18:$X160))))","v":""},"",0,null,"",null,null,{"$f":"IF(Y160=\"\",\"\",INDEX($Y$17:$Y$227,$AA$17-ROWS($Y$17:$Y160)))","v":""}]
["","",{"$f":"IF(B162=\"\",\"\",IFERROR(_xlfn.XLOOKUP(B162,ImperialIncrementalData[System Increment],_xlfn.XLOOKUP('Imperial Incremental Crate'!$R$3,ImperialIncrementalData[#Headers],ImperialIncrementalData[]),,1),0))","v":""},"",{"$f":"IF(B162=\"\",\"\",IFERROR(_xlfn.XLOOKUP(B162,ImperialIncrementalData[System Increment],_xlfn.XLOOKUP(Imperial_Incremental_Data_Target_Column,ImperialIncrementalData[#Headers],ImperialIncrementalData[]),,1),0))","v":""},{"$f":"IF(B162=\"\",\"\",IF(B163=\"\",((((1)/12)*Imperial_Module_Square_Foot_Area)-'Cumulative Volumes Imperial'!E162)*Imperial_Stone_Void_Percentage,((((B162-B163)/12)*Imperial_Module_Square_Foot_Area)-'Cumulative Volumes Imperial'!E162)*Imperial_Stone_Void_Percentage))","v":""},"",{"$f":"IF(B162=\"\",\"\",((Imperial_System_Area_Input-Imperial_Number_Of_Stacks*_xlfn.XLOOKUP(Imperial_Layers,CrateData[Layer],CrateData[Surface Area (sf)]))/12)*Imperial_Stone_Void_Percentage)","v":""},"","",{"$f":"IF(B162=\"\",\"\",SUM(J162:$J$233))","v":""},"",{"$nulls":8},"",null,{"v":-8.374999999999993,"d":"-8.37"},"","",null,"",null,{"$f":"IF($AU$21=\"INVERT\",X162,IF(AC161>=$Y$12,\"\",IF(X161=\"\",\"\",INDEX($X$18:$X$227,$AA$17-ROWS($X$18:$X161)))))","v":""},"","","",{"$nulls":26},{"$f":"IF($AU$21=\"INVERT\",X162,IF(AC161>=$Y$12,\"\",IF(X161=\"\",\"\",INDEX($X$18:$X$227,$AA$17-ROWS($X$18:$X161)))))","v":""},"",{"$f":"IF(AE161=\"\",\"\",\n    IF($AU$21=\"TYP\",\n       IF(Y161=\"\",\"\", INDEX($Y$18:$Y$227, $AA$17-ROWS($Y$18:$Y161))),\n       IF($AU$21=\"INVERT\",Y162, \"\")\n    )\n)","v":""},"",null,{"$f":"IF(BL161>=$Y$12,\"\",IF(X161=\"\",\"\",INDEX($X$18:$X$227,$AA$17-ROWS($X$18:$X161))))","v":""},"",0,null,"",null,null,{"$f":"IF(Y161=\"\",\"\",INDEX($Y$17:$Y$227,$AA$17-ROWS($Y$17:$Y161)))","v":""}]
["","",{"$f":"IF(B163=\"\",\"\",IFERROR(_xlfn.XLOOKUP(B163,ImperialIncrementalData[System Increment],_xlfn.XLOOKUP('Imperial Incremental Crate'!$R$3,ImperialIncrementalData[#Headers],ImperialIncrementalData[]),,1),0))","v":""},"",{"$f":"IF(B163=\"\",\"\",IFERROR(_xlfn.XLOOKUP(B163,ImperialIncrementalData[System Increment],_xlfn.XLOOKUP(Imperial_Incremental_Data_Target_Column,ImperialIncrementalData[#Headers],ImperialIncrementalData[]),,1),0))","v":""},{"$f":"IF(B163=\"\",\"\",IF(B164=\"\",((((1)/12)*Imperial_Module_Square_Foot_Area)-'Cumulative Volumes Imperial'!E163)*Imperial_Stone_Void_Percentage,((((B163-B164)/12)*Imperial_Module_Square_Foot_Area)-'Cumulative Volumes Imperial'!E163)*Imperial_Stone_Void_Percentage))","v":""},"",{"$f":"IF(B163=\"\",\"\",((Imperial_System_Area_Input-Imperial_Number_Of_Stacks*_xlfn.XLOOKUP(Imperial_Layers,CrateData[Layer],CrateData[Surface Area (sf)]))/12)*Imperial_Stone_Void_Percentage)","v":""},"","",{"$f":"IF(B163=\"\",\"\",SUM(J163:$J$233))","v":""},"",{"$nulls":8},"",null,{"v":-8.458333333333327,"d":"-8.46"},"","",null,"",null,{"$f":"IF($AU$21=\"INVERT\",X163,IF(AC162>=$Y$12,\"\",IF(X162=\"\",\"\",INDEX($X$18:$X$227,$AA$17-ROWS($X$18:$X162)))))","v":""},"","","",{"$nulls":26},{"$f":"IF($AU$21=\"INVERT\",X163,IF(AC162>=$Y$12,\"\",IF(X162=\"\",\"\",INDEX($X$18:$X$227,$AA$17-ROWS($X$18:$X162)))))","v":""},"",{"$f":"IF(AE162=\"\",\"\",\n    IF($AU$21=\"TYP\",\n       IF(Y162=\"\",\"\", INDEX($Y$18:$Y$227, $AA$17-ROWS($Y$18:$Y162))),\n       IF($AU$21=\"INVERT\",Y163, \"\")\n    )\n)","v":""},"",null,{"$f":"IF(BL162>=$Y$12,\"\",IF(X162=\"\",\"\",INDEX($X$18:$X$227,$AA$17-ROWS($X$18:$X162))))","v":""},"",0,null,"",null,null,{"$f":"IF(Y162=\"\",\"\",INDEX($Y$17:$Y$227,$AA$17-ROWS($Y$17:$Y162)))","v":""}]
["","",{"$f":"IF(B164=\"\",\"\",IFERROR(_xlfn.XLOOKUP(B164,ImperialIncrementalData[System Increment],_xlfn.XLOOKUP('Imperial Incremental Crate'!$R$3,ImperialIncrementalData[#Headers],ImperialIncrementalData[]),,1),0))","v":""},"",{"$f":"IF(B164=\"\",\"\",IFERROR(_xlfn.XLOOKUP(B164,ImperialIncrementalData[System Increment],_xlfn.XLOOKUP(Imperial_Incremental_Data_Target_Column,ImperialIncrementalData[#Headers],ImperialIncrementalData[]),,1),0))","v":""},{"$f":"IF(B164=\"\",\"\",IF(B165=\"\",((((1)/12)*Imperial_Module_Square_Foot_Area)-'Cumulative Volumes Imperial'!E164)*Imperial_Stone_Void_Percentage,((((B164-B165)/12)*Imperial_Module_Square_Foot_Area)-'Cumulative Volumes Imperial'!E164)*Imperial_Stone_Void_Percentage))","v":""},"",{"$f":"IF(B164=\"\",\"\",((Imperial_System_Area_Input-Imperial_Number_Of_Stacks*_xlfn.XLOOKUP(Imperial_Layers,CrateData[Layer],CrateData[Surface Area (sf)]))/12)*Imperial_Stone_Void_Percentage)","v":""},"","",{"$f":"IF(B164=\"\",\"\",SUM(J164:$J$233))","v":""},"",{"$nulls":8},"",null,{"v":-8.54166666666666,"d":"-8.54"},"","",null,"",null,{"$f":"IF($AU$21=\"INVERT\",X164,IF(AC163>=$Y$12,\"\",IF(X163=\"\",\"\",INDEX($X$18:$X$227,$AA$17-ROWS($X$18:$X163)))))","v":""},"","","",{"$nulls":26},{"$f":"IF($AU$21=\"INVERT\",X164,IF(AC163>=$Y$12,\"\",IF(X163=\"\",\"\",INDEX($X$18:$X$227,$AA$17-ROWS($X$18:$X163)))))","v":""},"",{"$f":"IF(AE163=\"\",\"\",\n    IF($AU$21=\"TYP\",\n       IF(Y163=\"\",\"\", INDEX($Y$18:$Y$227, $AA$17-ROWS($Y$18:$Y163))),\n       IF($AU$21=\"INVERT\",Y164, \"\")\n    )\n)","v":""},"",null,{"$f":"IF(BL163>=$Y$12,\"\",IF(X163=\"\",\"\",INDEX($X$18:$X$227,$AA$17-ROWS($X$18:$X163))))","v":""},"",0,null,"",null,null,{"$f":"IF(Y163=\"\",\"\",INDEX($Y$17:$Y$227,$AA$17-ROWS($Y$17:$Y163)))","v":""}]
["","",{"$f":"IF(B165=\"\",\"\",IFERROR(_xlfn.XLOOKUP(B165,ImperialIncrementalData[System Increment],_xlfn.XLOOKUP('Imperial Incremental Crate'!$R$3,ImperialIncrementalData[#Headers],ImperialIncrementalData[]),,1),0))","v":""},"",{"$f":"IF(B165=\"\",\"\",IFERROR(_xlfn.XLOOKUP(B165,ImperialIncrementalData[System Increment],_xlfn.XLOOKUP(Imperial_Incremental_Data_Target_Column,ImperialIncrementalData[#Headers],ImperialIncrementalData[]),,1),0))","v":""},{"$f":"IF(B165=\"\",\"\",IF(B166=\"\",((((1)/12)*Imperial_Module_Square_Foot_Area)-'Cumulative Volumes Imperial'!E165)*Imperial_Stone_Void_Percentage,((((B165-B166)/12)*Imperial_Module_Square_Foot_Area)-'Cumulative Volumes Imperial'!E165)*Imperial_Stone_Void_Percentage))","v":""},"",{"$f":"IF(B165=\"\",\"\",((Imperial_System_Area_Input-Imperial_Number_Of_Stacks*_xlfn.XLOOKUP(Imperial_Layers,CrateData[Layer],CrateData[Surface Area (sf)]))/12)*Imperial_Stone_Void_Percentage)","v":""},"","",{"$f":"IF(B165=\"\",\"\",SUM(J165:$J$233))","v":""},"",{"$nulls":8},"",null,{"v":-8.624999999999995,"d":"-8.62"},"","",null,"",null,{"$f":"IF($AU$21=\"INVERT\",X165,IF(AC164>=$Y$12,\"\",IF(X164=\"\",\"\",INDEX($X$18:$X$227,$AA$17-ROWS($X$18:$X164)))))","v":""},"","","",{"$nulls":26},{"$f":"IF($AU$21=\"INVERT\",X165,IF(AC164>=$Y$12,\"\",IF(X164=\"\",\"\",INDEX($X$18:$X$227,$AA$17-ROWS($X$18:$X164)))))","v":""},"",{"$f":"IF(AE164=\"\",\"\",\n    IF($AU$21=\"TYP\",\n       IF(Y164=\"\",\"\", INDEX($Y$18:$Y$227, $AA$17-ROWS($Y$18:$Y164))),\n       IF($AU$21=\"INVERT\",Y165, \"\")\n    )\n)","v":""},"",null,{"$f":"IF(BL164>=$Y$12,\"\",IF(X164=\"\",\"\",INDEX($X$18:$X$227,$AA$17-ROWS($X$18:$X164))))","v":""},"",0,null,"",null,null,{"$f":"IF(Y164=\"\",\"\",INDEX($Y$17:$Y$227,$AA$17-ROWS($Y$17:$Y164)))","v":""}]
["","",{"$f":"IF(B166=\"\",\"\",IFERROR(_xlfn.XLOOKUP(B166,ImperialIncrementalData[System Increment],_xlfn.XLOOKUP('Imperial Incremental Crate'!$R$3,ImperialIncrementalData[#Headers],ImperialIncrementalData[]),,1),0))","v":""},"",{"$f":"IF(B166=\"\",\"\",IFERROR(_xlfn.XLOOKUP(B166,ImperialIncrementalData[System Increment],_xlfn.XLOOKUP(Imperial_Incremental_Data_Target_Column,ImperialIncrementalData[#Headers],ImperialIncrementalData[]),,1),0))","v":""},{"$f":"IF(B166=\"\",\"\",IF(B167=\"\",((((1)/12)*Imperial_Module_Square_Foot_Area)-'Cumulative Volumes Imperial'!E166)*Imperial_Stone_Void_Percentage,((((B166-B167)/12)*Imperial_Module_Square_Foot_Area)-'Cumulative Volumes Imperial'!E166)*Imperial_Stone_Void_Percentage))","v":""},"",{"$f":"IF(B166=\"\",\"\",((Imperial_System_Area_Input-Imperial_Number_Of_Stacks*_xlfn.XLOOKUP(Imperial_Layers,CrateData[Layer],CrateData[Surface Area (sf)]))/12)*Imperial_Stone_Void_Percentage)","v":""},"","",{"$f":"IF(B166=\"\",\"\",SUM(J166:$J$233))","v":""},"",{"$nulls":8},"",null,{"v":-8.708333333333329,"d":"-8.71"},"","",null,"",null,{"$f":"IF($AU$21=\"INVERT\",X166,IF(AC165>=$Y$12,\"\",IF(X165=\"\",\"\",INDEX($X$18:$X$227,$AA$17-ROWS($X$18:$X165)))))","v":""},"","","",{"$nulls":26},{"$f":"IF($AU$21=\"INVERT\",X166,IF(AC165>=$Y$12,\"\",IF(X165=\"\",\"\",INDEX($X$18:$X$227,$AA$17-ROWS($X$18:$X165)))))","v":""},"",{"$f":"IF(AE165=\"\",\"\",\n    IF($AU$21=\"TYP\",\n       IF(Y165=\"\",\"\", INDEX($Y$18:$Y$227, $AA$17-ROWS($Y$18:$Y165))),\n       IF($AU$21=\"INVERT\",Y166, \"\")\n    )\n)","v":""},"",null,{"$f":"IF(BL165>=$Y$12,\"\",IF(X165=\"\",\"\",INDEX($X$18:$X$227,$AA$17-ROWS($X$18:$X165))))","v":""},"",0,null,"",null,null,{"$f":"IF(Y165=\"\",\"\",INDEX($Y$17:$Y$227,$AA$17-ROWS($Y$17:$Y165)))","v":""}]
["","",{"$f":"IF(B167=\"\",\"\",IFERROR(_xlfn.XLOOKUP(B167,ImperialIncrementalData[System Increment],_xlfn.XLOOKUP('Imperial Incremental Crate'!$R$3,ImperialIncrementalData[#Headers],ImperialIncrementalData[]),,1),0))","v":""},"",{"$f":"IF(B167=\"\",\"\",IFERROR(_xlfn.XLOOKUP(B167,ImperialIncrementalData[System Increment],_xlfn.XLOOKUP(Imperial_Incremental_Data_Target_Column,ImperialIncrementalData[#Headers],ImperialIncrementalData[]),,1),0))","v":""},{"$f":"IF(B167=\"\",\"\",IF(B168=\"\",((((1)/12)*Imperial_Module_Square_Foot_Area)-'Cumulative Volumes Imperial'!E167)*Imperial_Stone_Void_Percentage,((((B167-B168)/12)*Imperial_Module_Square_Foot_Area)-'Cumulative Volumes Imperial'!E167)*Imperial_Stone_Void_Percentage))","v":""},"",{"$f":"IF(B167=\"\",\"\",((Imperial_System_Area_Input-Imperial_Number_Of_Stacks*_xlfn.XLOOKUP(Imperial_Layers,CrateData[Layer],CrateData[Surface Area (sf)]))/12)*Imperial_Stone_Void_Percentage)","v":""},"","",{"$f":"IF(B167=\"\",\"\",SUM(J167:$J$233))","v":""},"",{"$nulls":8},"",null,{"v":-8.791666666666663,"d":"-8.79"},"","",null,"",null,{"$f":"IF($AU$21=\"INVERT\",X167,IF(AC166>=$Y$12,\"\",IF(X166=\"\",\"\",INDEX($X$18:$X$227,$AA$17-ROWS($X$18:$X166)))))","v":""},"","","",{"$nulls":26},{"$f":"IF($AU$21=\"INVERT\",X167,IF(AC166>=$Y$12,\"\",IF(X166=\"\",\"\",INDEX($X$18:$X$227,$AA$17-ROWS($X$18:$X166)))))","v":""},"",{"$f":"IF(AE166=\"\",\"\",\n    IF($AU$21=\"TYP\",\n       IF(Y166=\"\",\"\", INDEX($Y$18:$Y$227, $AA$17-ROWS($Y$18:$Y166))),\n       IF($AU$21=\"INVERT\",Y167, \"\")\n    )\n)","v":""},"",null,{"$f":"IF(BL166>=$Y$12,\"\",IF(X166=\"\",\"\",INDEX($X$18:$X$227,$AA$17-ROWS($X$18:$X166))))","v":""},"",0,null,"",null,null,{"$f":"IF(Y166=\"\",\"\",INDEX($Y$17:$Y$227,$AA$17-ROWS($Y$17:$Y166)))","v":""}]
["","",{"$f":"IF(B168=\"\",\"\",IFERROR(_xlfn.XLOOKUP(B168,ImperialIncrementalData[System Increment],_xlfn.XLOOKUP('Imperial Incremental Crate'!$R$3,ImperialIncrementalData[#Headers],ImperialIncrementalData[]),,1),0))","v":""},"",{"$f":"IF(B168=\"\",\"\",IFERROR(_xlfn.XLOOKUP(B168,ImperialIncrementalData[System Increment],_xlfn.XLOOKUP(Imperial_Incremental_Data_Target_Column,ImperialIncrementalData[#Headers],ImperialIncrementalData[]),,1),0))","v":""},{"$f":"IF(B168=\"\",\"\",IF(B169=\"\",((((1)/12)*Imperial_Module_Square_Foot_Area)-'Cumulative Volumes Imperial'!E168)*Imperial_Stone_Void_Percentage,((((B168-B169)/12)*Imperial_Module_Square_Foot_Area)-'Cumulative Volumes Imperial'!E168)*Imperial_Stone_Void_Percentage))","v":""},"",{"$f":"IF(B168=\"\",\"\",((Imperial_System_Area_Input-Imperial_Number_Of_Stacks*_xlfn.XLOOKUP(Imperial_Layers,CrateData[Layer],CrateData[Surface Area (sf)]))/12)*Imperial_Stone_Void_Percentage)","v":""},"","",{"$f":"IF(B168=\"\",\"\",SUM(J168:$J$233))","v":""},"",{"$nulls":8},"",null,{"v":-8.874999999999996,"d":"-8.88"},"","",null,"",null,{"$f":"IF($AU$21=\"INVERT\",X168,IF(AC167>=$Y$12,\"\",IF(X167=\"\",\"\",INDEX($X$18:$X$227,$AA$17-ROWS($X$18:$X167)))))","v":""},"","","",{"$nulls":26},{"$f":"IF($AU$21=\"INVERT\",X168,IF(AC167>=$Y$12,\"\",IF(X167=\"\",\"\",INDEX($X$18:$X$227,$AA$17-ROWS($X$18:$X167)))))","v":""},"",{"$f":"IF(AE167=\"\",\"\",\n    IF($AU$21=\"TYP\",\n       IF(Y167=\"\",\"\", INDEX($Y$18:$Y$227, $AA$17-ROWS($Y$18:$Y167))),\n       IF($AU$21=\"INVERT\",Y168, \"\")\n    )\n)","v":""},"",null,{"$f":"IF(BL167>=$Y$12,\"\",IF(X167=\"\",\"\",INDEX($X$18:$X$227,$AA$17-ROWS($X$18:$X167))))","v":""},"",0,null,"",null,null,{"$f":"IF(Y167=\"\",\"\",INDEX($Y$17:$Y$227,$AA$17-ROWS($Y$17:$Y167)))","v":""}]
["","",{"$f":"IF(B169=\"\",\"\",IFERROR(_xlfn.XLOOKUP(B169,ImperialIncrementalData[System Increment],_xlfn.XLOOKUP('Imperial Incremental Crate'!$R$3,ImperialIncrementalData[#Headers],ImperialIncrementalData[]),,1),0))","v":""},"",{"$f":"IF(B169=\"\",\"\",IFERROR(_xlfn.XLOOKUP(B169,ImperialIncrementalData[System Increment],_xlfn.XLOOKUP(Imperial_Incremental_Data_Target_Column,ImperialIncrementalData[#Headers],ImperialIncrementalData[]),,1),0))","v":""},{"$f":"IF(B169=\"\",\"\",IF(B170=\"\",((((1)/12)*Imperial_Module_Square_Foot_Area)-'Cumulative Volumes Imperial'!E169)*Imperial_Stone_Void_Percentage,((((B169-B170)/12)*Imperial_Module_Square_Foot_Area)-'Cumulative Volumes Imperial'!E169)*Imperial_Stone_Void_Percentage))","v":""},"",{"$f":"IF(B169=\"\",\"\",((Imperial_System_Area_Input-Imperial_Number_Of_Stacks*_xlfn.XLOOKUP(Imperial_Layers,CrateData[Layer],CrateData[Surface Area (sf)]))/12)*Imperial_Stone_Void_Percentage)","v":""},"","",{"$f":"IF(B169=\"\",\"\",SUM(J169:$J$233))","v":""},"",{"$nulls":8},"",null,{"v":-8.95833333333333,"d":"-8.96"},"","",null,"",null,{"$f":"IF($AU$21=\"INVERT\",X169,IF(AC168>=$Y$12,\"\",IF(X168=\"\",\"\",INDEX($X$18:$X$227,$AA$17-ROWS($X$18:$X168)))))","v":""},"","","",{"$nulls":26},{"$f":"IF($AU$21=\"INVERT\",X169,IF(AC168>=$Y$12,\"\",IF(X168=\"\",\"\",INDEX($X$18:$X$227,$AA$17-ROWS($X$18:$X168)))))","v":""},"",{"$f":"IF(AE168=\"\",\"\",\n    IF($AU$21=\"TYP\",\n       IF(Y168=\"\",\"\", INDEX($Y$18:$Y$227, $AA$17-ROWS($Y$18:$Y168))),\n       IF($AU$21=\"INVERT\",Y169, \"\")\n    )\n)","v":""},"",null,{"$f":"IF(BL168>=$Y$12,\"\",IF(X168=\"\",\"\",INDEX($X$18:$X$227,$AA$17-ROWS($X$18:$X168))))","v":""},"",0,null,"",null,null,{"$f":"IF(Y168=\"\",\"\",INDEX($Y$17:$Y$227,$AA$17-ROWS($Y$17:$Y168)))","v":""}]
["","",{"$f":"IF(B170=\"\",\"\",IFERROR(_xlfn.XLOOKUP(B170,ImperialIncrementalData[System Increment],_xlfn.XLOOKUP('Imperial Incremental Crate'!$R$3,ImperialIncrementalData[#Headers],ImperialIncrementalData[]),,1),0))","v":""},"",{"$f":"IF(B170=\"\",\"\",IFERROR(_xlfn.XLOOKUP(B170,ImperialIncrementalData[System Increment],_xlfn.XLOOKUP(Imperial_Incremental_Data_Target_Column,ImperialIncrementalData[#Headers],ImperialIncrementalData[]),,1),0))","v":""},{"$f":"IF(B170=\"\",\"\",IF(B171=\"\",((((1)/12)*Imperial_Module_Square_Foot_Area)-'Cumulative Volumes Imperial'!E170)*Imperial_Stone_Void_Percentage,((((B170-B171)/12)*Imperial_Module_Square_Foot_Area)-'Cumulative Volumes Imperial'!E170)*Imperial_Stone_Void_Percentage))","v":""},"",{"$f":"IF(B170=\"\",\"\",((Imperial_System_Area_Input-Imperial_Number_Of_Stacks*_xlfn.XLOOKUP(Imperial_Layers,CrateData[Layer],CrateData[Surface Area (sf)]))/12)*Imperial_Stone_Void_Percentage)","v":""},"","",{"$f":"IF(B170=\"\",\"\",SUM(J170:$J$233))","v":""},"",{"$nulls":8},"",null,{"v":-9.041666666666664,"d":"-9.04"},"","",null,"",null,{"$f":"IF($AU$21=\"INVERT\",X170,IF(AC169>=$Y$12,\"\",IF(X169=\"\",\"\",INDEX($X$18:$X$227,$AA$17-ROWS($X$18:$X169)))))","v":""},"","","",{"$nulls":26},{"$f":"IF($AU$21=\"INVERT\",X170,IF(AC169>=$Y$12,\"\",IF(X169=\"\",\"\",INDEX($X$18:$X$227,$AA$17-ROWS($X$18:$X169)))))","v":""},"",{"$f":"IF(AE169=\"\",\"\",\n    IF($AU$21=\"TYP\",\n       IF(Y169=\"\",\"\", INDEX($Y$18:$Y$227, $AA$17-ROWS($Y$18:$Y169))),\n       IF($AU$21=\"INVERT\",Y170, \"\")\n    )\n)","v":""},"",null,{"$f":"IF(BL169>=$Y$12,\"\",IF(X169=\"\",\"\",INDEX($X$18:$X$227,$AA$17-ROWS($X$18:$X169))))","v":""},"",0,null,"",null,null,{"$f":"IF(Y169=\"\",\"\",INDEX($Y$17:$Y$227,$AA$17-ROWS($Y$17:$Y169)))","v":""}]
["","",{"$f":"IF(B171=\"\",\"\",IFERROR(_xlfn.XLOOKUP(B171,ImperialIncrementalData[System Increment],_xlfn.XLOOKUP('Imperial Incremental Crate'!$R$3,ImperialIncrementalData[#Headers],ImperialIncrementalData[]),,1),0))","v":""},"",{"$f":"IF(B171=\"\",\"\",IFERROR(_xlfn.XLOOKUP(B171,ImperialIncrementalData[System Increment],_xlfn.XLOOKUP(Imperial_Incremental_Data_Target_Column,ImperialIncrementalData[#Headers],ImperialIncrementalData[]),,1),0))","v":""},{"$f":"IF(B171=\"\",\"\",IF(B172=\"\",((((1)/12)*Imperial_Module_Square_Foot_Area)-'Cumulative Volumes Imperial'!E171)*Imperial_Stone_Void_Percentage,((((B171-B172)/12)*Imperial_Module_Square_Foot_Area)-'Cumulative Volumes Imperial'!E171)*Imperial_Stone_Void_Percentage))","v":""},"",{"$f":"IF(B171=\"\",\"\",((Imperial_System_Area_Input-Imperial_Number_Of_Stacks*_xlfn.XLOOKUP(Imperial_Layers,CrateData[Layer],CrateData[Surface Area (sf)]))/12)*Imperial_Stone_Void_Percentage)","v":""},"","",{"$f":"IF(B171=\"\",\"\",SUM(J171:$J$233))","v":""},"",{"$nulls":8},"",null,{"v":-9.124999999999998,"d":"-9.13"},"","",null,"",null,{"$f":"IF($AU$21=\"INVERT\",X171,IF(AC170>=$Y$12,\"\",IF(X170=\"\",\"\",INDEX($X$18:$X$227,$AA$17-ROWS($X$18:$X170)))))","v":""},"","","",{"$nulls":26},{"$f":"IF($AU$21=\"INVERT\",X171,IF(AC170>=$Y$12,\"\",IF(X170=\"\",\"\",INDEX($X$18:$X$227,$AA$17-ROWS($X$18:$X170)))))","v":""},"",{"$f":"IF(AE170=\"\",\"\",\n    IF($AU$21=\"TYP\",\n       IF(Y170=\"\",\"\", INDEX($Y$18:$Y$227, $AA$17-ROWS($Y$18:$Y170))),\n       IF($AU$21=\"INVERT\",Y171, \"\")\n    )\n)","v":""},"",null,{"$f":"IF(BL170>=$Y$12,\"\",IF(X170=\"\",\"\",INDEX($X$18:$X$227,$AA$17-ROWS($X$18:$X170))))","v":""},"",0,null,"",null,null,{"$f":"IF(Y170=\"\",\"\",INDEX($Y$17:$Y$227,$AA$17-ROWS($Y$17:$Y170)))","v":""}]
["","",{"$f":"IF(B172=\"\",\"\",IFERROR(_xlfn.XLOOKUP(B172,ImperialIncrementalData[System Increment],_xlfn.XLOOKUP('Imperial Incremental Crate'!$R$3,ImperialIncrementalData[#Headers],ImperialIncrementalData[]),,1),0))","v":""},"",{"$f":"IF(B172=\"\",\"\",IFERROR(_xlfn.XLOOKUP(B172,ImperialIncrementalData[System Increment],_xlfn.XLOOKUP(Imperial_Incremental_Data_Target_Column,ImperialIncrementalData[#Headers],ImperialIncrementalData[]),,1),0))","v":""},{"$f":"IF(B172=\"\",\"\",IF(B173=\"\",((((1)/12)*Imperial_Module_Square_Foot_Area)-'Cumulative Volumes Imperial'!E172)*Imperial_Stone_Void_Percentage,((((B172-B173)/12)*Imperial_Module_Square_Foot_Area)-'Cumulative Volumes Imperial'!E172)*Imperial_Stone_Void_Percentage))","v":""},"",{"$f":"IF(B172=\"\",\"\",((Imperial_System_Area_Input-Imperial_Number_Of_Stacks*_xlfn.XLOOKUP(Imperial_Layers,CrateData[Layer],CrateData[Surface Area (sf)]))/12)*Imperial_Stone_Void_Percentage)","v":""},"","",{"$f":"IF(B172=\"\",\"\",SUM(J172:$J$233))","v":""},"",{"$nulls":8},"",null,{"v":-9.208333333333332,"d":"-9.21"},"","",null,"",null,{"$f":"IF($AU$21=\"INVERT\",X172,IF(AC171>=$Y$12,\"\",IF(X171=\"\",\"\",INDEX($X$18:$X$227,$AA$17-ROWS($X$18:$X171)))))","v":""},"","","",{"$nulls":26},{"$f":"IF($AU$21=\"INVERT\",X172,IF(AC171>=$Y$12,\"\",IF(X171=\"\",\"\",INDEX($X$18:$X$227,$AA$17-ROWS($X$18:$X171)))))","v":""},"",{"$f":"IF(AE171=\"\",\"\",\n    IF($AU$21=\"TYP\",\n       IF(Y171=\"\",\"\", INDEX($Y$18:$Y$227, $AA$17-ROWS($Y$18:$Y171))),\n       IF($AU$21=\"INVERT\",Y172, \"\")\n    )\n)","v":""},"",null,{"$f":"IF(BL171>=$Y$12,\"\",IF(X171=\"\",\"\",INDEX($X$18:$X$227,$AA$17-ROWS($X$18:$X171))))","v":""},"",0,null,"",null,null,{"$f":"IF(Y171=\"\",\"\",INDEX($Y$17:$Y$227,$AA$17-ROWS($Y$17:$Y171)))","v":""}]
["","",{"$f":"IF(B173=\"\",\"\",IFERROR(_xlfn.XLOOKUP(B173,ImperialIncrementalData[System Increment],_xlfn.XLOOKUP('Imperial Incremental Crate'!$R$3,ImperialIncrementalData[#Headers],ImperialIncrementalData[]),,1),0))","v":""},"",{"$f":"IF(B173=\"\",\"\",IFERROR(_xlfn.XLOOKUP(B173,ImperialIncrementalData[System Increment],_xlfn.XLOOKUP(Imperial_Incremental_Data_Target_Column,ImperialIncrementalData[#Headers],ImperialIncrementalData[]),,1),0))","v":""},{"$f":"IF(B173=\"\",\"\",IF(B174=\"\",((((1)/12)*Imperial_Module_Square_Foot_Area)-'Cumulative Volumes Imperial'!E173)*Imperial_Stone_Void_Percentage,((((B173-B174)/12)*Imperial_Module_Square_Foot_Area)-'Cumulative Volumes Imperial'!E173)*Imperial_Stone_Void_Percentage))","v":""},"",{"$f":"IF(B173=\"\",\"\",((Imperial_System_Area_Input-Imperial_Number_Of_Stacks*_xlfn.XLOOKUP(Imperial_Layers,CrateData[Layer],CrateData[Surface Area (sf)]))/12)*Imperial_Stone_Void_Percentage)","v":""},"","",{"$f":"IF(B173=\"\",\"\",SUM(J173:$J$233))","v":""},"",{"$nulls":8},"",null,{"v":-9.291666666666666,"d":"-9.29"},"","",null,"",null,{"$f":"IF($AU$21=\"INVERT\",X173,IF(AC172>=$Y$12,\"\",IF(X172=\"\",\"\",INDEX($X$18:$X$227,$AA$17-ROWS($X$18:$X172)))))","v":""},"","","",{"$nulls":26},{"$f":"IF($AU$21=\"INVERT\",X173,IF(AC172>=$Y$12,\"\",IF(X172=\"\",\"\",INDEX($X$18:$X$227,$AA$17-ROWS($X$18:$X172)))))","v":""},"",{"$f":"IF(AE172=\"\",\"\",\n    IF($AU$21=\"TYP\",\n       IF(Y172=\"\",\"\", INDEX($Y$18:$Y$227, $AA$17-ROWS($Y$18:$Y172))),\n       IF($AU$21=\"INVERT\",Y173, \"\")\n    )\n)","v":""},"",null,{"$f":"IF(BL172>=$Y$12,\"\",IF(X172=\"\",\"\",INDEX($X$18:$X$227,$AA$17-ROWS($X$18:$X172))))","v":""},"",0,null,"",null,null,{"$f":"IF(Y172=\"\",\"\",INDEX($Y$17:$Y$227,$AA$17-ROWS($Y$17:$Y172)))","v":""}]
["","",{"$f":"IF(B174=\"\",\"\",IFERROR(_xlfn.XLOOKUP(B174,ImperialIncrementalData[System Increment],_xlfn.XLOOKUP('Imperial Incremental Crate'!$R$3,ImperialIncrementalData[#Headers],ImperialIncrementalData[]),,1),0))","v":""},"",{"$f":"IF(B174=\"\",\"\",IFERROR(_xlfn.XLOOKUP(B174,ImperialIncrementalData[System Increment],_xlfn.XLOOKUP(Imperial_Incremental_Data_Target_Column,ImperialIncrementalData[#Headers],ImperialIncrementalData[]),,1),0))","v":""},{"$f":"IF(B174=\"\",\"\",IF(B175=\"\",((((1)/12)*Imperial_Module_Square_Foot_Area)-'Cumulative Volumes Imperial'!E174)*Imperial_Stone_Void_Percentage,((((B174-B175)/12)*Imperial_Module_Square_Foot_Area)-'Cumulative Volumes Imperial'!E174)*Imperial_Stone_Void_Percentage))","v":""},"",{"$f":"IF(B174=\"\",\"\",((Imperial_System_Area_Input-Imperial_Number_Of_Stacks*_xlfn.XLOOKUP(Imperial_Layers,CrateData[Layer],CrateData[Surface Area (sf)]))/12)*Imperial_Stone_Void_Percentage)","v":""},"","",{"$f":"IF(B174=\"\",\"\",SUM(J174:$J$233))","v":""},"",{"$nulls":8},"",null,{"v":-9.375,"d":"-9.38"},"","",null,"",null,{"$f":"IF($AU$21=\"INVERT\",X174,IF(AC173>=$Y$12,\"\",IF(X173=\"\",\"\",INDEX($X$18:$X$227,$AA$17-ROWS($X$18:$X173)))))","v":""},"","","",{"$nulls":26},{"$f":"IF($AU$21=\"INVERT\",X174,IF(AC173>=$Y$12,\"\",IF(X173=\"\",\"\",INDEX($X$18:$X$227,$AA$17-ROWS($X$18:$X173)))))","v":""},"",{"$f":"IF(AE173=\"\",\"\",\n    IF($AU$21=\"TYP\",\n       IF(Y173=\"\",\"\", INDEX($Y$18:$Y$227, $AA$17-ROWS($Y$18:$Y173))),\n       IF($AU$21=\"INVERT\",Y174, \"\")\n    )\n)","v":""},"",null,{"$f":"IF(BL173>=$Y$12,\"\",IF(X173=\"\",\"\",INDEX($X$18:$X$227,$AA$17-ROWS($X$18:$X173))))","v":""},"",0,null,"",null,null,{"$f":"IF(Y173=\"\",\"\",INDEX($Y$17:$Y$227,$AA$17-ROWS($Y$17:$Y173)))","v":""}]
["","",{"$f":"IF(B175=\"\",\"\",IFERROR(_xlfn.XLOOKUP(B175,ImperialIncrementalData[System Increment],_xlfn.XLOOKUP('Imperial Incremental Crate'!$R$3,ImperialIncrementalData[#Headers],ImperialIncrementalData[]),,1),0))","v":""},"",{"$f":"IF(B175=\"\",\"\",IFERROR(_xlfn.XLOOKUP(B175,ImperialIncrementalData[System Increment],_xlfn.XLOOKUP(Imperial_Incremental_Data_Target_Column,ImperialIncrementalData[#Headers],ImperialIncrementalData[]),,1),0))","v":""},{"$f":"IF(B175=\"\",\"\",IF(B176=\"\",((((1)/12)*Imperial_Module_Square_Foot_Area)-'Cumulative Volumes Imperial'!E175)*Imperial_Stone_Void_Percentage,((((B175-B176)/12)*Imperial_Module_Square_Foot_Area)-'Cumulative Volumes Imperial'!E175)*Imperial_Stone_Void_Percentage))","v":""},"",{"$f":"IF(B175=\"\",\"\",((Imperial_System_Area_Input-Imperial_Number_Of_Stacks*_xlfn.XLOOKUP(Imperial_Layers,CrateData[Layer],CrateData[Surface Area (sf)]))/12)*Imperial_Stone_Void_Percentage)","v":""},"","",{"$f":"IF(B175=\"\",\"\",SUM(J175:$J$233))","v":""},"",{"$nulls":8},"",null,{"v":-9.458333333333334,"d":"-9.46"},"","",null,"",null,{"$f":"IF($AU$21=\"INVERT\",X175,IF(AC174>=$Y$12,\"\",IF(X174=\"\",\"\",INDEX($X$18:$X$227,$AA$17-ROWS($X$18:$X174)))))","v":""},"","","",{"$nulls":26},{"$f":"IF($AU$21=\"INVERT\",X175,IF(AC174>=$Y$12,\"\",IF(X174=\"\",\"\",INDEX($X$18:$X$227,$AA$17-ROWS($X$18:$X174)))))","v":""},"",{"$f":"IF(AE174=\"\",\"\",\n    IF($AU$21=\"TYP\",\n       IF(Y174=\"\",\"\", INDEX($Y$18:$Y$227, $AA$17-ROWS($Y$18:$Y174))),\n       IF($AU$21=\"INVERT\",Y175, \"\")\n    )\n)","v":""},"",null,{"$f":"IF(BL174>=$Y$12,\"\",IF(X174=\"\",\"\",INDEX($X$18:$X$227,$AA$17-ROWS($X$18:$X174))))","v":""},"",0,null,"",null,null,{"$f":"IF(Y174=\"\",\"\",INDEX($Y$17:$Y$227,$AA$17-ROWS($Y$17:$Y174)))","v":""}]
["","",{"$f":"IF(B176=\"\",\"\",IFERROR(_xlfn.XLOOKUP(B176,ImperialIncrementalData[System Increment],_xlfn.XLOOKUP('Imperial Incremental Crate'!$R$3,ImperialIncrementalData[#Headers],ImperialIncrementalData[]),,1),0))","v":""},"",{"$f":"IF(B176=\"\",\"\",IFERROR(_xlfn.XLOOKUP(B176,ImperialIncrementalData[System Increment],_xlfn.XLOOKUP(Imperial_Incremental_Data_Target_Column,ImperialIncrementalData[#Headers],ImperialIncrementalData[]),,1),0))","v":""},{"$f":"IF(B176=\"\",\"\",IF(B177=\"\",((((1)/12)*Imperial_Module_Square_Foot_Area)-'Cumulative Volumes Imperial'!E176)*Imperial_Stone_Void_Percentage,((((B176-B177)/12)*Imperial_Module_Square_Foot_Area)-'Cumulative Volumes Imperial'!E176)*Imperial_Stone_Void_Percentage))","v":""},"",{"$f":"IF(B176=\"\",\"\",((Imperial_System_Area_Input-Imperial_Number_Of_Stacks*_xlfn.XLOOKUP(Imperial_Layers,CrateData[Layer],CrateData[Surface Area (sf)]))/12)*Imperial_Stone_Void_Percentage)","v":""},"","",{"$f":"IF(B176=\"\",\"\",SUM(J176:$J$233))","v":""},"",{"$nulls":8},"",null,{"v":-9.541666666666668,"d":"-9.54"},"","",null,"",null,{"$f":"IF($AU$21=\"INVERT\",X176,IF(AC175>=$Y$12,\"\",IF(X175=\"\",\"\",INDEX($X$18:$X$227,$AA$17-ROWS($X$18:$X175)))))","v":""},"","","",{"$nulls":26},{"$f":"IF($AU$21=\"INVERT\",X176,IF(AC175>=$Y$12,\"\",IF(X175=\"\",\"\",INDEX($X$18:$X$227,$AA$17-ROWS($X$18:$X175)))))","v":""},"",{"$f":"IF(AE175=\"\",\"\",\n    IF($AU$21=\"TYP\",\n       IF(Y175=\"\",\"\", INDEX($Y$18:$Y$227, $AA$17-ROWS($Y$18:$Y175))),\n       IF($AU$21=\"INVERT\",Y176, \"\")\n    )\n)","v":""},"",null,{"$f":"IF(BL175>=$Y$12,\"\",IF(X175=\"\",\"\",INDEX($X$18:$X$227,$AA$17-ROWS($X$18:$X175))))","v":""},"",0,null,"",null,null,{"$f":"IF(Y175=\"\",\"\",INDEX($Y$17:$Y$227,$AA$17-ROWS($Y$17:$Y175)))","v":""}]
["","",{"$f":"IF(B177=\"\",\"\",IFERROR(_xlfn.XLOOKUP(B177,ImperialIncrementalData[System Increment],_xlfn.XLOOKUP('Imperial Incremental Crate'!$R$3,ImperialIncrementalData[#Headers],ImperialIncrementalData[]),,1),0))","v":""},"",{"$f":"IF(B177=\"\",\"\",IFERROR(_xlfn.XLOOKUP(B177,ImperialIncrementalData[System Increment],_xlfn.XLOOKUP(Imperial_Incremental_Data_Target_Column,ImperialIncrementalData[#Headers],ImperialIncrementalData[]),,1),0))","v":""},{"$f":"IF(B177=\"\",\"\",IF(B178=\"\",((((1)/12)*Imperial_Module_Square_Foot_Area)-'Cumulative Volumes Imperial'!E177)*Imperial_Stone_Void_Percentage,((((B177-B178)/12)*Imperial_Module_Square_Foot_Area)-'Cumulative Volumes Imperial'!E177)*Imperial_Stone_Void_Percentage))","v":""},"",{"$f":"IF(B177=\"\",\"\",((Imperial_System_Area_Input-Imperial_Number_Of_Stacks*_xlfn.XLOOKUP(Imperial_Layers,CrateData[Layer],CrateData[Surface Area (sf)]))/12)*Imperial_Stone_Void_Percentage)","v":""},"","",{"$f":"IF(B177=\"\",\"\",SUM(J177:$J$233))","v":""},"",{"$nulls":8},"",null,{"v":-9.625000000000002,"d":"-9.63"},"","",null,"",null,{"$f":"IF($AU$21=\"INVERT\",X177,IF(AC176>=$Y$12,\"\",IF(X176=\"\",\"\",INDEX($X$18:$X$227,$AA$17-ROWS($X$18:$X176)))))","v":""},"","","",{"$nulls":26},{"$f":"IF($AU$21=\"INVERT\",X177,IF(AC176>=$Y$12,\"\",IF(X176=\"\",\"\",INDEX($X$18:$X$227,$AA$17-ROWS($X$18:$X176)))))","v":""},"",{"$f":"IF(AE176=\"\",\"\",\n    IF($AU$21=\"TYP\",\n       IF(Y176=\"\",\"\", INDEX($Y$18:$Y$227, $AA$17-ROWS($Y$18:$Y176))),\n       IF($AU$21=\"INVERT\",Y177, \"\")\n    )\n)","v":""},"",null,{"$f":"IF(BL176>=$Y$12,\"\",IF(X176=\"\",\"\",INDEX($X$18:$X$227,$AA$17-ROWS($X$18:$X176))))","v":""},"",0,null,"",null,null,{"$f":"IF(Y176=\"\",\"\",INDEX($Y$17:$Y$227,$AA$17-ROWS($Y$17:$Y176)))","v":""}]
["","",{"$f":"IF(B178=\"\",\"\",IFERROR(_xlfn.XLOOKUP(B178,ImperialIncrementalData[System Increment],_xlfn.XLOOKUP('Imperial Incremental Crate'!$R$3,ImperialIncrementalData[#Headers],ImperialIncrementalData[]),,1),0))","v":""},"",{"$f":"IF(B178=\"\",\"\",IFERROR(_xlfn.XLOOKUP(B178,ImperialIncrementalData[System Increment],_xlfn.XLOOKUP(Imperial_Incremental_Data_Target_Column,ImperialIncrementalData[#Headers],ImperialIncrementalData[]),,1),0))","v":""},{"$f":"IF(B178=\"\",\"\",IF(B179=\"\",((((1)/12)*Imperial_Module_Square_Foot_Area)-'Cumulative Volumes Imperial'!E178)*Imperial_Stone_Void_Percentage,((((B178-B179)/12)*Imperial_Module_Square_Foot_Area)-'Cumulative Volumes Imperial'!E178)*Imperial_Stone_Void_Percentage))","v":""},"",{"$f":"IF(B178=\"\",\"\",((Imperial_System_Area_Input-Imperial_Number_Of_Stacks*_xlfn.XLOOKUP(Imperial_Layers,CrateData[Layer],CrateData[Surface Area (sf)]))/12)*Imperial_Stone_Void_Percentage)","v":""},"","",{"$f":"IF(B178=\"\",\"\",SUM(J178:$J$233))","v":""},"",{"$nulls":8},"",null,{"v":-9.708333333333336,"d":"-9.71"},"","",null,"",null,{"$f":"IF($AU$21=\"INVERT\",X178,IF(AC177>=$Y$12,\"\",IF(X177=\"\",\"\",INDEX($X$18:$X$227,$AA$17-ROWS($X$18:$X177)))))","v":""},"","","",{"$nulls":26},{"$f":"IF($AU$21=\"INVERT\",X178,IF(AC177>=$Y$12,\"\",IF(X177=\"\",\"\",INDEX($X$18:$X$227,$AA$17-ROWS($X$18:$X177)))))","v":""},"",{"$f":"IF(AE177=\"\",\"\",\n    IF($AU$21=\"TYP\",\n       IF(Y177=\"\",\"\", INDEX($Y$18:$Y$227, $AA$17-ROWS($Y$18:$Y177))),\n       IF($AU$21=\"INVERT\",Y178, \"\")\n    )\n)","v":""},"",null,{"$f":"IF(BL177>=$Y$12,\"\",IF(X177=\"\",\"\",INDEX($X$18:$X$227,$AA$17-ROWS($X$18:$X177))))","v":""},"",0,null,"",null,null,{"$f":"IF(Y177=\"\",\"\",INDEX($Y$17:$Y$227,$AA$17-ROWS($Y$17:$Y177)))","v":""}]
["","",{"$f":"IF(B179=\"\",\"\",IFERROR(_xlfn.XLOOKUP(B179,ImperialIncrementalData[System Increment],_xlfn.XLOOKUP('Imperial Incremental Crate'!$R$3,ImperialIncrementalData[#Headers],ImperialIncrementalData[]),,1),0))","v":""},"",{"$f":"IF(B179=\"\",\"\",IFERROR(_xlfn.XLOOKUP(B179,ImperialIncrementalData[System Increment],_xlfn.XLOOKUP(Imperial_Incremental_Data_Target_Column,ImperialIncrementalData[#Headers],ImperialIncrementalData[]),,1),0))","v":""},{"$f":"IF(B179=\"\",\"\",IF(B180=\"\",((((1)/12)*Imperial_Module_Square_Foot_Area)-'Cumulative Volumes Imperial'!E179)*Imperial_Stone_Void_Percentage,((((B179-B180)/12)*Imperial_Module_Square_Foot_Area)-'Cumulative Volumes Imperial'!E179)*Imperial_Stone_Void_Percentage))","v":""},"",{"$f":"IF(B179=\"\",\"\",((Imperial_System_Area_Input-Imperial_Number_Of_Stacks*_xlfn.XLOOKUP(Imperial_Layers,CrateData[Layer],CrateData[Surface Area (sf)]))/12)*Imperial_Stone_Void_Percentage)","v":""},"","",{"$f":"IF(B179=\"\",\"\",SUM(J179:$J$233))","v":""},"",{"$nulls":8},"",null,{"v":-9.79166666666667,"d":"-9.79"},"","",null,"",null,{"$f":"IF($AU$21=\"INVERT\",X179,IF(AC178>=$Y$12,\"\",IF(X178=\"\",\"\",INDEX($X$18:$X$227,$AA$17-ROWS($X$18:$X178)))))","v":""},"","","",{"$nulls":26},{"$f":"IF($AU$21=\"INVERT\",X179,IF(AC178>=$Y$12,\"\",IF(X178=\"\",\"\",INDEX($X$18:$X$227,$AA$17-ROWS($X$18:$X178)))))","v":""},"",{"$f":"IF(AE178=\"\",\"\",\n    IF($AU$21=\"TYP\",\n       IF(Y178=\"\",\"\", INDEX($Y$18:$Y$227, $AA$17-ROWS($Y$18:$Y178))),\n       IF($AU$21=\"INVERT\",Y179, \"\")\n    )\n)","v":""},"",null,{"$f":"IF(BL178>=$Y$12,\"\",IF(X178=\"\",\"\",INDEX($X$18:$X$227,$AA$17-ROWS($X$18:$X178))))","v":""},"",0,null,"",null,null,{"$f":"IF(Y178=\"\",\"\",INDEX($Y$17:$Y$227,$AA$17-ROWS($Y$17:$Y178)))","v":""}]
["","",{"$f":"IF(B180=\"\",\"\",IFERROR(_xlfn.XLOOKUP(B180,ImperialIncrementalData[System Increment],_xlfn.XLOOKUP('Imperial Incremental Crate'!$R$3,ImperialIncrementalData[#Headers],ImperialIncrementalData[]),,1),0))","v":""},"",{"$f":"IF(B180=\"\",\"\",IFERROR(_xlfn.XLOOKUP(B180,ImperialIncrementalData[System Increment],_xlfn.XLOOKUP(Imperial_Incremental_Data_Target_Column,ImperialIncrementalData[#Headers],ImperialIncrementalData[]),,1),0))","v":""},{"$f":"IF(B180=\"\",\"\",IF(B181=\"\",((((1)/12)*Imperial_Module_Square_Foot_Area)-'Cumulative Volumes Imperial'!E180)*Imperial_Stone_Void_Percentage,((((B180-B181)/12)*Imperial_Module_Square_Foot_Area)-'Cumulative Volumes Imperial'!E180)*Imperial_Stone_Void_Percentage))","v":""},"",{"$f":"IF(B180=\"\",\"\",((Imperial_System_Area_Input-Imperial_Number_Of_Stacks*_xlfn.XLOOKUP(Imperial_Layers,CrateData[Layer],CrateData[Surface Area (sf)]))/12)*Imperial_Stone_Void_Percentage)","v":""},"","",{"$f":"IF(B180=\"\",\"\",SUM(J180:$J$233))","v":""},"",{"$nulls":8},"",null,{"v":-9.875000000000004,"d":"-9.88"},"","",null,"",null,{"$f":"IF($AU$21=\"INVERT\",X180,IF(AC179>=$Y$12,\"\",IF(X179=\"\",\"\",INDEX($X$18:$X$227,$AA$17-ROWS($X$18:$X179)))))","v":""},"","","",{"$nulls":26},{"$f":"IF($AU$21=\"INVERT\",X180,IF(AC179>=$Y$12,\"\",IF(X179=\"\",\"\",INDEX($X$18:$X$227,$AA$17-ROWS($X$18:$X179)))))","v":""},"",{"$f":"IF(AE179=\"\",\"\",\n    IF($AU$21=\"TYP\",\n       IF(Y179=\"\",\"\", INDEX($Y$18:$Y$227, $AA$17-ROWS($Y$18:$Y179))),\n       IF($AU$21=\"INVERT\",Y180, \"\")\n    )\n)","v":""},"",null,{"$f":"IF(BL179>=$Y$12,\"\",IF(X179=\"\",\"\",INDEX($X$18:$X$227,$AA$17-ROWS($X$18:$X179))))","v":""},"",0,null,"",null,null,{"$f":"IF(Y179=\"\",\"\",INDEX($Y$17:$Y$227,$AA$17-ROWS($Y$17:$Y179)))","v":""}]
["","",{"$f":"IF(B181=\"\",\"\",IFERROR(_xlfn.XLOOKUP(B181,ImperialIncrementalData[System Increment],_xlfn.XLOOKUP('Imperial Incremental Crate'!$R$3,ImperialIncrementalData[#Headers],ImperialIncrementalData[]),,1),0))","v":""},"",{"$f":"IF(B181=\"\",\"\",IFERROR(_xlfn.XLOOKUP(B181,ImperialIncrementalData[System Increment],_xlfn.XLOOKUP(Imperial_Incremental_Data_Target_Column,ImperialIncrementalData[#Headers],ImperialIncrementalData[]),,1),0))","v":""},{"$f":"IF(B181=\"\",\"\",IF(B182=\"\",((((1)/12)*Imperial_Module_Square_Foot_Area)-'Cumulative Volumes Imperial'!E181)*Imperial_Stone_Void_Percentage,((((B181-B182)/12)*Imperial_Module_Square_Foot_Area)-'Cumulative Volumes Imperial'!E181)*Imperial_Stone_Void_Percentage))","v":""},"",{"$f":"IF(B181=\"\",\"\",((Imperial_System_Area_Input-Imperial_Number_Of_Stacks*_xlfn.XLOOKUP(Imperial_Layers,CrateData[Layer],CrateData[Surface Area (sf)]))/12)*Imperial_Stone_Void_Percentage)","v":""},"","",{"$f":"IF(B181=\"\",\"\",SUM(J181:$J$233))","v":""},"",{"$nulls":8},"",null,{"v":-9.958333333333337,"d":"-9.96"},"","",null,"",null,{"$f":"IF($AU$21=\"INVERT\",X181,IF(AC180>=$Y$12,\"\",IF(X180=\"\",\"\",INDEX($X$18:$X$227,$AA$17-ROWS($X$18:$X180)))))","v":""},"","","",{"$nulls":26},{"$f":"IF($AU$21=\"INVERT\",X181,IF(AC180>=$Y$12,\"\",IF(X180=\"\",\"\",INDEX($X$18:$X$227,$AA$17-ROWS($X$18:$X180)))))","v":""},"",{"$f":"IF(AE180=\"\",\"\",\n    IF($AU$21=\"TYP\",\n       IF(Y180=\"\",\"\", INDEX($Y$18:$Y$227, $AA$17-ROWS($Y$18:$Y180))),\n       IF($AU$21=\"INVERT\",Y181, \"\")\n    )\n)","v":""},"",null,{"$f":"IF(BL180>=$Y$12,\"\",IF(X180=\"\",\"\",INDEX($X$18:$X$227,$AA$17-ROWS($X$18:$X180))))","v":""},"",0,null,"",null,null,{"$f":"IF(Y180=\"\",\"\",INDEX($Y$17:$Y$227,$AA$17-ROWS($Y$17:$Y180)))","v":""}]
["","",{"$f":"IF(B182=\"\",\"\",IFERROR(_xlfn.XLOOKUP(B182,ImperialIncrementalData[System Increment],_xlfn.XLOOKUP('Imperial Incremental Crate'!$R$3,ImperialIncrementalData[#Headers],ImperialIncrementalData[]),,1),0))","v":""},"",{"$f":"IF(B182=\"\",\"\",IFERROR(_xlfn.XLOOKUP(B182,ImperialIncrementalData[System Increment],_xlfn.XLOOKUP(Imperial_Incremental_Data_Target_Column,ImperialIncrementalData[#Headers],ImperialIncrementalData[]),,1),0))","v":""},{"$f":"IF(B182=\"\",\"\",IF(B183=\"\",((((1)/12)*Imperial_Module_Square_Foot_Area)-'Cumulative Volumes Imperial'!E182)*Imperial_Stone_Void_Percentage,((((B182-B183)/12)*Imperial_Module_Square_Foot_Area)-'Cumulative Volumes Imperial'!E182)*Imperial_Stone_Void_Percentage))","v":""},"",{"$f":"IF(B182=\"\",\"\",((Imperial_System_Area_Input-Imperial_Number_Of_Stacks*_xlfn.XLOOKUP(Imperial_Layers,CrateData[Layer],CrateData[Surface Area (sf)]))/12)*Imperial_Stone_Void_Percentage)","v":""},"","",{"$f":"IF(B182=\"\",\"\",SUM(J182:$J$233))","v":""},"",{"$nulls":8},"",null,{"v":-10.041666666666671,"d":"-10.04"},"","",null,"",null,{"$f":"IF($AU$21=\"INVERT\",X182,IF(AC181>=$Y$12,\"\",IF(X181=\"\",\"\",INDEX($X$18:$X$227,$AA$17-ROWS($X$18:$X181)))))","v":""},"","","",{"$nulls":26},{"$f":"IF($AU$21=\"INVERT\",X182,IF(AC181>=$Y$12,\"\",IF(X181=\"\",\"\",INDEX($X$18:$X$227,$AA$17-ROWS($X$18:$X181)))))","v":""},"",{"$f":"IF(AE181=\"\",\"\",\n    IF($AU$21=\"TYP\",\n       IF(Y181=\"\",\"\", INDEX($Y$18:$Y$227, $AA$17-ROWS($Y$18:$Y181))),\n       IF($AU$21=\"INVERT\",Y182, \"\")\n    )\n)","v":""},"",null,{"$f":"IF(BL181>=$Y$12,\"\",IF(X181=\"\",\"\",INDEX($X$18:$X$227,$AA$17-ROWS($X$18:$X181))))","v":""},"",0,null,"",null,null,{"$f":"IF(Y181=\"\",\"\",INDEX($Y$17:$Y$227,$AA$17-ROWS($Y$17:$Y181)))","v":""}]
["","",{"$f":"IF(B183=\"\",\"\",IFERROR(_xlfn.XLOOKUP(B183,ImperialIncrementalData[System Increment],_xlfn.XLOOKUP('Imperial Incremental Crate'!$R$3,ImperialIncrementalData[#Headers],ImperialIncrementalData[]),,1),0))","v":""},"",{"$f":"IF(B183=\"\",\"\",IFERROR(_xlfn.XLOOKUP(B183,ImperialIncrementalData[System Increment],_xlfn.XLOOKUP(Imperial_Incremental_Data_Target_Column,ImperialIncrementalData[#Headers],ImperialIncrementalData[]),,1),0))","v":""},{"$f":"IF(B183=\"\",\"\",IF(B184=\"\",((((1)/12)*Imperial_Module_Square_Foot_Area)-'Cumulative Volumes Imperial'!E183)*Imperial_Stone_Void_Percentage,((((B183-B184)/12)*Imperial_Module_Square_Foot_Area)-'Cumulative Volumes Imperial'!E183)*Imperial_Stone_Void_Percentage))","v":""},"",{"$f":"IF(B183=\"\",\"\",((Imperial_System_Area_Input-Imperial_Number_Of_Stacks*_xlfn.XLOOKUP(Imperial_Layers,CrateData[Layer],CrateData[Surface Area (sf)]))/12)*Imperial_Stone_Void_Percentage)","v":""},"","",{"$f":"IF(B183=\"\",\"\",SUM(J183:$J$233))","v":""},"",{"$nulls":8},"",null,{"v":-10.125000000000005,"d":"-10.13"},"","",null,"",null,{"$f":"IF($AU$21=\"INVERT\",X183,IF(AC182>=$Y$12,\"\",IF(X182=\"\",\"\",INDEX($X$18:$X$227,$AA$17-ROWS($X$18:$X182)))))","v":""},"","","",{"$nulls":26},{"$f":"IF($AU$21=\"INVERT\",X183,IF(AC182>=$Y$12,\"\",IF(X182=\"\",\"\",INDEX($X$18:$X$227,$AA$17-ROWS($X$18:$X182)))))","v":""},"",{"$f":"IF(AE182=\"\",\"\",\n    IF($AU$21=\"TYP\",\n       IF(Y182=\"\",\"\", INDEX($Y$18:$Y$227, $AA$17-ROWS($Y$18:$Y182))),\n       IF($AU$21=\"INVERT\",Y183, \"\")\n    )\n)","v":""},"",null,{"$f":"IF(BL182>=$Y$12,\"\",IF(X182=\"\",\"\",INDEX($X$18:$X$227,$AA$17-ROWS($X$18:$X182))))","v":""},"",0,null,"",null,null,{"$f":"IF(Y182=\"\",\"\",INDEX($Y$17:$Y$227,$AA$17-ROWS($Y$17:$Y182)))","v":""}]
["","",{"$f":"IF(B184=\"\",\"\",IFERROR(_xlfn.XLOOKUP(B184,ImperialIncrementalData[System Increment],_xlfn.XLOOKUP('Imperial Incremental Crate'!$R$3,ImperialIncrementalData[#Headers],ImperialIncrementalData[]),,1),0))","v":""},"",{"$f":"IF(B184=\"\",\"\",IFERROR(_xlfn.XLOOKUP(B184,ImperialIncrementalData[System Increment],_xlfn.XLOOKUP(Imperial_Incremental_Data_Target_Column,ImperialIncrementalData[#Headers],ImperialIncrementalData[]),,1),0))","v":""},{"$f":"IF(B184=\"\",\"\",IF(B185=\"\",((((1)/12)*Imperial_Module_Square_Foot_Area)-'Cumulative Volumes Imperial'!E184)*Imperial_Stone_Void_Percentage,((((B184-B185)/12)*Imperial_Module_Square_Foot_Area)-'Cumulative Volumes Imperial'!E184)*Imperial_Stone_Void_Percentage))","v":""},"",{"$f":"IF(B184=\"\",\"\",((Imperial_System_Area_Input-Imperial_Number_Of_Stacks*_xlfn.XLOOKUP(Imperial_Layers,CrateData[Layer],CrateData[Surface Area (sf)]))/12)*Imperial_Stone_Void_Percentage)","v":""},"","",{"$f":"IF(B184=\"\",\"\",SUM(J184:$J$233))","v":""},"",{"$nulls":8},"",null,{"v":-10.20833333333334,"d":"-10.21"},"","",null,"",null,{"$f":"IF($AU$21=\"INVERT\",X184,IF(AC183>=$Y$12,\"\",IF(X183=\"\",\"\",INDEX($X$18:$X$227,$AA$17-ROWS($X$18:$X183)))))","v":""},"","","",{"$nulls":26},{"$f":"IF($AU$21=\"INVERT\",X184,IF(AC183>=$Y$12,\"\",IF(X183=\"\",\"\",INDEX($X$18:$X$227,$AA$17-ROWS($X$18:$X183)))))","v":""},"",{"$f":"IF(AE183=\"\",\"\",\n    IF($AU$21=\"TYP\",\n       IF(Y183=\"\",\"\", INDEX($Y$18:$Y$227, $AA$17-ROWS($Y$18:$Y183))),\n       IF($AU$21=\"INVERT\",Y184, \"\")\n    )\n)","v":""},"",null,{"$f":"IF(BL183>=$Y$12,\"\",IF(X183=\"\",\"\",INDEX($X$18:$X$227,$AA$17-ROWS($X$18:$X183))))","v":""},"",0,null,"",null,null,{"$f":"IF(Y183=\"\",\"\",INDEX($Y$17:$Y$227,$AA$17-ROWS($Y$17:$Y183)))","v":""}]
["","",{"$f":"IF(B185=\"\",\"\",IFERROR(_xlfn.XLOOKUP(B185,ImperialIncrementalData[System Increment],_xlfn.XLOOKUP('Imperial Incremental Crate'!$R$3,ImperialIncrementalData[#Headers],ImperialIncrementalData[]),,1),0))","v":""},"",{"$f":"IF(B185=\"\",\"\",IFERROR(_xlfn.XLOOKUP(B185,ImperialIncrementalData[System Increment],_xlfn.XLOOKUP(Imperial_Incremental_Data_Target_Column,ImperialIncrementalData[#Headers],ImperialIncrementalData[]),,1),0))","v":""},{"$f":"IF(B185=\"\",\"\",IF(B186=\"\",((((1)/12)*Imperial_Module_Square_Foot_Area)-'Cumulative Volumes Imperial'!E185)*Imperial_Stone_Void_Percentage,((((B185-B186)/12)*Imperial_Module_Square_Foot_Area)-'Cumulative Volumes Imperial'!E185)*Imperial_Stone_Void_Percentage))","v":""},"",{"$f":"IF(B185=\"\",\"\",((Imperial_System_Area_Input-Imperial_Number_Of_Stacks*_xlfn.XLOOKUP(Imperial_Layers,CrateData[Layer],CrateData[Surface Area (sf)]))/12)*Imperial_Stone_Void_Percentage)","v":""},"","",{"$f":"IF(B185=\"\",\"\",SUM(J185:$J$233))","v":""},"",{"$nulls":8},"",null,{"v":-10.291666666666673,"d":"-10.29"},"","",null,"",null,{"$f":"IF($AU$21=\"INVERT\",X185,IF(AC184>=$Y$12,\"\",IF(X184=\"\",\"\",INDEX($X$18:$X$227,$AA$17-ROWS($X$18:$X184)))))","v":""},"","","",{"$nulls":26},{"$f":"IF($AU$21=\"INVERT\",X185,IF(AC184>=$Y$12,\"\",IF(X184=\"\",\"\",INDEX($X$18:$X$227,$AA$17-ROWS($X$18:$X184)))))","v":""},"",{"$f":"IF(AE184=\"\",\"\",\n    IF($AU$21=\"TYP\",\n       IF(Y184=\"\",\"\", INDEX($Y$18:$Y$227, $AA$17-ROWS($Y$18:$Y184))),\n       IF($AU$21=\"INVERT\",Y185, \"\")\n    )\n)","v":""},"",null,{"$f":"IF(BL184>=$Y$12,\"\",IF(X184=\"\",\"\",INDEX($X$18:$X$227,$AA$17-ROWS($X$18:$X184))))","v":""},"",0,null,"",null,null,{"$f":"IF(Y184=\"\",\"\",INDEX($Y$17:$Y$227,$AA$17-ROWS($Y$17:$Y184)))","v":""}]
["","",{"$f":"IF(B186=\"\",\"\",IFERROR(_xlfn.XLOOKUP(B186,ImperialIncrementalData[System Increment],_xlfn.XLOOKUP('Imperial Incremental Crate'!$R$3,ImperialIncrementalData[#Headers],ImperialIncrementalData[]),,1),0))","v":""},"",{"$f":"IF(B186=\"\",\"\",IFERROR(_xlfn.XLOOKUP(B186,ImperialIncrementalData[System Increment],_xlfn.XLOOKUP(Imperial_Incremental_Data_Target_Column,ImperialIncrementalData[#Headers],ImperialIncrementalData[]),,1),0))","v":""},{"$f":"IF(B186=\"\",\"\",IF(B187=\"\",((((1)/12)*Imperial_Module_Square_Foot_Area)-'Cumulative Volumes Imperial'!E186)*Imperial_Stone_Void_Percentage,((((B186-B187)/12)*Imperial_Module_Square_Foot_Area)-'Cumulative Volumes Imperial'!E186)*Imperial_Stone_Void_Percentage))","v":""},"",{"$f":"IF(B186=\"\",\"\",((Imperial_System_Area_Input-Imperial_Number_Of_Stacks*_xlfn.XLOOKUP(Imperial_Layers,CrateData[Layer],CrateData[Surface Area (sf)]))/12)*Imperial_Stone_Void_Percentage)","v":""},"","",{"$f":"IF(B186=\"\",\"\",SUM(J186:$J$233))","v":""},"",{"$nulls":8},"",null,{"v":-10.375000000000007,"d":"-10.38"},"","",null,"",null,{"$f":"IF($AU$21=\"INVERT\",X186,IF(AC185>=$Y$12,\"\",IF(X185=\"\",\"\",INDEX($X$18:$X$227,$AA$17-ROWS($X$18:$X185)))))","v":""},"","","",{"$nulls":26},{"$f":"IF($AU$21=\"INVERT\",X186,IF(AC185>=$Y$12,\"\",IF(X185=\"\",\"\",INDEX($X$18:$X$227,$AA$17-ROWS($X$18:$X185)))))","v":""},"",{"$f":"IF(AE185=\"\",\"\",\n    IF($AU$21=\"TYP\",\n       IF(Y185=\"\",\"\", INDEX($Y$18:$Y$227, $AA$17-ROWS($Y$18:$Y185))),\n       IF($AU$21=\"INVERT\",Y186, \"\")\n    )\n)","v":""},"",null,{"$f":"IF(BL185>=$Y$12,\"\",IF(X185=\"\",\"\",INDEX($X$18:$X$227,$AA$17-ROWS($X$18:$X185))))","v":""},"",0,null,"",null,null,{"$f":"IF(Y185=\"\",\"\",INDEX($Y$17:$Y$227,$AA$17-ROWS($Y$17:$Y185)))","v":""}]
["","",{"$f":"IF(B187=\"\",\"\",IFERROR(_xlfn.XLOOKUP(B187,ImperialIncrementalData[System Increment],_xlfn.XLOOKUP('Imperial Incremental Crate'!$R$3,ImperialIncrementalData[#Headers],ImperialIncrementalData[]),,1),0))","v":""},"",{"$f":"IF(B187=\"\",\"\",IFERROR(_xlfn.XLOOKUP(B187,ImperialIncrementalData[System Increment],_xlfn.XLOOKUP(Imperial_Incremental_Data_Target_Column,ImperialIncrementalData[#Headers],ImperialIncrementalData[]),,1),0))","v":""},{"$f":"IF(B187=\"\",\"\",IF(B188=\"\",((((1)/12)*Imperial_Module_Square_Foot_Area)-'Cumulative Volumes Imperial'!E187)*Imperial_Stone_Void_Percentage,((((B187-B188)/12)*Imperial_Module_Square_Foot_Area)-'Cumulative Volumes Imperial'!E187)*Imperial_Stone_Void_Percentage))","v":""},"",{"$f":"IF(B187=\"\",\"\",((Imperial_System_Area_Input-Imperial_Number_Of_Stacks*_xlfn.XLOOKUP(Imperial_Layers,CrateData[Layer],CrateData[Surface Area (sf)]))/12)*Imperial_Stone_Void_Percentage)","v":""},"","",{"$f":"IF(B187=\"\",\"\",SUM(J187:$J$233))","v":""},"",{"$nulls":8},"",null,{"v":-10.458333333333341,"d":"-10.46"},"","",null,"",null,{"$f":"IF($AU$21=\"INVERT\",X187,IF(AC186>=$Y$12,\"\",IF(X186=\"\",\"\",INDEX($X$18:$X$227,$AA$17-ROWS($X$18:$X186)))))","v":""},"","","",{"$nulls":26},{"$f":"IF($AU$21=\"INVERT\",X187,IF(AC186>=$Y$12,\"\",IF(X186=\"\",\"\",INDEX($X$18:$X$227,$AA$17-ROWS($X$18:$X186)))))","v":""},"",{"$f":"IF(AE186=\"\",\"\",\n    IF($AU$21=\"TYP\",\n       IF(Y186=\"\",\"\", INDEX($Y$18:$Y$227, $AA$17-ROWS($Y$18:$Y186))),\n       IF($AU$21=\"INVERT\",Y187, \"\")\n    )\n)","v":""},"",null,{"$f":"IF(BL186>=$Y$12,\"\",IF(X186=\"\",\"\",INDEX($X$18:$X$227,$AA$17-ROWS($X$18:$X186))))","v":""},"",0,null,"",null,null,{"$f":"IF(Y186=\"\",\"\",INDEX($Y$17:$Y$227,$AA$17-ROWS($Y$17:$Y186)))","v":""}]
["","",{"$f":"IF(B188=\"\",\"\",IFERROR(_xlfn.XLOOKUP(B188,ImperialIncrementalData[System Increment],_xlfn.XLOOKUP('Imperial Incremental Crate'!$R$3,ImperialIncrementalData[#Headers],ImperialIncrementalData[]),,1),0))","v":""},"",{"$f":"IF(B188=\"\",\"\",IFERROR(_xlfn.XLOOKUP(B188,ImperialIncrementalData[System Increment],_xlfn.XLOOKUP(Imperial_Incremental_Data_Target_Column,ImperialIncrementalData[#Headers],ImperialIncrementalData[]),,1),0))","v":""},{"$f":"IF(B188=\"\",\"\",IF(B189=\"\",((((1)/12)*Imperial_Module_Square_Foot_Area)-'Cumulative Volumes Imperial'!E188)*Imperial_Stone_Void_Percentage,((((B188-B189)/12)*Imperial_Module_Square_Foot_Area)-'Cumulative Volumes Imperial'!E188)*Imperial_Stone_Void_Percentage))","v":""},"",{"$f":"IF(B188=\"\",\"\",((Imperial_System_Area_Input-Imperial_Number_Of_Stacks*_xlfn.XLOOKUP(Imperial_Layers,CrateData[Layer],CrateData[Surface Area (sf)]))/12)*Imperial_Stone_Void_Percentage)","v":""},"","",{"$f":"IF(B188=\"\",\"\",SUM(J188:$J$233))","v":""},"",{"$nulls":8},"",null,{"v":-10.541666666666675,"d":"-10.54"},"","",null,"",null,{"$f":"IF($AU$21=\"INVERT\",X188,IF(AC187>=$Y$12,\"\",IF(X187=\"\",\"\",INDEX($X$18:$X$227,$AA$17-ROWS($X$18:$X187)))))","v":""},"","","",{"$nulls":26},{"$f":"IF($AU$21=\"INVERT\",X188,IF(AC187>=$Y$12,\"\",IF(X187=\"\",\"\",INDEX($X$18:$X$227,$AA$17-ROWS($X$18:$X187)))))","v":""},"",{"$f":"IF(AE187=\"\",\"\",\n    IF($AU$21=\"TYP\",\n       IF(Y187=\"\",\"\", INDEX($Y$18:$Y$227, $AA$17-ROWS($Y$18:$Y187))),\n       IF($AU$21=\"INVERT\",Y188, \"\")\n    )\n)","v":""},"",null,{"$f":"IF(BL187>=$Y$12,\"\",IF(X187=\"\",\"\",INDEX($X$18:$X$227,$AA$17-ROWS($X$18:$X187))))","v":""},"",0,null,"",null,null,{"$f":"IF(Y187=\"\",\"\",INDEX($Y$17:$Y$227,$AA$17-ROWS($Y$17:$Y187)))","v":""}]
["","",{"$f":"IF(B189=\"\",\"\",IFERROR(_xlfn.XLOOKUP(B189,ImperialIncrementalData[System Increment],_xlfn.XLOOKUP('Imperial Incremental Crate'!$R$3,ImperialIncrementalData[#Headers],ImperialIncrementalData[]),,1),0))","v":""},"",{"$f":"IF(B189=\"\",\"\",IFERROR(_xlfn.XLOOKUP(B189,ImperialIncrementalData[System Increment],_xlfn.XLOOKUP(Imperial_Incremental_Data_Target_Column,ImperialIncrementalData[#Headers],ImperialIncrementalData[]),,1),0))","v":""},{"$f":"IF(B189=\"\",\"\",IF(B190=\"\",((((1)/12)*Imperial_Module_Square_Foot_Area)-'Cumulative Volumes Imperial'!E189)*Imperial_Stone_Void_Percentage,((((B189-B190)/12)*Imperial_Module_Square_Foot_Area)-'Cumulative Volumes Imperial'!E189)*Imperial_Stone_Void_Percentage))","v":""},"",{"$f":"IF(B189=\"\",\"\",((Imperial_System_Area_Input-Imperial_Number_Of_Stacks*_xlfn.XLOOKUP(Imperial_Layers,CrateData[Layer],CrateData[Surface Area (sf)]))/12)*Imperial_Stone_Void_Percentage)","v":""},"","",{"$f":"IF(B189=\"\",\"\",SUM(J189:$J$233))","v":""},"",{"$nulls":8},"",null,{"v":-10.625000000000009,"d":"-10.63"},"","",null,"",null,{"$f":"IF($AU$21=\"INVERT\",X189,IF(AC188>=$Y$12,\"\",IF(X188=\"\",\"\",INDEX($X$18:$X$227,$AA$17-ROWS($X$18:$X188)))))","v":""},"","","",{"$nulls":26},{"$f":"IF($AU$21=\"INVERT\",X189,IF(AC188>=$Y$12,\"\",IF(X188=\"\",\"\",INDEX($X$18:$X$227,$AA$17-ROWS($X$18:$X188)))))","v":""},"",{"$f":"IF(AE188=\"\",\"\",\n    IF($AU$21=\"TYP\",\n       IF(Y188=\"\",\"\", INDEX($Y$18:$Y$227, $AA$17-ROWS($Y$18:$Y188))),\n       IF($AU$21=\"INVERT\",Y189, \"\")\n    )\n)","v":""},"",null,{"$f":"IF(BL188>=$Y$12,\"\",IF(X188=\"\",\"\",INDEX($X$18:$X$227,$AA$17-ROWS($X$18:$X188))))","v":""},"",0,null,"",null,null,{"$f":"IF(Y188=\"\",\"\",INDEX($Y$17:$Y$227,$AA$17-ROWS($Y$17:$Y188)))","v":""}]
["","",{"$f":"IF(B190=\"\",\"\",IFERROR(_xlfn.XLOOKUP(B190,ImperialIncrementalData[System Increment],_xlfn.XLOOKUP('Imperial Incremental Crate'!$R$3,ImperialIncrementalData[#Headers],ImperialIncrementalData[]),,1),0))","v":""},"",{"$f":"IF(B190=\"\",\"\",IFERROR(_xlfn.XLOOKUP(B190,ImperialIncrementalData[System Increment],_xlfn.XLOOKUP(Imperial_Incremental_Data_Target_Column,ImperialIncrementalData[#Headers],ImperialIncrementalData[]),,1),0))","v":""},{"$f":"IF(B190=\"\",\"\",IF(B191=\"\",((((1)/12)*Imperial_Module_Square_Foot_Area)-'Cumulative Volumes Imperial'!E190)*Imperial_Stone_Void_Percentage,((((B190-B191)/12)*Imperial_Module_Square_Foot_Area)-'Cumulative Volumes Imperial'!E190)*Imperial_Stone_Void_Percentage))","v":""},"",{"$f":"IF(B190=\"\",\"\",((Imperial_System_Area_Input-Imperial_Number_Of_Stacks*_xlfn.XLOOKUP(Imperial_Layers,CrateData[Layer],CrateData[Surface Area (sf)]))/12)*Imperial_Stone_Void_Percentage)","v":""},"","",{"$f":"IF(B190=\"\",\"\",SUM(J190:$J$233))","v":""},"",{"$nulls":8},"",null,{"v":-10.708333333333343,"d":"-10.71"},"","",null,"",null,{"$f":"IF($AU$21=\"INVERT\",X190,IF(AC189>=$Y$12,\"\",IF(X189=\"\",\"\",INDEX($X$18:$X$227,$AA$17-ROWS($X$18:$X189)))))","v":""},"","","",{"$nulls":26},{"$f":"IF($AU$21=\"INVERT\",X190,IF(AC189>=$Y$12,\"\",IF(X189=\"\",\"\",INDEX($X$18:$X$227,$AA$17-ROWS($X$18:$X189)))))","v":""},"",{"$f":"IF(AE189=\"\",\"\",\n    IF($AU$21=\"TYP\",\n       IF(Y189=\"\",\"\", INDEX($Y$18:$Y$227, $AA$17-ROWS($Y$18:$Y189))),\n       IF($AU$21=\"INVERT\",Y190, \"\")\n    )\n)","v":""},"",null,{"$f":"IF(BL189>=$Y$12,\"\",IF(X189=\"\",\"\",INDEX($X$18:$X$227,$AA$17-ROWS($X$18:$X189))))","v":""},"",0,null,"",null,null,{"$f":"IF(Y189=\"\",\"\",INDEX($Y$17:$Y$227,$AA$17-ROWS($Y$17:$Y189)))","v":""}]
["","",{"$f":"IF(B191=\"\",\"\",IFERROR(_xlfn.XLOOKUP(B191,ImperialIncrementalData[System Increment],_xlfn.XLOOKUP('Imperial Incremental Crate'!$R$3,ImperialIncrementalData[#Headers],ImperialIncrementalData[]),,1),0))","v":""},"",{"$f":"IF(B191=\"\",\"\",IFERROR(_xlfn.XLOOKUP(B191,ImperialIncrementalData[System Increment],_xlfn.XLOOKUP(Imperial_Incremental_Data_Target_Column,ImperialIncrementalData[#Headers],ImperialIncrementalData[]),,1),0))","v":""},{"$f":"IF(B191=\"\",\"\",IF(B192=\"\",((((1)/12)*Imperial_Module_Square_Foot_Area)-'Cumulative Volumes Imperial'!E191)*Imperial_Stone_Void_Percentage,((((B191-B192)/12)*Imperial_Module_Square_Foot_Area)-'Cumulative Volumes Imperial'!E191)*Imperial_Stone_Void_Percentage))","v":""},"",{"$f":"IF(B191=\"\",\"\",((Imperial_System_Area_Input-Imperial_Number_Of_Stacks*_xlfn.XLOOKUP(Imperial_Layers,CrateData[Layer],CrateData[Surface Area (sf)]))/12)*Imperial_Stone_Void_Percentage)","v":""},"","",{"$f":"IF(B191=\"\",\"\",SUM(J191:$J$233))","v":""},"",{"$nulls":8},"",null,{"v":-10.791666666666677,"d":"-10.79"},"","",null,"",null,{"$f":"IF($AU$21=\"INVERT\",X191,IF(AC190>=$Y$12,\"\",IF(X190=\"\",\"\",INDEX($X$18:$X$227,$AA$17-ROWS($X$18:$X190)))))","v":""},"","","",{"$nulls":26},{"$f":"IF($AU$21=\"INVERT\",X191,IF(AC190>=$Y$12,\"\",IF(X190=\"\",\"\",INDEX($X$18:$X$227,$AA$17-ROWS($X$18:$X190)))))","v":""},"",{"$f":"IF(AE190=\"\",\"\",\n    IF($AU$21=\"TYP\",\n       IF(Y190=\"\",\"\", INDEX($Y$18:$Y$227, $AA$17-ROWS($Y$18:$Y190))),\n       IF($AU$21=\"INVERT\",Y191, \"\")\n    )\n)","v":""},"",null,{"$f":"IF(BL190>=$Y$12,\"\",IF(X190=\"\",\"\",INDEX($X$18:$X$227,$AA$17-ROWS($X$18:$X190))))","v":""},"",0,null,"",null,null,{"$f":"IF(Y190=\"\",\"\",INDEX($Y$17:$Y$227,$AA$17-ROWS($Y$17:$Y190)))","v":""}]
["","",{"$f":"IF(B192=\"\",\"\",IFERROR(_xlfn.XLOOKUP(B192,ImperialIncrementalData[System Increment],_xlfn.XLOOKUP('Imperial Incremental Crate'!$R$3,ImperialIncrementalData[#Headers],ImperialIncrementalData[]),,1),0))","v":""},"",{"$f":"IF(B192=\"\",\"\",IFERROR(_xlfn.XLOOKUP(B192,ImperialIncrementalData[System Increment],_xlfn.XLOOKUP(Imperial_Incremental_Data_Target_Column,ImperialIncrementalData[#Headers],ImperialIncrementalData[]),,1),0))","v":""},{"$f":"IF(B192=\"\",\"\",IF(B193=\"\",((((1)/12)*Imperial_Module_Square_Foot_Area)-'Cumulative Volumes Imperial'!E192)*Imperial_Stone_Void_Percentage,((((B192-B193)/12)*Imperial_Module_Square_Foot_Area)-'Cumulative Volumes Imperial'!E192)*Imperial_Stone_Void_Percentage))","v":""},"",{"$f":"IF(B192=\"\",\"\",((Imperial_System_Area_Input-Imperial_Number_Of_Stacks*_xlfn.XLOOKUP(Imperial_Layers,CrateData[Layer],CrateData[Surface Area (sf)]))/12)*Imperial_Stone_Void_Percentage)","v":""},"","",{"$f":"IF(B192=\"\",\"\",SUM(J192:$J$233))","v":""},"",{"$nulls":8},"",null,{"v":-10.87500000000001,"d":"-10.88"},"","",null,"",null,{"$f":"IF($AU$21=\"INVERT\",X192,IF(AC191>=$Y$12,\"\",IF(X191=\"\",\"\",INDEX($X$18:$X$227,$AA$17-ROWS($X$18:$X191)))))","v":""},"","","",{"$nulls":26},{"$f":"IF($AU$21=\"INVERT\",X192,IF(AC191>=$Y$12,\"\",IF(X191=\"\",\"\",INDEX($X$18:$X$227,$AA$17-ROWS($X$18:$X191)))))","v":""},"",{"$f":"IF(AE191=\"\",\"\",\n    IF($AU$21=\"TYP\",\n       IF(Y191=\"\",\"\", INDEX($Y$18:$Y$227, $AA$17-ROWS($Y$18:$Y191))),\n       IF($AU$21=\"INVERT\",Y192, \"\")\n    )\n)","v":""},"",null,{"$f":"IF(BL191>=$Y$12,\"\",IF(X191=\"\",\"\",INDEX($X$18:$X$227,$AA$17-ROWS($X$18:$X191))))","v":""},"",0,null,"",null,null,{"$f":"IF(Y191=\"\",\"\",INDEX($Y$17:$Y$227,$AA$17-ROWS($Y$17:$Y191)))","v":""}]
["","",{"$f":"IF(B193=\"\",\"\",IFERROR(_xlfn.XLOOKUP(B193,ImperialIncrementalData[System Increment],_xlfn.XLOOKUP('Imperial Incremental Crate'!$R$3,ImperialIncrementalData[#Headers],ImperialIncrementalData[]),,1),0))","v":""},"",{"$f":"IF(B193=\"\",\"\",IFERROR(_xlfn.XLOOKUP(B193,ImperialIncrementalData[System Increment],_xlfn.XLOOKUP(Imperial_Incremental_Data_Target_Column,ImperialIncrementalData[#Headers],ImperialIncrementalData[]),,1),0))","v":""},{"$f":"IF(B193=\"\",\"\",IF(B194=\"\",((((1)/12)*Imperial_Module_Square_Foot_Area)-'Cumulative Volumes Imperial'!E193)*Imperial_Stone_Void_Percentage,((((B193-B194)/12)*Imperial_Module_Square_Foot_Area)-'Cumulative Volumes Imperial'!E193)*Imperial_Stone_Void_Percentage))","v":""},"",{"$f":"IF(B193=\"\",\"\",((Imperial_System_Area_Input-Imperial_Number_Of_Stacks*_xlfn.XLOOKUP(Imperial_Layers,CrateData[Layer],CrateData[Surface Area (sf)]))/12)*Imperial_Stone_Void_Percentage)","v":""},"","",{"$f":"IF(B193=\"\",\"\",SUM(J193:$J$233))","v":""},"",{"$nulls":8},"",null,{"v":-10.958333333333345,"d":"-10.96"},"","",null,"",null,{"$f":"IF($AU$21=\"INVERT\",X193,IF(AC192>=$Y$12,\"\",IF(X192=\"\",\"\",INDEX($X$18:$X$227,$AA$17-ROWS($X$18:$X192)))))","v":""},"","","",{"$nulls":26},{"$f":"IF($AU$21=\"INVERT\",X193,IF(AC192>=$Y$12,\"\",IF(X192=\"\",\"\",INDEX($X$18:$X$227,$AA$17-ROWS($X$18:$X192)))))","v":""},"",{"$f":"IF(AE192=\"\",\"\",\n    IF($AU$21=\"TYP\",\n       IF(Y192=\"\",\"\", INDEX($Y$18:$Y$227, $AA$17-ROWS($Y$18:$Y192))),\n       IF($AU$21=\"INVERT\",Y193, \"\")\n    )\n)","v":""},"",null,{"$f":"IF(BL192>=$Y$12,\"\",IF(X192=\"\",\"\",INDEX($X$18:$X$227,$AA$17-ROWS($X$18:$X192))))","v":""},"",0,null,"",null,null,{"$f":"IF(Y192=\"\",\"\",INDEX($Y$17:$Y$227,$AA$17-ROWS($Y$17:$Y192)))","v":""}]
["","",{"$f":"IF(B194=\"\",\"\",IFERROR(_xlfn.XLOOKUP(B194,ImperialIncrementalData[System Increment],_xlfn.XLOOKUP('Imperial Incremental Crate'!$R$3,ImperialIncrementalData[#Headers],ImperialIncrementalData[]),,1),0))","v":""},"",{"$f":"IF(B194=\"\",\"\",IFERROR(_xlfn.XLOOKUP(B194,ImperialIncrementalData[System Increment],_xlfn.XLOOKUP(Imperial_Incremental_Data_Target_Column,ImperialIncrementalData[#Headers],ImperialIncrementalData[]),,1),0))","v":""},{"$f":"IF(B194=\"\",\"\",IF(B195=\"\",((((1)/12)*Imperial_Module_Square_Foot_Area)-'Cumulative Volumes Imperial'!E194)*Imperial_Stone_Void_Percentage,((((B194-B195)/12)*Imperial_Module_Square_Foot_Area)-'Cumulative Volumes Imperial'!E194)*Imperial_Stone_Void_Percentage))","v":""},"",{"$f":"IF(B194=\"\",\"\",((Imperial_System_Area_Input-Imperial_Number_Of_Stacks*_xlfn.XLOOKUP(Imperial_Layers,CrateData[Layer],CrateData[Surface Area (sf)]))/12)*Imperial_Stone_Void_Percentage)","v":""},"","",{"$f":"IF(B194=\"\",\"\",SUM(J194:$J$233))","v":""},"",{"$nulls":8},"",null,{"v":-11.041666666666679,"d":"-11.04"},"","",null,"",null,{"$f":"IF($AU$21=\"INVERT\",X194,IF(AC193>=$Y$12,\"\",IF(X193=\"\",\"\",INDEX($X$18:$X$227,$AA$17-ROWS($X$18:$X193)))))","v":""},"","","",{"$nulls":26},{"$f":"IF($AU$21=\"INVERT\",X194,IF(AC193>=$Y$12,\"\",IF(X193=\"\",\"\",INDEX($X$18:$X$227,$AA$17-ROWS($X$18:$X193)))))","v":""},"",{"$f":"IF(AE193=\"\",\"\",\n    IF($AU$21=\"TYP\",\n       IF(Y193=\"\",\"\", INDEX($Y$18:$Y$227, $AA$17-ROWS($Y$18:$Y193))),\n       IF($AU$21=\"INVERT\",Y194, \"\")\n    )\n)","v":""},"",null,{"$f":"IF(BL193>=$Y$12,\"\",IF(X193=\"\",\"\",INDEX($X$18:$X$227,$AA$17-ROWS($X$18:$X193))))","v":""},"",0,null,"",null,null,{"$f":"IF(Y193=\"\",\"\",INDEX($Y$17:$Y$227,$AA$17-ROWS($Y$17:$Y193)))","v":""}]
["","",{"$f":"IF(B195=\"\",\"\",IFERROR(_xlfn.XLOOKUP(B195,ImperialIncrementalData[System Increment],_xlfn.XLOOKUP('Imperial Incremental Crate'!$R$3,ImperialIncrementalData[#Headers],ImperialIncrementalData[]),,1),0))","v":""},"",{"$f":"IF(B195=\"\",\"\",IFERROR(_xlfn.XLOOKUP(B195,ImperialIncrementalData[System Increment],_xlfn.XLOOKUP(Imperial_Incremental_Data_Target_Column,ImperialIncrementalData[#Headers],ImperialIncrementalData[]),,1),0))","v":""},{"$f":"IF(B195=\"\",\"\",IF(B196=\"\",((((1)/12)*Imperial_Module_Square_Foot_Area)-'Cumulative Volumes Imperial'!E195)*Imperial_Stone_Void_Percentage,((((B195-B196)/12)*Imperial_Module_Square_Foot_Area)-'Cumulative Volumes Imperial'!E195)*Imperial_Stone_Void_Percentage))","v":""},"",{"$f":"IF(B195=\"\",\"\",((Imperial_System_Area_Input-Imperial_Number_Of_Stacks*_xlfn.XLOOKUP(Imperial_Layers,CrateData[Layer],CrateData[Surface Area (sf)]))/12)*Imperial_Stone_Void_Percentage)","v":""},"","",{"$f":"IF(B195=\"\",\"\",SUM(J195:$J$233))","v":""},"",{"$nulls":8},"",null,{"v":-11.125000000000012,"d":"-11.13"},"","",null,"",null,{"$f":"IF($AU$21=\"INVERT\",X195,IF(AC194>=$Y$12,\"\",IF(X194=\"\",\"\",INDEX($X$18:$X$227,$AA$17-ROWS($X$18:$X194)))))","v":""},"","","",{"$nulls":26},{"$f":"IF($AU$21=\"INVERT\",X195,IF(AC194>=$Y$12,\"\",IF(X194=\"\",\"\",INDEX($X$18:$X$227,$AA$17-ROWS($X$18:$X194)))))","v":""},"",{"$f":"IF(AE194=\"\",\"\",\n    IF($AU$21=\"TYP\",\n       IF(Y194=\"\",\"\", INDEX($Y$18:$Y$227, $AA$17-ROWS($Y$18:$Y194))),\n       IF($AU$21=\"INVERT\",Y195, \"\")\n    )\n)","v":""},"",null,{"$f":"IF(BL194>=$Y$12,\"\",IF(X194=\"\",\"\",INDEX($X$18:$X$227,$AA$17-ROWS($X$18:$X194))))","v":""},"",0,null,"",null,null,{"$f":"IF(Y194=\"\",\"\",INDEX($Y$17:$Y$227,$AA$17-ROWS($Y$17:$Y194)))","v":""}]
["","",{"$f":"IF(B196=\"\",\"\",IFERROR(_xlfn.XLOOKUP(B196,ImperialIncrementalData[System Increment],_xlfn.XLOOKUP('Imperial Incremental Crate'!$R$3,ImperialIncrementalData[#Headers],ImperialIncrementalData[]),,1),0))","v":""},"",{"$f":"IF(B196=\"\",\"\",IFERROR(_xlfn.XLOOKUP(B196,ImperialIncrementalData[System Increment],_xlfn.XLOOKUP(Imperial_Incremental_Data_Target_Column,ImperialIncrementalData[#Headers],ImperialIncrementalData[]),,1),0))","v":""},{"$f":"IF(B196=\"\",\"\",IF(B197=\"\",((((1)/12)*Imperial_Module_Square_Foot_Area)-'Cumulative Volumes Imperial'!E196)*Imperial_Stone_Void_Percentage,((((B196-B197)/12)*Imperial_Module_Square_Foot_Area)-'Cumulative Volumes Imperial'!E196)*Imperial_Stone_Void_Percentage))","v":""},"",{"$f":"IF(B196=\"\",\"\",((Imperial_System_Area_Input-Imperial_Number_Of_Stacks*_xlfn.XLOOKUP(Imperial_Layers,CrateData[Layer],CrateData[Surface Area (sf)]))/12)*Imperial_Stone_Void_Percentage)","v":""},"","",{"$f":"IF(B196=\"\",\"\",SUM(J196:$J$233))","v":""},"",{"$nulls":8},"",null,{"v":-11.208333333333346,"d":"-11.21"},"","",null,"",null,{"$f":"IF($AU$21=\"INVERT\",X196,IF(AC195>=$Y$12,\"\",IF(X195=\"\",\"\",INDEX($X$18:$X$227,$AA$17-ROWS($X$18:$X195)))))","v":""},"","","",{"$nulls":26},{"$f":"IF($AU$21=\"INVERT\",X196,IF(AC195>=$Y$12,\"\",IF(X195=\"\",\"\",INDEX($X$18:$X$227,$AA$17-ROWS($X$18:$X195)))))","v":""},"",{"$f":"IF(AE195=\"\",\"\",\n    IF($AU$21=\"TYP\",\n       IF(Y195=\"\",\"\", INDEX($Y$18:$Y$227, $AA$17-ROWS($Y$18:$Y195))),\n       IF($AU$21=\"INVERT\",Y196, \"\")\n    )\n)","v":""},"",null,{"$f":"IF(BL195>=$Y$12,\"\",IF(X195=\"\",\"\",INDEX($X$18:$X$227,$AA$17-ROWS($X$18:$X195))))","v":""},"",0,null,"",null,null,{"$f":"IF(Y195=\"\",\"\",INDEX($Y$17:$Y$227,$AA$17-ROWS($Y$17:$Y195)))","v":""}]
["","",{"$f":"IF(B197=\"\",\"\",IFERROR(_xlfn.XLOOKUP(B197,ImperialIncrementalData[System Increment],_xlfn.XLOOKUP('Imperial Incremental Crate'!$R$3,ImperialIncrementalData[#Headers],ImperialIncrementalData[]),,1),0))","v":""},"",{"$f":"IF(B197=\"\",\"\",IFERROR(_xlfn.XLOOKUP(B197,ImperialIncrementalData[System Increment],_xlfn.XLOOKUP(Imperial_Incremental_Data_Target_Column,ImperialIncrementalData[#Headers],ImperialIncrementalData[]),,1),0))","v":""},{"$f":"IF(B197=\"\",\"\",IF(B198=\"\",((((1)/12)*Imperial_Module_Square_Foot_Area)-'Cumulative Volumes Imperial'!E197)*Imperial_Stone_Void_Percentage,((((B197-B198)/12)*Imperial_Module_Square_Foot_Area)-'Cumulative Volumes Imperial'!E197)*Imperial_Stone_Void_Percentage))","v":""},"",{"$f":"IF(B197=\"\",\"\",((Imperial_System_Area_Input-Imperial_Number_Of_Stacks*_xlfn.XLOOKUP(Imperial_Layers,CrateData[Layer],CrateData[Surface Area (sf)]))/12)*Imperial_Stone_Void_Percentage)","v":""},"","",{"$f":"IF(B197=\"\",\"\",SUM(J197:$J$233))","v":""},"",{"$nulls":8},"",null,{"v":-11.29166666666668,"d":"-11.29"},"","",null,"",null,{"$f":"IF($AU$21=\"INVERT\",X197,IF(AC196>=$Y$12,\"\",IF(X196=\"\",\"\",INDEX($X$18:$X$227,$AA$17-ROWS($X$18:$X196)))))","v":""},"","","",{"$nulls":26},{"$f":"IF($AU$21=\"INVERT\",X197,IF(AC196>=$Y$12,\"\",IF(X196=\"\",\"\",INDEX($X$18:$X$227,$AA$17-ROWS($X$18:$X196)))))","v":""},"",{"$f":"IF(AE196=\"\",\"\",\n    IF($AU$21=\"TYP\",\n       IF(Y196=\"\",\"\", INDEX($Y$18:$Y$227, $AA$17-ROWS($Y$18:$Y196))),\n       IF($AU$21=\"INVERT\",Y197, \"\")\n    )\n)","v":""},"",null,{"$f":"IF(BL196>=$Y$12,\"\",IF(X196=\"\",\"\",INDEX($X$18:$X$227,$AA$17-ROWS($X$18:$X196))))","v":""},"",0,null,"",null,null,{"$f":"IF(Y196=\"\",\"\",INDEX($Y$17:$Y$227,$AA$17-ROWS($Y$17:$Y196)))","v":""}]
["","",{"$f":"IF(B198=\"\",\"\",IFERROR(_xlfn.XLOOKUP(B198,ImperialIncrementalData[System Increment],_xlfn.XLOOKUP('Imperial Incremental Crate'!$R$3,ImperialIncrementalData[#Headers],ImperialIncrementalData[]),,1),0))","v":""},"",{"$f":"IF(B198=\"\",\"\",IFERROR(_xlfn.XLOOKUP(B198,ImperialIncrementalData[System Increment],_xlfn.XLOOKUP(Imperial_Incremental_Data_Target_Column,ImperialIncrementalData[#Headers],ImperialIncrementalData[]),,1),0))","v":""},{"$f":"IF(B198=\"\",\"\",IF(B199=\"\",((((1)/12)*Imperial_Module_Square_Foot_Area)-'Cumulative Volumes Imperial'!E198)*Imperial_Stone_Void_Percentage,((((B198-B199)/12)*Imperial_Module_Square_Foot_Area)-'Cumulative Volumes Imperial'!E198)*Imperial_Stone_Void_Percentage))","v":""},"",{"$f":"IF(B198=\"\",\"\",((Imperial_System_Area_Input-Imperial_Number_Of_Stacks*_xlfn.XLOOKUP(Imperial_Layers,CrateData[Layer],CrateData[Surface Area (sf)]))/12)*Imperial_Stone_Void_Percentage)","v":""},"","",{"$f":"IF(B198=\"\",\"\",SUM(J198:$J$233))","v":""},"",{"$nulls":8},"",null,{"v":-11.375000000000014,"d":"-11.38"},"","",null,"",null,{"$f":"IF($AU$21=\"INVERT\",X198,IF(AC197>=$Y$12,\"\",IF(X197=\"\",\"\",INDEX($X$18:$X$227,$AA$17-ROWS($X$18:$X197)))))","v":""},"","","",{"$nulls":26},{"$f":"IF($AU$21=\"INVERT\",X198,IF(AC197>=$Y$12,\"\",IF(X197=\"\",\"\",INDEX($X$18:$X$227,$AA$17-ROWS($X$18:$X197)))))","v":""},"",{"$f":"IF(AE197=\"\",\"\",\n    IF($AU$21=\"TYP\",\n       IF(Y197=\"\",\"\", INDEX($Y$18:$Y$227, $AA$17-ROWS($Y$18:$Y197))),\n       IF($AU$21=\"INVERT\",Y198, \"\")\n    )\n)","v":""},"",null,{"$f":"IF(BL197>=$Y$12,\"\",IF(X197=\"\",\"\",INDEX($X$18:$X$227,$AA$17-ROWS($X$18:$X197))))","v":""},"",0,null,"",null,null,{"$f":"IF(Y197=\"\",\"\",INDEX($Y$17:$Y$227,$AA$17-ROWS($Y$17:$Y197)))","v":""}]
["","",{"$f":"IF(B199=\"\",\"\",IFERROR(_xlfn.XLOOKUP(B199,ImperialIncrementalData[System Increment],_xlfn.XLOOKUP('Imperial Incremental Crate'!$R$3,ImperialIncrementalData[#Headers],ImperialIncrementalData[]),,1),0))","v":""},"",{"$f":"IF(B199=\"\",\"\",IFERROR(_xlfn.XLOOKUP(B199,ImperialIncrementalData[System Increment],_xlfn.XLOOKUP(Imperial_Incremental_Data_Target_Column,ImperialIncrementalData[#Headers],ImperialIncrementalData[]),,1),0))","v":""},{"$f":"IF(B199=\"\",\"\",IF(B200=\"\",((((1)/12)*Imperial_Module_Square_Foot_Area)-'Cumulative Volumes Imperial'!E199)*Imperial_Stone_Void_Percentage,((((B199-B200)/12)*Imperial_Module_Square_Foot_Area)-'Cumulative Volumes Imperial'!E199)*Imperial_Stone_Void_Percentage))","v":""},"",{"$f":"IF(B199=\"\",\"\",((Imperial_System_Area_Input-Imperial_Number_Of_Stacks*_xlfn.XLOOKUP(Imperial_Layers,CrateData[Layer],CrateData[Surface Area (sf)]))/12)*Imperial_Stone_Void_Percentage)","v":""},"","",{"$f":"IF(B199=\"\",\"\",SUM(J199:$J$233))","v":""},"",{"$nulls":8},"",null,{"v":-11.458333333333348,"d":"-11.46"},"","",null,"",null,{"$f":"IF($AU$21=\"INVERT\",X199,IF(AC198>=$Y$12,\"\",IF(X198=\"\",\"\",INDEX($X$18:$X$227,$AA$17-ROWS($X$18:$X198)))))","v":""},"","","",{"$nulls":26},{"$f":"IF($AU$21=\"INVERT\",X199,IF(AC198>=$Y$12,\"\",IF(X198=\"\",\"\",INDEX($X$18:$X$227,$AA$17-ROWS($X$18:$X198)))))","v":""},"",{"$f":"IF(AE198=\"\",\"\",\n    IF($AU$21=\"TYP\",\n       IF(Y198=\"\",\"\", INDEX($Y$18:$Y$227, $AA$17-ROWS($Y$18:$Y198))),\n       IF($AU$21=\"INVERT\",Y199, \"\")\n    )\n)","v":""},"",null,{"$f":"IF(BL198>=$Y$12,\"\",IF(X198=\"\",\"\",INDEX($X$18:$X$227,$AA$17-ROWS($X$18:$X198))))","v":""},"",0,null,"",null,null,{"$f":"IF(Y198=\"\",\"\",INDEX($Y$17:$Y$227,$AA$17-ROWS($Y$17:$Y198)))","v":""}]
["","",{"$f":"IF(B200=\"\",\"\",IFERROR(_xlfn.XLOOKUP(B200,ImperialIncrementalData[System Increment],_xlfn.XLOOKUP('Imperial Incremental Crate'!$R$3,ImperialIncrementalData[#Headers],ImperialIncrementalData[]),,1),0))","v":""},"",{"$f":"IF(B200=\"\",\"\",IFERROR(_xlfn.XLOOKUP(B200,ImperialIncrementalData[System Increment],_xlfn.XLOOKUP(Imperial_Incremental_Data_Target_Column,ImperialIncrementalData[#Headers],ImperialIncrementalData[]),,1),0))","v":""},{"$f":"IF(B200=\"\",\"\",IF(B201=\"\",((((1)/12)*Imperial_Module_Square_Foot_Area)-'Cumulative Volumes Imperial'!E200)*Imperial_Stone_Void_Percentage,((((B200-B201)/12)*Imperial_Module_Square_Foot_Area)-'Cumulative Volumes Imperial'!E200)*Imperial_Stone_Void_Percentage))","v":""},"",{"$f":"IF(B200=\"\",\"\",((Imperial_System_Area_Input-Imperial_Number_Of_Stacks*_xlfn.XLOOKUP(Imperial_Layers,CrateData[Layer],CrateData[Surface Area (sf)]))/12)*Imperial_Stone_Void_Percentage)","v":""},"","",{"$f":"IF(B200=\"\",\"\",SUM(J200:$J$233))","v":""},"",{"$nulls":8},"",null,{"v":-11.541666666666682,"d":"-11.54"},"","",null,{"$f":"IF(X200=\"\",\"\",1)","v":""},null,{"$f":"IF($AU$21=\"INVERT\",X200,IF(AC199>=$Y$12,\"\",IF(X199=\"\",\"\",INDEX($X$18:$X$227,$AA$17-ROWS($X$18:$X199)))))","v":""},"","","",{"$nulls":26},{"$f":"IF($AU$21=\"INVERT\",X200,IF(AC199>=$Y$12,\"\",IF(X199=\"\",\"\",INDEX($X$18:$X$227,$AA$17-ROWS($X$18:$X199)))))","v":""},"",{"$f":"IF(AE199=\"\",\"\",\n    IF($AU$21=\"TYP\",\n       IF(Y199=\"\",\"\", INDEX($Y$18:$Y$227, $AA$17-ROWS($Y$18:$Y199))),\n       IF($AU$21=\"INVERT\",Y200, \"\")\n    )\n)","v":""},"",null,{"$f":"IF(BL199>=$Y$12,\"\",IF(X199=\"\",\"\",INDEX($X$18:$X$227,$AA$17-ROWS($X$18:$X199))))","v":""},"",0,null,"",null,null,{"$f":"IF(Y199=\"\",\"\",INDEX($Y$17:$Y$227,$AA$17-ROWS($Y$17:$Y199)))","v":""}]
["","",{"$f":"IF(B201=\"\",\"\",IFERROR(_xlfn.XLOOKUP(B201,ImperialIncrementalData[System Increment],_xlfn.XLOOKUP('Imperial Incremental Crate'!$R$3,ImperialIncrementalData[#Headers],ImperialIncrementalData[]),,1),0))","v":""},"",{"$f":"IF(B201=\"\",\"\",IFERROR(_xlfn.XLOOKUP(B201,ImperialIncrementalData[System Increment],_xlfn.XLOOKUP(Imperial_Incremental_Data_Target_Column,ImperialIncrementalData[#Headers],ImperialIncrementalData[]),,1),0))","v":""},{"$f":"IF(B201=\"\",\"\",IF(B202=\"\",((((1)/12)*Imperial_Module_Square_Foot_Area)-'Cumulative Volumes Imperial'!E201)*Imperial_Stone_Void_Percentage,((((B201-B202)/12)*Imperial_Module_Square_Foot_Area)-'Cumulative Volumes Imperial'!E201)*Imperial_Stone_Void_Percentage))","v":""},"",{"$f":"IF(B201=\"\",\"\",((Imperial_System_Area_Input-Imperial_Number_Of_Stacks*_xlfn.XLOOKUP(Imperial_Layers,CrateData[Layer],CrateData[Surface Area (sf)]))/12)*Imperial_Stone_Void_Percentage)","v":""},"","",{"$f":"IF(B201=\"\",\"\",SUM(J201:$J$233))","v":""},"",{"$nulls":8},"",null,{"v":-11.625000000000016,"d":"-11.63"},"","",null,{"$f":"IF(X201=\"\",\"\",1)","v":""},null,{"$f":"IF($AU$21=\"INVERT\",X201,IF(AC200>=$Y$12,\"\",IF(X200=\"\",\"\",INDEX($X$18:$X$227,$AA$17-ROWS($X$18:$X200)))))","v":""},"","","",{"$nulls":26},{"$f":"IF($AU$21=\"INVERT\",X201,IF(AC200>=$Y$12,\"\",IF(X200=\"\",\"\",INDEX($X$18:$X$227,$AA$17-ROWS($X$18:$X200)))))","v":""},"",{"$f":"IF(AE200=\"\",\"\",\n    IF($AU$21=\"TYP\",\n       IF(Y200=\"\",\"\", INDEX($Y$18:$Y$227, $AA$17-ROWS($Y$18:$Y200))),\n       IF($AU$21=\"INVERT\",Y201, \"\")\n    )\n)","v":""},"",null,{"$f":"IF(BL200>=$Y$12,\"\",IF(X200=\"\",\"\",INDEX($X$18:$X$227,$AA$17-ROWS($X$18:$X200))))","v":""},"",0,null,"",null,null,{"$f":"IF(Y200=\"\",\"\",INDEX($Y$17:$Y$227,$AA$17-ROWS($Y$17:$Y200)))","v":""}]
["","",{"$f":"IF(B202=\"\",\"\",IFERROR(_xlfn.XLOOKUP(B202,ImperialIncrementalData[System Increment],_xlfn.XLOOKUP('Imperial Incremental Crate'!$R$3,ImperialIncrementalData[#Headers],ImperialIncrementalData[]),,1),0))","v":""},"",{"$f":"IF(B202=\"\",\"\",IFERROR(_xlfn.XLOOKUP(B202,ImperialIncrementalData[System Increment],_xlfn.XLOOKUP(Imperial_Incremental_Data_Target_Column,ImperialIncrementalData[#Headers],ImperialIncrementalData[]),,1),0))","v":""},{"$f":"IF(B202=\"\",\"\",IF(B203=\"\",((((1)/12)*Imperial_Module_Square_Foot_Area)-'Cumulative Volumes Imperial'!E202)*Imperial_Stone_Void_Percentage,((((B202-B203)/12)*Imperial_Module_Square_Foot_Area)-'Cumulative Volumes Imperial'!E202)*Imperial_Stone_Void_Percentage))","v":""},"",{"$f":"IF(B202=\"\",\"\",((Imperial_System_Area_Input-Imperial_Number_Of_Stacks*_xlfn.XLOOKUP(Imperial_Layers,CrateData[Layer],CrateData[Surface Area (sf)]))/12)*Imperial_Stone_Void_Percentage)","v":""},"","",{"$f":"IF(B202=\"\",\"\",SUM(J202:$J$233))","v":""},"",{"$nulls":8},"",null,{"v":-11.70833333333335,"d":"-11.71"},"","",null,"",null,{"$f":"IF($AU$21=\"INVERT\",X202,IF(AC201>=$Y$12,\"\",IF(X201=\"\",\"\",INDEX($X$18:$X$227,$AA$17-ROWS($X$18:$X201)))))","v":""},"","","",{"$nulls":26},{"$f":"IF($AU$21=\"INVERT\",X202,IF(AC201>=$Y$12,\"\",IF(X201=\"\",\"\",INDEX($X$18:$X$227,$AA$17-ROWS($X$18:$X201)))))","v":""},"",{"$f":"IF(AE201=\"\",\"\",\n    IF($AU$21=\"TYP\",\n       IF(Y201=\"\",\"\", INDEX($Y$18:$Y$227, $AA$17-ROWS($Y$18:$Y201))),\n       IF($AU$21=\"INVERT\",Y202, \"\")\n    )\n)","v":""},"",null,{"$f":"IF(BL201>=$Y$12,\"\",IF(X201=\"\",\"\",INDEX($X$18:$X$227,$AA$17-ROWS($X$18:$X201))))","v":""},"",0,null,"",null,null,{"$f":"IF(Y201=\"\",\"\",INDEX($Y$17:$Y$227,$AA$17-ROWS($Y$17:$Y201)))","v":""}]
["","",{"$f":"IF(B203=\"\",\"\",IFERROR(_xlfn.XLOOKUP(B203,ImperialIncrementalData[System Increment],_xlfn.XLOOKUP('Imperial Incremental Crate'!$R$3,ImperialIncrementalData[#Headers],ImperialIncrementalData[]),,1),0))","v":""},"",{"$f":"IF(B203=\"\",\"\",IFERROR(_xlfn.XLOOKUP(B203,ImperialIncrementalData[System Increment],_xlfn.XLOOKUP(Imperial_Incremental_Data_Target_Column,ImperialIncrementalData[#Headers],ImperialIncrementalData[]),,1),0))","v":""},{"$f":"IF(B203=\"\",\"\",IF(B204=\"\",((((1)/12)*Imperial_Module_Square_Foot_Area)-'Cumulative Volumes Imperial'!E203)*Imperial_Stone_Void_Percentage,((((B203-B204)/12)*Imperial_Module_Square_Foot_Area)-'Cumulative Volumes Imperial'!E203)*Imperial_Stone_Void_Percentage))","v":""},"",{"$f":"IF(B203=\"\",\"\",((Imperial_System_Area_Input-Imperial_Number_Of_Stacks*_xlfn.XLOOKUP(Imperial_Layers,CrateData[Layer],CrateData[Surface Area (sf)]))/12)*Imperial_Stone_Void_Percentage)","v":""},"","",{"$f":"IF(B203=\"\",\"\",SUM(J203:$J$233))","v":""},"",{"$nulls":8},"",null,{"v":-11.791666666666684,"d":"-11.79"},"","",null,"",null,{"$f":"IF($AU$21=\"INVERT\",X203,IF(AC202>=$Y$12,\"\",IF(X202=\"\",\"\",INDEX($X$18:$X$227,$AA$17-ROWS($X$18:$X202)))))","v":""},"","","",{"$nulls":26},{"$f":"IF($AU$21=\"INVERT\",X203,IF(AC202>=$Y$12,\"\",IF(X202=\"\",\"\",INDEX($X$18:$X$227,$AA$17-ROWS($X$18:$X202)))))","v":""},"",{"$f":"IF(AE202=\"\",\"\",\n    IF($AU$21=\"TYP\",\n       IF(Y202=\"\",\"\", INDEX($Y$18:$Y$227, $AA$17-ROWS($Y$18:$Y202))),\n       IF($AU$21=\"INVERT\",Y203, \"\")\n    )\n)","v":""},"",null,{"$f":"IF(BL202>=$Y$12,\"\",IF(X202=\"\",\"\",INDEX($X$18:$X$227,$AA$17-ROWS($X$18:$X202))))","v":""},"",0,null,"",null,null,{"$f":"IF(Y202=\"\",\"\",INDEX($Y$17:$Y$227,$AA$17-ROWS($Y$17:$Y202)))","v":""}]
["","",{"$f":"IF(B204=\"\",\"\",IFERROR(_xlfn.XLOOKUP(B204,ImperialIncrementalData[System Increment],_xlfn.XLOOKUP('Imperial Incremental Crate'!$R$3,ImperialIncrementalData[#Headers],ImperialIncrementalData[]),,1),0))","v":""},"",{"$f":"IF(B204=\"\",\"\",IFERROR(_xlfn.XLOOKUP(B204,ImperialIncrementalData[System Increment],_xlfn.XLOOKUP(Imperial_Incremental_Data_Target_Column,ImperialIncrementalData[#Headers],ImperialIncrementalData[]),,1),0))","v":""},{"$f":"IF(B204=\"\",\"\",IF(B205=\"\",((((1)/12)*Imperial_Module_Square_Foot_Area)-'Cumulative Volumes Imperial'!E204)*Imperial_Stone_Void_Percentage,((((B204-B205)/12)*Imperial_Module_Square_Foot_Area)-'Cumulative Volumes Imperial'!E204)*Imperial_Stone_Void_Percentage))","v":""},"",{"$f":"IF(B204=\"\",\"\",((Imperial_System_Area_Input-Imperial_Number_Of_Stacks*_xlfn.XLOOKUP(Imperial_Layers,CrateData[Layer],CrateData[Surface Area (sf)]))/12)*Imperial_Stone_Void_Percentage)","v":""},"","",{"$f":"IF(B204=\"\",\"\",SUM(J204:$J$233))","v":""},"",{"$nulls":8},"",null,{"v":-11.875000000000018,"d":"-11.88"},"","",null,"",null,{"$f":"IF($AU$21=\"INVERT\",X204,IF(AC203>=$Y$12,\"\",IF(X203=\"\",\"\",INDEX($X$18:$X$227,$AA$17-ROWS($X$18:$X203)))))","v":""},"","","",{"$nulls":26},{"$f":"IF($AU$21=\"INVERT\",X204,IF(AC203>=$Y$12,\"\",IF(X203=\"\",\"\",INDEX($X$18:$X$227,$AA$17-ROWS($X$18:$X203)))))","v":""},"",{"$f":"IF(AE203=\"\",\"\",\n    IF($AU$21=\"TYP\",\n       IF(Y203=\"\",\"\", INDEX($Y$18:$Y$227, $AA$17-ROWS($Y$18:$Y203))),\n       IF($AU$21=\"INVERT\",Y204, \"\")\n    )\n)","v":""},"",null,{"$f":"IF(BL203>=$Y$12,\"\",IF(X203=\"\",\"\",INDEX($X$18:$X$227,$AA$17-ROWS($X$18:$X203))))","v":""},"",0,null,"",null,null,{"$f":"IF(Y203=\"\",\"\",INDEX($Y$17:$Y$227,$AA$17-ROWS($Y$17:$Y203)))","v":""}]
["","",{"$f":"IF(B205=\"\",\"\",IFERROR(_xlfn.XLOOKUP(B205,ImperialIncrementalData[System Increment],_xlfn.XLOOKUP('Imperial Incremental Crate'!$R$3,ImperialIncrementalData[#Headers],ImperialIncrementalData[]),,1),0))","v":""},"",{"$f":"IF(B205=\"\",\"\",IFERROR(_xlfn.XLOOKUP(B205,ImperialIncrementalData[System Increment],_xlfn.XLOOKUP(Imperial_Incremental_Data_Target_Column,ImperialIncrementalData[#Headers],ImperialIncrementalData[]),,1),0))","v":""},{"$f":"IF(B205=\"\",\"\",IF(B206=\"\",((((1)/12)*Imperial_Module_Square_Foot_Area)-'Cumulative Volumes Imperial'!E205)*Imperial_Stone_Void_Percentage,((((B205-B206)/12)*Imperial_Module_Square_Foot_Area)-'Cumulative Volumes Imperial'!E205)*Imperial_Stone_Void_Percentage))","v":""},"",{"$f":"IF(B205=\"\",\"\",((Imperial_System_Area_Input-Imperial_Number_Of_Stacks*_xlfn.XLOOKUP(Imperial_Layers,CrateData[Layer],CrateData[Surface Area (sf)]))/12)*Imperial_Stone_Void_Percentage)","v":""},"","",{"$f":"IF(B205=\"\",\"\",SUM(J205:$J$233))","v":""},"",{"$nulls":8},"",null,{"v":-11.958333333333352,"d":"-11.96"},"","",null,"",null,{"$f":"IF($AU$21=\"INVERT\",X205,IF(AC204>=$Y$12,\"\",IF(X204=\"\",\"\",INDEX($X$18:$X$227,$AA$17-ROWS($X$18:$X204)))))","v":""},"","","",{"$nulls":26},{"$f":"IF($AU$21=\"INVERT\",X205,IF(AC204>=$Y$12,\"\",IF(X204=\"\",\"\",INDEX($X$18:$X$227,$AA$17-ROWS($X$18:$X204)))))","v":""},"",{"$f":"IF(AE204=\"\",\"\",\n    IF($AU$21=\"TYP\",\n       IF(Y204=\"\",\"\", INDEX($Y$18:$Y$227, $AA$17-ROWS($Y$18:$Y204))),\n       IF($AU$21=\"INVERT\",Y205, \"\")\n    )\n)","v":""},"",null,{"$f":"IF(BL204>=$Y$12,\"\",IF(X204=\"\",\"\",INDEX($X$18:$X$227,$AA$17-ROWS($X$18:$X204))))","v":""},"",0,null,"",null,null,{"$f":"IF(Y204=\"\",\"\",INDEX($Y$17:$Y$227,$AA$17-ROWS($Y$17:$Y204)))","v":""}]
["","",{"$f":"IF(B206=\"\",\"\",IFERROR(_xlfn.XLOOKUP(B206,ImperialIncrementalData[System Increment],_xlfn.XLOOKUP('Imperial Incremental Crate'!$R$3,ImperialIncrementalData[#Headers],ImperialIncrementalData[]),,1),0))","v":""},"",{"$f":"IF(B206=\"\",\"\",IFERROR(_xlfn.XLOOKUP(B206,ImperialIncrementalData[System Increment],_xlfn.XLOOKUP(Imperial_Incremental_Data_Target_Column,ImperialIncrementalData[#Headers],ImperialIncrementalData[]),,1),0))","v":""},{"$f":"IF(B206=\"\",\"\",IF(B207=\"\",((((1)/12)*Imperial_Module_Square_Foot_Area)-'Cumulative Volumes Imperial'!E206)*Imperial_Stone_Void_Percentage,((((B206-B207)/12)*Imperial_Module_Square_Foot_Area)-'Cumulative Volumes Imperial'!E206)*Imperial_Stone_Void_Percentage))","v":""},"",{"$f":"IF(B206=\"\",\"\",((Imperial_System_Area_Input-Imperial_Number_Of_Stacks*_xlfn.XLOOKUP(Imperial_Layers,CrateData[Layer],CrateData[Surface Area (sf)]))/12)*Imperial_Stone_Void_Percentage)","v":""},"","",{"$f":"IF(B206=\"\",\"\",SUM(J206:$J$233))","v":""},"",{"$nulls":8},"",null,{"v":-12.041666666666686,"d":"-12.04"},"","",null,"",null,{"$f":"IF($AU$21=\"INVERT\",X206,IF(AC205>=$Y$12,\"\",IF(X205=\"\",\"\",INDEX($X$18:$X$227,$AA$17-ROWS($X$18:$X205)))))","v":""},"","","",{"$nulls":26},{"$f":"IF($AU$21=\"INVERT\",X206,IF(AC205>=$Y$12,\"\",IF(X205=\"\",\"\",INDEX($X$18:$X$227,$AA$17-ROWS($X$18:$X205)))))","v":""},"",{"$f":"IF(AE205=\"\",\"\",\n    IF($AU$21=\"TYP\",\n       IF(Y205=\"\",\"\", INDEX($Y$18:$Y$227, $AA$17-ROWS($Y$18:$Y205))),\n       IF($AU$21=\"INVERT\",Y206, \"\")\n    )\n)","v":""},"",null,{"$f":"IF(BL205>=$Y$12,\"\",IF(X205=\"\",\"\",INDEX($X$18:$X$227,$AA$17-ROWS($X$18:$X205))))","v":""},"",0,null,"",null,null,{"$f":"IF(Y205=\"\",\"\",INDEX($Y$17:$Y$227,$AA$17-ROWS($Y$17:$Y205)))","v":""}]
["","",{"$f":"IF(B207=\"\",\"\",IFERROR(_xlfn.XLOOKUP(B207,ImperialIncrementalData[System Increment],_xlfn.XLOOKUP('Imperial Incremental Crate'!$R$3,ImperialIncrementalData[#Headers],ImperialIncrementalData[]),,1),0))","v":""},"",{"$f":"IF(B207=\"\",\"\",IFERROR(_xlfn.XLOOKUP(B207,ImperialIncrementalData[System Increment],_xlfn.XLOOKUP(Imperial_Incremental_Data_Target_Column,ImperialIncrementalData[#Headers],ImperialIncrementalData[]),,1),0))","v":""},{"$f":"IF(B207=\"\",\"\",IF(B208=\"\",((((1)/12)*Imperial_Module_Square_Foot_Area)-'Cumulative Volumes Imperial'!E207)*Imperial_Stone_Void_Percentage,((((B207-B208)/12)*Imperial_Module_Square_Foot_Area)-'Cumulative Volumes Imperial'!E207)*Imperial_Stone_Void_Percentage))","v":""},"",{"$f":"IF(B207=\"\",\"\",((Imperial_System_Area_Input-Imperial_Number_Of_Stacks*_xlfn.XLOOKUP(Imperial_Layers,CrateData[Layer],CrateData[Surface Area (sf)]))/12)*Imperial_Stone_Void_Percentage)","v":""},"","",{"$f":"IF(B207=\"\",\"\",SUM(J207:$J$233))","v":""},"",{"$nulls":8},"",null,{"v":-12.12500000000002,"d":"-12.13"},"","",null,"",null,{"$f":"IF($AU$21=\"INVERT\",X207,IF(AC206>=$Y$12,\"\",IF(X206=\"\",\"\",INDEX($X$18:$X$227,$AA$17-ROWS($X$18:$X206)))))","v":""},"","","",{"$nulls":26},{"$f":"IF($AU$21=\"INVERT\",X207,IF(AC206>=$Y$12,\"\",IF(X206=\"\",\"\",INDEX($X$18:$X$227,$AA$17-ROWS($X$18:$X206)))))","v":""},"",{"$f":"IF(AE206=\"\",\"\",\n    IF($AU$21=\"TYP\",\n       IF(Y206=\"\",\"\", INDEX($Y$18:$Y$227, $AA$17-ROWS($Y$18:$Y206))),\n       IF($AU$21=\"INVERT\",Y207, \"\")\n    )\n)","v":""},"",null,{"$f":"IF(BL206>=$Y$12,\"\",IF(X206=\"\",\"\",INDEX($X$18:$X$227,$AA$17-ROWS($X$18:$X206))))","v":""},"",0,null,"",null,null,{"$f":"IF(Y206=\"\",\"\",INDEX($Y$17:$Y$227,$AA$17-ROWS($Y$17:$Y206)))","v":""}]
[{"$f":"IF(B210<>\"\",A207+1,\"\")","v":""},"",{"$f":"IF(B208=\"\",\"\",IFERROR(_xlfn.XLOOKUP(B208,ImperialIncrementalData[System Increment],_xlfn.XLOOKUP('Imperial Incremental Crate'!$R$3,ImperialIncrementalData[#Headers],ImperialIncrementalData[]),,1),0))","v":""},"",{"$f":"IF(B208=\"\",\"\",IFERROR(_xlfn.XLOOKUP(B208,ImperialIncrementalData[System Increment],_xlfn.XLOOKUP(Imperial_Incremental_Data_Target_Column,ImperialIncrementalData[#Headers],ImperialIncrementalData[]),,1),0))","v":""},{"$f":"IF(B208=\"\",\"\",IF(B209=\"\",((((1)/12)*Imperial_Module_Square_Foot_Area)-'Cumulative Volumes Imperial'!E208)*Imperial_Stone_Void_Percentage,((((B208-B209)/12)*Imperial_Module_Square_Foot_Area)-'Cumulative Volumes Imperial'!E208)*Imperial_Stone_Void_Percentage))","v":""},"",{"$f":"IF(B208=\"\",\"\",((Imperial_System_Area_Input-Imperial_Number_Of_Stacks*_xlfn.XLOOKUP(Imperial_Layers,CrateData[Layer],CrateData[Surface Area (sf)]))/12)*Imperial_Stone_Void_Percentage)","v":""},"","",{"$f":"IF(B208=\"\",\"\",SUM(J208:$J$233))","v":""},"",{"$nulls":8},"",null,{"v":-12.208333333333353,"d":"-12.21"},"","",null,"",null,{"$f":"IF($AU$21=\"INVERT\",X208,IF(AC207>=$Y$12,\"\",IF(X207=\"\",\"\",INDEX($X$18:$X$227,$AA$17-ROWS($X$18:$X207)))))","v":""},"","","",{"$nulls":26},{"$f":"IF($AU$21=\"INVERT\",X208,IF(AC207>=$Y$12,\"\",IF(X207=\"\",\"\",INDEX($X$18:$X$227,$AA$17-ROWS($X$18:$X207)))))","v":""},"",{"$f":"IF(AE207=\"\",\"\",\n    IF($AU$21=\"TYP\",\n       IF(Y207=\"\",\"\", INDEX($Y$18:$Y$227, $AA$17-ROWS($Y$18:$Y207))),\n       IF($AU$21=\"INVERT\",Y208, \"\")\n    )\n)","v":""},"",null,{"$f":"IF(BL207>=$Y$12,\"\",IF(X207=\"\",\"\",INDEX($X$18:$X$227,$AA$17-ROWS($X$18:$X207))))","v":""},"",0,null,"",null,null,{"$f":"IF(Y207=\"\",\"\",INDEX($Y$17:$Y$227,$AA$17-ROWS($Y$17:$Y207)))","v":""}]
["","",{"$f":"IF(B209=\"\",\"\",IFERROR(_xlfn.XLOOKUP(B209,ImperialIncrementalData[System Increment],_xlfn.XLOOKUP('Imperial Incremental Crate'!$R$3,ImperialIncrementalData[#Headers],ImperialIncrementalData[]),,1),0))","v":""},"",{"$f":"IF(B209=\"\",\"\",IFERROR(_xlfn.XLOOKUP(B209,ImperialIncrementalData[System Increment],_xlfn.XLOOKUP(Imperial_Incremental_Data_Target_Column,ImperialIncrementalData[#Headers],ImperialIncrementalData[]),,1),0))","v":""},{"$f":"IF(B209=\"\",\"\",IF(B210=\"\",((((1)/12)*Imperial_Module_Square_Foot_Area)-'Cumulative Volumes Imperial'!E209)*Imperial_Stone_Void_Percentage,((((B209-B210)/12)*Imperial_Module_Square_Foot_Area)-'Cumulative Volumes Imperial'!E209)*Imperial_Stone_Void_Percentage))","v":""},"",{"$f":"IF(B209=\"\",\"\",((Imperial_System_Area_Input-Imperial_Number_Of_Stacks*_xlfn.XLOOKUP(Imperial_Layers,CrateData[Layer],CrateData[Surface Area (sf)]))/12)*Imperial_Stone_Void_Percentage)","v":""},"","",{"$f":"IF(B209=\"\",\"\",SUM(J209:$J$233))","v":""},"",{"$nulls":8},"",null,{"v":-12.291666666666687,"d":"-12.29"},"","",null,"",null,{"$f":"IF($AU$21=\"INVERT\",X209,IF(AC208>=$Y$12,\"\",IF(X208=\"\",\"\",INDEX($X$18:$X$227,$AA$17-ROWS($X$18:$X208)))))","v":""},"","","",{"$nulls":26},{"$f":"IF($AU$21=\"INVERT\",X209,IF(AC208>=$Y$12,\"\",IF(X208=\"\",\"\",INDEX($X$18:$X$227,$AA$17-ROWS($X$18:$X208)))))","v":""},"",{"$f":"IF(AE208=\"\",\"\",\n    IF($AU$21=\"TYP\",\n       IF(Y208=\"\",\"\", INDEX($Y$18:$Y$227, $AA$17-ROWS($Y$18:$Y208))),\n       IF($AU$21=\"INVERT\",Y209, \"\")\n    )\n)","v":""},"",null,{"$f":"IF(BL208>=$Y$12,\"\",IF(X208=\"\",\"\",INDEX($X$18:$X$227,$AA$17-ROWS($X$18:$X208))))","v":""},"",0,null,"",null,null,{"$f":"IF(Y208=\"\",\"\",INDEX($Y$17:$Y$227,$AA$17-ROWS($Y$17:$Y208)))","v":""}]
["","",{"$f":"IF(B210=\"\",\"\",IFERROR(_xlfn.XLOOKUP(B210,ImperialIncrementalData[System Increment],_xlfn.XLOOKUP('Imperial Incremental Crate'!$R$3,ImperialIncrementalData[#Headers],ImperialIncrementalData[]),,1),0))","v":""},{"$f":"IFERROR(C210*Imperial_Number_Of_Stacks,\"\")","v":""},{"$f":"IF(B210=\"\",\"\",IFERROR(_xlfn.XLOOKUP(B210,ImperialIncrementalData[System Increment],_xlfn.XLOOKUP(Imperial_Incremental_Data_Target_Column,ImperialIncrementalData[#Headers],ImperialIncrementalData[]),,1),0))","v":""},{"$f":"IF(B210=\"\",\"\",IF(B211=\"\",((((1)/12)*Imperial_Module_Square_Foot_Area)-'Cumulative Volumes Imperial'!E210)*Imperial_Stone_Void_Percentage,((((B210-B211)/12)*Imperial_Module_Square_Foot_Area)-'Cumulative Volumes Imperial'!E210)*Imperial_Stone_Void_Percentage))","v":""},{"$f":"IFERROR(F210*Imperial_Number_Of_Stacks,\"\")","v":""},{"$f":"IF(B210=\"\",\"\",((Imperial_System_Area_Input-Imperial_Number_Of_Stacks*_xlfn.XLOOKUP(Imperial_Layers,CrateData[Layer],CrateData[Surface Area (sf)]))/12)*Imperial_Stone_Void_Percentage)","v":""},{"$f":"IFERROR(IF($AW$17, H210+G210, G210), \"\")","v":""},{"$f":"IFERROR(I210+D210,\"\")","v":""},{"$f":"IF(B210=\"\",\"\",SUM(J210:$J$233))","v":""},{"$f":"IFERROR($I$11+B210/12,\"\")","v":""},{"$nulls":8},{"$f":"IF(L211=\"\",IF(L210=\"\",\"\",$I$11),L210)","v":""},null,{"v":-12.375000000000021,"d":"-12.38"},"","",null,"",null,{"$f":"IF($AU$21=\"INVERT\",X210,IF(AC209>=$Y$12,\"\",IF(X209=\"\",\"\",INDEX($X$18:$X$227,$AA$17-ROWS($X$18:$X209)))))","v":""},"","",{"$f":"IF($AU$17=TRUE, BJ210, IF($AU$23=TRUE, \"\", \"\"))","v":""},{"$nulls":26},{"$f":"IF($AU$21=\"INVERT\",X210,IF(AC209>=$Y$12,\"\",IF(X209=\"\",\"\",INDEX($X$18:$X$227,$AA$17-ROWS($X$18:$X209)))))","v":""},{"$f":"IF(AC210=\"\",\"\",$I$11+AC210)","v":""},{"$f":"IF(AE209=\"\",\"\",\n    IF($AU$21=\"TYP\",\n       IF(Y209=\"\",\"\", INDEX($Y$18:$Y$227, $AA$17-ROWS($Y$18:$Y209))),\n       IF($AU$21=\"INVERT\",Y210, \"\")\n    )\n)","v":""},{"$f":"IF(AE210=\"\",\"\",AE210/43560)","v":""},null,{"$f":"IF(BL209>=$Y$12,\"\",IF(X209=\"\",\"\",INDEX($X$18:$X$227,$AA$17-ROWS($X$18:$X209))))","v":""},"",0,null,"",null,null,{"$f":"IF(Y209=\"\",\"\",INDEX($Y$17:$Y$227,$AA$17-ROWS($Y$17:$Y209)))","v":""}]
["","",{"$f":"IF(B211=\"\",\"\",IFERROR(_xlfn.XLOOKUP(B211,ImperialIncrementalData[System Increment],_xlfn.XLOOKUP('Imperial Incremental Crate'!$R$3,ImperialIncrementalData[#Headers],ImperialIncrementalData[]),,1),0))","v":""},"",{"$f":"IF(B211=\"\",\"\",IFERROR(_xlfn.XLOOKUP(B211,ImperialIncrementalData[System Increment],_xlfn.XLOOKUP(Imperial_Incremental_Data_Target_Column,ImperialIncrementalData[#Headers],ImperialIncrementalData[]),,1),0))","v":""},{"$f":"IF(B211=\"\",\"\",IF(B212=\"\",((((1)/12)*Imperial_Module_Square_Foot_Area)-'Cumulative Volumes Imperial'!E211)*Imperial_Stone_Void_Percentage,((((B211-B212)/12)*Imperial_Module_Square_Foot_Area)-'Cumulative Volumes Imperial'!E211)*Imperial_Stone_Void_Percentage))","v":""},"",{"$f":"IF(B211=\"\",\"\",((Imperial_System_Area_Input-Imperial_Number_Of_Stacks*_xlfn.XLOOKUP(Imperial_Layers,CrateData[Layer],CrateData[Surface Area (sf)]))/12)*Imperial_Stone_Void_Percentage)","v":""},"","",{"$f":"IF(B211=\"\",\"\",SUM(J211:$J$233))","v":""},"",{"$nulls":8},"",null,{"v":-12.458333333333355,"d":"-12.46"},{"$f":"IF(AND(B211=\"\",B210=1),0,IF(B211=\"\",\"\",IF(OR(W211=0,W211>0),W211,\"\")))","v":""},{"$f":"IF(X211=\"\",\"\",IF(X211=0,K210/$AA$11,IF(ISNUMBER(U212),(K211-K212)/(L211-L212),Y210)))","v":""},null,"",null,{"$f":"IF($AU$21=\"INVERT\",X211,IF(AC210>=$Y$12,\"\",IF(X210=\"\",\"\",INDEX($X$18:$X$227,$AA$17-ROWS($X$18:$X210)))))","v":""},{"$f":"IF($AN$17=TRUE, BH211, IF($AN$23=TRUE, BM211, \"\"))","v":""},{"$f":"IF($AU$17=TRUE, BI211, IF($AU$23=TRUE, BN211, \"\"))","v":""},"",{"$nulls":26},{"$f":"IF($AU$21=\"INVERT\",X211,IF(AC210>=$Y$12,\"\",IF(X210=\"\",\"\",INDEX($X$18:$X$227,$AA$17-ROWS($X$18:$X210)))))","v":""},"",{"$f":"IF(AE210=\"\",\"\",\n    IF($AU$21=\"TYP\",\n       IF(Y210=\"\",\"\", INDEX($Y$18:$Y$227, $AA$17-ROWS($Y$18:$Y210))),\n       IF($AU$21=\"INVERT\",Y211, \"\")\n    )\n)","v":""},"",null,{"$f":"IF(BL210>=$Y$12,\"\",IF(X210=\"\",\"\",INDEX($X$18:$X$227,$AA$17-ROWS($X$18:$X210))))","v":""},"",0,null,"",null,null,{"$f":"IF(Y210=\"\",\"\",INDEX($Y$17:$Y$227,$AA$17-ROWS($Y$17:$Y210)))","v":""}]
["",{"$f":"IFERROR(IF(B211-1<1,\"\",B211-1),\"\")","v":""},{"$f":"IF(B212=\"\",\"\",IFERROR(_xlfn.XLOOKUP(B212,ImperialIncrementalData[System Increment],_xlfn.XLOOKUP('Imperial Incremental Crate'!$R$3,ImperialIncrementalData[#Headers],ImperialIncrementalData[]),,1),0))","v":""},"",{"$f":"IF(B212=\"\",\"\",IFERROR(_xlfn.XLOOKUP(B212,ImperialIncrementalData[System Increment],_xlfn.XLOOKUP(Imperial_Incremental_Data_Target_Column,ImperialIncrementalData[#Headers],ImperialIncrementalData[]),,1),0))","v":""},{"$f":"IF(B212=\"\",\"\",IF(B213=\"\",((((1)/12)*Imperial_Module_Square_Foot_Area)-'Cumulative Volumes Imperial'!E212)*Imperial_Stone_Void_Percentage,((((B212-B213)/12)*Imperial_Module_Square_Foot_Area)-'Cumulative Volumes Imperial'!E212)*Imperial_Stone_Void_Percentage))","v":""},"",{"$f":"IF(B212=\"\",\"\",((Imperial_System_Area_Input-Imperial_Number_Of_Stacks*_xlfn.XLOOKUP(Imperial_Layers,CrateData[Layer],CrateData[Surface Area (sf)]))/12)*Imperial_Stone_Void_Percentage)","v":""},"","",{"$f":"IF(B212=\"\",\"\",SUM(J212:$J$233))","v":""},"",{"$nulls":8},"",null,{"$f":"W211-($AA$11)","v":{"v":-12.54166666666669,"d":"-12.54"}},"","",null,"",null,{"$f":"IF($AU$21=\"INVERT\",X212,IF(AC211>=$Y$12,\"\",IF(X211=\"\",\"\",INDEX($X$18:$X$227,$AA$17-ROWS($X$18:$X211)))))","v":""},"","","",{"$nulls":26},{"$f":"IF($AU$21=\"INVERT\",X212,IF(AC211>=$Y$12,\"\",IF(X211=\"\",\"\",INDEX($X$18:$X$227,$AA$17-ROWS($X$18:$X211)))))","v":""},"",{"$f":"IF(AE211=\"\",\"\",\n    IF($AU$21=\"TYP\",\n       IF(Y211=\"\",\"\", INDEX($Y$18:$Y$227, $AA$17-ROWS($Y$18:$Y211))),\n       IF($AU$21=\"INVERT\",Y212, \"\")\n    )\n)","v":""},"",null,{"$f":"IF(BL211>=$Y$12,\"\",IF(X211=\"\",\"\",INDEX($X$18:$X$227,$AA$17-ROWS($X$18:$X211))))","v":""},{"$f":"IF(BS212=\"\",\"\",BS212/43560)","v":""},{"$f":"BQ212","v":0},null,"",null,null,{"$f":"IF(Y211=\"\",\"\",INDEX($Y$17:$Y$227,$AA$17-ROWS($Y$17:$Y211)))","v":""}]
["","",{"$f":"IF(B213=\"\",\"\",IFERROR(_xlfn.XLOOKUP(B213,ImperialIncrementalData[System Increment],_xlfn.XLOOKUP('Imperial Incremental Crate'!$R$3,ImperialIncrementalData[#Headers],ImperialIncrementalData[]),,1),0))","v":""},"",{"$f":"IF(B213=\"\",\"\",IFERROR(_xlfn.XLOOKUP(B213,ImperialIncrementalData[System Increment],_xlfn.XLOOKUP(Imperial_Incremental_Data_Target_Column,ImperialIncrementalData[#Headers],ImperialIncrementalData[]),,1),0))","v":""},{"$f":"IF(B213=\"\",\"\",IF(B214=\"\",((((1)/12)*Imperial_Module_Square_Foot_Area)-'Cumulative Volumes Imperial'!E213)*Imperial_Stone_Void_Percentage,((((B213-B214)/12)*Imperial_Module_Square_Foot_Area)-'Cumulative Volumes Imperial'!E213)*Imperial_Stone_Void_Percentage))","v":""},"",{"$f":"IF(B213=\"\",\"\",((Imperial_System_Area_Input-Imperial_Number_Of_Stacks*_xlfn.XLOOKUP(Imperial_Layers,CrateData[Layer],CrateData[Surface Area (sf)]))/12)*Imperial_Stone_Void_Percentage)","v":""},"","",{"$f":"IF(B213=\"\",\"\",SUM(J213:$J$233))","v":""},"",{"$nulls":8},"",null,{"v":-12.625000000000023,"d":"-12.63"},"","",null,"",null,{"$f":"IF($AU$21=\"INVERT\",X213,IF(AC212>=$Y$12,\"\",IF(X212=\"\",\"\",INDEX($X$18:$X$227,$AA$17-ROWS($X$18:$X212)))))","v":""},"","","",{"$nulls":26},{"$f":"IF($AU$21=\"INVERT\",X213,IF(AC212>=$Y$12,\"\",IF(X212=\"\",\"\",INDEX($X$18:$X$227,$AA$17-ROWS($X$18:$X212)))))","v":""},"",{"$f":"IF(AE212=\"\",\"\",\n    IF($AU$21=\"TYP\",\n       IF(Y212=\"\",\"\", INDEX($Y$18:$Y$227, $AA$17-ROWS($Y$18:$Y212))),\n       IF($AU$21=\"INVERT\",Y213, \"\")\n    )\n)","v":""},"",null,{"$f":"IF(BL212>=$Y$12,\"\",IF(X212=\"\",\"\",INDEX($X$18:$X$227,$AA$17-ROWS($X$18:$X212))))","v":""},"",0,null,"",null,null,{"$f":"IF(Y212=\"\",\"\",INDEX($Y$17:$Y$227,$AA$17-ROWS($Y$17:$Y212)))","v":""}]
["","",{"$f":"IF(B214=\"\",\"\",IFERROR(_xlfn.XLOOKUP(B214,ImperialIncrementalData[System Increment],_xlfn.XLOOKUP('Imperial Incremental Crate'!$R$3,ImperialIncrementalData[#Headers],ImperialIncrementalData[]),,1),0))","v":""},"",{"$f":"IF(B214=\"\",\"\",IFERROR(_xlfn.XLOOKUP(B214,ImperialIncrementalData[System Increment],_xlfn.XLOOKUP(Imperial_Incremental_Data_Target_Column,ImperialIncrementalData[#Headers],ImperialIncrementalData[]),,1),0))","v":""},{"$f":"IF(B214=\"\",\"\",IF(B215=\"\",((((1)/12)*Imperial_Module_Square_Foot_Area)-'Cumulative Volumes Imperial'!E214)*Imperial_Stone_Void_Percentage,((((B214-B215)/12)*Imperial_Module_Square_Foot_Area)-'Cumulative Volumes Imperial'!E214)*Imperial_Stone_Void_Percentage))","v":""},"",{"$f":"IF(B214=\"\",\"\",((Imperial_System_Area_Input-Imperial_Number_Of_Stacks*_xlfn.XLOOKUP(Imperial_Layers,CrateData[Layer],CrateData[Surface Area (sf)]))/12)*Imperial_Stone_Void_Percentage)","v":""},"","",{"$f":"IF(B214=\"\",\"\",SUM(J214:$J$233))","v":""},"",{"$nulls":8},"",null,{"v":-12.708333333333357,"d":"-12.71"},"","",null,"",null,{"$f":"IF($AU$21=\"INVERT\",X214,IF(AC213>=$Y$12,\"\",IF(X213=\"\",\"\",INDEX($X$18:$X$227,$AA$17-ROWS($X$18:$X213)))))","v":""},"","","",{"$nulls":26},{"$f":"IF($AU$21=\"INVERT\",X214,IF(AC213>=$Y$12,\"\",IF(X213=\"\",\"\",INDEX($X$18:$X$227,$AA$17-ROWS($X$18:$X213)))))","v":""},"",{"$f":"IF(AE213=\"\",\"\",\n    IF($AU$21=\"TYP\",\n       IF(Y213=\"\",\"\", INDEX($Y$18:$Y$227, $AA$17-ROWS($Y$18:$Y213))),\n       IF($AU$21=\"INVERT\",Y214, \"\")\n    )\n)","v":""},"",null,{"$f":"IF(BL213>=$Y$12,\"\",IF(X213=\"\",\"\",INDEX($X$18:$X$227,$AA$17-ROWS($X$18:$X213))))","v":""},"",0,null,"",null,null,{"$f":"IF(Y213=\"\",\"\",INDEX($Y$17:$Y$227,$AA$17-ROWS($Y$17:$Y213)))","v":""}]
["","",{"$f":"IF(B215=\"\",\"\",IFERROR(_xlfn.XLOOKUP(B215,ImperialIncrementalData[System Increment],_xlfn.XLOOKUP('Imperial Incremental Crate'!$R$3,ImperialIncrementalData[#Headers],ImperialIncrementalData[]),,1),0))","v":""},"",{"$f":"IF(B215=\"\",\"\",IFERROR(_xlfn.XLOOKUP(B215,ImperialIncrementalData[System Increment],_xlfn.XLOOKUP(Imperial_Incremental_Data_Target_Column,ImperialIncrementalData[#Headers],ImperialIncrementalData[]),,1),0))","v":""},{"$f":"IF(B215=\"\",\"\",IF(B216=\"\",((((1)/12)*Imperial_Module_Square_Foot_Area)-'Cumulative Volumes Imperial'!E215)*Imperial_Stone_Void_Percentage,((((B215-B216)/12)*Imperial_Module_Square_Foot_Area)-'Cumulative Volumes Imperial'!E215)*Imperial_Stone_Void_Percentage))","v":""},"",{"$f":"IF(B215=\"\",\"\",((Imperial_System_Area_Input-Imperial_Number_Of_Stacks*_xlfn.XLOOKUP(Imperial_Layers,CrateData[Layer],CrateData[Surface Area (sf)]))/12)*Imperial_Stone_Void_Percentage)","v":""},"","",{"$f":"IF(B215=\"\",\"\",SUM(J215:$J$233))","v":""},"",{"$nulls":8},"",null,{"v":-12.791666666666691,"d":"-12.79"},"","",null,"",null,{"$f":"IF($AU$21=\"INVERT\",X215,IF(AC214>=$Y$12,\"\",IF(X214=\"\",\"\",INDEX($X$18:$X$227,$AA$17-ROWS($X$18:$X214)))))","v":""},"","","",{"$nulls":26},{"$f":"IF($AU$21=\"INVERT\",X215,IF(AC214>=$Y$12,\"\",IF(X214=\"\",\"\",INDEX($X$18:$X$227,$AA$17-ROWS($X$18:$X214)))))","v":""},"",{"$f":"IF(AE214=\"\",\"\",\n    IF($AU$21=\"TYP\",\n       IF(Y214=\"\",\"\", INDEX($Y$18:$Y$227, $AA$17-ROWS($Y$18:$Y214))),\n       IF($AU$21=\"INVERT\",Y215, \"\")\n    )\n)","v":""},"",null,{"$f":"IF(BL214>=$Y$12,\"\",IF(X214=\"\",\"\",INDEX($X$18:$X$227,$AA$17-ROWS($X$18:$X214))))","v":""},"",0,null,"",null,null,{"$f":"IF(Y214=\"\",\"\",INDEX($Y$17:$Y$227,$AA$17-ROWS($Y$17:$Y214)))","v":""}]
["","",{"$f":"IF(B216=\"\",\"\",IFERROR(_xlfn.XLOOKUP(B216,ImperialIncrementalData[System Increment],_xlfn.XLOOKUP('Imperial Incremental Crate'!$R$3,ImperialIncrementalData[#Headers],ImperialIncrementalData[]),,1),0))","v":""},"",{"$f":"IF(B216=\"\",\"\",IFERROR(_xlfn.XLOOKUP(B216,ImperialIncrementalData[System Increment],_xlfn.XLOOKUP(Imperial_Incremental_Data_Target_Column,ImperialIncrementalData[#Headers],ImperialIncrementalData[]),,1),0))","v":""},{"$f":"IF(B216=\"\",\"\",IF(B217=\"\",((((1)/12)*Imperial_Module_Square_Foot_Area)-'Cumulative Volumes Imperial'!E216)*Imperial_Stone_Void_Percentage,((((B216-B217)/12)*Imperial_Module_Square_Foot_Area)-'Cumulative Volumes Imperial'!E216)*Imperial_Stone_Void_Percentage))","v":""},"",{"$f":"IF(B216=\"\",\"\",((Imperial_System_Area_Input-Imperial_Number_Of_Stacks*_xlfn.XLOOKUP(Imperial_Layers,CrateData[Layer],CrateData[Surface Area (sf)]))/12)*Imperial_Stone_Void_Percentage)","v":""},"","",{"$f":"IF(B216=\"\",\"\",SUM(J216:$J$233))","v":""},"",{"$nulls":8},"",null,{"v":-12.875000000000025,"d":"-12.88"},"","",null,"",null,{"$f":"IF($AU$21=\"INVERT\",X216,IF(AC215>=$Y$12,\"\",IF(X215=\"\",\"\",INDEX($X$18:$X$227,$AA$17-ROWS($X$18:$X215)))))","v":""},"","","",{"$nulls":26},{"$f":"IF($AU$21=\"INVERT\",X216,IF(AC215>=$Y$12,\"\",IF(X215=\"\",\"\",INDEX($X$18:$X$227,$AA$17-ROWS($X$18:$X215)))))","v":""},"",{"$f":"IF(AE215=\"\",\"\",\n    IF($AU$21=\"TYP\",\n       IF(Y215=\"\",\"\", INDEX($Y$18:$Y$227, $AA$17-ROWS($Y$18:$Y215))),\n       IF($AU$21=\"INVERT\",Y216, \"\")\n    )\n)","v":""},"",null,{"$f":"IF(BL215>=$Y$12,\"\",IF(X215=\"\",\"\",INDEX($X$18:$X$227,$AA$17-ROWS($X$18:$X215))))","v":""},"",0,null,"",null,null,{"$f":"IF(Y215=\"\",\"\",INDEX($Y$17:$Y$227,$AA$17-ROWS($Y$17:$Y215)))","v":""}]
["","",{"$f":"IF(B217=\"\",\"\",IFERROR(_xlfn.XLOOKUP(B217,ImperialIncrementalData[System Increment],_xlfn.XLOOKUP('Imperial Incremental Crate'!$R$3,ImperialIncrementalData[#Headers],ImperialIncrementalData[]),,1),0))","v":""},"",{"$f":"IF(B217=\"\",\"\",IFERROR(_xlfn.XLOOKUP(B217,ImperialIncrementalData[System Increment],_xlfn.XLOOKUP(Imperial_Incremental_Data_Target_Column,ImperialIncrementalData[#Headers],ImperialIncrementalData[]),,1),0))","v":""},{"$f":"IF(B217=\"\",\"\",IF(B218=\"\",((((1)/12)*Imperial_Module_Square_Foot_Area)-'Cumulative Volumes Imperial'!E217)*Imperial_Stone_Void_Percentage,((((B217-B218)/12)*Imperial_Module_Square_Foot_Area)-'Cumulative Volumes Imperial'!E217)*Imperial_Stone_Void_Percentage))","v":""},"",{"$f":"IF(B217=\"\",\"\",((Imperial_System_Area_Input-Imperial_Number_Of_Stacks*_xlfn.XLOOKUP(Imperial_Layers,CrateData[Layer],CrateData[Surface Area (sf)]))/12)*Imperial_Stone_Void_Percentage)","v":""},"","",{"$f":"IF(B217=\"\",\"\",SUM(J217:$J$233))","v":""},"",{"$nulls":8},"",null,{"v":-12.958333333333359,"d":"-12.96"},"","",null,"",null,{"$f":"IF($AU$21=\"INVERT\",X217,IF(AC216>=$Y$12,\"\",IF(X216=\"\",\"\",INDEX($X$18:$X$227,$AA$17-ROWS($X$18:$X216)))))","v":""},"","","",{"$nulls":26},{"$f":"IF($AU$21=\"INVERT\",X217,IF(AC216>=$Y$12,\"\",IF(X216=\"\",\"\",INDEX($X$18:$X$227,$AA$17-ROWS($X$18:$X216)))))","v":""},"",{"$f":"IF(AE216=\"\",\"\",\n    IF($AU$21=\"TYP\",\n       IF(Y216=\"\",\"\", INDEX($Y$18:$Y$227, $AA$17-ROWS($Y$18:$Y216))),\n       IF($AU$21=\"INVERT\",Y217, \"\")\n    )\n)","v":""},"",null,{"$f":"IF(BL216>=$Y$12,\"\",IF(X216=\"\",\"\",INDEX($X$18:$X$227,$AA$17-ROWS($X$18:$X216))))","v":""},"",0,null,"",null,null,{"$f":"IF(Y216=\"\",\"\",INDEX($Y$17:$Y$227,$AA$17-ROWS($Y$17:$Y216)))","v":""}]
["","",{"$f":"IF(B218=\"\",\"\",IFERROR(_xlfn.XLOOKUP(B218,ImperialIncrementalData[System Increment],_xlfn.XLOOKUP('Imperial Incremental Crate'!$R$3,ImperialIncrementalData[#Headers],ImperialIncrementalData[]),,1),0))","v":""},"",{"$f":"IF(B218=\"\",\"\",IFERROR(_xlfn.XLOOKUP(B218,ImperialIncrementalData[System Increment],_xlfn.XLOOKUP(Imperial_Incremental_Data_Target_Column,ImperialIncrementalData[#Headers],ImperialIncrementalData[]),,1),0))","v":""},{"$f":"IF(B218=\"\",\"\",IF(B219=\"\",((((1)/12)*Imperial_Module_Square_Foot_Area)-'Cumulative Volumes Imperial'!E218)*Imperial_Stone_Void_Percentage,((((B218-B219)/12)*Imperial_Module_Square_Foot_Area)-'Cumulative Volumes Imperial'!E218)*Imperial_Stone_Void_Percentage))","v":""},"",{"$f":"IF(B218=\"\",\"\",((Imperial_System_Area_Input-Imperial_Number_Of_Stacks*_xlfn.XLOOKUP(Imperial_Layers,CrateData[Layer],CrateData[Surface Area (sf)]))/12)*Imperial_Stone_Void_Percentage)","v":""},"","",{"$f":"IF(B218=\"\",\"\",SUM(J218:$J$233))","v":""},"",{"$nulls":8},"",null,{"v":-13.041666666666693,"d":"-13.04"},"","",null,"",null,{"$f":"IF($AU$21=\"INVERT\",X218,IF(AC217>=$Y$12,\"\",IF(X217=\"\",\"\",INDEX($X$18:$X$227,$AA$17-ROWS($X$18:$X217)))))","v":""},"","","",{"$nulls":26},{"$f":"IF($AU$21=\"INVERT\",X218,IF(AC217>=$Y$12,\"\",IF(X217=\"\",\"\",INDEX($X$18:$X$227,$AA$17-ROWS($X$18:$X217)))))","v":""},"",{"$f":"IF(AE217=\"\",\"\",\n    IF($AU$21=\"TYP\",\n       IF(Y217=\"\",\"\", INDEX($Y$18:$Y$227, $AA$17-ROWS($Y$18:$Y217))),\n       IF($AU$21=\"INVERT\",Y218, \"\")\n    )\n)","v":""},"",null,{"$f":"IF(BL217>=$Y$12,\"\",IF(X217=\"\",\"\",INDEX($X$18:$X$227,$AA$17-ROWS($X$18:$X217))))","v":""},"",0,null,"",null,null,{"$f":"IF(Y217=\"\",\"\",INDEX($Y$17:$Y$227,$AA$17-ROWS($Y$17:$Y217)))","v":""}]
["","",{"$f":"IF(B219=\"\",\"\",IFERROR(_xlfn.XLOOKUP(B219,ImperialIncrementalData[System Increment],_xlfn.XLOOKUP('Imperial Incremental Crate'!$R$3,ImperialIncrementalData[#Headers],ImperialIncrementalData[]),,1),0))","v":""},"",{"$f":"IF(B219=\"\",\"\",IFERROR(_xlfn.XLOOKUP(B219,ImperialIncrementalData[System Increment],_xlfn.XLOOKUP(Imperial_Incremental_Data_Target_Column,ImperialIncrementalData[#Headers],ImperialIncrementalData[]),,1),0))","v":""},{"$f":"IF(B219=\"\",\"\",IF(B220=\"\",((((1)/12)*Imperial_Module_Square_Foot_Area)-'Cumulative Volumes Imperial'!E219)*Imperial_Stone_Void_Percentage,((((B219-B220)/12)*Imperial_Module_Square_Foot_Area)-'Cumulative Volumes Imperial'!E219)*Imperial_Stone_Void_Percentage))","v":""},"",{"$f":"IF(B219=\"\",\"\",((Imperial_System_Area_Input-Imperial_Number_Of_Stacks*_xlfn.XLOOKUP(Imperial_Layers,CrateData[Layer],CrateData[Surface Area (sf)]))/12)*Imperial_Stone_Void_Percentage)","v":""},"","",{"$f":"IF(B219=\"\",\"\",SUM(J219:$J$233))","v":""},"",{"$nulls":8},"",null,{"v":-13.125000000000027,"d":"-13.13"},"","",null,"",null,{"$f":"IF($AU$21=\"INVERT\",X219,IF(AC218>=$Y$12,\"\",IF(X218=\"\",\"\",INDEX($X$18:$X$227,$AA$17-ROWS($X$18:$X218)))))","v":""},"","","",{"$nulls":26},{"$f":"IF($AU$21=\"INVERT\",X219,IF(AC218>=$Y$12,\"\",IF(X218=\"\",\"\",INDEX($X$18:$X$227,$AA$17-ROWS($X$18:$X218)))))","v":""},"",{"$f":"IF(AE218=\"\",\"\",\n    IF($AU$21=\"TYP\",\n       IF(Y218=\"\",\"\", INDEX($Y$18:$Y$227, $AA$17-ROWS($Y$18:$Y218))),\n       IF($AU$21=\"INVERT\",Y219, \"\")\n    )\n)","v":""},"",null,{"$f":"IF(BL218>=$Y$12,\"\",IF(X218=\"\",\"\",INDEX($X$18:$X$227,$AA$17-ROWS($X$18:$X218))))","v":""},"",0,null,"",null,null,{"$f":"IF(Y218=\"\",\"\",INDEX($Y$17:$Y$227,$AA$17-ROWS($Y$17:$Y218)))","v":""}]
["","",{"$f":"IF(B220=\"\",\"\",IFERROR(_xlfn.XLOOKUP(B220,ImperialIncrementalData[System Increment],_xlfn.XLOOKUP('Imperial Incremental Crate'!$R$3,ImperialIncrementalData[#Headers],ImperialIncrementalData[]),,1),0))","v":""},"",{"$f":"IF(B220=\"\",\"\",IFERROR(_xlfn.XLOOKUP(B220,ImperialIncrementalData[System Increment],_xlfn.XLOOKUP(Imperial_Incremental_Data_Target_Column,ImperialIncrementalData[#Headers],ImperialIncrementalData[]),,1),0))","v":""},{"$f":"IF(B220=\"\",\"\",IF(B221=\"\",((((1)/12)*Imperial_Module_Square_Foot_Area)-'Cumulative Volumes Imperial'!E220)*Imperial_Stone_Void_Percentage,((((B220-B221)/12)*Imperial_Module_Square_Foot_Area)-'Cumulative Volumes Imperial'!E220)*Imperial_Stone_Void_Percentage))","v":""},"",{"$f":"IF(B220=\"\",\"\",((Imperial_System_Area_Input-Imperial_Number_Of_Stacks*_xlfn.XLOOKUP(Imperial_Layers,CrateData[Layer],CrateData[Surface Area (sf)]))/12)*Imperial_Stone_Void_Percentage)","v":""},"","",{"$f":"IF(B220=\"\",\"\",SUM(J220:$J$233))","v":""},"",{"$nulls":8},"",null,{"v":-13.20833333333336,"d":"-13.21"},"","",null,"",null,{"$f":"IF($AU$21=\"INVERT\",X220,IF(AC219>=$Y$12,\"\",IF(X219=\"\",\"\",INDEX($X$18:$X$227,$AA$17-ROWS($X$18:$X219)))))","v":""},"","","",{"$nulls":26},{"$f":"IF($AU$21=\"INVERT\",X220,IF(AC219>=$Y$12,\"\",IF(X219=\"\",\"\",INDEX($X$18:$X$227,$AA$17-ROWS($X$18:$X219)))))","v":""},"",{"$f":"IF(AE219=\"\",\"\",\n    IF($AU$21=\"TYP\",\n       IF(Y219=\"\",\"\", INDEX($Y$18:$Y$227, $AA$17-ROWS($Y$18:$Y219))),\n       IF($AU$21=\"INVERT\",Y220, \"\")\n    )\n)","v":""},"",null,{"$f":"IF(BL219>=$Y$12,\"\",IF(X219=\"\",\"\",INDEX($X$18:$X$227,$AA$17-ROWS($X$18:$X219))))","v":""},"",0,null,"",null,null,{"$f":"IF(Y219=\"\",\"\",INDEX($Y$17:$Y$227,$AA$17-ROWS($Y$17:$Y219)))","v":""}]
["","",{"$f":"IF(B221=\"\",\"\",IFERROR(_xlfn.XLOOKUP(B221,ImperialIncrementalData[System Increment],_xlfn.XLOOKUP('Imperial Incremental Crate'!$R$3,ImperialIncrementalData[#Headers],ImperialIncrementalData[]),,1),0))","v":""},"",{"$f":"IF(B221=\"\",\"\",IFERROR(_xlfn.XLOOKUP(B221,ImperialIncrementalData[System Increment],_xlfn.XLOOKUP(Imperial_Incremental_Data_Target_Column,ImperialIncrementalData[#Headers],ImperialIncrementalData[]),,1),0))","v":""},{"$f":"IF(B221=\"\",\"\",IF(B222=\"\",((((1)/12)*Imperial_Module_Square_Foot_Area)-'Cumulative Volumes Imperial'!E221)*Imperial_Stone_Void_Percentage,((((B221-B222)/12)*Imperial_Module_Square_Foot_Area)-'Cumulative Volumes Imperial'!E221)*Imperial_Stone_Void_Percentage))","v":""},"",{"$f":"IF(B221=\"\",\"\",((Imperial_System_Area_Input-Imperial_Number_Of_Stacks*_xlfn.XLOOKUP(Imperial_Layers,CrateData[Layer],CrateData[Surface Area (sf)]))/12)*Imperial_Stone_Void_Percentage)","v":""},"","",{"$f":"IF(B221=\"\",\"\",SUM(J221:$J$233))","v":""},"",{"$nulls":8},"",null,{"v":-13.291666666666694,"d":"-13.29"},"","",null,"",null,{"$f":"IF($AU$21=\"INVERT\",X221,IF(AC220>=$Y$12,\"\",IF(X220=\"\",\"\",INDEX($X$18:$X$227,$AA$17-ROWS($X$18:$X220)))))","v":""},"","","",{"$nulls":26},{"$f":"IF($AU$21=\"INVERT\",X221,IF(AC220>=$Y$12,\"\",IF(X220=\"\",\"\",INDEX($X$18:$X$227,$AA$17-ROWS($X$18:$X220)))))","v":""},"",{"$f":"IF(AE220=\"\",\"\",\n    IF($AU$21=\"TYP\",\n       IF(Y220=\"\",\"\", INDEX($Y$18:$Y$227, $AA$17-ROWS($Y$18:$Y220))),\n       IF($AU$21=\"INVERT\",Y221, \"\")\n    )\n)","v":""},"",null,{"$f":"IF(BL220>=$Y$12,\"\",IF(X220=\"\",\"\",INDEX($X$18:$X$227,$AA$17-ROWS($X$18:$X220))))","v":""},"",0,null,"",null,null,{"$f":"IF(Y220=\"\",\"\",INDEX($Y$17:$Y$227,$AA$17-ROWS($Y$17:$Y220)))","v":""}]
["","",{"$f":"IF(B222=\"\",\"\",IFERROR(_xlfn.XLOOKUP(B222,ImperialIncrementalData[System Increment],_xlfn.XLOOKUP('Imperial Incremental Crate'!$R$3,ImperialIncrementalData[#Headers],ImperialIncrementalData[]),,1),0))","v":""},"",{"$f":"IF(B222=\"\",\"\",IFERROR(_xlfn.XLOOKUP(B222,ImperialIncrementalData[System Increment],_xlfn.XLOOKUP(Imperial_Incremental_Data_Target_Column,ImperialIncrementalData[#Headers],ImperialIncrementalData[]),,1),0))","v":""},{"$f":"IF(B222=\"\",\"\",IF(B223=\"\",((((1)/12)*Imperial_Module_Square_Foot_Area)-'Cumulative Volumes Imperial'!E222)*Imperial_Stone_Void_Percentage,((((B222-B223)/12)*Imperial_Module_Square_Foot_Area)-'Cumulative Volumes Imperial'!E222)*Imperial_Stone_Void_Percentage))","v":""},"",{"$f":"IF(B222=\"\",\"\",((Imperial_System_Area_Input-Imperial_Number_Of_Stacks*_xlfn.XLOOKUP(Imperial_Layers,CrateData[Layer],CrateData[Surface Area (sf)]))/12)*Imperial_Stone_Void_Percentage)","v":""},"","",{"$f":"IF(B222=\"\",\"\",SUM(J222:$J$233))","v":""},"",{"$nulls":8},"",null,{"v":-13.375000000000028,"d":"-13.38"},"","",null,"",null,{"$f":"IF($AU$21=\"INVERT\",X222,IF(AC221>=$Y$12,\"\",IF(X221=\"\",\"\",INDEX($X$18:$X$227,$AA$17-ROWS($X$18:$X221)))))","v":""},"","","",{"$nulls":26},{"$f":"IF($AU$21=\"INVERT\",X222,IF(AC221>=$Y$12,\"\",IF(X221=\"\",\"\",INDEX($X$18:$X$227,$AA$17-ROWS($X$18:$X221)))))","v":""},"",{"$f":"IF(AE221=\"\",\"\",\n    IF($AU$21=\"TYP\",\n       IF(Y221=\"\",\"\", INDEX($Y$18:$Y$227, $AA$17-ROWS($Y$18:$Y221))),\n       IF($AU$21=\"INVERT\",Y222, \"\")\n    )\n)","v":""},"",null,{"$f":"IF(BL221>=$Y$12,\"\",IF(X221=\"\",\"\",INDEX($X$18:$X$227,$AA$17-ROWS($X$18:$X221))))","v":""},"",0,null,"",null,null,{"$f":"IF(Y221=\"\",\"\",INDEX($Y$17:$Y$227,$AA$17-ROWS($Y$17:$Y221)))","v":""}]
["","",{"$f":"IF(B223=\"\",\"\",IFERROR(_xlfn.XLOOKUP(B223,ImperialIncrementalData[System Increment],_xlfn.XLOOKUP('Imperial Incremental Crate'!$R$3,ImperialIncrementalData[#Headers],ImperialIncrementalData[]),,1),0))","v":""},"",{"$f":"IF(B223=\"\",\"\",IFERROR(_xlfn.XLOOKUP(B223,ImperialIncrementalData[System Increment],_xlfn.XLOOKUP(Imperial_Incremental_Data_Target_Column,ImperialIncrementalData[#Headers],ImperialIncrementalData[]),,1),0))","v":""},{"$f":"IF(B223=\"\",\"\",IF(B224=\"\",((((1)/12)*Imperial_Module_Square_Foot_Area)-'Cumulative Volumes Imperial'!E223)*Imperial_Stone_Void_Percentage,((((B223-B224)/12)*Imperial_Module_Square_Foot_Area)-'Cumulative Volumes Imperial'!E223)*Imperial_Stone_Void_Percentage))","v":""},"",{"$f":"IF(B223=\"\",\"\",((Imperial_System_Area_Input-Imperial_Number_Of_Stacks*_xlfn.XLOOKUP(Imperial_Layers,CrateData[Layer],CrateData[Surface Area (sf)]))/12)*Imperial_Stone_Void_Percentage)","v":""},"","",{"$f":"IF(B223=\"\",\"\",SUM(J223:$J$233))","v":""},"",{"$nulls":8},"",null,{"v":-13.458333333333362,"d":"-13.46"},"","",null,"",null,{"$f":"IF($AU$21=\"INVERT\",X223,IF(AC222>=$Y$12,\"\",IF(X222=\"\",\"\",INDEX($X$18:$X$227,$AA$17-ROWS($X$18:$X222)))))","v":""},"","","",{"$nulls":26},{"$f":"IF($AU$21=\"INVERT\",X223,IF(AC222>=$Y$12,\"\",IF(X222=\"\",\"\",INDEX($X$18:$X$227,$AA$17-ROWS($X$18:$X222)))))","v":""},"",{"$f":"IF(AE222=\"\",\"\",\n    IF($AU$21=\"TYP\",\n       IF(Y222=\"\",\"\", INDEX($Y$18:$Y$227, $AA$17-ROWS($Y$18:$Y222))),\n       IF($AU$21=\"INVERT\",Y223, \"\")\n    )\n)","v":""},"",null,{"$f":"IF(BL222>=$Y$12,\"\",IF(X222=\"\",\"\",INDEX($X$18:$X$227,$AA$17-ROWS($X$18:$X222))))","v":""},"",0,null,"",null,null,{"$f":"IF(Y222=\"\",\"\",INDEX($Y$17:$Y$227,$AA$17-ROWS($Y$17:$Y222)))","v":""}]
["","",{"$f":"IF(B224=\"\",\"\",IFERROR(_xlfn.XLOOKUP(B224,ImperialIncrementalData[System Increment],_xlfn.XLOOKUP('Imperial Incremental Crate'!$R$3,ImperialIncrementalData[#Headers],ImperialIncrementalData[]),,1),0))","v":""},"",{"$f":"IF(B224=\"\",\"\",IFERROR(_xlfn.XLOOKUP(B224,ImperialIncrementalData[System Increment],_xlfn.XLOOKUP(Imperial_Incremental_Data_Target_Column,ImperialIncrementalData[#Headers],ImperialIncrementalData[]),,1),0))","v":""},{"$f":"IF(B224=\"\",\"\",IF(B225=\"\",((((1)/12)*Imperial_Module_Square_Foot_Area)-'Cumulative Volumes Imperial'!E224)*Imperial_Stone_Void_Percentage,((((B224-B225)/12)*Imperial_Module_Square_Foot_Area)-'Cumulative Volumes Imperial'!E224)*Imperial_Stone_Void_Percentage))","v":""},"",{"$f":"IF(B224=\"\",\"\",((Imperial_System_Area_Input-Imperial_Number_Of_Stacks*_xlfn.XLOOKUP(Imperial_Layers,CrateData[Layer],CrateData[Surface Area (sf)]))/12)*Imperial_Stone_Void_Percentage)","v":""},"","",{"$f":"IF(B224=\"\",\"\",SUM(J224:$J$233))","v":""},"",{"$nulls":8},"",null,{"v":-13.541666666666696,"d":"-13.54"},"","",null,"",null,{"$f":"IF($AU$21=\"INVERT\",X224,IF(AC223>=$Y$12,\"\",IF(X223=\"\",\"\",INDEX($X$18:$X$227,$AA$17-ROWS($X$18:$X223)))))","v":""},"","","",{"$nulls":26},{"$f":"IF($AU$21=\"INVERT\",X224,IF(AC223>=$Y$12,\"\",IF(X223=\"\",\"\",INDEX($X$18:$X$227,$AA$17-ROWS($X$18:$X223)))))","v":""},"",{"$f":"IF(AE223=\"\",\"\",\n    IF($AU$21=\"TYP\",\n       IF(Y223=\"\",\"\", INDEX($Y$18:$Y$227, $AA$17-ROWS($Y$18:$Y223))),\n       IF($AU$21=\"INVERT\",Y224, \"\")\n    )\n)","v":""},"",null,{"$f":"IF(BL223>=$Y$12,\"\",IF(X223=\"\",\"\",INDEX($X$18:$X$227,$AA$17-ROWS($X$18:$X223))))","v":""},"",0,null,"",null,null,{"$f":"IF(Y223=\"\",\"\",INDEX($Y$17:$Y$227,$AA$17-ROWS($Y$17:$Y223)))","v":""}]
["","",{"$f":"IF(B225=\"\",\"\",IFERROR(_xlfn.XLOOKUP(B225,ImperialIncrementalData[System Increment],_xlfn.XLOOKUP('Imperial Incremental Crate'!$R$3,ImperialIncrementalData[#Headers],ImperialIncrementalData[]),,1),0))","v":""},"",{"$f":"IF(B225=\"\",\"\",IFERROR(_xlfn.XLOOKUP(B225,ImperialIncrementalData[System Increment],_xlfn.XLOOKUP(Imperial_Incremental_Data_Target_Column,ImperialIncrementalData[#Headers],ImperialIncrementalData[]),,1),0))","v":""},{"$f":"IF(B225=\"\",\"\",IF(B226=\"\",((((1)/12)*Imperial_Module_Square_Foot_Area)-'Cumulative Volumes Imperial'!E225)*Imperial_Stone_Void_Percentage,((((B225-B226)/12)*Imperial_Module_Square_Foot_Area)-'Cumulative Volumes Imperial'!E225)*Imperial_Stone_Void_Percentage))","v":""},"",{"$f":"IF(B225=\"\",\"\",((Imperial_System_Area_Input-Imperial_Number_Of_Stacks*_xlfn.XLOOKUP(Imperial_Layers,CrateData[Layer],CrateData[Surface Area (sf)]))/12)*Imperial_Stone_Void_Percentage)","v":""},"","",{"$f":"IF(B225=\"\",\"\",SUM(J225:$J$233))","v":""},"",{"$nulls":8},"",null,{"v":-13.62500000000003,"d":"-13.63"},"","",null,"",null,{"$f":"IF($AU$21=\"INVERT\",X225,IF(AC224>=$Y$12,\"\",IF(X224=\"\",\"\",INDEX($X$18:$X$227,$AA$17-ROWS($X$18:$X224)))))","v":""},"","","",{"$nulls":26},{"$f":"IF($AU$21=\"INVERT\",X225,IF(AC224>=$Y$12,\"\",IF(X224=\"\",\"\",INDEX($X$18:$X$227,$AA$17-ROWS($X$18:$X224)))))","v":""},"",{"$f":"IF(AE224=\"\",\"\",\n    IF($AU$21=\"TYP\",\n       IF(Y224=\"\",\"\", INDEX($Y$18:$Y$227, $AA$17-ROWS($Y$18:$Y224))),\n       IF($AU$21=\"INVERT\",Y225, \"\")\n    )\n)","v":""},"",null,{"$f":"IF(BL224>=$Y$12,\"\",IF(X224=\"\",\"\",INDEX($X$18:$X$227,$AA$17-ROWS($X$18:$X224))))","v":""},"",0,null,"",null,null,{"$f":"IF(Y224=\"\",\"\",INDEX($Y$17:$Y$227,$AA$17-ROWS($Y$17:$Y224)))","v":""}]
["","",{"$f":"IF(B226=\"\",\"\",IFERROR(_xlfn.XLOOKUP(B226,ImperialIncrementalData[System Increment],_xlfn.XLOOKUP('Imperial Incremental Crate'!$R$3,ImperialIncrementalData[#Headers],ImperialIncrementalData[]),,1),0))","v":""},"",{"$f":"IF(B226=\"\",\"\",IFERROR(_xlfn.XLOOKUP(B226,ImperialIncrementalData[System Increment],_xlfn.XLOOKUP(Imperial_Incremental_Data_Target_Column,ImperialIncrementalData[#Headers],ImperialIncrementalData[]),,1),0))","v":""},{"$f":"IF(B226=\"\",\"\",IF(B227=\"\",((((1)/12)*Imperial_Module_Square_Foot_Area)-'Cumulative Volumes Imperial'!E226)*Imperial_Stone_Void_Percentage,((((B226-B227)/12)*Imperial_Module_Square_Foot_Area)-'Cumulative Volumes Imperial'!E226)*Imperial_Stone_Void_Percentage))","v":""},"",{"$f":"IF(B226=\"\",\"\",((Imperial_System_Area_Input-Imperial_Number_Of_Stacks*_xlfn.XLOOKUP(Imperial_Layers,CrateData[Layer],CrateData[Surface Area (sf)]))/12)*Imperial_Stone_Void_Percentage)","v":""},"","",{"$f":"IF(B226=\"\",\"\",SUM(J226:$J$233))","v":""},"",{"$nulls":8},"",null,{"v":-13.708333333333364,"d":"-13.71"},"","",null,"",null,{"$f":"IF($AU$21=\"INVERT\",X226,IF(AC225>=$Y$12,\"\",IF(X225=\"\",\"\",INDEX($X$18:$X$227,$AA$17-ROWS($X$18:$X225)))))","v":""},"","","",{"$nulls":26},{"$f":"IF($AU$21=\"INVERT\",X226,IF(AC225>=$Y$12,\"\",IF(X225=\"\",\"\",INDEX($X$18:$X$227,$AA$17-ROWS($X$18:$X225)))))","v":""},"",{"$f":"IF(AE225=\"\",\"\",\n    IF($AU$21=\"TYP\",\n       IF(Y225=\"\",\"\", INDEX($Y$18:$Y$227, $AA$17-ROWS($Y$18:$Y225))),\n       IF($AU$21=\"INVERT\",Y226, \"\")\n    )\n)","v":""},"",null,{"$f":"IF(BL225>=$Y$12,\"\",IF(X225=\"\",\"\",INDEX($X$18:$X$227,$AA$17-ROWS($X$18:$X225))))","v":""},"",0,null,"",null,null,{"$f":"IF(Y225=\"\",\"\",INDEX($Y$17:$Y$227,$AA$17-ROWS($Y$17:$Y225)))","v":""}]
["","",{"$f":"IF(B227=\"\",\"\",IFERROR(_xlfn.XLOOKUP(B227,ImperialIncrementalData[System Increment],_xlfn.XLOOKUP('Imperial Incremental Crate'!$R$3,ImperialIncrementalData[#Headers],ImperialIncrementalData[]),,1),0))","v":""},"",{"$f":"IF(B227=\"\",\"\",IFERROR(_xlfn.XLOOKUP(B227,ImperialIncrementalData[System Increment],_xlfn.XLOOKUP(Imperial_Incremental_Data_Target_Column,ImperialIncrementalData[#Headers],ImperialIncrementalData[]),,1),0))","v":""},{"$f":"IF(B227=\"\",\"\",IF(B228=\"\",((((1)/12)*Imperial_Module_Square_Foot_Area)-'Cumulative Volumes Imperial'!E227)*Imperial_Stone_Void_Percentage,((((B227-B228)/12)*Imperial_Module_Square_Foot_Area)-'Cumulative Volumes Imperial'!E227)*Imperial_Stone_Void_Percentage))","v":""},"",{"$f":"IF(B227=\"\",\"\",((Imperial_System_Area_Input-Imperial_Number_Of_Stacks*_xlfn.XLOOKUP(Imperial_Layers,CrateData[Layer],CrateData[Surface Area (sf)]))/12)*Imperial_Stone_Void_Percentage)","v":""},"","",{"$f":"IF(B227=\"\",\"\",SUM(J227:$J$233))","v":""},"",{"$nulls":8},"",null,{"v":-13.791666666666698,"d":"-13.79"},"","",null,"",null,{"$f":"IF($AU$21=\"INVERT\",X227,IF(AC226>=$Y$12,\"\",IF(X226=\"\",\"\",INDEX($X$18:$X$227,$AA$17-ROWS($X$18:$X226)))))","v":""},"","","",{"$nulls":26},{"$f":"IF($AU$21=\"INVERT\",X227,IF(AC226>=$Y$12,\"\",IF(X226=\"\",\"\",INDEX($X$18:$X$227,$AA$17-ROWS($X$18:$X226)))))","v":""},"",{"$f":"IF(AE226=\"\",\"\",\n    IF($AU$21=\"TYP\",\n       IF(Y226=\"\",\"\", INDEX($Y$18:$Y$227, $AA$17-ROWS($Y$18:$Y226))),\n       IF($AU$21=\"INVERT\",Y227, \"\")\n    )\n)","v":""},"",null,{"$f":"IF(BL226>=$Y$12,\"\",IF(X226=\"\",\"\",INDEX($X$18:$X$227,$AA$17-ROWS($X$18:$X226))))","v":""},"",0,null,"",null,null,{"$f":"IF(Y226=\"\",\"\",INDEX($Y$17:$Y$227,$AA$17-ROWS($Y$17:$Y226)))","v":""}]
["","",{"$f":"IF(B228=\"\",\"\",IFERROR(_xlfn.XLOOKUP(B228,ImperialIncrementalData[System Increment],_xlfn.XLOOKUP('Imperial Incremental Crate'!$R$3,ImperialIncrementalData[#Headers],ImperialIncrementalData[]),,1),0))","v":""},"",{"$f":"IF(B228=\"\",\"\",IFERROR(_xlfn.XLOOKUP(B228,ImperialIncrementalData[System Increment],_xlfn.XLOOKUP(Imperial_Incremental_Data_Target_Column,ImperialIncrementalData[#Headers],ImperialIncrementalData[]),,1),0))","v":""},{"$f":"IF(B228=\"\",\"\",IF(B229=\"\",((((1)/12)*Imperial_Module_Square_Foot_Area)-'Cumulative Volumes Imperial'!E228)*Imperial_Stone_Void_Percentage,((((B228-B229)/12)*Imperial_Module_Square_Foot_Area)-'Cumulative Volumes Imperial'!E228)*Imperial_Stone_Void_Percentage))","v":""},"",{"$f":"IF(B228=\"\",\"\",((Imperial_System_Area_Input-Imperial_Number_Of_Stacks*_xlfn.XLOOKUP(Imperial_Layers,CrateData[Layer],CrateData[Surface Area (sf)]))/12)*Imperial_Stone_Void_Percentage)","v":""},"","",{"$f":"IF(B228=\"\",\"\",SUM(J228:$J$233))","v":""},"",{"$nulls":46},{"$f":"IF($AU$21=\"INVERT\",X228,IF(AC227>=$Y$12,\"\",IF(X227=\"\",\"\",INDEX($X$18:$X$227,$AA$17-ROWS($X$18:$X227)))))","v":""},null,null,{"$f":"IF(AE228=\"\",\"\",AE228/43560)","v":""},null,{"$f":"IF(BL227>=$Y$12,\"\",IF(X227=\"\",\"\",INDEX($X$18:$X$227,$AA$17-ROWS($X$18:$X227))))","v":""},"",0,null,"",null,null,{"$f":"IF(Y227=\"\",\"\",INDEX($Y$17:$Y$227,$AA$17-ROWS($Y$17:$Y227)))","v":""}]
["","",{"$f":"IF(B229=\"\",\"\",IFERROR(_xlfn.XLOOKUP(B229,ImperialIncrementalData[System Increment],_xlfn.XLOOKUP('Imperial Incremental Crate'!$R$3,ImperialIncrementalData[#Headers],ImperialIncrementalData[]),,1),0))","v":""},"",{"$f":"IF(B229=\"\",\"\",IFERROR(_xlfn.XLOOKUP(B229,ImperialIncrementalData[System Increment],_xlfn.XLOOKUP(Imperial_Incremental_Data_Target_Column,ImperialIncrementalData[#Headers],ImperialIncrementalData[]),,1),0))","v":""},{"$f":"IF(B229=\"\",\"\",IF(B230=\"\",((((1)/12)*Imperial_Module_Square_Foot_Area)-'Cumulative Volumes Imperial'!E229)*Imperial_Stone_Void_Percentage,((((B229-B230)/12)*Imperial_Module_Square_Foot_Area)-'Cumulative Volumes Imperial'!E229)*Imperial_Stone_Void_Percentage))","v":""},"",{"$f":"IF(B229=\"\",\"\",((Imperial_System_Area_Input-Imperial_Number_Of_Stacks*_xlfn.XLOOKUP(Imperial_Layers,CrateData[Layer],CrateData[Surface Area (sf)]))/12)*Imperial_Stone_Void_Percentage)","v":""},"","",{"$f":"IF(B229=\"\",\"\",SUM(J229:$J$233))","v":""},"",{"$nulls":46},{"$f":"IF($AU$21=\"INVERT\",X229,IF(AC228>=$Y$12,\"\",IF(X228=\"\",\"\",INDEX($X$18:$X$227,$AA$17-ROWS($X$18:$X228)))))","v":""},null,null,"",null,{"$f":"IF(BL228>=$Y$12,\"\",IF(X228=\"\",\"\",INDEX($X$18:$X$227,$AA$17-ROWS($X$18:$X228))))","v":""},"",0,null,"",null,null,{"$f":"IF(Y228=\"\",\"\",INDEX($Y$17:$Y$227,$AA$17-ROWS($Y$17:$Y228)))","v":""}]
["","",{"$f":"IF(B230=\"\",\"\",IFERROR(_xlfn.XLOOKUP(B230,ImperialIncrementalData[System Increment],_xlfn.XLOOKUP('Imperial Incremental Crate'!$R$3,ImperialIncrementalData[#Headers],ImperialIncrementalData[]),,1),0))","v":""},"",{"$f":"IF(B230=\"\",\"\",IFERROR(_xlfn.XLOOKUP(B230,ImperialIncrementalData[System Increment],_xlfn.XLOOKUP(Imperial_Incremental_Data_Target_Column,ImperialIncrementalData[#Headers],ImperialIncrementalData[]),,1),0))","v":""},{"$f":"IF(B230=\"\",\"\",IF(B231=\"\",((((1)/12)*Imperial_Module_Square_Foot_Area)-'Cumulative Volumes Imperial'!E230)*Imperial_Stone_Void_Percentage,((((B230-B231)/12)*Imperial_Module_Square_Foot_Area)-'Cumulative Volumes Imperial'!E230)*Imperial_Stone_Void_Percentage))","v":""},"",{"$f":"IF(B230=\"\",\"\",((Imperial_System_Area_Input-Imperial_Number_Of_Stacks*_xlfn.XLOOKUP(Imperial_Layers,CrateData[Layer],CrateData[Surface Area (sf)]))/12)*Imperial_Stone_Void_Percentage)","v":""},"","",{"$f":"IF(B230=\"\",\"\",SUM(J230:$J$233))","v":""},"",{"$nulls":46},{"$f":"IF($AU$21=\"INVERT\",X230,IF(AC229>=$Y$12,\"\",IF(X229=\"\",\"\",INDEX($X$18:$X$227,$AA$17-ROWS($X$18:$X229)))))","v":""},null,null,"",null,{"$f":"IF(BL229>=$Y$12,\"\",IF(X229=\"\",\"\",INDEX($X$18:$X$227,$AA$17-ROWS($X$18:$X229))))","v":""},"",0,null,"",null,null,{"$f":"IF(Y229=\"\",\"\",INDEX($Y$17:$Y$227,$AA$17-ROWS($Y$17:$Y229)))","v":""}]
["","",{"$f":"IF(B231=\"\",\"\",IFERROR(_xlfn.XLOOKUP(B231,ImperialIncrementalData[System Increment],_xlfn.XLOOKUP('Imperial Incremental Crate'!$R$3,ImperialIncrementalData[#Headers],ImperialIncrementalData[]),,1),0))","v":""},"",{"$f":"IF(B231=\"\",\"\",IFERROR(_xlfn.XLOOKUP(B231,ImperialIncrementalData[System Increment],_xlfn.XLOOKUP(Imperial_Incremental_Data_Target_Column,ImperialIncrementalData[#Headers],ImperialIncrementalData[]),,1),0))","v":""},{"$f":"IF(B231=\"\",\"\",IF(B232=\"\",((((1)/12)*Imperial_Module_Square_Foot_Area)-'Cumulative Volumes Imperial'!E231)*Imperial_Stone_Void_Percentage,((((B231-B232)/12)*Imperial_Module_Square_Foot_Area)-'Cumulative Volumes Imperial'!E231)*Imperial_Stone_Void_Percentage))","v":""},"",{"$f":"IF(B231=\"\",\"\",((Imperial_System_Area_Input-Imperial_Number_Of_Stacks*_xlfn.XLOOKUP(Imperial_Layers,CrateData[Layer],CrateData[Surface Area (sf)]))/12)*Imperial_Stone_Void_Percentage)","v":""},"","",{"$f":"IF(B231=\"\",\"\",SUM(J231:$J$233))","v":""},"",{"$nulls":46},{"$f":"IF($AU$21=\"INVERT\",X231,IF(AC230>=$Y$12,\"\",IF(X230=\"\",\"\",INDEX($X$18:$X$227,$AA$17-ROWS($X$18:$X230)))))","v":""},null,null,"",null,{"$f":"IF(BL230>=$Y$12,\"\",IF(X230=\"\",\"\",INDEX($X$18:$X$227,$AA$17-ROWS($X$18:$X230))))","v":""},"",0,null,"",null,null,{"$f":"IF(Y230=\"\",\"\",INDEX($Y$17:$Y$227,$AA$17-ROWS($Y$17:$Y230)))","v":""}]
[null,"",{"$f":"IF(B232=\"\",\"\",IFERROR(_xlfn.XLOOKUP(B232,ImperialIncrementalData[System Increment],_xlfn.XLOOKUP('Imperial Incremental Crate'!$R$3,ImperialIncrementalData[#Headers],ImperialIncrementalData[]),,1),0))","v":""},"",{"$f":"IF(B232=\"\",\"\",IFERROR(_xlfn.XLOOKUP(B232,ImperialIncrementalData[System Increment],_xlfn.XLOOKUP(Imperial_Incremental_Data_Target_Column,ImperialIncrementalData[#Headers],ImperialIncrementalData[]),,1),0))","v":""},{"$f":"IF(B232=\"\",\"\",IF(B233=\"\",((((1)/12)*Imperial_Module_Square_Foot_Area)-'Cumulative Volumes Imperial'!E232)*Imperial_Stone_Void_Percentage,((((B232-B233)/12)*Imperial_Module_Square_Foot_Area)-'Cumulative Volumes Imperial'!E232)*Imperial_Stone_Void_Percentage))","v":""},"",{"$f":"IF(B232=\"\",\"\",((Imperial_System_Area_Input-Imperial_Number_Of_Stacks*_xlfn.XLOOKUP(Imperial_Layers,CrateData[Layer],CrateData[Surface Area (sf)]))/12)*Imperial_Stone_Void_Percentage)","v":""},"","",{"$f":"IF(B232=\"\",\"\",SUM(J232:$J$233))","v":""},"",{"$nulls":46},{"$f":"IF($AU$21=\"INVERT\",X232,IF(AC231>=$Y$12,\"\",IF(X231=\"\",\"\",INDEX($X$18:$X$227,$AA$17-ROWS($X$18:$X231)))))","v":""},null,null,"",null,{"$f":"IF(BL231>=$Y$12,\"\",IF(X231=\"\",\"\",INDEX($X$18:$X$227,$AA$17-ROWS($X$18:$X231))))","v":""},"",0,null,"",null,null,{"$f":"IF(Y231=\"\",\"\",INDEX($Y$17:$Y$227,$AA$17-ROWS($Y$17:$Y231)))","v":""}]
[null,"",{"$f":"IF(B233=\"\",\"\",IFERROR(_xlfn.XLOOKUP(B233,ImperialIncrementalData[System Increment],_xlfn.XLOOKUP('Imperial Incremental Crate'!$R$3,ImperialIncrementalData[#Headers],ImperialIncrementalData[]),,1),0))","v":""},"",{"$f":"IF(B233=\"\",\"\",IFERROR(_xlfn.XLOOKUP(B233,ImperialIncrementalData[System Increment],_xlfn.XLOOKUP(Imperial_Incremental_Data_Target_Column,ImperialIncrementalData[#Headers],ImperialIncrementalData[]),,1),0))","v":""},{"$f":"IF(B233=\"\",\"\",IF(#REF!=\"\",((((1)/12)*Imperial_Module_Square_Foot_Area)-'Cumulative Volumes Imperial'!E233)*Imperial_Stone_Void_Percentage,((((B233-#REF!)/12)*Imperial_Module_Square_Foot_Area)-'Cumulative Volumes Imperial'!E233)*Imperial_Stone_Void_Percentage))","v":""},"",{"$f":"IF(B233=\"\",\"\",((Imperial_System_Area_Input-Imperial_Number_Of_Stacks*_xlfn.XLOOKUP(Imperial_Layers,CrateData[Layer],CrateData[Surface Area (sf)]))/12)*Imperial_Stone_Void_Percentage)","v":""},"","",{"$f":"IF(B233=\"\",\"\",SUM(J233:$J$233))","v":""},"",{"$nulls":46},{"$f":"IF($AU$21=\"INVERT\",X233,IF(AC232>=$Y$12,\"\",IF(X232=\"\",\"\",INDEX($X$18:$X$227,$AA$17-ROWS($X$18:$X232)))))","v":""},null,null,"",null,{"$f":"IF(BL232>=$Y$12,\"\",IF(X232=\"\",\"\",INDEX($X$18:$X$227,$AA$17-ROWS($X$18:$X232))))","v":""},"",0,null,"",null,null,{"$f":"IF(Y232=\"\",\"\",INDEX($Y$17:$Y$227,$AA$17-ROWS($Y$17:$Y232)))","v":""}]
[{"$nulls":58},{"$f":"IF($AU$21=\"INVERT\",X234,IF(AC233>=$Y$12,\"\",IF(X233=\"\",\"\",INDEX($X$18:$X$227,$AA$17-ROWS($X$18:$X233)))))","v":""},null,null,"",null,{"$f":"IF(BL233>=$Y$12,\"\",IF(X233=\"\",\"\",INDEX($X$18:$X$227,$AA$17-ROWS($X$18:$X233))))","v":""},"",0,null,"",null,null,{"$f":"IF(Y233=\"\",\"\",INDEX($Y$17:$Y$227,$AA$17-ROWS($Y$17:$Y233)))","v":""}]
[{"$nulls":58},{"$f":"IF($AU$21=\"INVERT\",X235,IF(AC234>=$Y$12,\"\",IF(X234=\"\",\"\",INDEX($X$18:$X$227,$AA$17-ROWS($X$18:$X234)))))","v":""},null,null,"",null,{"$f":"IF(BL234>=$Y$12,\"\",IF(X234=\"\",\"\",INDEX($X$18:$X$227,$AA$17-ROWS($X$18:$X234))))","v":""},"",0,null,"",null,null,{"$f":"IF(Y234=\"\",\"\",INDEX($Y$17:$Y$227,$AA$17-ROWS($Y$17:$Y234)))","v":""}]
[{"$nulls":58},{"$f":"IF($AU$21=\"INVERT\",X236,IF(AC235>=$Y$12,\"\",IF(X235=\"\",\"\",INDEX($X$18:$X$227,$AA$17-ROWS($X$18:$X235)))))","v":""},null,null,"",null,{"$f":"IF(BL235>=$Y$12,\"\",IF(X235=\"\",\"\",INDEX($X$18:$X$227,$AA$17-ROWS($X$18:$X235))))","v":""},"",0,null,"",null,null,{"$f":"IF(Y235=\"\",\"\",INDEX($Y$17:$Y$227,$AA$17-ROWS($Y$17:$Y235)))","v":""}]
[{"$nulls":58},{"$f":"IF($AU$21=\"INVERT\",X237,IF(AC236>=$Y$12,\"\",IF(X236=\"\",\"\",INDEX($X$18:$X$227,$AA$17-ROWS($X$18:$X236)))))","v":""},null,null,"",null,{"$f":"IF(BL236>=$Y$12,\"\",IF(X236=\"\",\"\",INDEX($X$18:$X$227,$AA$17-ROWS($X$18:$X236))))","v":""},"",0,null,"",null,null,{"$f":"IF(Y236=\"\",\"\",INDEX($Y$17:$Y$227,$AA$17-ROWS($Y$17:$Y236)))","v":""}]
[{"$nulls":58},{"$f":"IF($AU$21=\"INVERT\",X238,IF(AC237>=$Y$12,\"\",IF(X237=\"\",\"\",INDEX($X$18:$X$227,$AA$17-ROWS($X$18:$X237)))))","v":""},null,null,"",null,{"$f":"IF(BL237>=$Y$12,\"\",IF(X237=\"\",\"\",INDEX($X$18:$X$227,$AA$17-ROWS($X$18:$X237))))","v":""},"",0,null,"",null,null,{"$f":"IF(Y237=\"\",\"\",INDEX($Y$17:$Y$227,$AA$17-ROWS($Y$17:$Y237)))","v":""}]
[{"$nulls":58},{"$f":"IF($AU$21=\"INVERT\",X239,IF(AC238>=$Y$12,\"\",IF(X238=\"\",\"\",INDEX($X$18:$X$227,$AA$17-ROWS($X$18:$X238)))))","v":""},null,null,"",null,{"$f":"IF(BL238>=$Y$12,\"\",IF(X238=\"\",\"\",INDEX($X$18:$X$227,$AA$17-ROWS($X$18:$X238))))","v":""},"",0,null,"",null,null,{"$f":"IF(Y238=\"\",\"\",INDEX($Y$17:$Y$227,$AA$17-ROWS($Y$17:$Y238)))","v":""}]
[{"$nulls":58},{"$f":"IF($AU$21=\"INVERT\",X240,IF(AC239>=$Y$12,\"\",IF(X239=\"\",\"\",INDEX($X$18:$X$227,$AA$17-ROWS($X$18:$X239)))))","v":""},null,null,"",null,{"$f":"IF(BL239>=$Y$12,\"\",IF(X239=\"\",\"\",INDEX($X$18:$X$227,$AA$17-ROWS($X$18:$X239))))","v":""},"",0,null,"",null,null,{"$f":"IF(Y239=\"\",\"\",INDEX($Y$17:$Y$227,$AA$17-ROWS($Y$17:$Y239)))","v":""}]
[{"$nulls":58},{"$f":"IF($AU$21=\"INVERT\",X241,IF(AC240>=$Y$12,\"\",IF(X240=\"\",\"\",INDEX($X$18:$X$227,$AA$17-ROWS($X$18:$X240)))))","v":""},null,null,"",null,{"$f":"IF(BL240>=$Y$12,\"\",IF(X240=\"\",\"\",INDEX($X$18:$X$227,$AA$17-ROWS($X$18:$X240))))","v":""},"",0,null,"",null,null,{"$f":"IF(Y240=\"\",\"\",INDEX($Y$17:$Y$227,$AA$17-ROWS($Y$17:$Y240)))","v":""}]
[{"$nulls":58},{"$f":"IF($AU$21=\"INVERT\",X242,IF(AC241>=$Y$12,\"\",IF(X241=\"\",\"\",INDEX($X$18:$X$227,$AA$17-ROWS($X$18:$X241)))))","v":""},null,null,"",null,{"$f":"IF(BL241>=$Y$12,\"\",IF(X241=\"\",\"\",INDEX($X$18:$X$227,$AA$17-ROWS($X$18:$X241))))","v":""},"",0,null,"",null,null,{"$f":"IF(Y241=\"\",\"\",INDEX($Y$17:$Y$227,$AA$17-ROWS($Y$17:$Y241)))","v":""}]
[{"$nulls":58},{"$f":"IF($AU$21=\"INVERT\",X243,IF(AC242>=$Y$12,\"\",IF(X242=\"\",\"\",INDEX($X$18:$X$227,$AA$17-ROWS($X$18:$X242)))))","v":""},null,null,"",null,{"$f":"IF(BL242>=$Y$12,\"\",IF(X242=\"\",\"\",INDEX($X$18:$X$227,$AA$17-ROWS($X$18:$X242))))","v":""},"",0,null,"",null,null,{"$f":"IF(Y242=\"\",\"\",INDEX($Y$17:$Y$227,$AA$17-ROWS($Y$17:$Y242)))","v":""}]
[{"$nulls":58},{"$f":"IF($AU$21=\"INVERT\",X244,IF(AC243>=$Y$12,\"\",IF(X243=\"\",\"\",INDEX($X$18:$X$227,$AA$17-ROWS($X$18:$X243)))))","v":""},null,null,"",null,{"$f":"IF(BL243>=$Y$12,\"\",IF(X243=\"\",\"\",INDEX($X$18:$X$227,$AA$17-ROWS($X$18:$X243))))","v":""},"",0,null,"",null,null,{"$f":"IF(Y243=\"\",\"\",INDEX($Y$17:$Y$227,$AA$17-ROWS($Y$17:$Y243)))","v":""}]
[{"$nulls":58},{"$f":"IF($AU$21=\"INVERT\",X245,IF(AC244>=$Y$12,\"\",IF(X244=\"\",\"\",INDEX($X$18:$X$227,$AA$17-ROWS($X$18:$X244)))))","v":""},null,null,"",null,{"$f":"IF(BL244>=$Y$12,\"\",IF(X244=\"\",\"\",INDEX($X$18:$X$227,$AA$17-ROWS($X$18:$X244))))","v":""},"",0,null,"",null,null,{"$f":"IF(Y244=\"\",\"\",INDEX($Y$17:$Y$227,$AA$17-ROWS($Y$17:$Y244)))","v":""}]
[{"$nulls":58},{"$f":"IF($AU$21=\"INVERT\",X246,IF(AC245>=$Y$12,\"\",IF(X245=\"\",\"\",INDEX($X$18:$X$227,$AA$17-ROWS($X$18:$X245)))))","v":""},null,null,"",null,{"$f":"IF(BL245>=$Y$12,\"\",IF(X245=\"\",\"\",INDEX($X$18:$X$227,$AA$17-ROWS($X$18:$X245))))","v":""},"",0,null,"",null,null,{"$f":"IF(Y245=\"\",\"\",INDEX($Y$17:$Y$227,$AA$17-ROWS($Y$17:$Y245)))","v":""}]
[{"$nulls":58},{"$f":"IF($AU$21=\"INVERT\",X247,IF(AC246>=$Y$12,\"\",IF(X246=\"\",\"\",INDEX($X$18:$X$227,$AA$17-ROWS($X$18:$X246)))))","v":""},null,null,"",null,{"$f":"IF(BL246>=$Y$12,\"\",IF(X246=\"\",\"\",INDEX($X$18:$X$227,$AA$17-ROWS($X$18:$X246))))","v":""},"",0,null,"",null,null,{"$f":"IF(Y246=\"\",\"\",INDEX($Y$17:$Y$227,$AA$17-ROWS($Y$17:$Y246)))","v":""}]
[{"$nulls":58},{"$f":"IF($AU$21=\"INVERT\",X248,IF(AC247>=$Y$12,\"\",IF(X247=\"\",\"\",INDEX($X$18:$X$227,$AA$17-ROWS($X$18:$X247)))))","v":""},null,null,"",null,{"$f":"IF(BL247>=$Y$12,\"\",IF(X247=\"\",\"\",INDEX($X$18:$X$227,$AA$17-ROWS($X$18:$X247))))","v":""},"",0,null,"",null,null,{"$f":"IF(Y247=\"\",\"\",INDEX($Y$17:$Y$227,$AA$17-ROWS($Y$17:$Y247)))","v":""}]
[{"$nulls":58},{"$f":"IF($AU$21=\"INVERT\",X249,IF(AC248>=$Y$12,\"\",IF(X248=\"\",\"\",INDEX($X$18:$X$227,$AA$17-ROWS($X$18:$X248)))))","v":""},null,null,"",null,{"$f":"IF(BL248>=$Y$12,\"\",IF(X248=\"\",\"\",INDEX($X$18:$X$227,$AA$17-ROWS($X$18:$X248))))","v":""},"",0,null,"",null,null,{"$f":"IF(Y248=\"\",\"\",INDEX($Y$17:$Y$227,$AA$17-ROWS($Y$17:$Y248)))","v":""}]
[{"$nulls":58},{"$f":"IF($AU$21=\"INVERT\",X250,IF(AC249>=$Y$12,\"\",IF(X249=\"\",\"\",INDEX($X$18:$X$227,$AA$17-ROWS($X$18:$X249)))))","v":""},null,null,"",null,{"$f":"IF(BL249>=$Y$12,\"\",IF(X249=\"\",\"\",INDEX($X$18:$X$227,$AA$17-ROWS($X$18:$X249))))","v":""},"",0,null,"",null,null,{"$f":"IF(Y249=\"\",\"\",INDEX($Y$17:$Y$227,$AA$17-ROWS($Y$17:$Y249)))","v":""}]
[{"$nulls":58},{"$f":"IF($AU$21=\"INVERT\",X251,IF(AC250>=$Y$12,\"\",IF(X250=\"\",\"\",INDEX($X$18:$X$227,$AA$17-ROWS($X$18:$X250)))))","v":""},null,null,"",null,{"$f":"IF(BL250>=$Y$12,\"\",IF(X250=\"\",\"\",INDEX($X$18:$X$227,$AA$17-ROWS($X$18:$X250))))","v":""},"",0,null,"",null,null,{"$f":"IF(Y250=\"\",\"\",INDEX($Y$17:$Y$227,$AA$17-ROWS($Y$17:$Y250)))","v":""}]
[{"$nulls":58},{"$f":"IF($AU$21=\"INVERT\",X252,IF(AC251>=$Y$12,\"\",IF(X251=\"\",\"\",INDEX($X$18:$X$227,$AA$17-ROWS($X$18:$X251)))))","v":""},null,null,"",null,{"$f":"IF(BL251>=$Y$12,\"\",IF(X251=\"\",\"\",INDEX($X$18:$X$227,$AA$17-ROWS($X$18:$X251))))","v":""},"",0,null,"",null,null,{"$f":"IF(Y251=\"\",\"\",INDEX($Y$17:$Y$227,$AA$17-ROWS($Y$17:$Y251)))","v":""}]
[{"$nulls":58},{"$f":"IF($AU$21=\"INVERT\",X253,IF(AC252>=$Y$12,\"\",IF(X252=\"\",\"\",INDEX($X$18:$X$227,$AA$17-ROWS($X$18:$X252)))))","v":""},null,null,"",null,{"$f":"IF(BL252>=$Y$12,\"\",IF(X252=\"\",\"\",INDEX($X$18:$X$227,$AA$17-ROWS($X$18:$X252))))","v":""},"",0,null,"",null,null,{"$f":"IF(Y252=\"\",\"\",INDEX($Y$17:$Y$227,$AA$17-ROWS($Y$17:$Y252)))","v":""}]
[{"$nulls":58},{"$f":"IF($AU$21=\"INVERT\",X254,IF(AC253>=$Y$12,\"\",IF(X253=\"\",\"\",INDEX($X$18:$X$227,$AA$17-ROWS($X$18:$X253)))))","v":""},null,null,"",null,{"$f":"IF(BL253>=$Y$12,\"\",IF(X253=\"\",\"\",INDEX($X$18:$X$227,$AA$17-ROWS($X$18:$X253))))","v":""},"",0,null,"",null,null,{"$f":"IF(Y253=\"\",\"\",INDEX($Y$17:$Y$227,$AA$17-ROWS($Y$17:$Y253)))","v":""}]
[{"$nulls":58},{"$f":"IF($AU$21=\"INVERT\",X255,IF(AC254>=$Y$12,\"\",IF(X254=\"\",\"\",INDEX($X$18:$X$227,$AA$17-ROWS($X$18:$X254)))))","v":""},null,null,"",null,{"$f":"IF(BL254>=$Y$12,\"\",IF(X254=\"\",\"\",INDEX($X$18:$X$227,$AA$17-ROWS($X$18:$X254))))","v":""},"",0,null,"",null,null,{"$f":"IF(Y254=\"\",\"\",INDEX($Y$17:$Y$227,$AA$17-ROWS($Y$17:$Y254)))","v":""}]
[{"$nulls":58},{"$f":"IF($AU$21=\"INVERT\",X256,IF(AC255>=$Y$12,\"\",IF(X255=\"\",\"\",INDEX($X$18:$X$227,$AA$17-ROWS($X$18:$X255)))))","v":""},null,null,"",null,{"$f":"IF(BL255>=$Y$12,\"\",IF(X255=\"\",\"\",INDEX($X$18:$X$227,$AA$17-ROWS($X$18:$X255))))","v":""},"",0,null,"",null,null,{"$f":"IF(Y255=\"\",\"\",INDEX($Y$17:$Y$227,$AA$17-ROWS($Y$17:$Y255)))","v":""}]
[{"$nulls":58},{"$f":"IF($AU$21=\"INVERT\",X257,IF(AC256>=$Y$12,\"\",IF(X256=\"\",\"\",INDEX($X$18:$X$227,$AA$17-ROWS($X$18:$X256)))))","v":""},null,null,"",null,{"$f":"IF(BL256>=$Y$12,\"\",IF(X256=\"\",\"\",INDEX($X$18:$X$227,$AA$17-ROWS($X$18:$X256))))","v":""},"",0,null,"",null,null,{"$f":"IF(Y256=\"\",\"\",INDEX($Y$17:$Y$227,$AA$17-ROWS($Y$17:$Y256)))","v":""}]
[{"$nulls":58},{"$f":"IF($AU$21=\"INVERT\",X258,IF(AC257>=$Y$12,\"\",IF(X257=\"\",\"\",INDEX($X$18:$X$227,$AA$17-ROWS($X$18:$X257)))))","v":""},null,null,"",null,{"$f":"IF(BL257>=$Y$12,\"\",IF(X257=\"\",\"\",INDEX($X$18:$X$227,$AA$17-ROWS($X$18:$X257))))","v":""},"",0,null,"",null,null,{"$f":"IF(Y257=\"\",\"\",INDEX($Y$17:$Y$227,$AA$17-ROWS($Y$17:$Y257)))","v":""}]
[{"$nulls":58},{"$f":"IF($AU$21=\"INVERT\",X259,IF(AC258>=$Y$12,\"\",IF(X258=\"\",\"\",INDEX($X$18:$X$227,$AA$17-ROWS($X$18:$X258)))))","v":""},null,null,"",null,{"$f":"IF(BL258>=$Y$12,\"\",IF(X258=\"\",\"\",INDEX($X$18:$X$227,$AA$17-ROWS($X$18:$X258))))","v":""},"",0,null,"",null,null,{"$f":"IF(Y258=\"\",\"\",INDEX($Y$17:$Y$227,$AA$17-ROWS($Y$17:$Y258)))","v":""}]
[{"$nulls":58},{"$f":"IF($AU$21=\"INVERT\",X260,IF(AC259>=$Y$12,\"\",IF(X259=\"\",\"\",INDEX($X$18:$X$227,$AA$17-ROWS($X$18:$X259)))))","v":""},null,null,"",null,{"$f":"IF(BL259>=$Y$12,\"\",IF(X259=\"\",\"\",INDEX($X$18:$X$227,$AA$17-ROWS($X$18:$X259))))","v":""},"",0,null,"",null,null,{"$f":"IF(Y259=\"\",\"\",INDEX($Y$17:$Y$227,$AA$17-ROWS($Y$17:$Y259)))","v":""}]
[{"$nulls":58},{"$f":"IF($AU$21=\"INVERT\",X261,IF(AC260>=$Y$12,\"\",IF(X260=\"\",\"\",INDEX($X$18:$X$227,$AA$17-ROWS($X$18:$X260)))))","v":""},null,null,"",null,{"$f":"IF(BL260>=$Y$12,\"\",IF(X260=\"\",\"\",INDEX($X$18:$X$227,$AA$17-ROWS($X$18:$X260))))","v":""},"",0,null,"",null,null,{"$f":"IF(Y260=\"\",\"\",INDEX($Y$17:$Y$227,$AA$17-ROWS($Y$17:$Y260)))","v":""}]
[{"$nulls":58},{"$f":"IF($AU$21=\"INVERT\",X262,IF(AC261>=$Y$12,\"\",IF(X261=\"\",\"\",INDEX($X$18:$X$227,$AA$17-ROWS($X$18:$X261)))))","v":""},null,null,"",null,{"$f":"IF(BL261>=$Y$12,\"\",IF(X261=\"\",\"\",INDEX($X$18:$X$227,$AA$17-ROWS($X$18:$X261))))","v":""},"",0,null,"",null,null,{"$f":"IF(Y261=\"\",\"\",INDEX($Y$17:$Y$227,$AA$17-ROWS($Y$17:$Y261)))","v":""}]
[{"$nulls":58},{"$f":"IF($AU$21=\"INVERT\",X263,IF(AC262>=$Y$12,\"\",IF(X262=\"\",\"\",INDEX($X$18:$X$227,$AA$17-ROWS($X$18:$X262)))))","v":""},null,null,"",null,{"$f":"IF(BL262>=$Y$12,\"\",IF(X262=\"\",\"\",INDEX($X$18:$X$227,$AA$17-ROWS($X$18:$X262))))","v":""},"",0,null,"",null,null,{"$f":"IF(Y262=\"\",\"\",INDEX($Y$17:$Y$227,$AA$17-ROWS($Y$17:$Y262)))","v":""}]
[{"$nulls":58},{"$f":"IF($AU$21=\"INVERT\",X264,IF(AC263>=$Y$12,\"\",IF(X263=\"\",\"\",INDEX($X$18:$X$227,$AA$17-ROWS($X$18:$X263)))))","v":""},null,null,"",null,{"$f":"IF(BL263>=$Y$12,\"\",IF(X263=\"\",\"\",INDEX($X$18:$X$227,$AA$17-ROWS($X$18:$X263))))","v":""},"",0,null,"",null,null,{"$f":"IF(Y263=\"\",\"\",INDEX($Y$17:$Y$227,$AA$17-ROWS($Y$17:$Y263)))","v":""}]
[{"$nulls":58},{"$f":"IF($AU$21=\"INVERT\",X265,IF(AC264>=$Y$12,\"\",IF(X264=\"\",\"\",INDEX($X$18:$X$227,$AA$17-ROWS($X$18:$X264)))))","v":""},null,null,"",null,{"$f":"IF(BL264>=$Y$12,\"\",IF(X264=\"\",\"\",INDEX($X$18:$X$227,$AA$17-ROWS($X$18:$X264))))","v":""},"",0,null,"",null,null,{"$f":"IF(Y264=\"\",\"\",INDEX($Y$17:$Y$227,$AA$17-ROWS($Y$17:$Y264)))","v":""}]
[{"$nulls":58},{"$f":"IF($AU$21=\"INVERT\",X266,IF(AC265>=$Y$12,\"\",IF(X265=\"\",\"\",INDEX($X$18:$X$227,$AA$17-ROWS($X$18:$X265)))))","v":""},null,null,"",null,{"$f":"IF(BL265>=$Y$12,\"\",IF(X265=\"\",\"\",INDEX($X$18:$X$227,$AA$17-ROWS($X$18:$X265))))","v":""},"",0,null,"",null,null,{"$f":"IF(Y265=\"\",\"\",INDEX($Y$17:$Y$227,$AA$17-ROWS($Y$17:$Y265)))","v":""}]
[{"$nulls":58},{"$f":"IF($AU$21=\"INVERT\",X267,IF(AC266>=$Y$12,\"\",IF(X266=\"\",\"\",INDEX($X$18:$X$227,$AA$17-ROWS($X$18:$X266)))))","v":""},null,null,"",null,{"$f":"IF(BL266>=$Y$12,\"\",IF(X266=\"\",\"\",INDEX($X$18:$X$227,$AA$17-ROWS($X$18:$X266))))","v":""},"",0,null,"",null,null,{"$f":"IF(Y266=\"\",\"\",INDEX($Y$17:$Y$227,$AA$17-ROWS($Y$17:$Y266)))","v":""}]
[{"$nulls":64},"",{"$nulls":5},{"$f":"IF(Y267=\"\",\"\",INDEX($Y$17:$Y$227,$AA$17-ROWS($Y$17:$Y267)))","v":""}]
[{"$nulls":64},""]
[{"$nulls":64},""]

{"sheet":"Cumulative Volumes Metric","index":1,"n_rows":563,"n_cols":66,"rows_kept":563,"merged":[[1,2,1,9],[7,54,9,56],[13,28,13,31],[14,28,14,31],[14,33,22,37],[14,58,14,61],[14,63,14,65]]}
[1,{"$f":"'Version History'!D2","v":"Version 1.1"},{"$nulls":63},{"$f":"COUNTA(Q20:Q100)","v":5}]
[2,"Project:"]
[3]
[4,null,null,"Layers -",{"$nulls":4},1,"Layers"]
[5,null,null,{"$f":"IF(Metric_Layers=0.5,\"Number of Half Modules -\",\"Number of Full Modules -\")","v":"Number of Full Modules -"},{"$nulls":4},100,"Modules"]
[6,null,null,"Number of Cube Modules -",{"$nulls":4},10,"Modules"]
[7,null,null,"Number of Stacks -",{"$nulls":4},{"$f":"(I5+I6/IF(Metric_Layers=0.5,1,2))/IF(Metric_Layers=0.5,1,I4)","v":105},"Stacks"]
[8,null,null,"Amount of Stone Above Modules -",{"$nulls":3},{"$f":"MOD(I8,10)/10","v":0.2},152,"mm",{"$nulls":44},"NOTE: If the software program being used allows for Stage Volume data, it is recommended to use the stage volume data from this spreadsheet.  Software programs typically use linear interpolation to take stage area data and estimate stage volume data.  Due to rounding differences over the total number of stages provided in this spreadsheet, the accuracy of the estimated volume could be off as much as 1%. It is recommended that the user check the software estimated volume and compare it to the volume listed in this spreadsheet to ensure the accuracy is within acceptable levels.  "]
[9,null,null,"Amount of Stone Below Modules -",{"$nulls":4},152,"mm"]
[10,null,null,"Voids in stone (porosity) -",{"$nulls":4},{"v":0.4,"d":"40%"}]
[11,null,null,"Base of Stone Elevation -",{"$nulls":4},100,{"$nulls":17},{"$f":"1/AA12","v":0.01},{"$f":"AA11","v":0.01}]
[12,null,null,"Area of system -",{"$nulls":4},60,{"$f":"\"m2 - Minimum Area \"&ROUNDUP(_xlfn.XLOOKUP(I4,CrateData[Layer],CrateData[Surface Area (m2)])*'Cumulative Volumes Metric'!I7,1)&\"m2\"","v":"m2 - Minimum Area 59.1m2"},{"$nulls":13},"System Depth",null,{"$f":"B18/AA12","v":1.104},100]
[13,{"$nulls":4}," "]
[14,{"$nulls":27},{"$f":"IF(AND(AU17=TRUE, AU23=TRUE), \"Stage Area Data and WWHM Stage Data should NOT be selected at the same time\", \"\")","v":""}]
[15,{"$nulls":27},{"$f":"IF($AU$17,\"Stage Area Data\",IF($AU$23,\"WWHM Stage Data\",\"\"))","v":""},{"$nulls":4},{"$f":"IF($AU$17,BC8,\"\")","v":""},{"$nulls":24},{"$f":"IF($AN$17,\"Stage Area Data\",\"\")","v":"Stage Area Data"},{"$nulls":4},"WWMH Stage Data"]
[{"$f":"IF(B18<>\"\",A15+1,\"\")","v":16},"Height of System","Incremental  Single Module","Incremental Module Total","Total volume of module","Incremental Stone per Module","Incremental Stone within module perimeter","Perimeter Stone Volume","Incremental Stone","Incremental Module & Stone","Cumulative Volume","Elevation",{"$nulls":9},"Elevation",null,"Depth","Depth","Area",null,"Sum",{"$f":"IF($AU$17,\"Depth\",IF($AU$23,\"Stage\",\"\"))","v":""},{"$f":"IF($AU$17,\"Elevation\",IF($AU$23,\"Area\",\"\"))","v":""},{"$f":"IF($AU$17,\"Area\",IF($AU$23,\"Storage\",\"\"))","v":""},{"$f":"IF($AU$17,\"Area\",\"\")","v":""},{"$nulls":14},"Stage Area",null,"Perimeter Stone",{"$nulls":9},{"$f":"IF($AN$17,\"Depth\",\"\")","v":"Depth"},{"$f":"IF($AN$17,\"Elevation\",\"\")","v":"Elevation"},{"$f":"IF($AN$17,\"Area\",\"\")","v":"Area"},{"$f":"IF($AN$17,\"Area\",\"\")","v":"Area"},null,{"$f":"IF($AN$23,\"Stage\",\"\")","v":""},{"$f":"IF($AN$23,\"Area\",\"\")","v":""},{"$f":"IF($AN$23,\"Storage\",\"\")","v":""}]
[17,"(cm)","(cubic meters)","(cubic meters)",{"$nulls":4},"(cubic meters)","(cubic meters)","(cubic meters)","(meters)",{"$nulls":9},"(feet)",null,"(feet)","(feet)","(ft2)",null,{"$f":"SUM(AB18:AB227)","v":111},{"$f":"IF($AU$17,\"(meter)\",IF($AU$23,(\"(meter)\"),\"\"))","v":""},{"$f":"IF($AU$17,\"(meter)\",IF($AU$23,\"(acres)\",\"\"))","v":""},{"$f":"IF($AU$17,\"(m²)\",IF($AU$23,\"(acre-ft)\",\"\"))","v":""},{"$f":"IF($AU$17,\"(hectare)\",\"\")","v":""},{"$nulls":6},"Toggle Printout",true,null,true,{"$nulls":4},false,null,true,{"$nulls":9},{"$f":"IF($AN$17,\"(meter)\",\"\")","v":"(meter)"},{"$f":"IF($AN$17,\"(meter)\",\"\")","v":"(meter)"},{"$f":"IF($AN$17,\"(m²)\",\"\")","v":"(m²)"},{"$f":"IF($AN$17,\"(hectare)\",\"\")","v":"(hectare)"},null,{"$f":"IF($AN$23,\"(feet)\",\"\")","v":""},{"$f":"IF($AN$23,\"(acres)\",\"\")","v":""},{"$f":"IF($AN$23,\"(acre-ft)\",\"\")","v":""}]
[18,{"$f":"I8/10+I9/10+_xlfn.XLOOKUP(Metric_Layers,CrateData[Layer],CrateData[Height (cm)])","v":110.4},{"$f":"IF(B18=\"\",\"\",IFERROR(_xlfn.XLOOKUP(ROUND(B18,1),MetricIncrementalData[System Increment],_xlfn.XLOOKUP('Metric Incremental Crate'!$R$3,MetricIncrementalData[#Headers],MetricIncrementalData[]),,1),0))","v":{"v":0,"d":"0.0000"}},{"$f":"IFERROR(C18*Metric_Number_Of_Stacks,\"\")","v":{"v":0,"d":"0.0000"}},{"$f":"IF(B18=\"\",\"\",IFERROR(_xlfn.XLOOKUP(ROUND(B18,1),MetricIncrementalData[System Increment],_xlfn.XLOOKUP(Metric_Incremental_Data_Target_Column,MetricIncrementalData[#Headers],MetricIncrementalData[]),,1),0))","v":{"v":0,"d":"0.0000"}},{"$f":"IF(B18=\"\",\"\",IF(B19=\"\",((((B18-0)/100)*Metric_Module_Square_Foot_Area)-'Cumulative Volumes Metric'!E18)*Metric_Stone_Void_Percentage,((((B18-B19)/100)*Metric_Module_Square_Foot_Area)-'Cumulative Volumes Metric'!E18)*Metric_Stone_Void_Percentage))","v":{"v":4.5000000000000638E-4,"d":"0.0005"}},{"$f":"IFERROR(F18*Metric_Number_Of_Stacks,\"\")","v":{"v":0.04725000000000067,"d":"0.05"}},{"$f":"IF(B18=\"\",\"\",((Metric_System_Area_Input-Metric_Number_Of_Stacks*_xlfn.XLOOKUP(Metric_Layers,CrateData[Layer],CrateData[Surface Area (m2)]))*((B18-IF(B19=\"\",0,B19))/100))*Metric_Stone_Void_Percentage)","v":{"v":7.5000000000001064E-4,"d":"0.00"}},{"$f":"IFERROR(IF($AW$17, H18+G18, G18), \"\")","v":{"v":0.04800000000000068,"d":"0.05"}},{"$f":"IFERROR(I18+D18,\"\")","v":{"v":0.04800000000000068,"d":"0.05"}},{"$f":"IF(B18=\"\",\"\",SUM(J18:$J$563))","v":{"v":52.955999999999946,"d":"52.96"}},{"$f":"IFERROR($I$11+B18/100,\"\")","v":101.104},{"$nulls":3},"Volume above",{"$f":"InterpolationMetric!C2","v":""},"m3",{"$nulls":3},{"$f":"IF(L19=\"\",IF(L18=\"\",\"\",$I$11),L18)","v":101.104},null,{"$f":"Z12","v":{"v":1.104,"d":"1.10"}},{"$f":"IF(AND(B18=\"\",B16=1),0,IF(B18=\"\",\"\",IF(OR(X18=0,X18>0),X18,\"\")))","v":1.104},{"$f":"IF(Y18=\"\",\"\",IF(Y18=0,K16/$AB$11,IF(ISNUMBER(V19),(K18-K19)/(L18-L19),Z17)))","v":{"v":24.00000000005329,"d":"24.000"}},null,{"$f":"IF(Y18=\"\",\"\",1)","v":1},{"$f":"IF(AU17=TRUE, BG18, IF(AU23=TRUE, BL18, \"\"))","v":""},{"$f":"IF($AU$17=TRUE, BH18, IF($AU$23=TRUE, BM18, \"\"))","v":""},{"$f":"IF(AU17=TRUE, BI18, IF(AU23=TRUE, BN18, \"\"))","v":""},{"$f":"IF($AU$17=TRUE, BJ18, IF($AU$23=TRUE, \"\", \"\"))","v":""},{"$nulls":7},"Top of Storage Elevation",{"$nulls":6},"Invet Stage Area",{"$nulls":11},{"$f":"IF(AU21=\"TYP\",0,IF(AU21=\"INVERT\",Y18,\"\"))","v":""},{"$f":"IF(AC18=\"\",\"\",$I$11+AC18)","v":""},{"$f":"IF(AU21=\"TYP\",IF(Z17=\"\",\"\",INDEX($Z$18:$Z$227,$AB$17-ROWS(Z17:$Z$18))),IF(AU21=\"INVERT\",Z18,\"\"))","v":""},{"$f":"IF(AE18=\"\",\"\",AE18/10000)","v":""},null,{"$f":"IF(AU23=TRUE,0,IF(AU23=FALSE,0))","v":{"v":0,"d":"0.00"}},{"$f":"IF(#REF!=\"\",\"\",#REF!/43560)","v":{"$error":"#REF!"}},0]
[19,{"$f":"IFERROR(B18-H8,\"\")","v":110.2},{"$f":"IF(B19=\"\",\"\",IFERROR(_xlfn.XLOOKUP(ROUND(B19,1),MetricIncrementalData[System Increment],_xlfn.XLOOKUP('Metric Incremental Crate'!$R$3,MetricIncrementalData[#Headers],MetricIncrementalData[]),,1),0))","v":{"v":0,"d":"0.0000"}},{"v":0,"d":"0.0000"},{"$f":"IF(B19=\"\",\"\",IFERROR(_xlfn.XLOOKUP(ROUND(B19,1),MetricIncrementalData[System Increment],_xlfn.XLOOKUP(Metric_Incremental_Data_Target_Column,MetricIncrementalData[#Headers],MetricIncrementalData[]),,1),0))","v":{"v":0,"d":"0.0000"}},{"$f":"IF(B19=\"\",\"\",IF(B20=\"\",((((B19-0)/100)*Metric_Module_Square_Foot_Area)-'Cumulative Volumes Metric'!E19)*Metric_Stone_Void_Percentage,((((B19-B20)/100)*Metric_Module_Square_Foot_Area)-'Cumulative Volumes Metric'!E19)*Metric_Stone_Void_Percentage))","v":{"v":0.00225,"d":"0.0023"}},{"v":0.23625,"d":"0.24"},{"$f":"IF(B19=\"\",\"\",((Metric_System_Area_Input-Metric_Number_Of_Stacks*_xlfn.XLOOKUP(Metric_Layers,CrateData[Layer],CrateData[Surface Area (m2)]))*((B19-IF(B20=\"\",0,B20))/100))*Metric_Stone_Void_Percentage)","v":{"v":0.00375,"d":"0.00"}},0.24,0.24,{"$f":"IF(B19=\"\",\"\",SUM(J19:$J$563))","v":{"v":52.90799999999995,"d":"52.91"}},{"$f":"IFERROR($I$11+B19/100,\"\")","v":101.102},{"$nulls":3},"Top of storage elevation",null,"m",{"$nulls":3},101.102,null,{"$f":"X18-($AB$11)","v":{"v":1.094,"d":"1.09"}},{"$f":"IF(AND(B19=\"\",B18=1),0,IF(B19=\"\",\"\",IF(OR(X19=0,X19>0),X19,\"\")))","v":1.094},{"$f":"IF(Y19=\"\",\"\",IF(Y19=0,K18/$AB$11,IF(ISNUMBER(V20),(K19-K20)/(L19-L20),Z18)))","v":{"v":23.99999999998792,"d":"24.000"}},null,{"$f":"IF(Y19=\"\",\"\",1)","v":1},{"$f":"IF($AU$21=\"INVERT\",Y19,IF(AC18>=$Z$12,\"\",IF(Y18=\"\",\"\",INDEX($Y$18:$Y$227,$AB$17-ROWS($Y$18:$Y18)))))","v":""},{"$f":"IF($AN$17=TRUE, BH19, IF($AN$23=TRUE, BM19, \"\"))","v":""},{"$f":"IF($AU$17=TRUE, BI19, IF($AU$23=TRUE, BN19, \"\"))","v":""},"",{"$nulls":6},false,false,"",{"$nulls":5},false,{"$nulls":11},{"$f":"IF($AU$21=\"INVERT\",Y19,IF(AC18>=$Z$12,\"\",IF(Y18=\"\",\"\",INDEX($Y$18:$Y$227,$AB$17-ROWS($Y$18:$Y18)))))","v":""},"",{"$f":"IF(AE18=\"\",\"\",\n    IF($AU$21=\"TYP\",\n       IF(Z18=\"\",\"\", INDEX($Z$18:$Z$227, $AB$17-ROWS($Z$18:$Z18))),\n       IF($AU$21=\"INVERT\",Z19, \"\")\n    )\n)","v":""},{"$f":"IF(AE19=\"\",\"\",AE19/10000)","v":""},null,{"$f":"IF(BL18>=$Z$12,\"\",IF(Y18=\"\",\"\",INDEX($Y$18:$Y$227,$AB$17-ROWS($Y$18:$Y18))))","v":{"v":0.013999999999999258,"d":"0.01"}},{"$f":"IF(#REF!=\"\",\"\",#REF!/43560)","v":{"$error":"#REF!"}},{"$f":"#REF!","v":{"$error":"#REF!"}}]
[20,{"$f":"IFERROR(IF(B19-1<1,\"\",B19-1),\"\")","v":109.2},{"$f":"IF(B20=\"\",\"\",IFERROR(_xlfn.XLOOKUP(ROUND(B20,1),MetricIncrementalData[System Increment],_xlfn.XLOOKUP('Metric Incremental Crate'!$R$3,MetricIncrementalData[#Headers],MetricIncrementalData[]),,1),0))","v":{"v":0,"d":"0.0000"}},{"v":0,"d":"0.0000"},{"$f":"IF(B20=\"\",\"\",IFERROR(_xlfn.XLOOKUP(ROUND(B20,1),MetricIncrementalData[System Increment],_xlfn.XLOOKUP(Metric_Incremental_Data_Target_Column,MetricIncrementalData[#Headers],MetricIncrementalData[]),,1),0))","v":{"v":0,"d":"0.0000"}},{"$f":"IF(B20=\"\",\"\",IF(B21=\"\",((((B20-0)/100)*Metric_Module_Square_Foot_Area)-'Cumulative Volumes Metric'!E20)*Metric_Stone_Void_Percentage,((((B20-B21)/100)*Metric_Module_Square_Foot_Area)-'Cumulative Volumes Metric'!E20)*Metric_Stone_Void_Percentage))","v":{"v":0.00225,"d":"0.0023"}},{"v":0.23625,"d":"0.24"},{"$f":"IF(B20=\"\",\"\",((Metric_System_Area_Input-Metric_Number_Of_Stacks*_xlfn.XLOOKUP(Metric_Layers,CrateData[Layer],CrateData[Surface Area (m2)]))*((B20-IF(B21=\"\",0,B21))/100))*Metric_Stone_Void_Percentage)","v":{"v":0.00375,"d":"0.00"}},0.24,0.24,{"$f":"IF(B20=\"\",\"\",SUM(J20:$J$563))","v":{"v":52.66799999999995,"d":"52.67"}},101.092,{"$nulls":3},"Volume Below",{"$f":"InterpolationMetric!C4","v":""},"m3",{"$nulls":3},101.092,null,{"$f":"X19-($AB$11)","v":{"v":1.084,"d":"1.08"}},1.084,{"v":23.99999999998792,"d":"24.000"},null,1,{"$f":"IF($AU$21=\"INVERT\",Y20,IF(AC19>=$Z$12,\"\",IF(Y19=\"\",\"\",INDEX($Y$18:$Y$227,$AB$17-ROWS($Y$18:$Y19)))))","v":""},"","","",{"$nulls":6},false,"Volume below Top of Storage Elevation","",{"$nulls":5},"Both True",null,"End Cap Data Validation",{"$nulls":9},{"$f":"IF($AU$21=\"INVERT\",Y20,IF(AC19>=$Z$12,\"\",IF(Y19=\"\",\"\",INDEX($Y$18:$Y$227,$AB$17-ROWS($Y$18:$Y19)))))","v":""},"",{"$f":"IF(AE19=\"\",\"\",\n    IF($AU$21=\"TYP\",\n       IF(Z19=\"\",\"\", INDEX($Z$18:$Z$227, $AB$17-ROWS($Z$18:$Z19))),\n       IF($AU$21=\"INVERT\",Z20, \"\")\n    )\n)","v":""},"",null,{"$f":"IF(BL19>=$Z$12,\"\",IF(Y19=\"\",\"\",INDEX($Y$18:$Y$227,$AB$17-ROWS($Y$18:$Y19))))","v":{"v":0.023999999999999258,"d":"0.02"}},{"$f":"IF(#REF!=\"\",\"\",#REF!/43560)","v":{"$error":"#REF!"}},{"$f":"#REF!","v":{"$error":"#REF!"}}]
[21,{"$f":"IFERROR(IF(B20-1<1,\"\",B20-1),\"\")","v":108.2},{"$f":"IF(B21=\"\",\"\",IFERROR(_xlfn.XLOOKUP(ROUND(B21,1),MetricIncrementalData[System Increment],_xlfn.XLOOKUP('Metric Incremental Crate'!$R$3,MetricIncrementalData[#Headers],MetricIncrementalData[]),,1),0))","v":{"v":0,"d":"0.0000"}},{"v":0,"d":"0.0000"},{"$f":"IF(B21=\"\",\"\",IFERROR(_xlfn.XLOOKUP(ROUND(B21,1),MetricIncrementalData[System Increment],_xlfn.XLOOKUP(Metric_Incremental_Data_Target_Column,MetricIncrementalData[#Headers],MetricIncrementalData[]),,1),0))","v":{"v":0,"d":"0.0000"}},{"$f":"IF(B21=\"\",\"\",IF(B22=\"\",((((B21-0)/100)*Metric_Module_Square_Foot_Area)-'Cumulative Volumes Metric'!E21)*Metric_Stone_Void_Percentage,((((B21-B22)/100)*Metric_Module_Square_Foot_Area)-'Cumulative Volumes Metric'!E21)*Metric_Stone_Void_Percentage))","v":{"v":0.00225,"d":"0.0023"}},{"v":0.23625,"d":"0.24"},{"$f":"IF(B21=\"\",\"\",((Metric_System_Area_Input-Metric_Number_Of_Stacks*_xlfn.XLOOKUP(Metric_Layers,CrateData[Layer],CrateData[Surface Area (m2)]))*((B21-IF(B22=\"\",0,B22))/100))*Metric_Stone_Void_Percentage)","v":{"v":0.00375,"d":"0.00"}},0.24,0.24,{"$f":"IF(B21=\"\",\"\",SUM(J21:$J$563))","v":{"v":52.42799999999995,"d":"52.43"}},101.082,{"$nulls":9},101.082,null,{"v":1.074,"d":"1.07"},1.074,{"v":24.000000000021316,"d":"24.000"},null,1,{"$f":"IF($AU$21=\"INVERT\",Y21,IF(AC20>=$Z$12,\"\",IF(Y20=\"\",\"\",INDEX($Y$18:$Y$227,$AB$17-ROWS($Y$18:$Y20)))))","v":""},"","","",{"$nulls":14},{"$f":"IF(AND(AU17,AU19=FALSE),\"TYP\",IF(AND(AU17,AU19),\"INVERT\",\"\"))","v":""},null,{"$f":"IF(J7=\"Number of End Caps -\",ISEVEN(M7),TRUE)","v":true},{"$nulls":9},{"$f":"IF($AU$21=\"INVERT\",Y21,IF(AC20>=$Z$12,\"\",IF(Y20=\"\",\"\",INDEX($Y$18:$Y$227,$AB$17-ROWS($Y$18:$Y20)))))","v":""},"",{"$f":"IF(AE20=\"\",\"\",\n    IF($AU$21=\"TYP\",\n       IF(Z20=\"\",\"\", INDEX($Z$18:$Z$227, $AB$17-ROWS($Z$18:$Z20))),\n       IF($AU$21=\"INVERT\",Z21, \"\")\n    )\n)","v":""},"",null,{"$f":"IF(BL20>=$Z$12,\"\",IF(Y20=\"\",\"\",INDEX($Y$18:$Y$227,$AB$17-ROWS($Y$18:$Y20))))","v":{"v":0.03399999999999926,"d":"0.03"}},{"$f":"IF(#REF!=\"\",\"\",#REF!/43560)","v":{"$error":"#REF!"}},{"$f":"#REF!","v":{"$error":"#REF!"}}]
[22,{"$f":"IFERROR(IF(B21-1<1,\"\",B21-1),\"\")","v":107.2},{"$f":"IF(B22=\"\",\"\",IFERROR(_xlfn.XLOOKUP(ROUND(B22,1),MetricIncrementalData[System Increment],_xlfn.XLOOKUP('Metric Incremental Crate'!$R$3,MetricIncrementalData[#Headers],MetricIncrementalData[]),,1),0))","v":{"v":0,"d":"0.0000"}},{"v":0,"d":"0.0000"},{"$f":"IF(B22=\"\",\"\",IFERROR(_xlfn.XLOOKUP(ROUND(B22,1),MetricIncrementalData[System Increment],_xlfn.XLOOKUP(Metric_Incremental_Data_Target_Column,MetricIncrementalData[#Headers],MetricIncrementalData[]),,1),0))","v":{"v":0,"d":"0.0000"}},{"$f":"IF(B22=\"\",\"\",IF(B23=\"\",((((B22-0)/100)*Metric_Module_Square_Foot_Area)-'Cumulative Volumes Metric'!E22)*Metric_Stone_Void_Percentage,((((B22-B23)/100)*Metric_Module_Square_Foot_Area)-'Cumulative Volumes Metric'!E22)*Metric_Stone_Void_Percentage))","v":{"v":0.00225,"d":"0.0023"}},{"v":0.23625,"d":"0.24"},{"$f":"IF(B22=\"\",\"\",((Metric_System_Area_Input-Metric_Number_Of_Stacks*_xlfn.XLOOKUP(Metric_Layers,CrateData[Layer],CrateData[Surface Area (m2)]))*((B22-IF(B23=\"\",0,B23))/100))*Metric_Stone_Void_Percentage)","v":{"v":0.00375,"d":"0.00"}},0.24,{"$f":"IFERROR(I22+D22,\"\")","v":0.24},{"$f":"IF(B22=\"\",\"\",SUM(J22:$J$563))","v":{"v":52.18799999999995,"d":"52.19"}},{"$f":"IFERROR($I$11+B22/100,\"\")","v":101.072},{"$nulls":3},"Volume above",{"$f":"InterpolationMetric!C6","v":""},"m3",{"$nulls":3},101.072,null,{"v":1.064,"d":"1.06"},1.064,{"v":23.99999999998792,"d":"24.000"},null,1,{"$f":"IF($AU$21=\"INVERT\",Y22,IF(AC21>=$Z$12,\"\",IF(Y21=\"\",\"\",INDEX($Y$18:$Y$227,$AB$17-ROWS($Y$18:$Y21)))))","v":""},"","","",{"$nulls":6},false,"Volume between Top and Bottom of Storage","",{"$nulls":5},"WWMH",{"$nulls":11},{"$f":"IF($AU$21=\"INVERT\",Y22,IF(AC21>=$Z$12,\"\",IF(Y21=\"\",\"\",INDEX($Y$18:$Y$227,$AB$17-ROWS($Y$18:$Y21)))))","v":""},"",{"$f":"IF(AE21=\"\",\"\",\n    IF($AU$21=\"TYP\",\n       IF(Z21=\"\",\"\", INDEX($Z$18:$Z$227, $AB$17-ROWS($Z$18:$Z21))),\n       IF($AU$21=\"INVERT\",Z22, \"\")\n    )\n)","v":""},"",null,{"$f":"IF(BL21>=$Z$12,\"\",IF(Y21=\"\",\"\",INDEX($Y$18:$Y$227,$AB$17-ROWS($Y$18:$Y21))))","v":{"v":0.04399999999999926,"d":"0.04"}},{"$f":"IF(#REF!=\"\",\"\",#REF!/43560)","v":{"$error":"#REF!"}},{"$f":"#REF!","v":{"$error":"#REF!"}}]
[23,106.2,{"$f":"IF(B23=\"\",\"\",IFERROR(_xlfn.XLOOKUP(ROUND(B23,1),MetricIncrementalData[System Increment],_xlfn.XLOOKUP('Metric Incremental Crate'!$R$3,MetricIncrementalData[#Headers],MetricIncrementalData[]),,1),0))","v":{"v":0,"d":"0.0000"}},{"v":0,"d":"0.0000"},{"$f":"IF(B23=\"\",\"\",IFERROR(_xlfn.XLOOKUP(ROUND(B23,1),MetricIncrementalData[System Increment],_xlfn.XLOOKUP(Metric_Incremental_Data_Target_Column,MetricIncrementalData[#Headers],MetricIncrementalData[]),,1),0))","v":{"v":0,"d":"0.0000"}},{"$f":"IF(B23=\"\",\"\",IF(B24=\"\",((((B23-0)/100)*Metric_Module_Square_Foot_Area)-'Cumulative Volumes Metric'!E23)*Metric_Stone_Void_Percentage,((((B23-B24)/100)*Metric_Module_Square_Foot_Area)-'Cumulative Volumes Metric'!E23)*Metric_Stone_Void_Percentage))","v":{"v":0.00225,"d":"0.0023"}},{"v":0.23625,"d":"0.24"},{"$f":"IF(B23=\"\",\"\",((Metric_System_Area_Input-Metric_Number_Of_Stacks*_xlfn.XLOOKUP(Metric_Layers,CrateData[Layer],CrateData[Surface Area (m2)]))*((B23-IF(B24=\"\",0,B24))/100))*Metric_Stone_Void_Percentage)","v":{"v":0.00375,"d":"0.00"}},0.24,0.24,{"$f":"IF(B23=\"\",\"\",SUM(J23:$J$563))","v":{"v":51.94799999999995,"d":"51.95"}},101.062,{"$nulls":3},"Bottom of storage elevation",null,"m",{"$nulls":3},101.062,null,{"v":1.054,"d":"1.05"},1.054,{"v":24.000000000021316,"d":"24.000"},null,1,{"$f":"IF($AU$21=\"INVERT\",Y23,IF(AC22>=$Z$12,\"\",IF(Y22=\"\",\"\",INDEX($Y$18:$Y$227,$AB$17-ROWS($Y$18:$Y22)))))","v":""},"","","",{"$nulls":14},false,null,"Used in conditional formatting to Highlight target elevation",{"$nulls":9},{"$f":"IF($AU$21=\"INVERT\",Y23,IF(AC22>=$Z$12,\"\",IF(Y22=\"\",\"\",INDEX($Y$18:$Y$227,$AB$17-ROWS($Y$18:$Y22)))))","v":""},"",{"$f":"IF(AE22=\"\",\"\",\n    IF($AU$21=\"TYP\",\n       IF(Z22=\"\",\"\", INDEX($Z$18:$Z$227, $AB$17-ROWS($Z$18:$Z22))),\n       IF($AU$21=\"INVERT\",Z23, \"\")\n    )\n)","v":""},"",null,{"$f":"IF(BL22>=$Z$12,\"\",IF(Y22=\"\",\"\",INDEX($Y$18:$Y$227,$AB$17-ROWS($Y$18:$Y22))))","v":{"v":0.053999999999999264,"d":"0.05"}},{"$f":"IF(#REF!=\"\",\"\",#REF!/43560)","v":{"$error":"#REF!"}},{"$f":"#REF!","v":{"$error":"#REF!"}}]
[24,105.2,{"$f":"IF(B24=\"\",\"\",IFERROR(_xlfn.XLOOKUP(ROUND(B24,1),MetricIncrementalData[System Increment],_xlfn.XLOOKUP('Metric Incremental Crate'!$R$3,MetricIncrementalData[#Headers],MetricIncrementalData[]),,1),0))","v":{"v":0,"d":"0.0000"}},{"v":0,"d":"0.0000"},{"$f":"IF(B24=\"\",\"\",IFERROR(_xlfn.XLOOKUP(ROUND(B24,1),MetricIncrementalData[System Increment],_xlfn.XLOOKUP(Metric_Incremental_Data_Target_Column,MetricIncrementalData[#Headers],MetricIncrementalData[]),,1),0))","v":{"v":0,"d":"0.0000"}},{"$f":"IF(B24=\"\",\"\",IF(B25=\"\",((((B24-0)/100)*Metric_Module_Square_Foot_Area)-'Cumulative Volumes Metric'!E24)*Metric_Stone_Void_Percentage,((((B24-B25)/100)*Metric_Module_Square_Foot_Area)-'Cumulative Volumes Metric'!E24)*Metric_Stone_Void_Percentage))","v":{"v":0.00225,"d":"0.0023"}},{"v":0.23625,"d":"0.24"},{"$f":"IF(B24=\"\",\"\",((Metric_System_Area_Input-Metric_Number_Of_Stacks*_xlfn.XLOOKUP(Metric_Layers,CrateData[Layer],CrateData[Surface Area (m2)]))*((B24-IF(B25=\"\",0,B25))/100))*Metric_Stone_Void_Percentage)","v":{"v":0.00375,"d":"0.00"}},0.24,0.24,{"$f":"IF(B24=\"\",\"\",SUM(J24:$J$563))","v":{"v":51.707999999999956,"d":"51.71"}},101.052,{"$nulls":3},"Volume Below",{"$f":"InterpolationMetric!C8","v":""},"m3",{"$nulls":3},101.052,null,{"v":1.044,"d":"1.04"},1.044,{"v":23.99999999998792,"d":"24.000"},null,1,{"$f":"IF($AU$21=\"INVERT\",Y24,IF(AC23>=$Z$12,\"\",IF(Y23=\"\",\"\",INDEX($Y$18:$Y$227,$AB$17-ROWS($Y$18:$Y23)))))","v":""},"","","",{"$nulls":7},"Bottom of Storage Elevation",{"$nulls":8},{"$f":"ROUND(1/12,2)-0.001","v":0.079},{"$nulls":9},{"$f":"IF($AU$21=\"INVERT\",Y24,IF(AC23>=$Z$12,\"\",IF(Y23=\"\",\"\",INDEX($Y$18:$Y$227,$AB$17-ROWS($Y$18:$Y23)))))","v":""},"",{"$f":"IF(AE23=\"\",\"\",\n    IF($AU$21=\"TYP\",\n       IF(Z23=\"\",\"\", INDEX($Z$18:$Z$227, $AB$17-ROWS($Z$18:$Z23))),\n       IF($AU$21=\"INVERT\",Z24, \"\")\n    )\n)","v":""},"",null,{"$f":"IF(BL23>=$Z$12,\"\",IF(Y23=\"\",\"\",INDEX($Y$18:$Y$227,$AB$17-ROWS($Y$18:$Y23))))","v":{"v":0.06399999999999927,"d":"0.06"}},{"$f":"IF(#REF!=\"\",\"\",#REF!/43560)","v":{"$error":"#REF!"}},{"$f":"#REF!","v":{"$error":"#REF!"}}]
[25,104.2,{"$f":"IF(B25=\"\",\"\",IFERROR(_xlfn.XLOOKUP(ROUND(B25,1),MetricIncrementalData[System Increment],_xlfn.XLOOKUP('Metric Incremental Crate'!$R$3,MetricIncrementalData[#Headers],MetricIncrementalData[]),,1),0))","v":{"v":0,"d":"0.0000"}},{"v":0,"d":"0.0000"},{"$f":"IF(B25=\"\",\"\",IFERROR(_xlfn.XLOOKUP(ROUND(B25,1),MetricIncrementalData[System Increment],_xlfn.XLOOKUP(Metric_Incremental_Data_Target_Column,MetricIncrementalData[#Headers],MetricIncrementalData[]),,1),0))","v":{"v":0,"d":"0.0000"}},{"$f":"IF(B25=\"\",\"\",IF(B26=\"\",((((B25-0)/100)*Metric_Module_Square_Foot_Area)-'Cumulative Volumes Metric'!E25)*Metric_Stone_Void_Percentage,((((B25-B26)/100)*Metric_Module_Square_Foot_Area)-'Cumulative Volumes Metric'!E25)*Metric_Stone_Void_Percentage))","v":{"v":0.00225,"d":"0.0023"}},{"v":0.23625,"d":"0.24"},{"$f":"IF(B25=\"\",\"\",((Metric_System_Area_Input-Metric_Number_Of_Stacks*_xlfn.XLOOKUP(Metric_Layers,CrateData[Layer],CrateData[Surface Area (m2)]))*((B25-IF(B26=\"\",0,B26))/100))*Metric_Stone_Void_Percentage)","v":{"v":0.00375,"d":"0.00"}},0.24,0.24,{"$f":"IF(B25=\"\",\"\",SUM(J25:$J$563))","v":{"v":51.467999999999954,"d":"51.47"}},101.042,{"$nulls":9},101.042,null,{"v":1.034,"d":"1.03"},1.034,{"v":23.99999999998721,"d":"24.000"},null,1,{"$f":"IF($AU$21=\"INVERT\",Y25,IF(AC24>=$Z$12,\"\",IF(Y24=\"\",\"\",INDEX($Y$18:$Y$227,$AB$17-ROWS($Y$18:$Y24)))))","v":""},"","","",{"$nulls":6},false,"Volume above Bottom of Storage","",{"$nulls":17},{"$f":"IF($AU$21=\"INVERT\",Y25,IF(AC24>=$Z$12,\"\",IF(Y24=\"\",\"\",INDEX($Y$18:$Y$227,$AB$17-ROWS($Y$18:$Y24)))))","v":""},"",{"$f":"IF(AE24=\"\",\"\",\n    IF($AU$21=\"TYP\",\n       IF(Z24=\"\",\"\", INDEX($Z$18:$Z$227, $AB$17-ROWS($Z$18:$Z24))),\n       IF($AU$21=\"INVERT\",Z25, \"\")\n    )\n)","v":""},"",null,{"$f":"IF(BL24>=$Z$12,\"\",IF(Y24=\"\",\"\",INDEX($Y$18:$Y$227,$AB$17-ROWS($Y$18:$Y24))))","v":{"v":0.07399999999999926,"d":"0.07"}},{"$f":"IF(#REF!=\"\",\"\",#REF!/43560)","v":{"$error":"#REF!"}},{"$f":"#REF!","v":{"$error":"#REF!"}}]
[26,103.2,{"$f":"IF(B26=\"\",\"\",IFERROR(_xlfn.XLOOKUP(ROUND(B26,1),MetricIncrementalData[System Increment],_xlfn.XLOOKUP('Metric Incremental Crate'!$R$3,MetricIncrementalData[#Headers],MetricIncrementalData[]),,1),0))","v":{"v":0,"d":"0.0000"}},{"v":0,"d":"0.0000"},{"$f":"IF(B26=\"\",\"\",IFERROR(_xlfn.XLOOKUP(ROUND(B26,1),MetricIncrementalData[System Increment],_xlfn.XLOOKUP(Metric_Incremental_Data_Target_Column,MetricIncrementalData[#Headers],MetricIncrementalData[]),,1),0))","v":{"v":0,"d":"0.0000"}},{"$f":"IF(B26=\"\",\"\",IF(B27=\"\",((((B26-0)/100)*Metric_Module_Square_Foot_Area)-'Cumulative Volumes Metric'!E26)*Metric_Stone_Void_Percentage,((((B26-B27)/100)*Metric_Module_Square_Foot_Area)-'Cumulative Volumes Metric'!E26)*Metric_Stone_Void_Percentage))","v":{"v":0.00225,"d":"0.0023"}},{"v":0.23625,"d":"0.24"},{"$f":"IF(B26=\"\",\"\",((Metric_System_Area_Input-Metric_Number_Of_Stacks*_xlfn.XLOOKUP(Metric_Layers,CrateData[Layer],CrateData[Surface Area (m2)]))*((B26-IF(B27=\"\",0,B27))/100))*Metric_Stone_Void_Percentage)","v":{"v":0.00375,"d":"0.00"}},0.24,0.24,{"$f":"IF(B26=\"\",\"\",SUM(J26:$J$563))","v":{"v":51.22799999999996,"d":"51.23"}},101.032,{"$nulls":3},"Volume Between Top & Bottom",{"$f":"IFERROR(Q20-Q24,\"\")","v":""},"m3",{"$nulls":3},101.032,null,{"v":1.024,"d":"1.02"},1.024,{"v":24.000000000022027,"d":"24.000"},null,1,{"$f":"IF($AU$21=\"INVERT\",Y26,IF(AC25>=$Z$12,\"\",IF(Y25=\"\",\"\",INDEX($Y$18:$Y$227,$AB$17-ROWS($Y$18:$Y25)))))","v":""},"","","",{"$nulls":6},false,"Volume below Bottom of Storage","",{"$nulls":17},{"$f":"IF($AU$21=\"INVERT\",Y26,IF(AC25>=$Z$12,\"\",IF(Y25=\"\",\"\",INDEX($Y$18:$Y$227,$AB$17-ROWS($Y$18:$Y25)))))","v":""},"",{"$f":"IF(AE25=\"\",\"\",\n    IF($AU$21=\"TYP\",\n       IF(Z25=\"\",\"\", INDEX($Z$18:$Z$227, $AB$17-ROWS($Z$18:$Z25))),\n       IF($AU$21=\"INVERT\",Z26, \"\")\n    )\n)","v":""},"",null,{"$f":"IF(BL25>=$Z$12,\"\",IF(Y25=\"\",\"\",INDEX($Y$18:$Y$227,$AB$17-ROWS($Y$18:$Y25))))","v":{"v":0.08399999999999926,"d":"0.08"}},{"$f":"IF(#REF!=\"\",\"\",#REF!/43560)","v":{"$error":"#REF!"}},{"$f":"#REF!","v":{"$error":"#REF!"}}]
[27,102.2,{"$f":"IF(B27=\"\",\"\",IFERROR(_xlfn.XLOOKUP(ROUND(B27,1),MetricIncrementalData[System Increment],_xlfn.XLOOKUP('Metric Incremental Crate'!$R$3,MetricIncrementalData[#Headers],MetricIncrementalData[]),,1),0))","v":{"v":0,"d":"0.0000"}},{"v":0,"d":"0.0000"},{"$f":"IF(B27=\"\",\"\",IFERROR(_xlfn.XLOOKUP(ROUND(B27,1),MetricIncrementalData[System Increment],_xlfn.XLOOKUP(Metric_Incremental_Data_Target_Column,MetricIncrementalData[#Headers],MetricIncrementalData[]),,1),0))","v":{"v":0,"d":"0.0000"}},{"$f":"IF(B27=\"\",\"\",IF(B28=\"\",((((B27-0)/100)*Metric_Module_Square_Foot_Area)-'Cumulative Volumes Metric'!E27)*Metric_Stone_Void_Percentage,((((B27-B28)/100)*Metric_Module_Square_Foot_Area)-'Cumulative Volumes Metric'!E27)*Metric_Stone_Void_Percentage))","v":{"v":0.00225,"d":"0.0023"}},{"v":0.23625,"d":"0.24"},{"$f":"IF(B27=\"\",\"\",((Metric_System_Area_Input-Metric_Number_Of_Stacks*_xlfn.XLOOKUP(Metric_Layers,CrateData[Layer],CrateData[Surface Area (m2)]))*((B27-IF(B28=\"\",0,B28))/100))*Metric_Stone_Void_Percentage)","v":{"v":0.00375,"d":"0.00"}},0.24,0.24,{"$f":"IF(B27=\"\",\"\",SUM(J27:$J$563))","v":{"v":50.98799999999996,"d":"50.99"}},101.022,{"$nulls":9},101.022,null,{"v":1.014,"d":"1.01"},1.014,{"v":23.99999999998721,"d":"24.000"},null,1,{"$f":"IF($AU$21=\"INVERT\",Y27,IF(AC26>=$Z$12,\"\",IF(Y26=\"\",\"\",INDEX($Y$18:$Y$227,$AB$17-ROWS($Y$18:$Y26)))))","v":""},"","","",{"$nulls":26},{"$f":"IF($AU$21=\"INVERT\",Y27,IF(AC26>=$Z$12,\"\",IF(Y26=\"\",\"\",INDEX($Y$18:$Y$227,$AB$17-ROWS($Y$18:$Y26)))))","v":""},"",{"$f":"IF(AE26=\"\",\"\",\n    IF($AU$21=\"TYP\",\n       IF(Z26=\"\",\"\", INDEX($Z$18:$Z$227, $AB$17-ROWS($Z$18:$Z26))),\n       IF($AU$21=\"INVERT\",Z27, \"\")\n    )\n)","v":""},"",null,{"$f":"IF(BL26>=$Z$12,\"\",IF(Y26=\"\",\"\",INDEX($Y$18:$Y$227,$AB$17-ROWS($Y$18:$Y26))))","v":{"v":0.09399999999999925,"d":"0.09"}},{"$f":"IF(#REF!=\"\",\"\",#REF!/43560)","v":{"$error":"#REF!"}},{"$f":"#REF!","v":{"$error":"#REF!"}}]
[28,101.2,{"$f":"IF(B28=\"\",\"\",IFERROR(_xlfn.XLOOKUP(ROUND(B28,1),MetricIncrementalData[System Increment],_xlfn.XLOOKUP('Metric Incremental Crate'!$R$3,MetricIncrementalData[#Headers],MetricIncrementalData[]),,1),0))","v":{"v":0,"d":"0.0000"}},{"v":0,"d":"0.0000"},{"$f":"IF(B28=\"\",\"\",IFERROR(_xlfn.XLOOKUP(ROUND(B28,1),MetricIncrementalData[System Increment],_xlfn.XLOOKUP(Metric_Incremental_Data_Target_Column,MetricIncrementalData[#Headers],MetricIncrementalData[]),,1),0))","v":{"v":0,"d":"0.0000"}},{"$f":"IF(B28=\"\",\"\",IF(B29=\"\",((((B28-0)/100)*Metric_Module_Square_Foot_Area)-'Cumulative Volumes Metric'!E28)*Metric_Stone_Void_Percentage,((((B28-B29)/100)*Metric_Module_Square_Foot_Area)-'Cumulative Volumes Metric'!E28)*Metric_Stone_Void_Percentage))","v":{"v":0.00225,"d":"0.0023"}},{"v":0.23625,"d":"0.24"},{"$f":"IF(B28=\"\",\"\",((Metric_System_Area_Input-Metric_Number_Of_Stacks*_xlfn.XLOOKUP(Metric_Layers,CrateData[Layer],CrateData[Surface Area (m2)]))*((B28-IF(B29=\"\",0,B29))/100))*Metric_Stone_Void_Percentage)","v":{"v":0.00375,"d":"0.00"}},0.24,0.24,{"$f":"IF(B28=\"\",\"\",SUM(J28:$J$563))","v":{"v":50.74799999999996,"d":"50.75"}},101.012,{"$nulls":3},"Target Volume",null,"m3",{"$nulls":3},101.012,null,{"v":1.004,"d":"1.00"},1.004,{"v":23.99999999998792,"d":"24.000"},null,1,{"$f":"IF($AU$21=\"INVERT\",Y28,IF(AC27>=$Z$12,\"\",IF(Y27=\"\",\"\",INDEX($Y$18:$Y$227,$AB$17-ROWS($Y$18:$Y27)))))","v":""},"","","",{"$nulls":26},{"$f":"IF($AU$21=\"INVERT\",Y28,IF(AC27>=$Z$12,\"\",IF(Y27=\"\",\"\",INDEX($Y$18:$Y$227,$AB$17-ROWS($Y$18:$Y27)))))","v":""},"",{"$f":"IF(AE27=\"\",\"\",\n    IF($AU$21=\"TYP\",\n       IF(Z27=\"\",\"\", INDEX($Z$18:$Z$227, $AB$17-ROWS($Z$18:$Z27))),\n       IF($AU$21=\"INVERT\",Z28, \"\")\n    )\n)","v":""},"",null,{"$f":"IF(BL27>=$Z$12,\"\",IF(Y27=\"\",\"\",INDEX($Y$18:$Y$227,$AB$17-ROWS($Y$18:$Y27))))","v":{"v":0.10399999999999925,"d":"0.10"}},{"$f":"IF(#REF!=\"\",\"\",#REF!/43560)","v":{"$error":"#REF!"}},{"$f":"#REF!","v":{"$error":"#REF!"}}]
[29,100.2,{"$f":"IF(B29=\"\",\"\",IFERROR(_xlfn.XLOOKUP(ROUND(B29,1),MetricIncrementalData[System Increment],_xlfn.XLOOKUP('Metric Incremental Crate'!$R$3,MetricIncrementalData[#Headers],MetricIncrementalData[]),,1),0))","v":{"v":0,"d":"0.0000"}},{"v":0,"d":"0.0000"},{"$f":"IF(B29=\"\",\"\",IFERROR(_xlfn.XLOOKUP(ROUND(B29,1),MetricIncrementalData[System Increment],_xlfn.XLOOKUP(Metric_Incremental_Data_Target_Column,MetricIncrementalData[#Headers],MetricIncrementalData[]),,1),0))","v":{"v":0,"d":"0.0000"}},{"$f":"IF(B29=\"\",\"\",IF(B30=\"\",((((B29-0)/100)*Metric_Module_Square_Foot_Area)-'Cumulative Volumes Metric'!E29)*Metric_Stone_Void_Percentage,((((B29-B30)/100)*Metric_Module_Square_Foot_Area)-'Cumulative Volumes Metric'!E29)*Metric_Stone_Void_Percentage))","v":{"v":0.00225,"d":"0.0023"}},{"v":0.23625,"d":"0.24"},{"$f":"IF(B29=\"\",\"\",((Metric_System_Area_Input-Metric_Number_Of_Stacks*_xlfn.XLOOKUP(Metric_Layers,CrateData[Layer],CrateData[Surface Area (m2)]))*((B29-IF(B30=\"\",0,B30))/100))*Metric_Stone_Void_Percentage)","v":{"v":0.00375,"d":"0.00"}},0.24,0.24,{"$f":"IF(B29=\"\",\"\",SUM(J29:$J$563))","v":{"v":50.50799999999996,"d":"50.51"}},101.002,{"$nulls":3},"Target Volume Elevation",{"$f":"InterpolationMetric!C11","v":""},"m",{"$nulls":3},101.002,null,{"v":0.994,"d":"0.99"},0.994,{"v":24.000000000021316,"d":"24.000"},null,1,{"$f":"IF($AU$21=\"INVERT\",Y29,IF(AC28>=$Z$12,\"\",IF(Y28=\"\",\"\",INDEX($Y$18:$Y$227,$AB$17-ROWS($Y$18:$Y28)))))","v":""},"","","",{"$nulls":6},"Toggle Printout",{"$nulls":19},{"$f":"IF($AU$21=\"INVERT\",Y29,IF(AC28>=$Z$12,\"\",IF(Y28=\"\",\"\",INDEX($Y$18:$Y$227,$AB$17-ROWS($Y$18:$Y28)))))","v":""},"",{"$f":"IF(AE28=\"\",\"\",\n    IF($AU$21=\"TYP\",\n       IF(Z28=\"\",\"\", INDEX($Z$18:$Z$227, $AB$17-ROWS($Z$18:$Z28))),\n       IF($AU$21=\"INVERT\",Z29, \"\")\n    )\n)","v":""},"",null,{"$f":"IF(BL28>=$Z$12,\"\",IF(Y28=\"\",\"\",INDEX($Y$18:$Y$227,$AB$17-ROWS($Y$18:$Y28))))","v":{"v":0.11399999999999924,"d":"0.11"}},{"$f":"IF(#REF!=\"\",\"\",#REF!/43560)","v":{"$error":"#REF!"}},{"$f":"#REF!","v":{"$error":"#REF!"}}]
[30,99.2,{"$f":"IF(B30=\"\",\"\",IFERROR(_xlfn.XLOOKUP(ROUND(B30,1),MetricIncrementalData[System Increment],_xlfn.XLOOKUP('Metric Incremental Crate'!$R$3,MetricIncrementalData[#Headers],MetricIncrementalData[]),,1),0))","v":{"v":0,"d":"0.0000"}},{"v":0,"d":"0.0000"},{"$f":"IF(B30=\"\",\"\",IFERROR(_xlfn.XLOOKUP(ROUND(B30,1),MetricIncrementalData[System Increment],_xlfn.XLOOKUP(Metric_Incremental_Data_Target_Column,MetricIncrementalData[#Headers],MetricIncrementalData[]),,1),0))","v":{"v":0,"d":"0.0000"}},{"$f":"IF(B30=\"\",\"\",IF(B31=\"\",((((B30-0)/100)*Metric_Module_Square_Foot_Area)-'Cumulative Volumes Metric'!E30)*Metric_Stone_Void_Percentage,((((B30-B31)/100)*Metric_Module_Square_Foot_Area)-'Cumulative Volumes Metric'!E30)*Metric_Stone_Void_Percentage))","v":{"v":0.00225,"d":"0.0023"}},{"v":0.23625,"d":"0.24"},{"$f":"IF(B30=\"\",\"\",((Metric_System_Area_Input-Metric_Number_Of_Stacks*_xlfn.XLOOKUP(Metric_Layers,CrateData[Layer],CrateData[Surface Area (m2)]))*((B30-IF(B31=\"\",0,B31))/100))*Metric_Stone_Void_Percentage)","v":{"v":0.00375,"d":"0.00"}},0.24,0.24,{"$f":"IF(B30=\"\",\"\",SUM(J30:$J$563))","v":{"v":50.267999999999965,"d":"50.27"}},100.992,{"$nulls":9},100.992,null,{"v":0.984,"d":"0.98"},0.984,{"v":23.99999999998792,"d":"24.000"},null,1,{"$f":"IF($AU$21=\"INVERT\",Y30,IF(AC29>=$Z$12,\"\",IF(Y29=\"\",\"\",INDEX($Y$18:$Y$227,$AB$17-ROWS($Y$18:$Y29)))))","v":""},"","","",{"$nulls":7},"Target Volume",{"$nulls":5},{"$f":"NOT(AND(AU17=TRUE, AU23=TRUE))","v":true},{"$nulls":12},{"$f":"IF($AU$21=\"INVERT\",Y30,IF(AC29>=$Z$12,\"\",IF(Y29=\"\",\"\",INDEX($Y$18:$Y$227,$AB$17-ROWS($Y$18:$Y29)))))","v":""},"",{"$f":"IF(AE29=\"\",\"\",\n    IF($AU$21=\"TYP\",\n       IF(Z29=\"\",\"\", INDEX($Z$18:$Z$227, $AB$17-ROWS($Z$18:$Z29))),\n       IF($AU$21=\"INVERT\",Z30, \"\")\n    )\n)","v":""},"",null,{"$f":"IF(BL29>=$Z$12,\"\",IF(Y29=\"\",\"\",INDEX($Y$18:$Y$227,$AB$17-ROWS($Y$18:$Y29))))","v":{"v":0.12399999999999924,"d":"0.12"}},{"$f":"IF(#REF!=\"\",\"\",#REF!/43560)","v":{"$error":"#REF!"}},{"$f":"#REF!","v":{"$error":"#REF!"}}]
[31,98.2,{"$f":"IF(B31=\"\",\"\",IFERROR(_xlfn.XLOOKUP(ROUND(B31,1),MetricIncrementalData[System Increment],_xlfn.XLOOKUP('Metric Incremental Crate'!$R$3,MetricIncrementalData[#Headers],MetricIncrementalData[]),,1),0))","v":{"v":0,"d":"0.0000"}},{"v":0,"d":"0.0000"},{"$f":"IF(B31=\"\",\"\",IFERROR(_xlfn.XLOOKUP(ROUND(B31,1),MetricIncrementalData[System Increment],_xlfn.XLOOKUP(Metric_Incremental_Data_Target_Column,MetricIncrementalData[#Headers],MetricIncrementalData[]),,1),0))","v":{"v":0,"d":"0.0000"}},{"$f":"IF(B31=\"\",\"\",IF(B32=\"\",((((B31-0)/100)*Metric_Module_Square_Foot_Area)-'Cumulative Volumes Metric'!E31)*Metric_Stone_Void_Percentage,((((B31-B32)/100)*Metric_Module_Square_Foot_Area)-'Cumulative Volumes Metric'!E31)*Metric_Stone_Void_Percentage))","v":{"v":0.00225,"d":"0.0023"}},{"v":0.23625,"d":"0.24"},{"$f":"IF(B31=\"\",\"\",((Metric_System_Area_Input-Metric_Number_Of_Stacks*_xlfn.XLOOKUP(Metric_Layers,CrateData[Layer],CrateData[Surface Area (m2)]))*((B31-IF(B32=\"\",0,B32))/100))*Metric_Stone_Void_Percentage)","v":{"v":0.00375,"d":"0.00"}},0.24,0.24,{"$f":"IF(B31=\"\",\"\",SUM(J31:$J$563))","v":{"v":50.02799999999996,"d":"50.03"}},100.982,{"$nulls":9},100.982,null,{"v":0.974,"d":"0.97"},0.974,{"v":23.99999999998721,"d":"24.000"},null,1,{"$f":"IF($AU$21=\"INVERT\",Y31,IF(AC30>=$Z$12,\"\",IF(Y30=\"\",\"\",INDEX($Y$18:$Y$227,$AB$17-ROWS($Y$18:$Y30)))))","v":""},"","","",{"$nulls":7},"Reference Elevation",{"$nulls":18},{"$f":"IF($AU$21=\"INVERT\",Y31,IF(AC30>=$Z$12,\"\",IF(Y30=\"\",\"\",INDEX($Y$18:$Y$227,$AB$17-ROWS($Y$18:$Y30)))))","v":""},"",{"$f":"IF(AE30=\"\",\"\",\n    IF($AU$21=\"TYP\",\n       IF(Z30=\"\",\"\", INDEX($Z$18:$Z$227, $AB$17-ROWS($Z$18:$Z30))),\n       IF($AU$21=\"INVERT\",Z31, \"\")\n    )\n)","v":""},"",null,{"$f":"IF(BL30>=$Z$12,\"\",IF(Y30=\"\",\"\",INDEX($Y$18:$Y$227,$AB$17-ROWS($Y$18:$Y30))))","v":{"v":0.13399999999999923,"d":"0.13"}},{"$f":"IF(#REF!=\"\",\"\",#REF!/43560)","v":{"$error":"#REF!"}},{"$f":"#REF!","v":{"$error":"#REF!"}}]
[32,97.2,{"$f":"IF(B32=\"\",\"\",IFERROR(_xlfn.XLOOKUP(ROUND(B32,1),MetricIncrementalData[System Increment],_xlfn.XLOOKUP('Metric Incremental Crate'!$R$3,MetricIncrementalData[#Headers],MetricIncrementalData[]),,1),0))","v":{"v":0,"d":"0.0000"}},{"v":0,"d":"0.0000"},{"$f":"IF(B32=\"\",\"\",IFERROR(_xlfn.XLOOKUP(ROUND(B32,1),MetricIncrementalData[System Increment],_xlfn.XLOOKUP(Metric_Incremental_Data_Target_Column,MetricIncrementalData[#Headers],MetricIncrementalData[]),,1),0))","v":{"v":0,"d":"0.0000"}},{"$f":"IF(B32=\"\",\"\",IF(B33=\"\",((((B32-0)/100)*Metric_Module_Square_Foot_Area)-'Cumulative Volumes Metric'!E32)*Metric_Stone_Void_Percentage,((((B32-B33)/100)*Metric_Module_Square_Foot_Area)-'Cumulative Volumes Metric'!E32)*Metric_Stone_Void_Percentage))","v":{"v":0.00225,"d":"0.0023"}},{"v":0.23625,"d":"0.24"},{"$f":"IF(B32=\"\",\"\",((Metric_System_Area_Input-Metric_Number_Of_Stacks*_xlfn.XLOOKUP(Metric_Layers,CrateData[Layer],CrateData[Surface Area (m2)]))*((B32-IF(B33=\"\",0,B33))/100))*Metric_Stone_Void_Percentage)","v":{"v":0.00375,"d":"0.00"}},0.24,0.24,{"$f":"IF(B32=\"\",\"\",SUM(J32:$J$563))","v":{"v":49.78799999999997,"d":"49.79"}},100.972,{"$nulls":9},100.972,null,{"v":0.964,"d":"0.96"},0.964,{"v":24.000000000022027,"d":"24.000"},null,1,{"$f":"IF($AU$21=\"INVERT\",Y32,IF(AC31>=$Z$12,\"\",IF(Y31=\"\",\"\",INDEX($Y$18:$Y$227,$AB$17-ROWS($Y$18:$Y31)))))","v":""},"","","",{"$nulls":7},"Volume below Reference Elevation","",{"$nulls":17},{"$f":"IF($AU$21=\"INVERT\",Y32,IF(AC31>=$Z$12,\"\",IF(Y31=\"\",\"\",INDEX($Y$18:$Y$227,$AB$17-ROWS($Y$18:$Y31)))))","v":""},"",{"$f":"IF(AE31=\"\",\"\",\n    IF($AU$21=\"TYP\",\n       IF(Z31=\"\",\"\", INDEX($Z$18:$Z$227, $AB$17-ROWS($Z$18:$Z31))),\n       IF($AU$21=\"INVERT\",Z32, \"\")\n    )\n)","v":""},"",null,{"$f":"IF(BL31>=$Z$12,\"\",IF(Y31=\"\",\"\",INDEX($Y$18:$Y$227,$AB$17-ROWS($Y$18:$Y31))))","v":{"v":0.14399999999999924,"d":"0.14"}},{"$f":"IF(#REF!=\"\",\"\",#REF!/43560)","v":{"$error":"#REF!"}},{"$f":"#REF!","v":{"$error":"#REF!"}}]
[33,96.2,{"$f":"IF(B33=\"\",\"\",IFERROR(_xlfn.XLOOKUP(ROUND(B33,1),MetricIncrementalData[System Increment],_xlfn.XLOOKUP('Metric Incremental Crate'!$R$3,MetricIncrementalData[#Headers],MetricIncrementalData[]),,1),0))","v":{"v":0,"d":"0.0000"}},{"v":0,"d":"0.0000"},{"$f":"IF(B33=\"\",\"\",IFERROR(_xlfn.XLOOKUP(ROUND(B33,1),MetricIncrementalData[System Increment],_xlfn.XLOOKUP(Metric_Incremental_Data_Target_Column,MetricIncrementalData[#Headers],MetricIncrementalData[]),,1),0))","v":{"v":0,"d":"0.0000"}},{"$f":"IF(B33=\"\",\"\",IF(B34=\"\",((((B33-0)/100)*Metric_Module_Square_Foot_Area)-'Cumulative Volumes Metric'!E33)*Metric_Stone_Void_Percentage,((((B33-B34)/100)*Metric_Module_Square_Foot_Area)-'Cumulative Volumes Metric'!E33)*Metric_Stone_Void_Percentage))","v":{"v":0.00225,"d":"0.0023"}},{"v":0.23625,"d":"0.24"},{"$f":"IF(B33=\"\",\"\",((Metric_System_Area_Input-Metric_Number_Of_Stacks*_xlfn.XLOOKUP(Metric_Layers,CrateData[Layer],CrateData[Surface Area (m2)]))*((B33-IF(B34=\"\",0,B34))/100))*Metric_Stone_Void_Percentage)","v":{"v":0.00375,"d":"0.00"}},0.24,0.24,{"$f":"IF(B33=\"\",\"\",SUM(J33:$J$563))","v":{"v":49.547999999999966,"d":"49.55"}},100.962,{"$nulls":9},100.962,null,{"v":0.954,"d":"0.95"},0.954,{"v":23.99999999998721,"d":"24.000"},null,1,{"$f":"IF($AU$21=\"INVERT\",Y33,IF(AC32>=$Z$12,\"\",IF(Y32=\"\",\"\",INDEX($Y$18:$Y$227,$AB$17-ROWS($Y$18:$Y32)))))","v":""},"","","",{"$nulls":7},"Target Volume + Volume Below Reference Elevation",{"$f":"IFERROR(AO32+AO30,\"\")","v":""},{"$nulls":17},{"$f":"IF($AU$21=\"INVERT\",Y33,IF(AC32>=$Z$12,\"\",IF(Y32=\"\",\"\",INDEX($Y$18:$Y$227,$AB$17-ROWS($Y$18:$Y32)))))","v":""},"",{"$f":"IF(AE32=\"\",\"\",\n    IF($AU$21=\"TYP\",\n       IF(Z32=\"\",\"\", INDEX($Z$18:$Z$227, $AB$17-ROWS($Z$18:$Z32))),\n       IF($AU$21=\"INVERT\",Z33, \"\")\n    )\n)","v":""},"",null,{"$f":"IF(BL32>=$Z$12,\"\",IF(Y32=\"\",\"\",INDEX($Y$18:$Y$227,$AB$17-ROWS($Y$18:$Y32))))","v":{"v":0.15399999999999925,"d":"0.15"}},{"$f":"IF(#REF!=\"\",\"\",#REF!/43560)","v":{"$error":"#REF!"}},{"$f":"#REF!","v":{"$error":"#REF!"}}]
[34,95.2,{"$f":"IF(B34=\"\",\"\",IFERROR(_xlfn.XLOOKUP(ROUND(B34,1),MetricIncrementalData[System Increment],_xlfn.XLOOKUP('Metric Incremental Crate'!$R$3,MetricIncrementalData[#Headers],MetricIncrementalData[]),,1),0))","v":{"v":0.005399999999999999,"d":"0.0054"}},{"v":0.567,"d":"0.5670"},{"$f":"IF(B34=\"\",\"\",IFERROR(_xlfn.XLOOKUP(ROUND(B34,1),MetricIncrementalData[System Increment],_xlfn.XLOOKUP(Metric_Incremental_Data_Target_Column,MetricIncrementalData[#Headers],MetricIncrementalData[]),,1),0))","v":{"v":0.005625,"d":"0.0056"}},{"$f":"IF(B34=\"\",\"\",IF(B35=\"\",((((B34-0)/100)*Metric_Module_Square_Foot_Area)-'Cumulative Volumes Metric'!E34)*Metric_Stone_Void_Percentage,((((B34-B35)/100)*Metric_Module_Square_Foot_Area)-'Cumulative Volumes Metric'!E34)*Metric_Stone_Void_Percentage))","v":{"v":0,"d":"0.0000"}},{"v":0,"d":"0.00"},{"$f":"IF(B34=\"\",\"\",((Metric_System_Area_Input-Metric_Number_Of_Stacks*_xlfn.XLOOKUP(Metric_Layers,CrateData[Layer],CrateData[Surface Area (m2)]))*((B34-IF(B35=\"\",0,B35))/100))*Metric_Stone_Void_Percentage)","v":{"v":0.00375,"d":"0.00"}},{"v":0.00375,"d":"0.00"},{"v":0.57075,"d":"0.57"},{"$f":"IF(B34=\"\",\"\",SUM(J34:$J$563))","v":{"v":49.30799999999997,"d":"49.31"}},100.952,{"$nulls":9},100.952,null,{"v":0.944,"d":"0.94"},0.944,{"v":57.07499999997048,"d":"57.075"},null,1,{"$f":"IF($AU$21=\"INVERT\",Y34,IF(AC33>=$Z$12,\"\",IF(Y33=\"\",\"\",INDEX($Y$18:$Y$227,$AB$17-ROWS($Y$18:$Y33)))))","v":""},"","","",{"$nulls":6},false,"Target Volume achieved at Elevation","",{"$nulls":17},{"$f":"IF($AU$21=\"INVERT\",Y34,IF(AC33>=$Z$12,\"\",IF(Y33=\"\",\"\",INDEX($Y$18:$Y$227,$AB$17-ROWS($Y$18:$Y33)))))","v":""},"",{"$f":"IF(AE33=\"\",\"\",\n    IF($AU$21=\"TYP\",\n       IF(Z33=\"\",\"\", INDEX($Z$18:$Z$227, $AB$17-ROWS($Z$18:$Z33))),\n       IF($AU$21=\"INVERT\",Z34, \"\")\n    )\n)","v":""},"",null,{"$f":"IF(BL33>=$Z$12,\"\",IF(Y33=\"\",\"\",INDEX($Y$18:$Y$227,$AB$17-ROWS($Y$18:$Y33))))","v":{"v":0.16399999999999926,"d":"0.16"}},{"$f":"IF(#REF!=\"\",\"\",#REF!/43560)","v":{"$error":"#REF!"}},{"$f":"#REF!","v":{"$error":"#REF!"}}]
[35,94.2,{"$f":"IF(B35=\"\",\"\",IFERROR(_xlfn.XLOOKUP(ROUND(B35,1),MetricIncrementalData[System Increment],_xlfn.XLOOKUP('Metric Incremental Crate'!$R$3,MetricIncrementalData[#Headers],MetricIncrementalData[]),,1),0))","v":{"v":0.005399999999999999,"d":"0.0054"}},{"v":0.567,"d":"0.5670"},{"$f":"IF(B35=\"\",\"\",IFERROR(_xlfn.XLOOKUP(ROUND(B35,1),MetricIncrementalData[System Increment],_xlfn.XLOOKUP(Metric_Incremental_Data_Target_Column,MetricIncrementalData[#Headers],MetricIncrementalData[]),,1),0))","v":{"v":0.005625,"d":"0.0056"}},{"$f":"IF(B35=\"\",\"\",IF(B36=\"\",((((B35-0)/100)*Metric_Module_Square_Foot_Area)-'Cumulative Volumes Metric'!E35)*Metric_Stone_Void_Percentage,((((B35-B36)/100)*Metric_Module_Square_Foot_Area)-'Cumulative Volumes Metric'!E35)*Metric_Stone_Void_Percentage))","v":{"v":0,"d":"0.0000"}},{"v":0,"d":"0.00"},{"$f":"IF(B35=\"\",\"\",((Metric_System_Area_Input-Metric_Number_Of_Stacks*_xlfn.XLOOKUP(Metric_Layers,CrateData[Layer],CrateData[Surface Area (m2)]))*((B35-IF(B36=\"\",0,B36))/100))*Metric_Stone_Void_Percentage)","v":{"v":0.00375,"d":"0.00"}},{"v":0.00375,"d":"0.00"},{"v":0.57075,"d":"0.57"},{"$f":"IF(B35=\"\",\"\",SUM(J35:$J$563))","v":{"v":48.737249999999975,"d":"48.74"}},100.942,{"$nulls":9},100.942,null,{"v":0.9339999999999999,"d":"0.93"},0.9339999999999999,{"v":57.07500000005159,"d":"57.075"},null,1,{"$f":"IF($AU$21=\"INVERT\",Y35,IF(AC34>=$Z$12,\"\",IF(Y34=\"\",\"\",INDEX($Y$18:$Y$227,$AB$17-ROWS($Y$18:$Y34)))))","v":""},"","","",{"$nulls":7},"(Optional) Apply % Credit toward Target Volume",false,{"$nulls":17},{"$f":"IF($AU$21=\"INVERT\",Y35,IF(AC34>=$Z$12,\"\",IF(Y34=\"\",\"\",INDEX($Y$18:$Y$227,$AB$17-ROWS($Y$18:$Y34)))))","v":""},"",{"$f":"IF(AE34=\"\",\"\",\n    IF($AU$21=\"TYP\",\n       IF(Z34=\"\",\"\", INDEX($Z$18:$Z$227, $AB$17-ROWS($Z$18:$Z34))),\n       IF($AU$21=\"INVERT\",Z35, \"\")\n    )\n)","v":""},"",null,{"$f":"IF(BL34>=$Z$12,\"\",IF(Y34=\"\",\"\",INDEX($Y$18:$Y$227,$AB$17-ROWS($Y$18:$Y34))))","v":{"v":0.17399999999999927,"d":"0.17"}},{"$f":"IF(#REF!=\"\",\"\",#REF!/43560)","v":{"$error":"#REF!"}},{"$f":"#REF!","v":{"$error":"#REF!"}}]
[36,93.2,{"$f":"IF(B36=\"\",\"\",IFERROR(_xlfn.XLOOKUP(ROUND(B36,1),MetricIncrementalData[System Increment],_xlfn.XLOOKUP('Metric Incremental Crate'!$R$3,MetricIncrementalData[#Headers],MetricIncrementalData[]),,1),0))","v":{"v":0.005399999999999999,"d":"0.0054"}},{"v":0.567,"d":"0.5670"},{"$f":"IF(B36=\"\",\"\",IFERROR(_xlfn.XLOOKUP(ROUND(B36,1),MetricIncrementalData[System Increment],_xlfn.XLOOKUP(Metric_Incremental_Data_Target_Column,MetricIncrementalData[#Headers],MetricIncrementalData[]),,1),0))","v":{"v":0.005625,"d":"0.0056"}},{"$f":"IF(B36=\"\",\"\",IF(B37=\"\",((((B36-0)/100)*Metric_Module_Square_Foot_Area)-'Cumulative Volumes Metric'!E36)*Metric_Stone_Void_Percentage,((((B36-B37)/100)*Metric_Module_Square_Foot_Area)-'Cumulative Volumes Metric'!E36)*Metric_Stone_Void_Percentage))","v":{"v":0,"d":"0.0000"}},{"v":0,"d":"0.00"},{"$f":"IF(B36=\"\",\"\",((Metric_System_Area_Input-Metric_Number_Of_Stacks*_xlfn.XLOOKUP(Metric_Layers,CrateData[Layer],CrateData[Surface Area (m2)]))*((B36-IF(B37=\"\",0,B37))/100))*Metric_Stone_Void_Percentage)","v":{"v":0.00375,"d":"0.00"}},{"v":0.00375,"d":"0.00"},{"v":0.57075,"d":"0.57"},{"$f":"IF(B36=\"\",\"\",SUM(J36:$J$563))","v":{"v":48.16649999999998,"d":"48.17"}},100.932,{"$nulls":9},100.932,null,{"v":0.9239999999999999,"d":"0.92"},0.9239999999999999,{"v":57.07499999997048,"d":"57.075"},null,1,{"$f":"IF($AU$21=\"INVERT\",Y36,IF(AC35>=$Z$12,\"\",IF(Y35=\"\",\"\",INDEX($Y$18:$Y$227,$AB$17-ROWS($Y$18:$Y35)))))","v":""},"","","",{"$nulls":7},"% Credited toward Target Volume below Reference Elevation",{"v":1,"d":"100%"},{"$nulls":17},{"$f":"IF($AU$21=\"INVERT\",Y36,IF(AC35>=$Z$12,\"\",IF(Y35=\"\",\"\",INDEX($Y$18:$Y$227,$AB$17-ROWS($Y$18:$Y35)))))","v":""},"",{"$f":"IF(AE35=\"\",\"\",\n    IF($AU$21=\"TYP\",\n       IF(Z35=\"\",\"\", INDEX($Z$18:$Z$227, $AB$17-ROWS($Z$18:$Z35))),\n       IF($AU$21=\"INVERT\",Z36, \"\")\n    )\n)","v":""},"",null,{"$f":"IF(BL35>=$Z$12,\"\",IF(Y35=\"\",\"\",INDEX($Y$18:$Y$227,$AB$17-ROWS($Y$18:$Y35))))","v":{"v":0.18399999999999928,"d":"0.18"}},{"$f":"IF(#REF!=\"\",\"\",#REF!/43560)","v":{"$error":"#REF!"}},{"$f":"#REF!","v":{"$error":"#REF!"}}]
[37,92.2,{"$f":"IF(B37=\"\",\"\",IFERROR(_xlfn.XLOOKUP(ROUND(B37,1),MetricIncrementalData[System Increment],_xlfn.XLOOKUP('Metric Incremental Crate'!$R$3,MetricIncrementalData[#Headers],MetricIncrementalData[]),,1),0))","v":{"v":0.005399999999999999,"d":"0.0054"}},{"v":0.567,"d":"0.5670"},{"$f":"IF(B37=\"\",\"\",IFERROR(_xlfn.XLOOKUP(ROUND(B37,1),MetricIncrementalData[System Increment],_xlfn.XLOOKUP(Metric_Incremental_Data_Target_Column,MetricIncrementalData[#Headers],MetricIncrementalData[]),,1),0))","v":{"v":0.005625,"d":"0.0056"}},{"$f":"IF(B37=\"\",\"\",IF(B38=\"\",((((B37-0)/100)*Metric_Module_Square_Foot_Area)-'Cumulative Volumes Metric'!E37)*Metric_Stone_Void_Percentage,((((B37-B38)/100)*Metric_Module_Square_Foot_Area)-'Cumulative Volumes Metric'!E37)*Metric_Stone_Void_Percentage))","v":{"v":0,"d":"0.0000"}},{"v":0,"d":"0.00"},{"$f":"IF(B37=\"\",\"\",((Metric_System_Area_Input-Metric_Number_Of_Stacks*_xlfn.XLOOKUP(Metric_Layers,CrateData[Layer],CrateData[Surface Area (m2)]))*((B37-IF(B38=\"\",0,B38))/100))*Metric_Stone_Void_Percentage)","v":{"v":0.00375,"d":"0.00"}},{"v":0.00375,"d":"0.00"},{"v":0.57075,"d":"0.57"},{"$f":"IF(B37=\"\",\"\",SUM(J37:$J$563))","v":{"v":47.59574999999998,"d":"47.60"}},100.922,{"$nulls":9},100.922,null,{"v":0.9139999999999999,"d":"0.91"},0.9139999999999999,{"v":57.07500000005159,"d":"57.075"},null,1,{"$f":"IF($AU$21=\"INVERT\",Y37,IF(AC36>=$Z$12,\"\",IF(Y36=\"\",\"\",INDEX($Y$18:$Y$227,$AB$17-ROWS($Y$18:$Y36)))))","v":""},"","","",{"$nulls":7},"Volume Credited below Reference Elevation",{"$f":"IFERROR(MIN(AO36*AO32,AO30),\"\")","v":""},{"$nulls":17},{"$f":"IF($AU$21=\"INVERT\",Y37,IF(AC36>=$Z$12,\"\",IF(Y36=\"\",\"\",INDEX($Y$18:$Y$227,$AB$17-ROWS($Y$18:$Y36)))))","v":""},"",{"$f":"IF(AE36=\"\",\"\",\n    IF($AU$21=\"TYP\",\n       IF(Z36=\"\",\"\", INDEX($Z$18:$Z$227, $AB$17-ROWS($Z$18:$Z36))),\n       IF($AU$21=\"INVERT\",Z37, \"\")\n    )\n)","v":""},"",null,{"$f":"IF(BL36>=$Z$12,\"\",IF(Y36=\"\",\"\",INDEX($Y$18:$Y$227,$AB$17-ROWS($Y$18:$Y36))))","v":{"v":0.19399999999999928,"d":"0.19"}},{"$f":"IF(#REF!=\"\",\"\",#REF!/43560)","v":{"$error":"#REF!"}},{"$f":"#REF!","v":{"$error":"#REF!"}}]
[38,91.2,{"$f":"IF(B38=\"\",\"\",IFERROR(_xlfn.XLOOKUP(ROUND(B38,1),MetricIncrementalData[System Increment],_xlfn.XLOOKUP('Metric Incremental Crate'!$R$3,MetricIncrementalData[#Headers],MetricIncrementalData[]),,1),0))","v":{"v":0.005399999999999999,"d":"0.0054"}},{"v":0.567,"d":"0.5670"},{"$f":"IF(B38=\"\",\"\",IFERROR(_xlfn.XLOOKUP(ROUND(B38,1),MetricIncrementalData[System Increment],_xlfn.XLOOKUP(Metric_Incremental_Data_Target_Column,MetricIncrementalData[#Headers],MetricIncrementalData[]),,1),0))","v":{"v":0.005625,"d":"0.0056"}},{"$f":"IF(B38=\"\",\"\",IF(B39=\"\",((((B38-0)/100)*Metric_Module_Square_Foot_Area)-'Cumulative Volumes Metric'!E38)*Metric_Stone_Void_Percentage,((((B38-B39)/100)*Metric_Module_Square_Foot_Area)-'Cumulative Volumes Metric'!E38)*Metric_Stone_Void_Percentage))","v":{"v":0,"d":"0.0000"}},{"v":0,"d":"0.00"},{"$f":"IF(B38=\"\",\"\",((Metric_System_Area_Input-Metric_Number_Of_Stacks*_xlfn.XLOOKUP(Metric_Layers,CrateData[Layer],CrateData[Surface Area (m2)]))*((B38-IF(B39=\"\",0,B39))/100))*Metric_Stone_Void_Percentage)","v":{"v":0.00375,"d":"0.00"}},{"v":0.00375,"d":"0.00"},{"v":0.57075,"d":"0.57"},{"$f":"IF(B38=\"\",\"\",SUM(J38:$J$563))","v":{"v":47.024999999999984,"d":"47.03"}},100.912,{"$nulls":9},100.912,null,{"v":0.9039999999999999,"d":"0.90"},0.9039999999999999,{"v":57.07499999997048,"d":"57.075"},null,1,{"$f":"IF($AU$21=\"INVERT\",Y38,IF(AC37>=$Z$12,\"\",IF(Y37=\"\",\"\",INDEX($Y$18:$Y$227,$AB$17-ROWS($Y$18:$Y37)))))","v":""},"","","",{"$nulls":7},"Volume Discredited below Reference Elevation",{"$f":"IFERROR(IF(AO37=0,0,(AO37/AO36)*(1-AO36)),\"\")","v":""},{"$nulls":17},{"$f":"IF($AU$21=\"INVERT\",Y38,IF(AC37>=$Z$12,\"\",IF(Y37=\"\",\"\",INDEX($Y$18:$Y$227,$AB$17-ROWS($Y$18:$Y37)))))","v":""},"",{"$f":"IF(AE37=\"\",\"\",\n    IF($AU$21=\"TYP\",\n       IF(Z37=\"\",\"\", INDEX($Z$18:$Z$227, $AB$17-ROWS($Z$18:$Z37))),\n       IF($AU$21=\"INVERT\",Z38, \"\")\n    )\n)","v":""},"",null,{"$f":"IF(BL37>=$Z$12,\"\",IF(Y37=\"\",\"\",INDEX($Y$18:$Y$227,$AB$17-ROWS($Y$18:$Y37))))","v":{"v":0.2039999999999993,"d":"0.20"}},{"$f":"IF(#REF!=\"\",\"\",#REF!/43560)","v":{"$error":"#REF!"}},{"$f":"#REF!","v":{"$error":"#REF!"}}]
[39,90.2,{"$f":"IF(B39=\"\",\"\",IFERROR(_xlfn.XLOOKUP(ROUND(B39,1),MetricIncrementalData[System Increment],_xlfn.XLOOKUP('Metric Incremental Crate'!$R$3,MetricIncrementalData[#Headers],MetricIncrementalData[]),,1),0))","v":{"v":0.005399999999999999,"d":"0.0054"}},{"v":0.567,"d":"0.5670"},{"$f":"IF(B39=\"\",\"\",IFERROR(_xlfn.XLOOKUP(ROUND(B39,1),MetricIncrementalData[System Increment],_xlfn.XLOOKUP(Metric_Incremental_Data_Target_Column,MetricIncrementalData[#Headers],MetricIncrementalData[]),,1),0))","v":{"v":0.005625,"d":"0.0056"}},{"$f":"IF(B39=\"\",\"\",IF(B40=\"\",((((B39-0)/100)*Metric_Module_Square_Foot_Area)-'Cumulative Volumes Metric'!E39)*Metric_Stone_Void_Percentage,((((B39-B40)/100)*Metric_Module_Square_Foot_Area)-'Cumulative Volumes Metric'!E39)*Metric_Stone_Void_Percentage))","v":{"v":0,"d":"0.0000"}},{"v":0,"d":"0.00"},{"$f":"IF(B39=\"\",\"\",((Metric_System_Area_Input-Metric_Number_Of_Stacks*_xlfn.XLOOKUP(Metric_Layers,CrateData[Layer],CrateData[Surface Area (m2)]))*((B39-IF(B40=\"\",0,B40))/100))*Metric_Stone_Void_Percentage)","v":{"v":0.00375,"d":"0.00"}},{"v":0.00375,"d":"0.00"},{"v":0.57075,"d":"0.57"},{"$f":"IF(B39=\"\",\"\",SUM(J39:$J$563))","v":{"v":46.45424999999999,"d":"46.45"}},100.902,{"$nulls":9},100.902,null,{"v":0.8939999999999999,"d":"0.89"},0.8939999999999999,{"v":57.07499999997048,"d":"57.075"},null,1,{"$f":"IF($AU$21=\"INVERT\",Y39,IF(AC38>=$Z$12,\"\",IF(Y38=\"\",\"\",INDEX($Y$18:$Y$227,$AB$17-ROWS($Y$18:$Y38)))))","v":""},"","","",{"$nulls":8},{"$f":"SUM(AO37:AO38)","v":0},{"$nulls":17},{"$f":"IF($AU$21=\"INVERT\",Y39,IF(AC38>=$Z$12,\"\",IF(Y38=\"\",\"\",INDEX($Y$18:$Y$227,$AB$17-ROWS($Y$18:$Y38)))))","v":""},"",{"$f":"IF(AE38=\"\",\"\",\n    IF($AU$21=\"TYP\",\n       IF(Z38=\"\",\"\", INDEX($Z$18:$Z$227, $AB$17-ROWS($Z$18:$Z38))),\n       IF($AU$21=\"INVERT\",Z39, \"\")\n    )\n)","v":""},"",null,{"$f":"IF(BL38>=$Z$12,\"\",IF(Y38=\"\",\"\",INDEX($Y$18:$Y$227,$AB$17-ROWS($Y$18:$Y38))))","v":{"v":0.2139999999999993,"d":"0.21"}},{"$f":"IF(#REF!=\"\",\"\",#REF!/43560)","v":{"$error":"#REF!"}},{"$f":"#REF!","v":{"$error":"#REF!"}}]
[40,89.2,{"$f":"IF(B40=\"\",\"\",IFERROR(_xlfn.XLOOKUP(ROUND(B40,1),MetricIncrementalData[System Increment],_xlfn.XLOOKUP('Metric Incremental Crate'!$R$3,MetricIncrementalData[#Headers],MetricIncrementalData[]),,1),0))","v":{"v":0.005399999999999999,"d":"0.0054"}},{"v":0.567,"d":"0.5670"},{"$f":"IF(B40=\"\",\"\",IFERROR(_xlfn.XLOOKUP(ROUND(B40,1),MetricIncrementalData[System Increment],_xlfn.XLOOKUP(Metric_Incremental_Data_Target_Column,MetricIncrementalData[#Headers],MetricIncrementalData[]),,1),0))","v":{"v":0.005625,"d":"0.0056"}},{"$f":"IF(B40=\"\",\"\",IF(B41=\"\",((((B40-0)/100)*Metric_Module_Square_Foot_Area)-'Cumulative Volumes Metric'!E40)*Metric_Stone_Void_Percentage,((((B40-B41)/100)*Metric_Module_Square_Foot_Area)-'Cumulative Volumes Metric'!E40)*Metric_Stone_Void_Percentage))","v":{"v":0,"d":"0.0000"}},{"v":0,"d":"0.00"},{"$f":"IF(B40=\"\",\"\",((Metric_System_Area_Input-Metric_Number_Of_Stacks*_xlfn.XLOOKUP(Metric_Layers,CrateData[Layer],CrateData[Surface Area (m2)]))*((B40-IF(B41=\"\",0,B41))/100))*Metric_Stone_Void_Percentage)","v":{"v":0.00375,"d":"0.00"}},{"v":0.00375,"d":"0.00"},{"v":0.57075,"d":"0.57"},{"$f":"IF(B40=\"\",\"\",SUM(J40:$J$563))","v":{"v":45.88349999999999,"d":"45.88"}},100.892,{"$nulls":9},100.892,null,{"v":0.8839999999999999,"d":"0.88"},0.8839999999999999,{"v":57.07500000005159,"d":"57.075"},null,1,{"$f":"IF($AU$21=\"INVERT\",Y40,IF(AC39>=$Z$12,\"\",IF(Y39=\"\",\"\",INDEX($Y$18:$Y$227,$AB$17-ROWS($Y$18:$Y39)))))","v":""},"","","",{"$nulls":7},"% Credited toward Target Volume above Reference Elevation",{"v":0.5,"d":"50%"},{"$nulls":17},{"$f":"IF($AU$21=\"INVERT\",Y40,IF(AC39>=$Z$12,\"\",IF(Y39=\"\",\"\",INDEX($Y$18:$Y$227,$AB$17-ROWS($Y$18:$Y39)))))","v":""},"",{"$f":"IF(AE39=\"\",\"\",\n    IF($AU$21=\"TYP\",\n       IF(Z39=\"\",\"\", INDEX($Z$18:$Z$227, $AB$17-ROWS($Z$18:$Z39))),\n       IF($AU$21=\"INVERT\",Z40, \"\")\n    )\n)","v":""},"",null,{"$f":"IF(BL39>=$Z$12,\"\",IF(Y39=\"\",\"\",INDEX($Y$18:$Y$227,$AB$17-ROWS($Y$18:$Y39))))","v":{"v":0.2239999999999993,"d":"0.22"}},{"$f":"IF(#REF!=\"\",\"\",#REF!/43560)","v":{"$error":"#REF!"}},{"$f":"#REF!","v":{"$error":"#REF!"}}]
[41,88.2,{"$f":"IF(B41=\"\",\"\",IFERROR(_xlfn.XLOOKUP(ROUND(B41,1),MetricIncrementalData[System Increment],_xlfn.XLOOKUP('Metric Incremental Crate'!$R$3,MetricIncrementalData[#Headers],MetricIncrementalData[]),,1),0))","v":{"v":0.005399999999999999,"d":"0.0054"}},{"v":0.567,"d":"0.5670"},{"$f":"IF(B41=\"\",\"\",IFERROR(_xlfn.XLOOKUP(ROUND(B41,1),MetricIncrementalData[System Increment],_xlfn.XLOOKUP(Metric_Incremental_Data_Target_Column,MetricIncrementalData[#Headers],MetricIncrementalData[]),,1),0))","v":{"v":0.005625,"d":"0.0056"}},{"$f":"IF(B41=\"\",\"\",IF(B42=\"\",((((B41-0)/100)*Metric_Module_Square_Foot_Area)-'Cumulative Volumes Metric'!E41)*Metric_Stone_Void_Percentage,((((B41-B42)/100)*Metric_Module_Square_Foot_Area)-'Cumulative Volumes Metric'!E41)*Metric_Stone_Void_Percentage))","v":{"v":0,"d":"0.0000"}},{"v":0,"d":"0.00"},{"$f":"IF(B41=\"\",\"\",((Metric_System_Area_Input-Metric_Number_Of_Stacks*_xlfn.XLOOKUP(Metric_Layers,CrateData[Layer],CrateData[Surface Area (m2)]))*((B41-IF(B42=\"\",0,B42))/100))*Metric_Stone_Void_Percentage)","v":{"v":0.00375,"d":"0.00"}},{"v":0.00375,"d":"0.00"},{"v":0.57075,"d":"0.57"},{"$f":"IF(B41=\"\",\"\",SUM(J41:$J$563))","v":{"v":45.312749999999994,"d":"45.31"}},100.882,{"$nulls":9},100.882,null,{"v":0.8739999999999999,"d":"0.87"},0.8739999999999999,{"v":57.07499999997048,"d":"57.075"},null,1,{"$f":"IF($AU$21=\"INVERT\",Y41,IF(AC40>=$Z$12,\"\",IF(Y40=\"\",\"\",INDEX($Y$18:$Y$227,$AB$17-ROWS($Y$18:$Y40)))))","v":""},"","","",{"$nulls":7},"Volume Credited above Reference Elevation",{"$f":"IFERROR(AO30-AO37,\"\")","v":""},{"$nulls":17},{"$f":"IF($AU$21=\"INVERT\",Y41,IF(AC40>=$Z$12,\"\",IF(Y40=\"\",\"\",INDEX($Y$18:$Y$227,$AB$17-ROWS($Y$18:$Y40)))))","v":""},"",{"$f":"IF(AE40=\"\",\"\",\n    IF($AU$21=\"TYP\",\n       IF(Z40=\"\",\"\", INDEX($Z$18:$Z$227, $AB$17-ROWS($Z$18:$Z40))),\n       IF($AU$21=\"INVERT\",Z41, \"\")\n    )\n)","v":""},"",null,{"$f":"IF(BL40>=$Z$12,\"\",IF(Y40=\"\",\"\",INDEX($Y$18:$Y$227,$AB$17-ROWS($Y$18:$Y40))))","v":{"v":0.23399999999999932,"d":"0.23"}},{"$f":"IF(#REF!=\"\",\"\",#REF!/43560)","v":{"$error":"#REF!"}},{"$f":"#REF!","v":{"$error":"#REF!"}}]
[42,87.2,{"$f":"IF(B42=\"\",\"\",IFERROR(_xlfn.XLOOKUP(ROUND(B42,1),MetricIncrementalData[System Increment],_xlfn.XLOOKUP('Metric Incremental Crate'!$R$3,MetricIncrementalData[#Headers],MetricIncrementalData[]),,1),0))","v":{"v":0.005399999999999999,"d":"0.0054"}},{"v":0.567,"d":"0.5670"},{"$f":"IF(B42=\"\",\"\",IFERROR(_xlfn.XLOOKUP(ROUND(B42,1),MetricIncrementalData[System Increment],_xlfn.XLOOKUP(Metric_Incremental_Data_Target_Column,MetricIncrementalData[#Headers],MetricIncrementalData[]),,1),0))","v":{"v":0.005625,"d":"0.0056"}},{"$f":"IF(B42=\"\",\"\",IF(B43=\"\",((((B42-0)/100)*Metric_Module_Square_Foot_Area)-'Cumulative Volumes Metric'!E42)*Metric_Stone_Void_Percentage,((((B42-B43)/100)*Metric_Module_Square_Foot_Area)-'Cumulative Volumes Metric'!E42)*Metric_Stone_Void_Percentage))","v":{"v":0,"d":"0.0000"}},{"v":0,"d":"0.00"},{"$f":"IF(B42=\"\",\"\",((Metric_System_Area_Input-Metric_Number_Of_Stacks*_xlfn.XLOOKUP(Metric_Layers,CrateData[Layer],CrateData[Surface Area (m2)]))*((B42-IF(B43=\"\",0,B43))/100))*Metric_Stone_Void_Percentage)","v":{"v":0.00375,"d":"0.00"}},{"v":0.00375,"d":"0.00"},{"v":0.57075,"d":"0.57"},{"$f":"IF(B42=\"\",\"\",SUM(J42:$J$563))","v":{"v":44.742,"d":"44.74"}},100.872,{"$nulls":9},100.872,null,{"v":0.8639999999999999,"d":"0.86"},0.8639999999999999,{"v":57.07499999997048,"d":"57.075"},null,1,{"$f":"IF($AU$21=\"INVERT\",Y42,IF(AC41>=$Z$12,\"\",IF(Y41=\"\",\"\",INDEX($Y$18:$Y$227,$AB$17-ROWS($Y$18:$Y41)))))","v":""},"","","",{"$nulls":7},"Volume Discredited above Reference Elevation",{"$f":"IFERROR((AO41/AO40)*(1-AO40),\"\")","v":""},{"$nulls":17},{"$f":"IF($AU$21=\"INVERT\",Y42,IF(AC41>=$Z$12,\"\",IF(Y41=\"\",\"\",INDEX($Y$18:$Y$227,$AB$17-ROWS($Y$18:$Y41)))))","v":""},"",{"$f":"IF(AE41=\"\",\"\",\n    IF($AU$21=\"TYP\",\n       IF(Z41=\"\",\"\", INDEX($Z$18:$Z$227, $AB$17-ROWS($Z$18:$Z41))),\n       IF($AU$21=\"INVERT\",Z42, \"\")\n    )\n)","v":""},"",null,{"$f":"IF(BL41>=$Z$12,\"\",IF(Y41=\"\",\"\",INDEX($Y$18:$Y$227,$AB$17-ROWS($Y$18:$Y41))))","v":{"v":0.24399999999999933,"d":"0.24"}},{"$f":"IF(#REF!=\"\",\"\",#REF!/43560)","v":{"$error":"#REF!"}},{"$f":"#REF!","v":{"$error":"#REF!"}}]
[43,86.2,{"$f":"IF(B43=\"\",\"\",IFERROR(_xlfn.XLOOKUP(ROUND(B43,1),MetricIncrementalData[System Increment],_xlfn.XLOOKUP('Metric Incremental Crate'!$R$3,MetricIncrementalData[#Headers],MetricIncrementalData[]),,1),0))","v":{"v":0.005399999999999999,"d":"0.0054"}},{"v":0.567,"d":"0.5670"},{"$f":"IF(B43=\"\",\"\",IFERROR(_xlfn.XLOOKUP(ROUND(B43,1),MetricIncrementalData[System Increment],_xlfn.XLOOKUP(Metric_Incremental_Data_Target_Column,MetricIncrementalData[#Headers],MetricIncrementalData[]),,1),0))","v":{"v":0.005625,"d":"0.0056"}},{"$f":"IF(B43=\"\",\"\",IF(B44=\"\",((((B43-0)/100)*Metric_Module_Square_Foot_Area)-'Cumulative Volumes Metric'!E43)*Metric_Stone_Void_Percentage,((((B43-B44)/100)*Metric_Module_Square_Foot_Area)-'Cumulative Volumes Metric'!E43)*Metric_Stone_Void_Percentage))","v":{"v":0,"d":"0.0000"}},{"v":0,"d":"0.00"},{"$f":"IF(B43=\"\",\"\",((Metric_System_Area_Input-Metric_Number_Of_Stacks*_xlfn.XLOOKUP(Metric_Layers,CrateData[Layer],CrateData[Surface Area (m2)]))*((B43-IF(B44=\"\",0,B44))/100))*Metric_Stone_Void_Percentage)","v":{"v":0.00375,"d":"0.00"}},{"v":0.00375,"d":"0.00"},{"v":0.57075,"d":"0.57"},{"$f":"IF(B43=\"\",\"\",SUM(J43:$J$563))","v":{"v":44.17125,"d":"44.17"}},100.862,{"$nulls":9},100.862,null,{"v":0.8539999999999999,"d":"0.85"},0.8539999999999999,{"v":57.07500000005159,"d":"57.075"},null,1,{"$f":"IF($AU$21=\"INVERT\",Y43,IF(AC42>=$Z$12,\"\",IF(Y42=\"\",\"\",INDEX($Y$18:$Y$227,$AB$17-ROWS($Y$18:$Y42)))))","v":""},"","","",{"$nulls":8},{"$f":"IFERROR(AO37+AO38+AO41+AO42,\"\")","v":""},{"$nulls":17},{"$f":"IF($AU$21=\"INVERT\",Y43,IF(AC42>=$Z$12,\"\",IF(Y42=\"\",\"\",INDEX($Y$18:$Y$227,$AB$17-ROWS($Y$18:$Y42)))))","v":""},"",{"$f":"IF(AE42=\"\",\"\",\n    IF($AU$21=\"TYP\",\n       IF(Z42=\"\",\"\", INDEX($Z$18:$Z$227, $AB$17-ROWS($Z$18:$Z42))),\n       IF($AU$21=\"INVERT\",Z43, \"\")\n    )\n)","v":""},"",null,{"$f":"IF(BL42>=$Z$12,\"\",IF(Y42=\"\",\"\",INDEX($Y$18:$Y$227,$AB$17-ROWS($Y$18:$Y42))))","v":{"v":0.25399999999999934,"d":"0.25"}},{"$f":"IF(#REF!=\"\",\"\",#REF!/43560)","v":{"$error":"#REF!"}},{"$f":"#REF!","v":{"$error":"#REF!"}}]
[44,85.2,{"$f":"IF(B44=\"\",\"\",IFERROR(_xlfn.XLOOKUP(ROUND(B44,1),MetricIncrementalData[System Increment],_xlfn.XLOOKUP('Metric Incremental Crate'!$R$3,MetricIncrementalData[#Headers],MetricIncrementalData[]),,1),0))","v":{"v":0.005399999999999999,"d":"0.0054"}},{"v":0.567,"d":"0.5670"},{"$f":"IF(B44=\"\",\"\",IFERROR(_xlfn.XLOOKUP(ROUND(B44,1),MetricIncrementalData[System Increment],_xlfn.XLOOKUP(Metric_Incremental_Data_Target_Column,MetricIncrementalData[#Headers],MetricIncrementalData[]),,1),0))","v":{"v":0.005625,"d":"0.0056"}},{"$f":"IF(B44=\"\",\"\",IF(B45=\"\",((((B44-0)/100)*Metric_Module_Square_Foot_Area)-'Cumulative Volumes Metric'!E44)*Metric_Stone_Void_Percentage,((((B44-B45)/100)*Metric_Module_Square_Foot_Area)-'Cumulative Volumes Metric'!E44)*Metric_Stone_Void_Percentage))","v":{"v":0,"d":"0.0000"}},{"v":0,"d":"0.00"},{"$f":"IF(B44=\"\",\"\",((Metric_System_Area_Input-Metric_Number_Of_Stacks*_xlfn.XLOOKUP(Metric_Layers,CrateData[Layer],CrateData[Surface Area (m2)]))*((B44-IF(B45=\"\",0,B45))/100))*Metric_Stone_Void_Percentage)","v":{"v":0.00375,"d":"0.00"}},{"v":0.00375,"d":"0.00"},{"v":0.57075,"d":"0.57"},{"$f":"IF(B44=\"\",\"\",SUM(J44:$J$563))","v":{"v":43.600500000000004,"d":"43.60"}},100.852,{"$nulls":9},100.852,null,{"v":0.8439999999999999,"d":"0.84"},0.8439999999999999,{"v":57.07499999997048,"d":"57.075"},null,1,{"$f":"IF($AU$21=\"INVERT\",Y44,IF(AC43>=$Z$12,\"\",IF(Y43=\"\",\"\",INDEX($Y$18:$Y$227,$AB$17-ROWS($Y$18:$Y43)))))","v":""},"","","",{"$nulls":6},false,"Target Volume achieved at Elevation","",{"$nulls":17},{"$f":"IF($AU$21=\"INVERT\",Y44,IF(AC43>=$Z$12,\"\",IF(Y43=\"\",\"\",INDEX($Y$18:$Y$227,$AB$17-ROWS($Y$18:$Y43)))))","v":""},"",{"$f":"IF(AE43=\"\",\"\",\n    IF($AU$21=\"TYP\",\n       IF(Z43=\"\",\"\", INDEX($Z$18:$Z$227, $AB$17-ROWS($Z$18:$Z43))),\n       IF($AU$21=\"INVERT\",Z44, \"\")\n    )\n)","v":""},"",null,{"$f":"IF(BL43>=$Z$12,\"\",IF(Y43=\"\",\"\",INDEX($Y$18:$Y$227,$AB$17-ROWS($Y$18:$Y43))))","v":{"v":0.26399999999999935,"d":"0.26"}},{"$f":"IF(#REF!=\"\",\"\",#REF!/43560)","v":{"$error":"#REF!"}},{"$f":"#REF!","v":{"$error":"#REF!"}}]
[45,84.2,{"$f":"IF(B45=\"\",\"\",IFERROR(_xlfn.XLOOKUP(ROUND(B45,1),MetricIncrementalData[System Increment],_xlfn.XLOOKUP('Metric Incremental Crate'!$R$3,MetricIncrementalData[#Headers],MetricIncrementalData[]),,1),0))","v":{"v":0.005399999999999999,"d":"0.0054"}},{"v":0.567,"d":"0.5670"},{"$f":"IF(B45=\"\",\"\",IFERROR(_xlfn.XLOOKUP(ROUND(B45,1),MetricIncrementalData[System Increment],_xlfn.XLOOKUP(Metric_Incremental_Data_Target_Column,MetricIncrementalData[#Headers],MetricIncrementalData[]),,1),0))","v":{"v":0.005625,"d":"0.0056"}},{"$f":"IF(B45=\"\",\"\",IF(B46=\"\",((((B45-0)/100)*Metric_Module_Square_Foot_Area)-'Cumulative Volumes Metric'!E45)*Metric_Stone_Void_Percentage,((((B45-B46)/100)*Metric_Module_Square_Foot_Area)-'Cumulative Volumes Metric'!E45)*Metric_Stone_Void_Percentage))","v":{"v":0,"d":"0.0000"}},{"v":0,"d":"0.00"},{"$f":"IF(B45=\"\",\"\",((Metric_System_Area_Input-Metric_Number_Of_Stacks*_xlfn.XLOOKUP(Metric_Layers,CrateData[Layer],CrateData[Surface Area (m2)]))*((B45-IF(B46=\"\",0,B46))/100))*Metric_Stone_Void_Percentage)","v":{"v":0.00375,"d":"0.00"}},{"v":0.00375,"d":"0.00"},{"v":0.57075,"d":"0.57"},{"$f":"IF(B45=\"\",\"\",SUM(J45:$J$563))","v":{"v":43.02975000000001,"d":"43.03"}},100.842,{"$nulls":9},100.842,null,{"v":0.8339999999999999,"d":"0.83"},0.8339999999999999,{"v":57.07499999997048,"d":"57.075"},null,1,{"$f":"IF($AU$21=\"INVERT\",Y45,IF(AC44>=$Z$12,\"\",IF(Y44=\"\",\"\",INDEX($Y$18:$Y$227,$AB$17-ROWS($Y$18:$Y44)))))","v":""},"","","",{"$nulls":7},{"$f":"\"Remaining Volume above \"&AO44&\" =\"","v":"Remaining Volume above  ="},"",{"$nulls":17},{"$f":"IF($AU$21=\"INVERT\",Y45,IF(AC44>=$Z$12,\"\",IF(Y44=\"\",\"\",INDEX($Y$18:$Y$227,$AB$17-ROWS($Y$18:$Y44)))))","v":""},"",{"$f":"IF(AE44=\"\",\"\",\n    IF($AU$21=\"TYP\",\n       IF(Z44=\"\",\"\", INDEX($Z$18:$Z$227, $AB$17-ROWS($Z$18:$Z44))),\n       IF($AU$21=\"INVERT\",Z45, \"\")\n    )\n)","v":""},"",null,{"$f":"IF(BL44>=$Z$12,\"\",IF(Y44=\"\",\"\",INDEX($Y$18:$Y$227,$AB$17-ROWS($Y$18:$Y44))))","v":{"v":0.27399999999999936,"d":"0.27"}},{"$f":"IF(#REF!=\"\",\"\",#REF!/43560)","v":{"$error":"#REF!"}},{"$f":"#REF!","v":{"$error":"#REF!"}}]
[46,83.2,{"$f":"IF(B46=\"\",\"\",IFERROR(_xlfn.XLOOKUP(ROUND(B46,1),MetricIncrementalData[System Increment],_xlfn.XLOOKUP('Metric Incremental Crate'!$R$3,MetricIncrementalData[#Headers],MetricIncrementalData[]),,1),0))","v":{"v":0.005399999999999999,"d":"0.0054"}},{"v":0.567,"d":"0.5670"},{"$f":"IF(B46=\"\",\"\",IFERROR(_xlfn.XLOOKUP(ROUND(B46,1),MetricIncrementalData[System Increment],_xlfn.XLOOKUP(Metric_Incremental_Data_Target_Column,MetricIncrementalData[#Headers],MetricIncrementalData[]),,1),0))","v":{"v":0.005625,"d":"0.0056"}},{"$f":"IF(B46=\"\",\"\",IF(B47=\"\",((((B46-0)/100)*Metric_Module_Square_Foot_Area)-'Cumulative Volumes Metric'!E46)*Metric_Stone_Void_Percentage,((((B46-B47)/100)*Metric_Module_Square_Foot_Area)-'Cumulative Volumes Metric'!E46)*Metric_Stone_Void_Percentage))","v":{"v":0,"d":"0.0000"}},{"v":0,"d":"0.00"},{"$f":"IF(B46=\"\",\"\",((Metric_System_Area_Input-Metric_Number_Of_Stacks*_xlfn.XLOOKUP(Metric_Layers,CrateData[Layer],CrateData[Surface Area (m2)]))*((B46-IF(B47=\"\",0,B47))/100))*Metric_Stone_Void_Percentage)","v":{"v":0.00375,"d":"0.00"}},{"v":0.00375,"d":"0.00"},{"v":0.57075,"d":"0.57"},{"$f":"IF(B46=\"\",\"\",SUM(J46:$J$563))","v":{"v":42.45900000000001,"d":"42.46"}},100.832,{"$nulls":9},100.832,null,{"v":0.8239999999999998,"d":"0.82"},0.8239999999999998,{"v":57.07500000005159,"d":"57.075"},null,1,{"$f":"IF($AU$21=\"INVERT\",Y46,IF(AC45>=$Z$12,\"\",IF(Y45=\"\",\"\",INDEX($Y$18:$Y$227,$AB$17-ROWS($Y$18:$Y45)))))","v":""},"","","",{"$nulls":26},{"$f":"IF($AU$21=\"INVERT\",Y46,IF(AC45>=$Z$12,\"\",IF(Y45=\"\",\"\",INDEX($Y$18:$Y$227,$AB$17-ROWS($Y$18:$Y45)))))","v":""},"",{"$f":"IF(AE45=\"\",\"\",\n    IF($AU$21=\"TYP\",\n       IF(Z45=\"\",\"\", INDEX($Z$18:$Z$227, $AB$17-ROWS($Z$18:$Z45))),\n       IF($AU$21=\"INVERT\",Z46, \"\")\n    )\n)","v":""},"",null,{"$f":"IF(BL45>=$Z$12,\"\",IF(Y45=\"\",\"\",INDEX($Y$18:$Y$227,$AB$17-ROWS($Y$18:$Y45))))","v":{"v":0.28399999999999936,"d":"0.28"}},{"$f":"IF(#REF!=\"\",\"\",#REF!/43560)","v":{"$error":"#REF!"}},{"$f":"#REF!","v":{"$error":"#REF!"}}]
[47,82.2,{"$f":"IF(B47=\"\",\"\",IFERROR(_xlfn.XLOOKUP(ROUND(B47,1),MetricIncrementalData[System Increment],_xlfn.XLOOKUP('Metric Incremental Crate'!$R$3,MetricIncrementalData[#Headers],MetricIncrementalData[]),,1),0))","v":{"v":0.005399999999999999,"d":"0.0054"}},{"v":0.567,"d":"0.5670"},{"$f":"IF(B47=\"\",\"\",IFERROR(_xlfn.XLOOKUP(ROUND(B47,1),MetricIncrementalData[System Increment],_xlfn.XLOOKUP(Metric_Incremental_Data_Target_Column,MetricIncrementalData[#Headers],MetricIncrementalData[]),,1),0))","v":{"v":0.005625,"d":"0.0056"}},{"$f":"IF(B47=\"\",\"\",IF(B48=\"\",((((B47-0)/100)*Metric_Module_Square_Foot_Area)-'Cumulative Volumes Metric'!E47)*Metric_Stone_Void_Percentage,((((B47-B48)/100)*Metric_Module_Square_Foot_Area)-'Cumulative Volumes Metric'!E47)*Metric_Stone_Void_Percentage))","v":{"v":0,"d":"0.0000"}},{"v":0,"d":"0.00"},{"$f":"IF(B47=\"\",\"\",((Metric_System_Area_Input-Metric_Number_Of_Stacks*_xlfn.XLOOKUP(Metric_Layers,CrateData[Layer],CrateData[Surface Area (m2)]))*((B47-IF(B48=\"\",0,B48))/100))*Metric_Stone_Void_Percentage)","v":{"v":0.00375,"d":"0.00"}},{"v":0.00375,"d":"0.00"},{"v":0.57075,"d":"0.57"},{"$f":"IF(B47=\"\",\"\",SUM(J47:$J$563))","v":{"v":41.88825000000001,"d":"41.89"}},100.822,{"$nulls":9},100.822,null,{"v":0.8139999999999998,"d":"0.81"},0.8139999999999998,{"v":57.07499999997048,"d":"57.075"},null,1,{"$f":"IF($AU$21=\"INVERT\",Y47,IF(AC46>=$Z$12,\"\",IF(Y46=\"\",\"\",INDEX($Y$18:$Y$227,$AB$17-ROWS($Y$18:$Y46)))))","v":""},"","","",{"$nulls":26},{"$f":"IF($AU$21=\"INVERT\",Y47,IF(AC46>=$Z$12,\"\",IF(Y46=\"\",\"\",INDEX($Y$18:$Y$227,$AB$17-ROWS($Y$18:$Y46)))))","v":""},"",{"$f":"IF(AE46=\"\",\"\",\n    IF($AU$21=\"TYP\",\n       IF(Z46=\"\",\"\", INDEX($Z$18:$Z$227, $AB$17-ROWS($Z$18:$Z46))),\n       IF($AU$21=\"INVERT\",Z47, \"\")\n    )\n)","v":""},"",null,{"$f":"IF(BL46>=$Z$12,\"\",IF(Y46=\"\",\"\",INDEX($Y$18:$Y$227,$AB$17-ROWS($Y$18:$Y46))))","v":{"v":0.2939999999999994,"d":"0.29"}},{"$f":"IF(#REF!=\"\",\"\",#REF!/43560)","v":{"$error":"#REF!"}},{"$f":"#REF!","v":{"$error":"#REF!"}}]
[48,81.2,{"$f":"IF(B48=\"\",\"\",IFERROR(_xlfn.XLOOKUP(ROUND(B48,1),MetricIncrementalData[System Increment],_xlfn.XLOOKUP('Metric Incremental Crate'!$R$3,MetricIncrementalData[#Headers],MetricIncrementalData[]),,1),0))","v":{"v":0.005399999999999999,"d":"0.0054"}},{"v":0.567,"d":"0.5670"},{"$f":"IF(B48=\"\",\"\",IFERROR(_xlfn.XLOOKUP(ROUND(B48,1),MetricIncrementalData[System Increment],_xlfn.XLOOKUP(Metric_Incremental_Data_Target_Column,MetricIncrementalData[#Headers],MetricIncrementalData[]),,1),0))","v":{"v":0.005625,"d":"0.0056"}},{"$f":"IF(B48=\"\",\"\",IF(B49=\"\",((((B48-0)/100)*Metric_Module_Square_Foot_Area)-'Cumulative Volumes Metric'!E48)*Metric_Stone_Void_Percentage,((((B48-B49)/100)*Metric_Module_Square_Foot_Area)-'Cumulative Volumes Metric'!E48)*Metric_Stone_Void_Percentage))","v":{"v":0,"d":"0.0000"}},{"v":0,"d":"0.00"},{"$f":"IF(B48=\"\",\"\",((Metric_System_Area_Input-Metric_Number_Of_Stacks*_xlfn.XLOOKUP(Metric_Layers,CrateData[Layer],CrateData[Surface Area (m2)]))*((B48-IF(B49=\"\",0,B49))/100))*Metric_Stone_Void_Percentage)","v":{"v":0.00375,"d":"0.00"}},{"v":0.00375,"d":"0.00"},{"v":0.57075,"d":"0.57"},{"$f":"IF(B48=\"\",\"\",SUM(J48:$J$563))","v":{"v":41.31750000000002,"d":"41.32"}},100.812,{"$nulls":9},100.812,null,{"v":0.8039999999999998,"d":"0.80"},0.8039999999999998,{"v":57.07500000005159,"d":"57.075"},null,1,{"$f":"IF($AU$21=\"INVERT\",Y48,IF(AC47>=$Z$12,\"\",IF(Y47=\"\",\"\",INDEX($Y$18:$Y$227,$AB$17-ROWS($Y$18:$Y47)))))","v":""},"","","",{"$nulls":26},{"$f":"IF($AU$21=\"INVERT\",Y48,IF(AC47>=$Z$12,\"\",IF(Y47=\"\",\"\",INDEX($Y$18:$Y$227,$AB$17-ROWS($Y$18:$Y47)))))","v":""},"",{"$f":"IF(AE47=\"\",\"\",\n    IF($AU$21=\"TYP\",\n       IF(Z47=\"\",\"\", INDEX($Z$18:$Z$227, $AB$17-ROWS($Z$18:$Z47))),\n       IF($AU$21=\"INVERT\",Z48, \"\")\n    )\n)","v":""},"",null,{"$f":"IF(BL47>=$Z$12,\"\",IF(Y47=\"\",\"\",INDEX($Y$18:$Y$227,$AB$17-ROWS($Y$18:$Y47))))","v":{"v":0.3039999999999994,"d":"0.30"}},{"$f":"IF(#REF!=\"\",\"\",#REF!/43560)","v":{"$error":"#REF!"}},{"$f":"#REF!","v":{"$error":"#REF!"}}]
[49,80.2,{"$f":"IF(B49=\"\",\"\",IFERROR(_xlfn.XLOOKUP(ROUND(B49,1),MetricIncrementalData[System Increment],_xlfn.XLOOKUP('Metric Incremental Crate'!$R$3,MetricIncrementalData[#Headers],MetricIncrementalData[]),,1),0))","v":{"v":0.005399999999999999,"d":"0.0054"}},{"v":0.567,"d":"0.5670"},{"$f":"IF(B49=\"\",\"\",IFERROR(_xlfn.XLOOKUP(ROUND(B49,1),MetricIncrementalData[System Increment],_xlfn.XLOOKUP(Metric_Incremental_Data_Target_Column,MetricIncrementalData[#Headers],MetricIncrementalData[]),,1),0))","v":{"v":0.005625,"d":"0.0056"}},{"$f":"IF(B49=\"\",\"\",IF(B50=\"\",((((B49-0)/100)*Metric_Module_Square_Foot_Area)-'Cumulative Volumes Metric'!E49)*Metric_Stone_Void_Percentage,((((B49-B50)/100)*Metric_Module_Square_Foot_Area)-'Cumulative Volumes Metric'!E49)*Metric_Stone_Void_Percentage))","v":{"v":0,"d":"0.0000"}},{"v":0,"d":"0.00"},{"$f":"IF(B49=\"\",\"\",((Metric_System_Area_Input-Metric_Number_Of_Stacks*_xlfn.XLOOKUP(Metric_Layers,CrateData[Layer],CrateData[Surface Area (m2)]))*((B49-IF(B50=\"\",0,B50))/100))*Metric_Stone_Void_Percentage)","v":{"v":0.00375,"d":"0.00"}},{"v":0.00375,"d":"0.00"},{"v":0.57075,"d":"0.57"},{"$f":"IF(B49=\"\",\"\",SUM(J49:$J$563))","v":{"v":40.74675000000002,"d":"40.75"}},100.802,{"$nulls":9},100.802,null,{"v":0.7939999999999998,"d":"0.79"},0.7939999999999998,{"v":57.07499999997048,"d":"57.075"},null,1,{"$f":"IF($AU$21=\"INVERT\",Y49,IF(AC48>=$Z$12,\"\",IF(Y48=\"\",\"\",INDEX($Y$18:$Y$227,$AB$17-ROWS($Y$18:$Y48)))))","v":""},"","","",{"$nulls":26},{"$f":"IF($AU$21=\"INVERT\",Y49,IF(AC48>=$Z$12,\"\",IF(Y48=\"\",\"\",INDEX($Y$18:$Y$227,$AB$17-ROWS($Y$18:$Y48)))))","v":""},"",{"$f":"IF(AE48=\"\",\"\",\n    IF($AU$21=\"TYP\",\n       IF(Z48=\"\",\"\", INDEX($Z$18:$Z$227, $AB$17-ROWS($Z$18:$Z48))),\n       IF($AU$21=\"INVERT\",Z49, \"\")\n    )\n)","v":""},"",null,{"$f":"IF(BL48>=$Z$12,\"\",IF(Y48=\"\",\"\",INDEX($Y$18:$Y$227,$AB$17-ROWS($Y$18:$Y48))))","v":{"v":0.3139999999999994,"d":"0.31"}},{"$f":"IF(#REF!=\"\",\"\",#REF!/43560)","v":{"$error":"#REF!"}},{"$f":"#REF!","v":{"$error":"#REF!"}}]
[50,79.2,{"$f":"IF(B50=\"\",\"\",IFERROR(_xlfn.XLOOKUP(ROUND(B50,1),MetricIncrementalData[System Increment],_xlfn.XLOOKUP('Metric Incremental Crate'!$R$3,MetricIncrementalData[#Headers],MetricIncrementalData[]),,1),0))","v":{"v":0.005399999999999999,"d":"0.0054"}},{"v":0.567,"d":"0.5670"},{"$f":"IF(B50=\"\",\"\",IFERROR(_xlfn.XLOOKUP(ROUND(B50,1),MetricIncrementalData[System Increment],_xlfn.XLOOKUP(Metric_Incremental_Data_Target_Column,MetricIncrementalData[#Headers],MetricIncrementalData[]),,1),0))","v":{"v":0.005625,"d":"0.0056"}},{"$f":"IF(B50=\"\",\"\",IF(B51=\"\",((((B50-0)/100)*Metric_Module_Square_Foot_Area)-'Cumulative Volumes Metric'!E50)*Metric_Stone_Void_Percentage,((((B50-B51)/100)*Metric_Module_Square_Foot_Area)-'Cumulative Volumes Metric'!E50)*Metric_Stone_Void_Percentage))","v":{"v":0,"d":"0.0000"}},{"v":0,"d":"0.00"},{"$f":"IF(B50=\"\",\"\",((Metric_System_Area_Input-Metric_Number_Of_Stacks*_xlfn.XLOOKUP(Metric_Layers,CrateData[Layer],CrateData[Surface Area (m2)]))*((B50-IF(B51=\"\",0,B51))/100))*Metric_Stone_Void_Percentage)","v":{"v":0.00375,"d":"0.00"}},{"v":0.00375,"d":"0.00"},{"v":0.57075,"d":"0.57"},{"$f":"IF(B50=\"\",\"\",SUM(J50:$J$563))","v":{"v":40.17600000000002,"d":"40.18"}},100.792,{"$nulls":9},100.792,null,{"v":0.7839999999999998,"d":"0.78"},0.7839999999999998,{"v":57.07499999997048,"d":"57.075"},null,1,{"$f":"IF($AU$21=\"INVERT\",Y50,IF(AC49>=$Z$12,\"\",IF(Y49=\"\",\"\",INDEX($Y$18:$Y$227,$AB$17-ROWS($Y$18:$Y49)))))","v":""},"","","",{"$nulls":26},{"$f":"IF($AU$21=\"INVERT\",Y50,IF(AC49>=$Z$12,\"\",IF(Y49=\"\",\"\",INDEX($Y$18:$Y$227,$AB$17-ROWS($Y$18:$Y49)))))","v":""},"",{"$f":"IF(AE49=\"\",\"\",\n    IF($AU$21=\"TYP\",\n       IF(Z49=\"\",\"\", INDEX($Z$18:$Z$227, $AB$17-ROWS($Z$18:$Z49))),\n       IF($AU$21=\"INVERT\",Z50, \"\")\n    )\n)","v":""},"",null,{"$f":"IF(BL49>=$Z$12,\"\",IF(Y49=\"\",\"\",INDEX($Y$18:$Y$227,$AB$17-ROWS($Y$18:$Y49))))","v":{"v":0.3239999999999994,"d":"0.32"}},{"$f":"IF(#REF!=\"\",\"\",#REF!/43560)","v":{"$error":"#REF!"}},{"$f":"#REF!","v":{"$error":"#REF!"}}]
[51,78.2,{"$f":"IF(B51=\"\",\"\",IFERROR(_xlfn.XLOOKUP(ROUND(B51,1),MetricIncrementalData[System Increment],_xlfn.XLOOKUP('Metric Incremental Crate'!$R$3,MetricIncrementalData[#Headers],MetricIncrementalData[]),,1),0))","v":{"v":0.005399999999999999,"d":"0.0054"}},{"v":0.567,"d":"0.5670"},{"$f":"IF(B51=\"\",\"\",IFERROR(_xlfn.XLOOKUP(ROUND(B51,1),MetricIncrementalData[System Increment],_xlfn.XLOOKUP(Metric_Incremental_Data_Target_Column,MetricIncrementalData[#Headers],MetricIncrementalData[]),,1),0))","v":{"v":0.005625,"d":"0.0056"}},{"$f":"IF(B51=\"\",\"\",IF(B52=\"\",((((B51-0)/100)*Metric_Module_Square_Foot_Area)-'Cumulative Volumes Metric'!E51)*Metric_Stone_Void_Percentage,((((B51-B52)/100)*Metric_Module_Square_Foot_Area)-'Cumulative Volumes Metric'!E51)*Metric_Stone_Void_Percentage))","v":{"v":0,"d":"0.0000"}},{"v":0,"d":"0.00"},{"$f":"IF(B51=\"\",\"\",((Metric_System_Area_Input-Metric_Number_Of_Stacks*_xlfn.XLOOKUP(Metric_Layers,CrateData[Layer],CrateData[Surface Area (m2)]))*((B51-IF(B52=\"\",0,B52))/100))*Metric_Stone_Void_Percentage)","v":{"v":0.00375,"d":"0.00"}},{"v":0.00375,"d":"0.00"},{"v":0.57075,"d":"0.57"},{"$f":"IF(B51=\"\",\"\",SUM(J51:$J$563))","v":{"v":39.60525000000003,"d":"39.61"}},100.782,{"$nulls":9},100.782,null,{"v":0.7739999999999998,"d":"0.77"},0.7739999999999998,{"v":57.07500000005159,"d":"57.075"},null,1,{"$f":"IF($AU$21=\"INVERT\",Y51,IF(AC50>=$Z$12,\"\",IF(Y50=\"\",\"\",INDEX($Y$18:$Y$227,$AB$17-ROWS($Y$18:$Y50)))))","v":""},"","","",{"$nulls":26},{"$f":"IF($AU$21=\"INVERT\",Y51,IF(AC50>=$Z$12,\"\",IF(Y50=\"\",\"\",INDEX($Y$18:$Y$227,$AB$17-ROWS($Y$18:$Y50)))))","v":""},"",{"$f":"IF(AE50=\"\",\"\",\n    IF($AU$21=\"TYP\",\n       IF(Z50=\"\",\"\", INDEX($Z$18:$Z$227, $AB$17-ROWS($Z$18:$Z50))),\n       IF($AU$21=\"INVERT\",Z51, \"\")\n    )\n)","v":""},"",null,{"$f":"IF(BL50>=$Z$12,\"\",IF(Y50=\"\",\"\",INDEX($Y$18:$Y$227,$AB$17-ROWS($Y$18:$Y50))))","v":{"v":0.3339999999999994,"d":"0.33"}},{"$f":"IF(#REF!=\"\",\"\",#REF!/43560)","v":{"$error":"#REF!"}},{"$f":"#REF!","v":{"$error":"#REF!"}}]
[52,77.2,{"$f":"IF(B52=\"\",\"\",IFERROR(_xlfn.XLOOKUP(ROUND(B52,1),MetricIncrementalData[System Increment],_xlfn.XLOOKUP('Metric Incremental Crate'!$R$3,MetricIncrementalData[#Headers],MetricIncrementalData[]),,1),0))","v":{"v":0.005399999999999999,"d":"0.0054"}},{"v":0.567,"d":"0.5670"},{"$f":"IF(B52=\"\",\"\",IFERROR(_xlfn.XLOOKUP(ROUND(B52,1),MetricIncrementalData[System Increment],_xlfn.XLOOKUP(Metric_Incremental_Data_Target_Column,MetricIncrementalData[#Headers],MetricIncrementalData[]),,1),0))","v":{"v":0.005625,"d":"0.0056"}},{"$f":"IF(B52=\"\",\"\",IF(B53=\"\",((((B52-0)/100)*Metric_Module_Square_Foot_Area)-'Cumulative Volumes Metric'!E52)*Metric_Stone_Void_Percentage,((((B52-B53)/100)*Metric_Module_Square_Foot_Area)-'Cumulative Volumes Metric'!E52)*Metric_Stone_Void_Percentage))","v":{"v":0,"d":"0.0000"}},{"v":0,"d":"0.00"},{"$f":"IF(B52=\"\",\"\",((Metric_System_Area_Input-Metric_Number_Of_Stacks*_xlfn.XLOOKUP(Metric_Layers,CrateData[Layer],CrateData[Surface Area (m2)]))*((B52-IF(B53=\"\",0,B53))/100))*Metric_Stone_Void_Percentage)","v":{"v":0.00375,"d":"0.00"}},{"v":0.00375,"d":"0.00"},{"v":0.57075,"d":"0.57"},{"$f":"IF(B52=\"\",\"\",SUM(J52:$J$563))","v":{"v":39.03450000000003,"d":"39.03"}},100.772,{"$nulls":9},100.772,null,{"v":0.7639999999999998,"d":"0.76"},0.7639999999999998,{"v":57.07499999997048,"d":"57.075"},null,1,{"$f":"IF($AU$21=\"INVERT\",Y52,IF(AC51>=$Z$12,\"\",IF(Y51=\"\",\"\",INDEX($Y$18:$Y$227,$AB$17-ROWS($Y$18:$Y51)))))","v":""},"","","",{"$nulls":26},{"$f":"IF($AU$21=\"INVERT\",Y52,IF(AC51>=$Z$12,\"\",IF(Y51=\"\",\"\",INDEX($Y$18:$Y$227,$AB$17-ROWS($Y$18:$Y51)))))","v":""},"",{"$f":"IF(AE51=\"\",\"\",\n    IF($AU$21=\"TYP\",\n       IF(Z51=\"\",\"\", INDEX($Z$18:$Z$227, $AB$17-ROWS($Z$18:$Z51))),\n       IF($AU$21=\"INVERT\",Z52, \"\")\n    )\n)","v":""},"",null,{"$f":"IF(BL51>=$Z$12,\"\",IF(Y51=\"\",\"\",INDEX($Y$18:$Y$227,$AB$17-ROWS($Y$18:$Y51))))","v":{"v":0.3439999999999994,"d":"0.34"}},{"$f":"IF(#REF!=\"\",\"\",#REF!/43560)","v":{"$error":"#REF!"}},{"$f":"#REF!","v":{"$error":"#REF!"}}]
[53,76.2,{"$f":"IF(B53=\"\",\"\",IFERROR(_xlfn.XLOOKUP(ROUND(B53,1),MetricIncrementalData[System Increment],_xlfn.XLOOKUP('Metric Incremental Crate'!$R$3,MetricIncrementalData[#Headers],MetricIncrementalData[]),,1),0))","v":{"v":0.005399999999999999,"d":"0.0054"}},{"v":0.567,"d":"0.5670"},{"$f":"IF(B53=\"\",\"\",IFERROR(_xlfn.XLOOKUP(ROUND(B53,1),MetricIncrementalData[System Increment],_xlfn.XLOOKUP(Metric_Incremental_Data_Target_Column,MetricIncrementalData[#Headers],MetricIncrementalData[]),,1),0))","v":{"v":0.005625,"d":"0.0056"}},{"$f":"IF(B53=\"\",\"\",IF(B54=\"\",((((B53-0)/100)*Metric_Module_Square_Foot_Area)-'Cumulative Volumes Metric'!E53)*Metric_Stone_Void_Percentage,((((B53-B54)/100)*Metric_Module_Square_Foot_Area)-'Cumulative Volumes Metric'!E53)*Metric_Stone_Void_Percentage))","v":{"v":0,"d":"0.0000"}},{"v":0,"d":"0.00"},{"$f":"IF(B53=\"\",\"\",((Metric_System_Area_Input-Metric_Number_Of_Stacks*_xlfn.XLOOKUP(Metric_Layers,CrateData[Layer],CrateData[Surface Area (m2)]))*((B53-IF(B54=\"\",0,B54))/100))*Metric_Stone_Void_Percentage)","v":{"v":0.00375,"d":"0.00"}},{"v":0.00375,"d":"0.00"},{"v":0.57075,"d":"0.57"},{"$f":"IF(B53=\"\",\"\",SUM(J53:$J$563))","v":{"v":38.46375000000003,"d":"38.46"}},100.762,{"$nulls":9},100.762,null,{"v":0.7539999999999998,"d":"0.75"},0.7539999999999998,{"v":57.07499999997048,"d":"57.075"},null,1,{"$f":"IF($AU$21=\"INVERT\",Y53,IF(AC52>=$Z$12,\"\",IF(Y52=\"\",\"\",INDEX($Y$18:$Y$227,$AB$17-ROWS($Y$18:$Y52)))))","v":""},"","","",{"$nulls":26},{"$f":"IF($AU$21=\"INVERT\",Y53,IF(AC52>=$Z$12,\"\",IF(Y52=\"\",\"\",INDEX($Y$18:$Y$227,$AB$17-ROWS($Y$18:$Y52)))))","v":""},"",{"$f":"IF(AE52=\"\",\"\",\n    IF($AU$21=\"TYP\",\n       IF(Z52=\"\",\"\", INDEX($Z$18:$Z$227, $AB$17-ROWS($Z$18:$Z52))),\n       IF($AU$21=\"INVERT\",Z53, \"\")\n    )\n)","v":""},"",null,{"$f":"IF(BL52>=$Z$12,\"\",IF(Y52=\"\",\"\",INDEX($Y$18:$Y$227,$AB$17-ROWS($Y$18:$Y52))))","v":{"v":0.3539999999999994,"d":"0.35"}},{"$f":"IF(#REF!=\"\",\"\",#REF!/43560)","v":{"$error":"#REF!"}},{"$f":"#REF!","v":{"$error":"#REF!"}}]
[54,75.2,{"$f":"IF(B54=\"\",\"\",IFERROR(_xlfn.XLOOKUP(ROUND(B54,1),MetricIncrementalData[System Increment],_xlfn.XLOOKUP('Metric Incremental Crate'!$R$3,MetricIncrementalData[#Headers],MetricIncrementalData[]),,1),0))","v":{"v":0.005399999999999999,"d":"0.0054"}},{"v":0.567,"d":"0.5670"},{"$f":"IF(B54=\"\",\"\",IFERROR(_xlfn.XLOOKUP(ROUND(B54,1),MetricIncrementalData[System Increment],_xlfn.XLOOKUP(Metric_Incremental_Data_Target_Column,MetricIncrementalData[#Headers],MetricIncrementalData[]),,1),0))","v":{"v":0.005625,"d":"0.0056"}},{"$f":"IF(B54=\"\",\"\",IF(B55=\"\",((((B54-0)/100)*Metric_Module_Square_Foot_Area)-'Cumulative Volumes Metric'!E54)*Metric_Stone_Void_Percentage,((((B54-B55)/100)*Metric_Module_Square_Foot_Area)-'Cumulative Volumes Metric'!E54)*Metric_Stone_Void_Percentage))","v":{"v":0,"d":"0.0000"}},{"v":0,"d":"0.00"},{"$f":"IF(B54=\"\",\"\",((Metric_System_Area_Input-Metric_Number_Of_Stacks*_xlfn.XLOOKUP(Metric_Layers,CrateData[Layer],CrateData[Surface Area (m2)]))*((B54-IF(B55=\"\",0,B55))/100))*Metric_Stone_Void_Percentage)","v":{"v":0.00375,"d":"0.00"}},{"v":0.00375,"d":"0.00"},{"v":0.57075,"d":"0.57"},{"$f":"IF(B54=\"\",\"\",SUM(J54:$J$563))","v":{"v":37.893000000000036,"d":"37.89"}},100.752,{"$nulls":9},100.752,null,{"v":0.7439999999999998,"d":"0.74"},0.7439999999999998,{"v":57.07500000005159,"d":"57.075"},null,1,{"$f":"IF($AU$21=\"INVERT\",Y54,IF(AC53>=$Z$12,\"\",IF(Y53=\"\",\"\",INDEX($Y$18:$Y$227,$AB$17-ROWS($Y$18:$Y53)))))","v":""},"","","",{"$nulls":26},{"$f":"IF($AU$21=\"INVERT\",Y54,IF(AC53>=$Z$12,\"\",IF(Y53=\"\",\"\",INDEX($Y$18:$Y$227,$AB$17-ROWS($Y$18:$Y53)))))","v":""},"",{"$f":"IF(AE53=\"\",\"\",\n    IF($AU$21=\"TYP\",\n       IF(Z53=\"\",\"\", INDEX($Z$18:$Z$227, $AB$17-ROWS($Z$18:$Z53))),\n       IF($AU$21=\"INVERT\",Z54, \"\")\n    )\n)","v":""},"",null,{"$f":"IF(BL53>=$Z$12,\"\",IF(Y53=\"\",\"\",INDEX($Y$18:$Y$227,$AB$17-ROWS($Y$18:$Y53))))","v":{"v":0.36399999999999944,"d":"0.36"}},{"$f":"IF(#REF!=\"\",\"\",#REF!/43560)","v":{"$error":"#REF!"}},{"$f":"#REF!","v":{"$error":"#REF!"}}]
[55,74.2,{"$f":"IF(B55=\"\",\"\",IFERROR(_xlfn.XLOOKUP(ROUND(B55,1),MetricIncrementalData[System Increment],_xlfn.XLOOKUP('Metric Incremental Crate'!$R$3,MetricIncrementalData[#Headers],MetricIncrementalData[]),,1),0))","v":{"v":0.005399999999999999,"d":"0.0054"}},{"v":0.567,"d":"0.5670"},{"$f":"IF(B55=\"\",\"\",IFERROR(_xlfn.XLOOKUP(ROUND(B55,1),MetricIncrementalData[System Increment],_xlfn.XLOOKUP(Metric_Incremental_Data_Target_Column,MetricIncrementalData[#Headers],MetricIncrementalData[]),,1),0))","v":{"v":0.005625,"d":"0.0056"}},{"$f":"IF(B55=\"\",\"\",IF(B56=\"\",((((B55-0)/100)*Metric_Module_Square_Foot_Area)-'Cumulative Volumes Metric'!E55)*Metric_Stone_Void_Percentage,((((B55-B56)/100)*Metric_Module_Square_Foot_Area)-'Cumulative Volumes Metric'!E55)*Metric_Stone_Void_Percentage))","v":{"v":0,"d":"0.0000"}},{"v":0,"d":"0.00"},{"$f":"IF(B55=\"\",\"\",((Metric_System_Area_Input-Metric_Number_Of_Stacks*_xlfn.XLOOKUP(Metric_Layers,CrateData[Layer],CrateData[Surface Area (m2)]))*((B55-IF(B56=\"\",0,B56))/100))*Metric_Stone_Void_Percentage)","v":{"v":0.00375,"d":"0.00"}},{"v":0.00375,"d":"0.00"},{"v":0.57075,"d":"0.57"},{"$f":"IF(B55=\"\",\"\",SUM(J55:$J$563))","v":{"v":37.32225000000004,"d":"37.32"}},100.742,{"$nulls":9},100.742,null,{"v":0.7339999999999998,"d":"0.73"},0.7339999999999998,{"v":57.07499999997048,"d":"57.075"},null,1,{"$f":"IF($AU$21=\"INVERT\",Y55,IF(AC54>=$Z$12,\"\",IF(Y54=\"\",\"\",INDEX($Y$18:$Y$227,$AB$17-ROWS($Y$18:$Y54)))))","v":""},"","","",{"$nulls":26},{"$f":"IF($AU$21=\"INVERT\",Y55,IF(AC54>=$Z$12,\"\",IF(Y54=\"\",\"\",INDEX($Y$18:$Y$227,$AB$17-ROWS($Y$18:$Y54)))))","v":""},"",{"$f":"IF(AE54=\"\",\"\",\n    IF($AU$21=\"TYP\",\n       IF(Z54=\"\",\"\", INDEX($Z$18:$Z$227, $AB$17-ROWS($Z$18:$Z54))),\n       IF($AU$21=\"INVERT\",Z55, \"\")\n    )\n)","v":""},"",null,{"$f":"IF(BL54>=$Z$12,\"\",IF(Y54=\"\",\"\",INDEX($Y$18:$Y$227,$AB$17-ROWS($Y$18:$Y54))))","v":{"v":0.37399999999999944,"d":"0.37"}},{"$f":"IF(#REF!=\"\",\"\",#REF!/43560)","v":{"$error":"#REF!"}},{"$f":"#REF!","v":{"$error":"#REF!"}}]
[56,73.2,{"$f":"IF(B56=\"\",\"\",IFERROR(_xlfn.XLOOKUP(ROUND(B56,1),MetricIncrementalData[System Increment],_xlfn.XLOOKUP('Metric Incremental Crate'!$R$3,MetricIncrementalData[#Headers],MetricIncrementalData[]),,1),0))","v":{"v":0.005399999999999999,"d":"0.0054"}},{"v":0.567,"d":"0.5670"},{"$f":"IF(B56=\"\",\"\",IFERROR(_xlfn.XLOOKUP(ROUND(B56,1),MetricIncrementalData[System Increment],_xlfn.XLOOKUP(Metric_Incremental_Data_Target_Column,MetricIncrementalData[#Headers],MetricIncrementalData[]),,1),0))","v":{"v":0.005625,"d":"0.0056"}},{"$f":"IF(B56=\"\",\"\",IF(B57=\"\",((((B56-0)/100)*Metric_Module_Square_Foot_Area)-'Cumulative Volumes Metric'!E56)*Metric_Stone_Void_Percentage,((((B56-B57)/100)*Metric_Module_Square_Foot_Area)-'Cumulative Volumes Metric'!E56)*Metric_Stone_Void_Percentage))","v":{"v":0,"d":"0.0000"}},{"v":0,"d":"0.00"},{"$f":"IF(B56=\"\",\"\",((Metric_System_Area_Input-Metric_Number_Of_Stacks*_xlfn.XLOOKUP(Metric_Layers,CrateData[Layer],CrateData[Surface Area (m2)]))*((B56-IF(B57=\"\",0,B57))/100))*Metric_Stone_Void_Percentage)","v":{"v":0.00375,"d":"0.00"}},{"v":0.00375,"d":"0.00"},{"v":0.57075,"d":"0.57"},{"$f":"IF(B56=\"\",\"\",SUM(J56:$J$563))","v":{"v":36.75150000000004,"d":"36.75"}},100.732,{"$nulls":9},100.732,null,{"v":0.7239999999999998,"d":"0.72"},0.7239999999999998,{"v":57.07499999997048,"d":"57.075"},null,1,{"$f":"IF($AU$21=\"INVERT\",Y56,IF(AC55>=$Z$12,\"\",IF(Y55=\"\",\"\",INDEX($Y$18:$Y$227,$AB$17-ROWS($Y$18:$Y55)))))","v":""},"","","",{"$nulls":26},{"$f":"IF($AU$21=\"INVERT\",Y56,IF(AC55>=$Z$12,\"\",IF(Y55=\"\",\"\",INDEX($Y$18:$Y$227,$AB$17-ROWS($Y$18:$Y55)))))","v":""},"",{"$f":"IF(AE55=\"\",\"\",\n    IF($AU$21=\"TYP\",\n       IF(Z55=\"\",\"\", INDEX($Z$18:$Z$227, $AB$17-ROWS($Z$18:$Z55))),\n       IF($AU$21=\"INVERT\",Z56, \"\")\n    )\n)","v":""},"",null,{"$f":"IF(BL55>=$Z$12,\"\",IF(Y55=\"\",\"\",INDEX($Y$18:$Y$227,$AB$17-ROWS($Y$18:$Y55))))","v":{"v":0.38399999999999945,"d":"0.38"}},{"$f":"IF(#REF!=\"\",\"\",#REF!/43560)","v":{"$error":"#REF!"}},{"$f":"#REF!","v":{"$error":"#REF!"}}]
[57,72.2,{"$f":"IF(B57=\"\",\"\",IFERROR(_xlfn.XLOOKUP(ROUND(B57,1),MetricIncrementalData[System Increment],_xlfn.XLOOKUP('Metric Incremental Crate'!$R$3,MetricIncrementalData[#Headers],MetricIncrementalData[]),,1),0))","v":{"v":0.005399999999999999,"d":"0.0054"}},{"v":0.567,"d":"0.5670"},{"$f":"IF(B57=\"\",\"\",IFERROR(_xlfn.XLOOKUP(ROUND(B57,1),MetricIncrementalData[System Increment],_xlfn.XLOOKUP(Metric_Incremental_Data_Target_Column,MetricIncrementalData[#Headers],MetricIncrementalData[]),,1),0))","v":{"v":0.005625,"d":"0.0056"}},{"$f":"IF(B57=\"\",\"\",IF(B58=\"\",((((B57-0)/100)*Metric_Module_Square_Foot_Area)-'Cumulative Volumes Metric'!E57)*Metric_Stone_Void_Percentage,((((B57-B58)/100)*Metric_Module_Square_Foot_Area)-'Cumulative Volumes Metric'!E57)*Metric_Stone_Void_Percentage))","v":{"v":0,"d":"0.0000"}},{"v":0,"d":"0.00"},{"$f":"IF(B57=\"\",\"\",((Metric_System_Area_Input-Metric_Number_Of_Stacks*_xlfn.XLOOKUP(Metric_Layers,CrateData[Layer],CrateData[Surface Area (m2)]))*((B57-IF(B58=\"\",0,B58))/100))*Metric_Stone_Void_Percentage)","v":{"v":0.00375,"d":"0.00"}},{"v":0.00375,"d":"0.00"},{"v":0.57075,"d":"0.57"},{"$f":"IF(B57=\"\",\"\",SUM(J57:$J$563))","v":{"v":36.180750000000046,"d":"36.18"}},100.722,{"$nulls":9},100.722,null,{"v":0.7139999999999997,"d":"0.71"},0.7139999999999997,{"v":57.0750000000523,"d":"57.075"},null,1,{"$f":"IF($AU$21=\"INVERT\",Y57,IF(AC56>=$Z$12,\"\",IF(Y56=\"\",\"\",INDEX($Y$18:$Y$227,$AB$17-ROWS($Y$18:$Y56)))))","v":""},"","","",{"$nulls":26},{"$f":"IF($AU$21=\"INVERT\",Y57,IF(AC56>=$Z$12,\"\",IF(Y56=\"\",\"\",INDEX($Y$18:$Y$227,$AB$17-ROWS($Y$18:$Y56)))))","v":""},"",{"$f":"IF(AE56=\"\",\"\",\n    IF($AU$21=\"TYP\",\n       IF(Z56=\"\",\"\", INDEX($Z$18:$Z$227, $AB$17-ROWS($Z$18:$Z56))),\n       IF($AU$21=\"INVERT\",Z57, \"\")\n    )\n)","v":""},"",null,{"$f":"IF(BL56>=$Z$12,\"\",IF(Y56=\"\",\"\",INDEX($Y$18:$Y$227,$AB$17-ROWS($Y$18:$Y56))))","v":{"v":0.39399999999999946,"d":"0.39"}},{"$f":"IF(#REF!=\"\",\"\",#REF!/43560)","v":{"$error":"#REF!"}},{"$f":"#REF!","v":{"$error":"#REF!"}}]
[58,71.2,{"$f":"IF(B58=\"\",\"\",IFERROR(_xlfn.XLOOKUP(ROUND(B58,1),MetricIncrementalData[System Increment],_xlfn.XLOOKUP('Metric Incremental Crate'!$R$3,MetricIncrementalData[#Headers],MetricIncrementalData[]),,1),0))","v":{"v":0.005399999999999999,"d":"0.0054"}},{"v":0.567,"d":"0.5670"},{"$f":"IF(B58=\"\",\"\",IFERROR(_xlfn.XLOOKUP(ROUND(B58,1),MetricIncrementalData[System Increment],_xlfn.XLOOKUP(Metric_Incremental_Data_Target_Column,MetricIncrementalData[#Headers],MetricIncrementalData[]),,1),0))","v":{"v":0.005625,"d":"0.0056"}},{"$f":"IF(B58=\"\",\"\",IF(B59=\"\",((((B58-0)/100)*Metric_Module_Square_Foot_Area)-'Cumulative Volumes Metric'!E58)*Metric_Stone_Void_Percentage,((((B58-B59)/100)*Metric_Module_Square_Foot_Area)-'Cumulative Volumes Metric'!E58)*Metric_Stone_Void_Percentage))","v":{"v":0,"d":"0.0000"}},{"v":0,"d":"0.00"},{"$f":"IF(B58=\"\",\"\",((Metric_System_Area_Input-Metric_Number_Of_Stacks*_xlfn.XLOOKUP(Metric_Layers,CrateData[Layer],CrateData[Surface Area (m2)]))*((B58-IF(B59=\"\",0,B59))/100))*Metric_Stone_Void_Percentage)","v":{"v":0.00375,"d":"0.00"}},{"v":0.00375,"d":"0.00"},{"v":0.57075,"d":"0.57"},{"$f":"IF(B58=\"\",\"\",SUM(J58:$J$563))","v":{"v":35.61000000000004,"d":"35.61"}},100.712,{"$nulls":9},100.712,null,{"v":0.7039999999999997,"d":"0.70"},0.7039999999999997,{"v":57.07499999997119,"d":"57.075"},null,1,{"$f":"IF($AU$21=\"INVERT\",Y58,IF(AC57>=$Z$12,\"\",IF(Y57=\"\",\"\",INDEX($Y$18:$Y$227,$AB$17-ROWS($Y$18:$Y57)))))","v":""},"","","",{"$nulls":26},{"$f":"IF($AU$21=\"INVERT\",Y58,IF(AC57>=$Z$12,\"\",IF(Y57=\"\",\"\",INDEX($Y$18:$Y$227,$AB$17-ROWS($Y$18:$Y57)))))","v":""},"",{"$f":"IF(AE57=\"\",\"\",\n    IF($AU$21=\"TYP\",\n       IF(Z57=\"\",\"\", INDEX($Z$18:$Z$227, $AB$17-ROWS($Z$18:$Z57))),\n       IF($AU$21=\"INVERT\",Z58, \"\")\n    )\n)","v":""},"",null,{"$f":"IF(BL57>=$Z$12,\"\",IF(Y57=\"\",\"\",INDEX($Y$18:$Y$227,$AB$17-ROWS($Y$18:$Y57))))","v":{"v":0.40399999999999947,"d":"0.40"}},{"$f":"IF(#REF!=\"\",\"\",#REF!/43560)","v":{"$error":"#REF!"}},{"$f":"#REF!","v":{"$error":"#REF!"}}]
[59,70.2,{"$f":"IF(B59=\"\",\"\",IFERROR(_xlfn.XLOOKUP(ROUND(B59,1),MetricIncrementalData[System Increment],_xlfn.XLOOKUP('Metric Incremental Crate'!$R$3,MetricIncrementalData[#Headers],MetricIncrementalData[]),,1),0))","v":{"v":0.005399999999999999,"d":"0.0054"}},{"v":0.567,"d":"0.5670"},{"$f":"IF(B59=\"\",\"\",IFERROR(_xlfn.XLOOKUP(ROUND(B59,1),MetricIncrementalData[System Increment],_xlfn.XLOOKUP(Metric_Incremental_Data_Target_Column,MetricIncrementalData[#Headers],MetricIncrementalData[]),,1),0))","v":{"v":0.005625,"d":"0.0056"}},{"$f":"IF(B59=\"\",\"\",IF(B60=\"\",((((B59-0)/100)*Metric_Module_Square_Foot_Area)-'Cumulative Volumes Metric'!E59)*Metric_Stone_Void_Percentage,((((B59-B60)/100)*Metric_Module_Square_Foot_Area)-'Cumulative Volumes Metric'!E59)*Metric_Stone_Void_Percentage))","v":{"v":0,"d":"0.0000"}},{"v":0,"d":"0.00"},{"$f":"IF(B59=\"\",\"\",((Metric_System_Area_Input-Metric_Number_Of_Stacks*_xlfn.XLOOKUP(Metric_Layers,CrateData[Layer],CrateData[Surface Area (m2)]))*((B59-IF(B60=\"\",0,B60))/100))*Metric_Stone_Void_Percentage)","v":{"v":0.00375,"d":"0.00"}},{"v":0.00375,"d":"0.00"},{"v":0.57075,"d":"0.57"},{"$f":"IF(B59=\"\",\"\",SUM(J59:$J$563))","v":{"v":35.03925000000004,"d":"35.04"}},100.702,{"$nulls":9},100.702,null,{"v":0.6939999999999997,"d":"0.69"},0.6939999999999997,{"v":57.0749999999719,"d":"57.075"},null,1,{"$f":"IF($AU$21=\"INVERT\",Y59,IF(AC58>=$Z$12,\"\",IF(Y58=\"\",\"\",INDEX($Y$18:$Y$227,$AB$17-ROWS($Y$18:$Y58)))))","v":""},"","","",{"$nulls":26},{"$f":"IF($AU$21=\"INVERT\",Y59,IF(AC58>=$Z$12,\"\",IF(Y58=\"\",\"\",INDEX($Y$18:$Y$227,$AB$17-ROWS($Y$18:$Y58)))))","v":""},"",{"$f":"IF(AE58=\"\",\"\",\n    IF($AU$21=\"TYP\",\n       IF(Z58=\"\",\"\", INDEX($Z$18:$Z$227, $AB$17-ROWS($Z$18:$Z58))),\n       IF($AU$21=\"INVERT\",Z59, \"\")\n    )\n)","v":""},"",null,{"$f":"IF(BL58>=$Z$12,\"\",IF(Y58=\"\",\"\",INDEX($Y$18:$Y$227,$AB$17-ROWS($Y$18:$Y58))))","v":{"v":0.4139999999999995,"d":"0.41"}},{"$f":"IF(#REF!=\"\",\"\",#REF!/43560)","v":{"$error":"#REF!"}},{"$f":"#REF!","v":{"$error":"#REF!"}}]
[60,69.2,{"$f":"IF(B60=\"\",\"\",IFERROR(_xlfn.XLOOKUP(ROUND(B60,1),MetricIncrementalData[System Increment],_xlfn.XLOOKUP('Metric Incremental Crate'!$R$3,MetricIncrementalData[#Headers],MetricIncrementalData[]),,1),0))","v":{"v":0.005399999999999999,"d":"0.0054"}},{"v":0.567,"d":"0.5670"},{"$f":"IF(B60=\"\",\"\",IFERROR(_xlfn.XLOOKUP(ROUND(B60,1),MetricIncrementalData[System Increment],_xlfn.XLOOKUP(Metric_Incremental_Data_Target_Column,MetricIncrementalData[#Headers],MetricIncrementalData[]),,1),0))","v":{"v":0.005625,"d":"0.0056"}},{"$f":"IF(B60=\"\",\"\",IF(B61=\"\",((((B60-0)/100)*Metric_Module_Square_Foot_Area)-'Cumulative Volumes Metric'!E60)*Metric_Stone_Void_Percentage,((((B60-B61)/100)*Metric_Module_Square_Foot_Area)-'Cumulative Volumes Metric'!E60)*Metric_Stone_Void_Percentage))","v":{"v":0,"d":"0.0000"}},{"v":0,"d":"0.00"},{"$f":"IF(B60=\"\",\"\",((Metric_System_Area_Input-Metric_Number_Of_Stacks*_xlfn.XLOOKUP(Metric_Layers,CrateData[Layer],CrateData[Surface Area (m2)]))*((B60-IF(B61=\"\",0,B61))/100))*Metric_Stone_Void_Percentage)","v":{"v":0.00375,"d":"0.00"}},{"v":0.00375,"d":"0.00"},{"v":0.57075,"d":"0.57"},{"$f":"IF(B60=\"\",\"\",SUM(J60:$J$563))","v":{"v":34.46850000000003,"d":"34.47"}},100.692,{"$nulls":9},100.692,null,{"v":0.6839999999999997,"d":"0.68"},0.6839999999999997,{"v":57.07500000005301,"d":"57.075"},null,1,{"$f":"IF($AU$21=\"INVERT\",Y60,IF(AC59>=$Z$12,\"\",IF(Y59=\"\",\"\",INDEX($Y$18:$Y$227,$AB$17-ROWS($Y$18:$Y59)))))","v":""},"","","",{"$nulls":26},{"$f":"IF($AU$21=\"INVERT\",Y60,IF(AC59>=$Z$12,\"\",IF(Y59=\"\",\"\",INDEX($Y$18:$Y$227,$AB$17-ROWS($Y$18:$Y59)))))","v":""},"",{"$f":"IF(AE59=\"\",\"\",\n    IF($AU$21=\"TYP\",\n       IF(Z59=\"\",\"\", INDEX($Z$18:$Z$227, $AB$17-ROWS($Z$18:$Z59))),\n       IF($AU$21=\"INVERT\",Z60, \"\")\n    )\n)","v":""},"",null,{"$f":"IF(BL59>=$Z$12,\"\",IF(Y59=\"\",\"\",INDEX($Y$18:$Y$227,$AB$17-ROWS($Y$18:$Y59))))","v":{"v":0.4239999999999995,"d":"0.42"}},{"$f":"IF(#REF!=\"\",\"\",#REF!/43560)","v":{"$error":"#REF!"}},{"$f":"#REF!","v":{"$error":"#REF!"}}]
[61,68.2,{"$f":"IF(B61=\"\",\"\",IFERROR(_xlfn.XLOOKUP(ROUND(B61,1),MetricIncrementalData[System Increment],_xlfn.XLOOKUP('Metric Incremental Crate'!$R$3,MetricIncrementalData[#Headers],MetricIncrementalData[]),,1),0))","v":{"v":0.005399999999999999,"d":"0.0054"}},{"v":0.567,"d":"0.5670"},{"$f":"IF(B61=\"\",\"\",IFERROR(_xlfn.XLOOKUP(ROUND(B61,1),MetricIncrementalData[System Increment],_xlfn.XLOOKUP(Metric_Incremental_Data_Target_Column,MetricIncrementalData[#Headers],MetricIncrementalData[]),,1),0))","v":{"v":0.005625,"d":"0.0056"}},{"$f":"IF(B61=\"\",\"\",IF(B62=\"\",((((B61-0)/100)*Metric_Module_Square_Foot_Area)-'Cumulative Volumes Metric'!E61)*Metric_Stone_Void_Percentage,((((B61-B62)/100)*Metric_Module_Square_Foot_Area)-'Cumulative Volumes Metric'!E61)*Metric_Stone_Void_Percentage))","v":{"v":0,"d":"0.0000"}},{"v":0,"d":"0.00"},{"$f":"IF(B61=\"\",\"\",((Metric_System_Area_Input-Metric_Number_Of_Stacks*_xlfn.XLOOKUP(Metric_Layers,CrateData[Layer],CrateData[Surface Area (m2)]))*((B61-IF(B62=\"\",0,B62))/100))*Metric_Stone_Void_Percentage)","v":{"v":0.00375,"d":"0.00"}},{"v":0.00375,"d":"0.00"},{"v":0.57075,"d":"0.57"},{"$f":"IF(B61=\"\",\"\",SUM(J61:$J$563))","v":{"v":33.897750000000016,"d":"33.90"}},100.682,{"$nulls":9},100.682,null,{"v":0.6739999999999997,"d":"0.67"},0.6739999999999997,{"v":57.07499999997119,"d":"57.075"},null,1,{"$f":"IF($AU$21=\"INVERT\",Y61,IF(AC60>=$Z$12,\"\",IF(Y60=\"\",\"\",INDEX($Y$18:$Y$227,$AB$17-ROWS($Y$18:$Y60)))))","v":""},"","","",{"$nulls":26},{"$f":"IF($AU$21=\"INVERT\",Y61,IF(AC60>=$Z$12,\"\",IF(Y60=\"\",\"\",INDEX($Y$18:$Y$227,$AB$17-ROWS($Y$18:$Y60)))))","v":""},"",{"$f":"IF(AE60=\"\",\"\",\n    IF($AU$21=\"TYP\",\n       IF(Z60=\"\",\"\", INDEX($Z$18:$Z$227, $AB$17-ROWS($Z$18:$Z60))),\n       IF($AU$21=\"INVERT\",Z61, \"\")\n    )\n)","v":""},"",null,{"$f":"IF(BL60>=$Z$12,\"\",IF(Y60=\"\",\"\",INDEX($Y$18:$Y$227,$AB$17-ROWS($Y$18:$Y60))))","v":{"v":0.4339999999999995,"d":"0.43"}},{"$f":"IF(#REF!=\"\",\"\",#REF!/43560)","v":{"$error":"#REF!"}},{"$f":"#REF!","v":{"$error":"#REF!"}}]
[62,67.2,{"$f":"IF(B62=\"\",\"\",IFERROR(_xlfn.XLOOKUP(ROUND(B62,1),MetricIncrementalData[System Increment],_xlfn.XLOOKUP('Metric Incremental Crate'!$R$3,MetricIncrementalData[#Headers],MetricIncrementalData[]),,1),0))","v":{"v":0.005399999999999999,"d":"0.0054"}},{"v":0.567,"d":"0.5670"},{"$f":"IF(B62=\"\",\"\",IFERROR(_xlfn.XLOOKUP(ROUND(B62,1),MetricIncrementalData[System Increment],_xlfn.XLOOKUP(Metric_Incremental_Data_Target_Column,MetricIncrementalData[#Headers],MetricIncrementalData[]),,1),0))","v":{"v":0.005625,"d":"0.0056"}},{"$f":"IF(B62=\"\",\"\",IF(B63=\"\",((((B62-0)/100)*Metric_Module_Square_Foot_Area)-'Cumulative Volumes Metric'!E62)*Metric_Stone_Void_Percentage,((((B62-B63)/100)*Metric_Module_Square_Foot_Area)-'Cumulative Volumes Metric'!E62)*Metric_Stone_Void_Percentage))","v":{"v":0,"d":"0.0000"}},{"v":0,"d":"0.00"},{"$f":"IF(B62=\"\",\"\",((Metric_System_Area_Input-Metric_Number_Of_Stacks*_xlfn.XLOOKUP(Metric_Layers,CrateData[Layer],CrateData[Surface Area (m2)]))*((B62-IF(B63=\"\",0,B63))/100))*Metric_Stone_Void_Percentage)","v":{"v":0.00375,"d":"0.00"}},{"v":0.00375,"d":"0.00"},{"v":0.57075,"d":"0.57"},{"$f":"IF(B62=\"\",\"\",SUM(J62:$J$563))","v":{"v":33.32700000000001,"d":"33.33"}},100.672,{"$nulls":9},100.672,null,{"v":0.6639999999999997,"d":"0.66"},0.6639999999999997,{"v":57.07500000005301,"d":"57.075"},null,1,{"$f":"IF($AU$21=\"INVERT\",Y62,IF(AC61>=$Z$12,\"\",IF(Y61=\"\",\"\",INDEX($Y$18:$Y$227,$AB$17-ROWS($Y$18:$Y61)))))","v":""},"","","",{"$nulls":26},{"$f":"IF($AU$21=\"INVERT\",Y62,IF(AC61>=$Z$12,\"\",IF(Y61=\"\",\"\",INDEX($Y$18:$Y$227,$AB$17-ROWS($Y$18:$Y61)))))","v":""},"",{"$f":"IF(AE61=\"\",\"\",\n    IF($AU$21=\"TYP\",\n       IF(Z61=\"\",\"\", INDEX($Z$18:$Z$227, $AB$17-ROWS($Z$18:$Z61))),\n       IF($AU$21=\"INVERT\",Z62, \"\")\n    )\n)","v":""},"",null,{"$f":"IF(BL61>=$Z$12,\"\",IF(Y61=\"\",\"\",INDEX($Y$18:$Y$227,$AB$17-ROWS($Y$18:$Y61))))","v":{"v":0.4439999999999995,"d":"0.44"}},{"$f":"IF(#REF!=\"\",\"\",#REF!/43560)","v":{"$error":"#REF!"}},{"$f":"#REF!","v":{"$error":"#REF!"}}]
[63,66.2,{"$f":"IF(B63=\"\",\"\",IFERROR(_xlfn.XLOOKUP(ROUND(B63,1),MetricIncrementalData[System Increment],_xlfn.XLOOKUP('Metric Incremental Crate'!$R$3,MetricIncrementalData[#Headers],MetricIncrementalData[]),,1),0))","v":{"v":0.005399999999999999,"d":"0.0054"}},{"v":0.567,"d":"0.5670"},{"$f":"IF(B63=\"\",\"\",IFERROR(_xlfn.XLOOKUP(ROUND(B63,1),MetricIncrementalData[System Increment],_xlfn.XLOOKUP(Metric_Incremental_Data_Target_Column,MetricIncrementalData[#Headers],MetricIncrementalData[]),,1),0))","v":{"v":0.005625,"d":"0.0056"}},{"$f":"IF(B63=\"\",\"\",IF(B64=\"\",((((B63-0)/100)*Metric_Module_Square_Foot_Area)-'Cumulative Volumes Metric'!E63)*Metric_Stone_Void_Percentage,((((B63-B64)/100)*Metric_Module_Square_Foot_Area)-'Cumulative Volumes Metric'!E63)*Metric_Stone_Void_Percentage))","v":{"v":0,"d":"0.0000"}},{"v":0,"d":"0.00"},{"$f":"IF(B63=\"\",\"\",((Metric_System_Area_Input-Metric_Number_Of_Stacks*_xlfn.XLOOKUP(Metric_Layers,CrateData[Layer],CrateData[Surface Area (m2)]))*((B63-IF(B64=\"\",0,B64))/100))*Metric_Stone_Void_Percentage)","v":{"v":0.00375,"d":"0.00"}},{"v":0.00375,"d":"0.00"},{"v":0.57075,"d":"0.57"},{"$f":"IF(B63=\"\",\"\",SUM(J63:$J$563))","v":{"v":32.75625,"d":"32.76"}},100.662,{"$nulls":9},100.662,null,{"v":0.6539999999999997,"d":"0.65"},0.6539999999999997,{"v":57.0749999999719,"d":"57.075"},null,1,{"$f":"IF($AU$21=\"INVERT\",Y63,IF(AC62>=$Z$12,\"\",IF(Y62=\"\",\"\",INDEX($Y$18:$Y$227,$AB$17-ROWS($Y$18:$Y62)))))","v":""},"","","",{"$nulls":26},{"$f":"IF($AU$21=\"INVERT\",Y63,IF(AC62>=$Z$12,\"\",IF(Y62=\"\",\"\",INDEX($Y$18:$Y$227,$AB$17-ROWS($Y$18:$Y62)))))","v":""},"",{"$f":"IF(AE62=\"\",\"\",\n    IF($AU$21=\"TYP\",\n       IF(Z62=\"\",\"\", INDEX($Z$18:$Z$227, $AB$17-ROWS($Z$18:$Z62))),\n       IF($AU$21=\"INVERT\",Z63, \"\")\n    )\n)","v":""},"",null,{"$f":"IF(BL62>=$Z$12,\"\",IF(Y62=\"\",\"\",INDEX($Y$18:$Y$227,$AB$17-ROWS($Y$18:$Y62))))","v":{"v":0.4539999999999995,"d":"0.45"}},{"$f":"IF(#REF!=\"\",\"\",#REF!/43560)","v":{"$error":"#REF!"}},{"$f":"#REF!","v":{"$error":"#REF!"}}]
[64,65.2,{"$f":"IF(B64=\"\",\"\",IFERROR(_xlfn.XLOOKUP(ROUND(B64,1),MetricIncrementalData[System Increment],_xlfn.XLOOKUP('Metric Incremental Crate'!$R$3,MetricIncrementalData[#Headers],MetricIncrementalData[]),,1),0))","v":{"v":0.005399999999999999,"d":"0.0054"}},{"v":0.567,"d":"0.5670"},{"$f":"IF(B64=\"\",\"\",IFERROR(_xlfn.XLOOKUP(ROUND(B64,1),MetricIncrementalData[System Increment],_xlfn.XLOOKUP(Metric_Incremental_Data_Target_Column,MetricIncrementalData[#Headers],MetricIncrementalData[]),,1),0))","v":{"v":0.005625,"d":"0.0056"}},{"$f":"IF(B64=\"\",\"\",IF(B65=\"\",((((B64-0)/100)*Metric_Module_Square_Foot_Area)-'Cumulative Volumes Metric'!E64)*Metric_Stone_Void_Percentage,((((B64-B65)/100)*Metric_Module_Square_Foot_Area)-'Cumulative Volumes Metric'!E64)*Metric_Stone_Void_Percentage))","v":{"v":0,"d":"0.0000"}},{"v":0,"d":"0.00"},{"$f":"IF(B64=\"\",\"\",((Metric_System_Area_Input-Metric_Number_Of_Stacks*_xlfn.XLOOKUP(Metric_Layers,CrateData[Layer],CrateData[Surface Area (m2)]))*((B64-IF(B65=\"\",0,B65))/100))*Metric_Stone_Void_Percentage)","v":{"v":0.00375,"d":"0.00"}},{"v":0.00375,"d":"0.00"},{"v":0.57075,"d":"0.57"},{"$f":"IF(B64=\"\",\"\",SUM(J64:$J$563))","v":{"v":32.18549999999999,"d":"32.19"}},100.652,{"$nulls":9},100.652,null,{"v":0.6439999999999997,"d":"0.64"},0.6439999999999997,{"v":57.074999999970835,"d":"57.075"},null,1,{"$f":"IF($AU$21=\"INVERT\",Y64,IF(AC63>=$Z$12,\"\",IF(Y63=\"\",\"\",INDEX($Y$18:$Y$227,$AB$17-ROWS($Y$18:$Y63)))))","v":""},"","","",{"$nulls":26},{"$f":"IF($AU$21=\"INVERT\",Y64,IF(AC63>=$Z$12,\"\",IF(Y63=\"\",\"\",INDEX($Y$18:$Y$227,$AB$17-ROWS($Y$18:$Y63)))))","v":""},"",{"$f":"IF(AE63=\"\",\"\",\n    IF($AU$21=\"TYP\",\n       IF(Z63=\"\",\"\", INDEX($Z$18:$Z$227, $AB$17-ROWS($Z$18:$Z63))),\n       IF($AU$21=\"INVERT\",Z64, \"\")\n    )\n)","v":""},"",null,{"$f":"IF(BL63>=$Z$12,\"\",IF(Y63=\"\",\"\",INDEX($Y$18:$Y$227,$AB$17-ROWS($Y$18:$Y63))))","v":{"v":0.4639999999999995,"d":"0.46"}},{"$f":"IF(#REF!=\"\",\"\",#REF!/43560)","v":{"$error":"#REF!"}},{"$f":"#REF!","v":{"$error":"#REF!"}}]
[65,64.2,{"$f":"IF(B65=\"\",\"\",IFERROR(_xlfn.XLOOKUP(ROUND(B65,1),MetricIncrementalData[System Increment],_xlfn.XLOOKUP('Metric Incremental Crate'!$R$3,MetricIncrementalData[#Headers],MetricIncrementalData[]),,1),0))","v":{"v":0.005399999999999999,"d":"0.0054"}},{"v":0.567,"d":"0.5670"},{"$f":"IF(B65=\"\",\"\",IFERROR(_xlfn.XLOOKUP(ROUND(B65,1),MetricIncrementalData[System Increment],_xlfn.XLOOKUP(Metric_Incremental_Data_Target_Column,MetricIncrementalData[#Headers],MetricIncrementalData[]),,1),0))","v":{"v":0.005625,"d":"0.0056"}},{"$f":"IF(B65=\"\",\"\",IF(B66=\"\",((((B65-0)/100)*Metric_Module_Square_Foot_Area)-'Cumulative Volumes Metric'!E65)*Metric_Stone_Void_Percentage,((((B65-B66)/100)*Metric_Module_Square_Foot_Area)-'Cumulative Volumes Metric'!E65)*Metric_Stone_Void_Percentage))","v":{"v":0,"d":"0.0000"}},{"v":0,"d":"0.00"},{"$f":"IF(B65=\"\",\"\",((Metric_System_Area_Input-Metric_Number_Of_Stacks*_xlfn.XLOOKUP(Metric_Layers,CrateData[Layer],CrateData[Surface Area (m2)]))*((B65-IF(B66=\"\",0,B66))/100))*Metric_Stone_Void_Percentage)","v":{"v":0.00375,"d":"0.00"}},{"v":0.00375,"d":"0.00"},{"v":0.57075,"d":"0.57"},{"$f":"IF(B65=\"\",\"\",SUM(J65:$J$563))","v":{"v":31.61474999999999,"d":"31.61"}},100.642,{"$nulls":9},100.642,null,{"v":0.6339999999999997,"d":"0.63"},0.6339999999999997,{"v":57.07500000005194,"d":"57.075"},null,1,{"$f":"IF($AU$21=\"INVERT\",Y65,IF(AC64>=$Z$12,\"\",IF(Y64=\"\",\"\",INDEX($Y$18:$Y$227,$AB$17-ROWS($Y$18:$Y64)))))","v":""},"","","",{"$nulls":26},{"$f":"IF($AU$21=\"INVERT\",Y65,IF(AC64>=$Z$12,\"\",IF(Y64=\"\",\"\",INDEX($Y$18:$Y$227,$AB$17-ROWS($Y$18:$Y64)))))","v":""},"",{"$f":"IF(AE64=\"\",\"\",\n    IF($AU$21=\"TYP\",\n       IF(Z64=\"\",\"\", INDEX($Z$18:$Z$227, $AB$17-ROWS($Z$18:$Z64))),\n       IF($AU$21=\"INVERT\",Z65, \"\")\n    )\n)","v":""},"",null,{"$f":"IF(BL64>=$Z$12,\"\",IF(Y64=\"\",\"\",INDEX($Y$18:$Y$227,$AB$17-ROWS($Y$18:$Y64))))","v":{"v":0.47399999999999953,"d":"0.47"}},{"$f":"IF(#REF!=\"\",\"\",#REF!/43560)","v":{"$error":"#REF!"}},{"$f":"#REF!","v":{"$error":"#REF!"}}]
[66,63.2,{"$f":"IF(B66=\"\",\"\",IFERROR(_xlfn.XLOOKUP(ROUND(B66,1),MetricIncrementalData[System Increment],_xlfn.XLOOKUP('Metric Incremental Crate'!$R$3,MetricIncrementalData[#Headers],MetricIncrementalData[]),,1),0))","v":{"v":0.005399999999999999,"d":"0.0054"}},{"v":0.567,"d":"0.5670"},{"$f":"IF(B66=\"\",\"\",IFERROR(_xlfn.XLOOKUP(ROUND(B66,1),MetricIncrementalData[System Increment],_xlfn.XLOOKUP(Metric_Incremental_Data_Target_Column,MetricIncrementalData[#Headers],MetricIncrementalData[]),,1),0))","v":{"v":0.005625,"d":"0.0056"}},{"$f":"IF(B66=\"\",\"\",IF(B67=\"\",((((B66-0)/100)*Metric_Module_Square_Foot_Area)-'Cumulative Volumes Metric'!E66)*Metric_Stone_Void_Percentage,((((B66-B67)/100)*Metric_Module_Square_Foot_Area)-'Cumulative Volumes Metric'!E66)*Metric_Stone_Void_Percentage))","v":{"v":0,"d":"0.0000"}},{"v":0,"d":"0.00"},{"$f":"IF(B66=\"\",\"\",((Metric_System_Area_Input-Metric_Number_Of_Stacks*_xlfn.XLOOKUP(Metric_Layers,CrateData[Layer],CrateData[Surface Area (m2)]))*((B66-IF(B67=\"\",0,B67))/100))*Metric_Stone_Void_Percentage)","v":{"v":0.00375,"d":"0.00"}},{"v":0.00375,"d":"0.00"},{"v":0.57075,"d":"0.57"},{"$f":"IF(B66=\"\",\"\",SUM(J66:$J$563))","v":{"v":31.04399999999999,"d":"31.04"}},100.632,{"$nulls":9},100.632,null,{"v":0.6239999999999997,"d":"0.62"},0.6239999999999997,{"v":57.074999999970835,"d":"57.075"},null,1,{"$f":"IF($AU$21=\"INVERT\",Y66,IF(AC65>=$Z$12,\"\",IF(Y65=\"\",\"\",INDEX($Y$18:$Y$227,$AB$17-ROWS($Y$18:$Y65)))))","v":""},"","","",{"$nulls":26},{"$f":"IF($AU$21=\"INVERT\",Y66,IF(AC65>=$Z$12,\"\",IF(Y65=\"\",\"\",INDEX($Y$18:$Y$227,$AB$17-ROWS($Y$18:$Y65)))))","v":""},"",{"$f":"IF(AE65=\"\",\"\",\n    IF($AU$21=\"TYP\",\n       IF(Z65=\"\",\"\", INDEX($Z$18:$Z$227, $AB$17-ROWS($Z$18:$Z65))),\n       IF($AU$21=\"INVERT\",Z66, \"\")\n    )\n)","v":""},"",null,{"$f":"IF(BL65>=$Z$12,\"\",IF(Y65=\"\",\"\",INDEX($Y$18:$Y$227,$AB$17-ROWS($Y$18:$Y65))))","v":{"v":0.48399999999999954,"d":"0.48"}},{"$f":"IF(#REF!=\"\",\"\",#REF!/43560)","v":{"$error":"#REF!"}},{"$f":"#REF!","v":{"$error":"#REF!"}}]
[67,62.2,{"$f":"IF(B67=\"\",\"\",IFERROR(_xlfn.XLOOKUP(ROUND(B67,1),MetricIncrementalData[System Increment],_xlfn.XLOOKUP('Metric Incremental Crate'!$R$3,MetricIncrementalData[#Headers],MetricIncrementalData[]),,1),0))","v":{"v":0.005399999999999999,"d":"0.0054"}},{"v":0.567,"d":"0.5670"},{"$f":"IF(B67=\"\",\"\",IFERROR(_xlfn.XLOOKUP(ROUND(B67,1),MetricIncrementalData[System Increment],_xlfn.XLOOKUP(Metric_Incremental_Data_Target_Column,MetricIncrementalData[#Headers],MetricIncrementalData[]),,1),0))","v":{"v":0.005625,"d":"0.0056"}},{"$f":"IF(B67=\"\",\"\",IF(B68=\"\",((((B67-0)/100)*Metric_Module_Square_Foot_Area)-'Cumulative Volumes Metric'!E67)*Metric_Stone_Void_Percentage,((((B67-B68)/100)*Metric_Module_Square_Foot_Area)-'Cumulative Volumes Metric'!E67)*Metric_Stone_Void_Percentage))","v":{"v":0,"d":"0.0000"}},{"v":0,"d":"0.00"},{"$f":"IF(B67=\"\",\"\",((Metric_System_Area_Input-Metric_Number_Of_Stacks*_xlfn.XLOOKUP(Metric_Layers,CrateData[Layer],CrateData[Surface Area (m2)]))*((B67-IF(B68=\"\",0,B68))/100))*Metric_Stone_Void_Percentage)","v":{"v":0.00375,"d":"0.00"}},{"v":0.00375,"d":"0.00"},{"v":0.57075,"d":"0.57"},{"$f":"IF(B67=\"\",\"\",SUM(J67:$J$563))","v":{"v":30.47324999999999,"d":"30.47"}},100.622,{"$nulls":9},100.622,null,{"v":0.6139999999999997,"d":"0.61"},0.6139999999999997,{"v":57.074999999970835,"d":"57.075"},null,1,{"$f":"IF($AU$21=\"INVERT\",Y67,IF(AC66>=$Z$12,\"\",IF(Y66=\"\",\"\",INDEX($Y$18:$Y$227,$AB$17-ROWS($Y$18:$Y66)))))","v":""},"","","",{"$nulls":26},{"$f":"IF($AU$21=\"INVERT\",Y67,IF(AC66>=$Z$12,\"\",IF(Y66=\"\",\"\",INDEX($Y$18:$Y$227,$AB$17-ROWS($Y$18:$Y66)))))","v":""},"",{"$f":"IF(AE66=\"\",\"\",\n    IF($AU$21=\"TYP\",\n       IF(Z66=\"\",\"\", INDEX($Z$18:$Z$227, $AB$17-ROWS($Z$18:$Z66))),\n       IF($AU$21=\"INVERT\",Z67, \"\")\n    )\n)","v":""},"",null,{"$f":"IF(BL66>=$Z$12,\"\",IF(Y66=\"\",\"\",INDEX($Y$18:$Y$227,$AB$17-ROWS($Y$18:$Y66))))","v":{"v":0.49399999999999955,"d":"0.49"}},{"$f":"IF(#REF!=\"\",\"\",#REF!/43560)","v":{"$error":"#REF!"}},{"$f":"#REF!","v":{"$error":"#REF!"}}]
[68,61.2,{"$f":"IF(B68=\"\",\"\",IFERROR(_xlfn.XLOOKUP(ROUND(B68,1),MetricIncrementalData[System Increment],_xlfn.XLOOKUP('Metric Incremental Crate'!$R$3,MetricIncrementalData[#Headers],MetricIncrementalData[]),,1),0))","v":{"v":0.005399999999999999,"d":"0.0054"}},{"v":0.567,"d":"0.5670"},{"$f":"IF(B68=\"\",\"\",IFERROR(_xlfn.XLOOKUP(ROUND(B68,1),MetricIncrementalData[System Increment],_xlfn.XLOOKUP(Metric_Incremental_Data_Target_Column,MetricIncrementalData[#Headers],MetricIncrementalData[]),,1),0))","v":{"v":0.005625,"d":"0.0056"}},{"$f":"IF(B68=\"\",\"\",IF(B69=\"\",((((B68-0)/100)*Metric_Module_Square_Foot_Area)-'Cumulative Volumes Metric'!E68)*Metric_Stone_Void_Percentage,((((B68-B69)/100)*Metric_Module_Square_Foot_Area)-'Cumulative Volumes Metric'!E68)*Metric_Stone_Void_Percentage))","v":{"v":0,"d":"0.0000"}},{"v":0,"d":"0.00"},{"$f":"IF(B68=\"\",\"\",((Metric_System_Area_Input-Metric_Number_Of_Stacks*_xlfn.XLOOKUP(Metric_Layers,CrateData[Layer],CrateData[Surface Area (m2)]))*((B68-IF(B69=\"\",0,B69))/100))*Metric_Stone_Void_Percentage)","v":{"v":0.00375,"d":"0.00"}},{"v":0.00375,"d":"0.00"},{"v":0.57075,"d":"0.57"},{"$f":"IF(B68=\"\",\"\",SUM(J68:$J$563))","v":{"v":29.90249999999999,"d":"29.90"}},100.612,{"$nulls":9},100.612,null,{"v":0.6039999999999996,"d":"0.60"},0.6039999999999996,{"v":57.07500000005194,"d":"57.075"},null,1,{"$f":"IF($AU$21=\"INVERT\",Y68,IF(AC67>=$Z$12,\"\",IF(Y67=\"\",\"\",INDEX($Y$18:$Y$227,$AB$17-ROWS($Y$18:$Y67)))))","v":""},"","","",{"$nulls":26},{"$f":"IF($AU$21=\"INVERT\",Y68,IF(AC67>=$Z$12,\"\",IF(Y67=\"\",\"\",INDEX($Y$18:$Y$227,$AB$17-ROWS($Y$18:$Y67)))))","v":""},"",{"$f":"IF(AE67=\"\",\"\",\n    IF($AU$21=\"TYP\",\n       IF(Z67=\"\",\"\", INDEX($Z$18:$Z$227, $AB$17-ROWS($Z$18:$Z67))),\n       IF($AU$21=\"INVERT\",Z68, \"\")\n    )\n)","v":""},"",null,{"$f":"IF(BL67>=$Z$12,\"\",IF(Y67=\"\",\"\",INDEX($Y$18:$Y$227,$AB$17-ROWS($Y$18:$Y67))))","v":{"v":0.5039999999999996,"d":"0.50"}},{"$f":"IF(#REF!=\"\",\"\",#REF!/43560)","v":{"$error":"#REF!"}},{"$f":"#REF!","v":{"$error":"#REF!"}}]
[69,60.2,{"$f":"IF(B69=\"\",\"\",IFERROR(_xlfn.XLOOKUP(ROUND(B69,1),MetricIncrementalData[System Increment],_xlfn.XLOOKUP('Metric Incremental Crate'!$R$3,MetricIncrementalData[#Headers],MetricIncrementalData[]),,1),0))","v":{"v":0.005399999999999999,"d":"0.0054"}},{"v":0.567,"d":"0.5670"},{"$f":"IF(B69=\"\",\"\",IFERROR(_xlfn.XLOOKUP(ROUND(B69,1),MetricIncrementalData[System Increment],_xlfn.XLOOKUP(Metric_Incremental_Data_Target_Column,MetricIncrementalData[#Headers],MetricIncrementalData[]),,1),0))","v":{"v":0.005625,"d":"0.0056"}},{"$f":"IF(B69=\"\",\"\",IF(B70=\"\",((((B69-0)/100)*Metric_Module_Square_Foot_Area)-'Cumulative Volumes Metric'!E69)*Metric_Stone_Void_Percentage,((((B69-B70)/100)*Metric_Module_Square_Foot_Area)-'Cumulative Volumes Metric'!E69)*Metric_Stone_Void_Percentage))","v":{"v":0,"d":"0.0000"}},{"v":0,"d":"0.00"},{"$f":"IF(B69=\"\",\"\",((Metric_System_Area_Input-Metric_Number_Of_Stacks*_xlfn.XLOOKUP(Metric_Layers,CrateData[Layer],CrateData[Surface Area (m2)]))*((B69-IF(B70=\"\",0,B70))/100))*Metric_Stone_Void_Percentage)","v":{"v":0.00375,"d":"0.00"}},{"v":0.00375,"d":"0.00"},{"v":0.57075,"d":"0.57"},{"$f":"IF(B69=\"\",\"\",SUM(J69:$J$563))","v":{"v":29.33174999999999,"d":"29.33"}},100.602,{"$nulls":9},100.602,null,{"v":0.5939999999999996,"d":"0.59"},0.5939999999999996,{"v":57.074999999970835,"d":"57.075"},null,1,{"$f":"IF($AU$21=\"INVERT\",Y69,IF(AC68>=$Z$12,\"\",IF(Y68=\"\",\"\",INDEX($Y$18:$Y$227,$AB$17-ROWS($Y$18:$Y68)))))","v":""},"","","",{"$nulls":26},{"$f":"IF($AU$21=\"INVERT\",Y69,IF(AC68>=$Z$12,\"\",IF(Y68=\"\",\"\",INDEX($Y$18:$Y$227,$AB$17-ROWS($Y$18:$Y68)))))","v":""},"",{"$f":"IF(AE68=\"\",\"\",\n    IF($AU$21=\"TYP\",\n       IF(Z68=\"\",\"\", INDEX($Z$18:$Z$227, $AB$17-ROWS($Z$18:$Z68))),\n       IF($AU$21=\"INVERT\",Z69, \"\")\n    )\n)","v":""},"",null,{"$f":"IF(BL68>=$Z$12,\"\",IF(Y68=\"\",\"\",INDEX($Y$18:$Y$227,$AB$17-ROWS($Y$18:$Y68))))","v":{"v":0.5139999999999996,"d":"0.51"}},{"$f":"IF(#REF!=\"\",\"\",#REF!/43560)","v":{"$error":"#REF!"}},{"$f":"#REF!","v":{"$error":"#REF!"}}]
[70,59.2,{"$f":"IF(B70=\"\",\"\",IFERROR(_xlfn.XLOOKUP(ROUND(B70,1),MetricIncrementalData[System Increment],_xlfn.XLOOKUP('Metric Incremental Crate'!$R$3,MetricIncrementalData[#Headers],MetricIncrementalData[]),,1),0))","v":{"v":0.005399999999999999,"d":"0.0054"}},{"v":0.567,"d":"0.5670"},{"$f":"IF(B70=\"\",\"\",IFERROR(_xlfn.XLOOKUP(ROUND(B70,1),MetricIncrementalData[System Increment],_xlfn.XLOOKUP(Metric_Incremental_Data_Target_Column,MetricIncrementalData[#Headers],MetricIncrementalData[]),,1),0))","v":{"v":0.005625,"d":"0.0056"}},{"$f":"IF(B70=\"\",\"\",IF(B71=\"\",((((B70-0)/100)*Metric_Module_Square_Foot_Area)-'Cumulative Volumes Metric'!E70)*Metric_Stone_Void_Percentage,((((B70-B71)/100)*Metric_Module_Square_Foot_Area)-'Cumulative Volumes Metric'!E70)*Metric_Stone_Void_Percentage))","v":{"v":0,"d":"0.0000"}},{"v":0,"d":"0.00"},{"$f":"IF(B70=\"\",\"\",((Metric_System_Area_Input-Metric_Number_Of_Stacks*_xlfn.XLOOKUP(Metric_Layers,CrateData[Layer],CrateData[Surface Area (m2)]))*((B70-IF(B71=\"\",0,B71))/100))*Metric_Stone_Void_Percentage)","v":{"v":0.00375,"d":"0.00"}},{"v":0.00375,"d":"0.00"},{"v":0.57075,"d":"0.57"},{"$f":"IF(B70=\"\",\"\",SUM(J70:$J$563))","v":{"v":28.76099999999999,"d":"28.76"}},100.592,{"$nulls":9},100.592,null,{"v":0.5839999999999996,"d":"0.58"},0.5839999999999996,{"v":57.074999999970835,"d":"57.075"},null,1,{"$f":"IF($AU$21=\"INVERT\",Y70,IF(AC69>=$Z$12,\"\",IF(Y69=\"\",\"\",INDEX($Y$18:$Y$227,$AB$17-ROWS($Y$18:$Y69)))))","v":""},"","","",{"$nulls":26},{"$f":"IF($AU$21=\"INVERT\",Y70,IF(AC69>=$Z$12,\"\",IF(Y69=\"\",\"\",INDEX($Y$18:$Y$227,$AB$17-ROWS($Y$18:$Y69)))))","v":""},"",{"$f":"IF(AE69=\"\",\"\",\n    IF($AU$21=\"TYP\",\n       IF(Z69=\"\",\"\", INDEX($Z$18:$Z$227, $AB$17-ROWS($Z$18:$Z69))),\n       IF($AU$21=\"INVERT\",Z70, \"\")\n    )\n)","v":""},"",null,{"$f":"IF(BL69>=$Z$12,\"\",IF(Y69=\"\",\"\",INDEX($Y$18:$Y$227,$AB$17-ROWS($Y$18:$Y69))))","v":{"v":0.5239999999999996,"d":"0.52"}},{"$f":"IF(#REF!=\"\",\"\",#REF!/43560)","v":{"$error":"#REF!"}},{"$f":"#REF!","v":{"$error":"#REF!"}}]
[71,58.2,{"$f":"IF(B71=\"\",\"\",IFERROR(_xlfn.XLOOKUP(ROUND(B71,1),MetricIncrementalData[System Increment],_xlfn.XLOOKUP('Metric Incremental Crate'!$R$3,MetricIncrementalData[#Headers],MetricIncrementalData[]),,1),0))","v":{"v":0.005399999999999999,"d":"0.0054"}},{"v":0.567,"d":"0.5670"},{"$f":"IF(B71=\"\",\"\",IFERROR(_xlfn.XLOOKUP(ROUND(B71,1),MetricIncrementalData[System Increment],_xlfn.XLOOKUP(Metric_Incremental_Data_Target_Column,MetricIncrementalData[#Headers],MetricIncrementalData[]),,1),0))","v":{"v":0.005625,"d":"0.0056"}},{"$f":"IF(B71=\"\",\"\",IF(B72=\"\",((((B71-0)/100)*Metric_Module_Square_Foot_Area)-'Cumulative Volumes Metric'!E71)*Metric_Stone_Void_Percentage,((((B71-B72)/100)*Metric_Module_Square_Foot_Area)-'Cumulative Volumes Metric'!E71)*Metric_Stone_Void_Percentage))","v":{"v":0,"d":"0.0000"}},{"v":0,"d":"0.00"},{"$f":"IF(B71=\"\",\"\",((Metric_System_Area_Input-Metric_Number_Of_Stacks*_xlfn.XLOOKUP(Metric_Layers,CrateData[Layer],CrateData[Surface Area (m2)]))*((B71-IF(B72=\"\",0,B72))/100))*Metric_Stone_Void_Percentage)","v":{"v":0.00375,"d":"0.00"}},{"v":0.00375,"d":"0.00"},{"v":0.57075,"d":"0.57"},{"$f":"IF(B71=\"\",\"\",SUM(J71:$J$563))","v":{"v":28.19024999999999,"d":"28.19"}},100.582,{"$nulls":9},100.582,null,{"v":0.5739999999999996,"d":"0.57"},0.5739999999999996,{"v":57.07500000005194,"d":"57.075"},null,1,{"$f":"IF($AU$21=\"INVERT\",Y71,IF(AC70>=$Z$12,\"\",IF(Y70=\"\",\"\",INDEX($Y$18:$Y$227,$AB$17-ROWS($Y$18:$Y70)))))","v":""},"","","",{"$nulls":26},{"$f":"IF($AU$21=\"INVERT\",Y71,IF(AC70>=$Z$12,\"\",IF(Y70=\"\",\"\",INDEX($Y$18:$Y$227,$AB$17-ROWS($Y$18:$Y70)))))","v":""},"",{"$f":"IF(AE70=\"\",\"\",\n    IF($AU$21=\"TYP\",\n       IF(Z70=\"\",\"\", INDEX($Z$18:$Z$227, $AB$17-ROWS($Z$18:$Z70))),\n       IF($AU$21=\"INVERT\",Z71, \"\")\n    )\n)","v":""},"",null,{"$f":"IF(BL70>=$Z$12,\"\",IF(Y70=\"\",\"\",INDEX($Y$18:$Y$227,$AB$17-ROWS($Y$18:$Y70))))","v":{"v":0.5339999999999996,"d":"0.53"}},{"$f":"IF(#REF!=\"\",\"\",#REF!/43560)","v":{"$error":"#REF!"}},{"$f":"#REF!","v":{"$error":"#REF!"}}]
[72,57.2,{"$f":"IF(B72=\"\",\"\",IFERROR(_xlfn.XLOOKUP(ROUND(B72,1),MetricIncrementalData[System Increment],_xlfn.XLOOKUP('Metric Incremental Crate'!$R$3,MetricIncrementalData[#Headers],MetricIncrementalData[]),,1),0))","v":{"v":0.005399999999999999,"d":"0.0054"}},{"v":0.567,"d":"0.5670"},{"$f":"IF(B72=\"\",\"\",IFERROR(_xlfn.XLOOKUP(ROUND(B72,1),MetricIncrementalData[System Increment],_xlfn.XLOOKUP(Metric_Incremental_Data_Target_Column,MetricIncrementalData[#Headers],MetricIncrementalData[]),,1),0))","v":{"v":0.005625,"d":"0.0056"}},{"$f":"IF(B72=\"\",\"\",IF(B73=\"\",((((B72-0)/100)*Metric_Module_Square_Foot_Area)-'Cumulative Volumes Metric'!E72)*Metric_Stone_Void_Percentage,((((B72-B73)/100)*Metric_Module_Square_Foot_Area)-'Cumulative Volumes Metric'!E72)*Metric_Stone_Void_Percentage))","v":{"v":0,"d":"0.0000"}},{"v":0,"d":"0.00"},{"$f":"IF(B72=\"\",\"\",((Metric_System_Area_Input-Metric_Number_Of_Stacks*_xlfn.XLOOKUP(Metric_Layers,CrateData[Layer],CrateData[Surface Area (m2)]))*((B72-IF(B73=\"\",0,B73))/100))*Metric_Stone_Void_Percentage)","v":{"v":0.00375,"d":"0.00"}},{"v":0.00375,"d":"0.00"},{"v":0.57075,"d":"0.57"},{"$f":"IF(B72=\"\",\"\",SUM(J72:$J$563))","v":{"v":27.619499999999988,"d":"27.62"}},100.572,{"$nulls":9},100.572,null,{"v":0.5639999999999996,"d":"0.56"},0.5639999999999996,{"v":57.074999999970835,"d":"57.075"},null,1,{"$f":"IF($AU$21=\"INVERT\",Y72,IF(AC71>=$Z$12,\"\",IF(Y71=\"\",\"\",INDEX($Y$18:$Y$227,$AB$17-ROWS($Y$18:$Y71)))))","v":""},"","","",{"$nulls":26},{"$f":"IF($AU$21=\"INVERT\",Y72,IF(AC71>=$Z$12,\"\",IF(Y71=\"\",\"\",INDEX($Y$18:$Y$227,$AB$17-ROWS($Y$18:$Y71)))))","v":""},"",{"$f":"IF(AE71=\"\",\"\",\n    IF($AU$21=\"TYP\",\n       IF(Z71=\"\",\"\", INDEX($Z$18:$Z$227, $AB$17-ROWS($Z$18:$Z71))),\n       IF($AU$21=\"INVERT\",Z72, \"\")\n    )\n)","v":""},"",null,{"$f":"IF(BL71>=$Z$12,\"\",IF(Y71=\"\",\"\",INDEX($Y$18:$Y$227,$AB$17-ROWS($Y$18:$Y71))))","v":{"v":0.5439999999999996,"d":"0.54"}},{"$f":"IF(#REF!=\"\",\"\",#REF!/43560)","v":{"$error":"#REF!"}},{"$f":"#REF!","v":{"$error":"#REF!"}}]
[73,56.2,{"$f":"IF(B73=\"\",\"\",IFERROR(_xlfn.XLOOKUP(ROUND(B73,1),MetricIncrementalData[System Increment],_xlfn.XLOOKUP('Metric Incremental Crate'!$R$3,MetricIncrementalData[#Headers],MetricIncrementalData[]),,1),0))","v":{"v":0.005399999999999999,"d":"0.0054"}},{"v":0.567,"d":"0.5670"},{"$f":"IF(B73=\"\",\"\",IFERROR(_xlfn.XLOOKUP(ROUND(B73,1),MetricIncrementalData[System Increment],_xlfn.XLOOKUP(Metric_Incremental_Data_Target_Column,MetricIncrementalData[#Headers],MetricIncrementalData[]),,1),0))","v":{"v":0.005625,"d":"0.0056"}},{"$f":"IF(B73=\"\",\"\",IF(B74=\"\",((((B73-0)/100)*Metric_Module_Square_Foot_Area)-'Cumulative Volumes Metric'!E73)*Metric_Stone_Void_Percentage,((((B73-B74)/100)*Metric_Module_Square_Foot_Area)-'Cumulative Volumes Metric'!E73)*Metric_Stone_Void_Percentage))","v":{"v":0,"d":"0.0000"}},{"v":0,"d":"0.00"},{"$f":"IF(B73=\"\",\"\",((Metric_System_Area_Input-Metric_Number_Of_Stacks*_xlfn.XLOOKUP(Metric_Layers,CrateData[Layer],CrateData[Surface Area (m2)]))*((B73-IF(B74=\"\",0,B74))/100))*Metric_Stone_Void_Percentage)","v":{"v":0.00375,"d":"0.00"}},{"v":0.00375,"d":"0.00"},{"v":0.57075,"d":"0.57"},{"$f":"IF(B73=\"\",\"\",SUM(J73:$J$563))","v":{"v":27.048749999999988,"d":"27.05"}},100.562,{"$nulls":9},100.562,null,{"v":0.5539999999999996,"d":"0.55"},0.5539999999999996,{"v":57.07500000005194,"d":"57.075"},null,1,{"$f":"IF($AU$21=\"INVERT\",Y73,IF(AC72>=$Z$12,\"\",IF(Y72=\"\",\"\",INDEX($Y$18:$Y$227,$AB$17-ROWS($Y$18:$Y72)))))","v":""},"","","",{"$nulls":26},{"$f":"IF($AU$21=\"INVERT\",Y73,IF(AC72>=$Z$12,\"\",IF(Y72=\"\",\"\",INDEX($Y$18:$Y$227,$AB$17-ROWS($Y$18:$Y72)))))","v":""},"",{"$f":"IF(AE72=\"\",\"\",\n    IF($AU$21=\"TYP\",\n       IF(Z72=\"\",\"\", INDEX($Z$18:$Z$227, $AB$17-ROWS($Z$18:$Z72))),\n       IF($AU$21=\"INVERT\",Z73, \"\")\n    )\n)","v":""},"",null,{"$f":"IF(BL72>=$Z$12,\"\",IF(Y72=\"\",\"\",INDEX($Y$18:$Y$227,$AB$17-ROWS($Y$18:$Y72))))","v":{"v":0.5539999999999996,"d":"0.55"}},{"$f":"IF(#REF!=\"\",\"\",#REF!/43560)","v":{"$error":"#REF!"}},{"$f":"#REF!","v":{"$error":"#REF!"}}]
[74,55.2,{"$f":"IF(B74=\"\",\"\",IFERROR(_xlfn.XLOOKUP(ROUND(B74,1),MetricIncrementalData[System Increment],_xlfn.XLOOKUP('Metric Incremental Crate'!$R$3,MetricIncrementalData[#Headers],MetricIncrementalData[]),,1),0))","v":{"v":0.005399999999999999,"d":"0.0054"}},{"v":0.567,"d":"0.5670"},{"$f":"IF(B74=\"\",\"\",IFERROR(_xlfn.XLOOKUP(ROUND(B74,1),MetricIncrementalData[System Increment],_xlfn.XLOOKUP(Metric_Incremental_Data_Target_Column,MetricIncrementalData[#Headers],MetricIncrementalData[]),,1),0))","v":{"v":0.005625,"d":"0.0056"}},{"$f":"IF(B74=\"\",\"\",IF(B75=\"\",((((B74-0)/100)*Metric_Module_Square_Foot_Area)-'Cumulative Volumes Metric'!E74)*Metric_Stone_Void_Percentage,((((B74-B75)/100)*Metric_Module_Square_Foot_Area)-'Cumulative Volumes Metric'!E74)*Metric_Stone_Void_Percentage))","v":{"v":0,"d":"0.0000"}},{"v":0,"d":"0.00"},{"$f":"IF(B74=\"\",\"\",((Metric_System_Area_Input-Metric_Number_Of_Stacks*_xlfn.XLOOKUP(Metric_Layers,CrateData[Layer],CrateData[Surface Area (m2)]))*((B74-IF(B75=\"\",0,B75))/100))*Metric_Stone_Void_Percentage)","v":{"v":0.00375,"d":"0.00"}},{"v":0.00375,"d":"0.00"},{"v":0.57075,"d":"0.57"},{"$f":"IF(B74=\"\",\"\",SUM(J74:$J$563))","v":{"v":26.477999999999987,"d":"26.48"}},100.552,{"$nulls":9},100.552,null,{"v":0.5439999999999996,"d":"0.54"},0.5439999999999996,{"v":57.074999999970835,"d":"57.075"},null,1,{"$f":"IF($AU$21=\"INVERT\",Y74,IF(AC73>=$Z$12,\"\",IF(Y73=\"\",\"\",INDEX($Y$18:$Y$227,$AB$17-ROWS($Y$18:$Y73)))))","v":""},"","","",{"$nulls":26},{"$f":"IF($AU$21=\"INVERT\",Y74,IF(AC73>=$Z$12,\"\",IF(Y73=\"\",\"\",INDEX($Y$18:$Y$227,$AB$17-ROWS($Y$18:$Y73)))))","v":""},"",{"$f":"IF(AE73=\"\",\"\",\n    IF($AU$21=\"TYP\",\n       IF(Z73=\"\",\"\", INDEX($Z$18:$Z$227, $AB$17-ROWS($Z$18:$Z73))),\n       IF($AU$21=\"INVERT\",Z74, \"\")\n    )\n)","v":""},"",null,{"$f":"IF(BL73>=$Z$12,\"\",IF(Y73=\"\",\"\",INDEX($Y$18:$Y$227,$AB$17-ROWS($Y$18:$Y73))))","v":{"v":0.5639999999999996,"d":"0.56"}},{"$f":"IF(#REF!=\"\",\"\",#REF!/43560)","v":{"$error":"#REF!"}},{"$f":"#REF!","v":{"$error":"#REF!"}}]
[75,54.2,{"$f":"IF(B75=\"\",\"\",IFERROR(_xlfn.XLOOKUP(ROUND(B75,1),MetricIncrementalData[System Increment],_xlfn.XLOOKUP('Metric Incremental Crate'!$R$3,MetricIncrementalData[#Headers],MetricIncrementalData[]),,1),0))","v":{"v":0.005399999999999999,"d":"0.0054"}},{"v":0.567,"d":"0.5670"},{"$f":"IF(B75=\"\",\"\",IFERROR(_xlfn.XLOOKUP(ROUND(B75,1),MetricIncrementalData[System Increment],_xlfn.XLOOKUP(Metric_Incremental_Data_Target_Column,MetricIncrementalData[#Headers],MetricIncrementalData[]),,1),0))","v":{"v":0.005625,"d":"0.0056"}},{"$f":"IF(B75=\"\",\"\",IF(B76=\"\",((((B75-0)/100)*Metric_Module_Square_Foot_Area)-'Cumulative Volumes Metric'!E75)*Metric_Stone_Void_Percentage,((((B75-B76)/100)*Metric_Module_Square_Foot_Area)-'Cumulative Volumes Metric'!E75)*Metric_Stone_Void_Percentage))","v":{"v":0,"d":"0.0000"}},{"v":0,"d":"0.00"},{"$f":"IF(B75=\"\",\"\",((Metric_System_Area_Input-Metric_Number_Of_Stacks*_xlfn.XLOOKUP(Metric_Layers,CrateData[Layer],CrateData[Surface Area (m2)]))*((B75-IF(B76=\"\",0,B76))/100))*Metric_Stone_Void_Percentage)","v":{"v":0.00375,"d":"0.00"}},{"v":0.00375,"d":"0.00"},{"v":0.57075,"d":"0.57"},{"$f":"IF(B75=\"\",\"\",SUM(J75:$J$563))","v":{"v":25.907249999999987,"d":"25.91"}},100.542,{"$nulls":9},100.542,null,{"v":0.5339999999999996,"d":"0.53"},0.5339999999999996,{"v":57.074999999970835,"d":"57.075"},null,1,{"$f":"IF($AU$21=\"INVERT\",Y75,IF(AC74>=$Z$12,\"\",IF(Y74=\"\",\"\",INDEX($Y$18:$Y$227,$AB$17-ROWS($Y$18:$Y74)))))","v":""},"","","",{"$nulls":26},{"$f":"IF($AU$21=\"INVERT\",Y75,IF(AC74>=$Z$12,\"\",IF(Y74=\"\",\"\",INDEX($Y$18:$Y$227,$AB$17-ROWS($Y$18:$Y74)))))","v":""},"",{"$f":"IF(AE74=\"\",\"\",\n    IF($AU$21=\"TYP\",\n       IF(Z74=\"\",\"\", INDEX($Z$18:$Z$227, $AB$17-ROWS($Z$18:$Z74))),\n       IF($AU$21=\"INVERT\",Z75, \"\")\n    )\n)","v":""},"",null,{"$f":"IF(BL74>=$Z$12,\"\",IF(Y74=\"\",\"\",INDEX($Y$18:$Y$227,$AB$17-ROWS($Y$18:$Y74))))","v":{"v":0.5739999999999996,"d":"0.57"}},{"$f":"IF(#REF!=\"\",\"\",#REF!/43560)","v":{"$error":"#REF!"}},{"$f":"#REF!","v":{"$error":"#REF!"}}]
[76,53.2,{"$f":"IF(B76=\"\",\"\",IFERROR(_xlfn.XLOOKUP(ROUND(B76,1),MetricIncrementalData[System Increment],_xlfn.XLOOKUP('Metric Incremental Crate'!$R$3,MetricIncrementalData[#Headers],MetricIncrementalData[]),,1),0))","v":{"v":0.005399999999999999,"d":"0.0054"}},{"v":0.567,"d":"0.5670"},{"$f":"IF(B76=\"\",\"\",IFERROR(_xlfn.XLOOKUP(ROUND(B76,1),MetricIncrementalData[System Increment],_xlfn.XLOOKUP(Metric_Incremental_Data_Target_Column,MetricIncrementalData[#Headers],MetricIncrementalData[]),,1),0))","v":{"v":0.005625,"d":"0.0056"}},{"$f":"IF(B76=\"\",\"\",IF(B77=\"\",((((B76-0)/100)*Metric_Module_Square_Foot_Area)-'Cumulative Volumes Metric'!E76)*Metric_Stone_Void_Percentage,((((B76-B77)/100)*Metric_Module_Square_Foot_Area)-'Cumulative Volumes Metric'!E76)*Metric_Stone_Void_Percentage))","v":{"v":0,"d":"0.0000"}},{"v":0,"d":"0.00"},{"$f":"IF(B76=\"\",\"\",((Metric_System_Area_Input-Metric_Number_Of_Stacks*_xlfn.XLOOKUP(Metric_Layers,CrateData[Layer],CrateData[Surface Area (m2)]))*((B76-IF(B77=\"\",0,B77))/100))*Metric_Stone_Void_Percentage)","v":{"v":0.00375,"d":"0.00"}},{"v":0.00375,"d":"0.00"},{"v":0.57075,"d":"0.57"},{"$f":"IF(B76=\"\",\"\",SUM(J76:$J$563))","v":{"v":25.336499999999987,"d":"25.34"}},100.532,{"$nulls":9},100.532,null,{"v":0.5239999999999996,"d":"0.52"},0.5239999999999996,{"v":57.07500000005194,"d":"57.075"},null,1,{"$f":"IF($AU$21=\"INVERT\",Y76,IF(AC75>=$Z$12,\"\",IF(Y75=\"\",\"\",INDEX($Y$18:$Y$227,$AB$17-ROWS($Y$18:$Y75)))))","v":""},"","","",{"$nulls":26},{"$f":"IF($AU$21=\"INVERT\",Y76,IF(AC75>=$Z$12,\"\",IF(Y75=\"\",\"\",INDEX($Y$18:$Y$227,$AB$17-ROWS($Y$18:$Y75)))))","v":""},"",{"$f":"IF(AE75=\"\",\"\",\n    IF($AU$21=\"TYP\",\n       IF(Z75=\"\",\"\", INDEX($Z$18:$Z$227, $AB$17-ROWS($Z$18:$Z75))),\n       IF($AU$21=\"INVERT\",Z76, \"\")\n    )\n)","v":""},"",null,{"$f":"IF(BL75>=$Z$12,\"\",IF(Y75=\"\",\"\",INDEX($Y$18:$Y$227,$AB$17-ROWS($Y$18:$Y75))))","v":{"v":0.5839999999999996,"d":"0.58"}},{"$f":"IF(#REF!=\"\",\"\",#REF!/43560)","v":{"$error":"#REF!"}},{"$f":"#REF!","v":{"$error":"#REF!"}}]
[77,52.2,{"$f":"IF(B77=\"\",\"\",IFERROR(_xlfn.XLOOKUP(ROUND(B77,1),MetricIncrementalData[System Increment],_xlfn.XLOOKUP('Metric Incremental Crate'!$R$3,MetricIncrementalData[#Headers],MetricIncrementalData[]),,1),0))","v":{"v":0.005399999999999999,"d":"0.0054"}},{"v":0.567,"d":"0.5670"},{"$f":"IF(B77=\"\",\"\",IFERROR(_xlfn.XLOOKUP(ROUND(B77,1),MetricIncrementalData[System Increment],_xlfn.XLOOKUP(Metric_Incremental_Data_Target_Column,MetricIncrementalData[#Headers],MetricIncrementalData[]),,1),0))","v":{"v":0.005625,"d":"0.0056"}},{"$f":"IF(B77=\"\",\"\",IF(B78=\"\",((((B77-0)/100)*Metric_Module_Square_Foot_Area)-'Cumulative Volumes Metric'!E77)*Metric_Stone_Void_Percentage,((((B77-B78)/100)*Metric_Module_Square_Foot_Area)-'Cumulative Volumes Metric'!E77)*Metric_Stone_Void_Percentage))","v":{"v":0,"d":"0.0000"}},{"v":0,"d":"0.00"},{"$f":"IF(B77=\"\",\"\",((Metric_System_Area_Input-Metric_Number_Of_Stacks*_xlfn.XLOOKUP(Metric_Layers,CrateData[Layer],CrateData[Surface Area (m2)]))*((B77-IF(B78=\"\",0,B78))/100))*Metric_Stone_Void_Percentage)","v":{"v":0.00375,"d":"0.00"}},{"v":0.00375,"d":"0.00"},{"v":0.57075,"d":"0.57"},{"$f":"IF(B77=\"\",\"\",SUM(J77:$J$563))","v":{"v":24.765749999999986,"d":"24.77"}},100.522,{"$nulls":9},100.522,null,{"v":0.5139999999999996,"d":"0.51"},0.5139999999999996,{"v":57.074999999970835,"d":"57.075"},null,1,{"$f":"IF($AU$21=\"INVERT\",Y77,IF(AC76>=$Z$12,\"\",IF(Y76=\"\",\"\",INDEX($Y$18:$Y$227,$AB$17-ROWS($Y$18:$Y76)))))","v":""},"","","",{"$nulls":26},{"$f":"IF($AU$21=\"INVERT\",Y77,IF(AC76>=$Z$12,\"\",IF(Y76=\"\",\"\",INDEX($Y$18:$Y$227,$AB$17-ROWS($Y$18:$Y76)))))","v":""},"",{"$f":"IF(AE76=\"\",\"\",\n    IF($AU$21=\"TYP\",\n       IF(Z76=\"\",\"\", INDEX($Z$18:$Z$227, $AB$17-ROWS($Z$18:$Z76))),\n       IF($AU$21=\"INVERT\",Z77, \"\")\n    )\n)","v":""},"",null,{"$f":"IF(BL76>=$Z$12,\"\",IF(Y76=\"\",\"\",INDEX($Y$18:$Y$227,$AB$17-ROWS($Y$18:$Y76))))","v":{"v":0.5939999999999996,"d":"0.59"}},{"$f":"IF(#REF!=\"\",\"\",#REF!/43560)","v":{"$error":"#REF!"}},{"$f":"#REF!","v":{"$error":"#REF!"}}]
[78,51.2,{"$f":"IF(B78=\"\",\"\",IFERROR(_xlfn.XLOOKUP(ROUND(B78,1),MetricIncrementalData[System Increment],_xlfn.XLOOKUP('Metric Incremental Crate'!$R$3,MetricIncrementalData[#Headers],MetricIncrementalData[]),,1),0))","v":{"v":0.005399999999999999,"d":"0.0054"}},{"v":0.567,"d":"0.5670"},{"$f":"IF(B78=\"\",\"\",IFERROR(_xlfn.XLOOKUP(ROUND(B78,1),MetricIncrementalData[System Increment],_xlfn.XLOOKUP(Metric_Incremental_Data_Target_Column,MetricIncrementalData[#Headers],MetricIncrementalData[]),,1),0))","v":{"v":0.005625,"d":"0.0056"}},{"$f":"IF(B78=\"\",\"\",IF(B79=\"\",((((B78-0)/100)*Metric_Module_Square_Foot_Area)-'Cumulative Volumes Metric'!E78)*Metric_Stone_Void_Percentage,((((B78-B79)/100)*Metric_Module_Square_Foot_Area)-'Cumulative Volumes Metric'!E78)*Metric_Stone_Void_Percentage))","v":{"v":0,"d":"0.0000"}},{"v":0,"d":"0.00"},{"$f":"IF(B78=\"\",\"\",((Metric_System_Area_Input-Metric_Number_Of_Stacks*_xlfn.XLOOKUP(Metric_Layers,CrateData[Layer],CrateData[Surface Area (m2)]))*((B78-IF(B79=\"\",0,B79))/100))*Metric_Stone_Void_Percentage)","v":{"v":0.00375,"d":"0.00"}},{"v":0.00375,"d":"0.00"},{"v":0.57075,"d":"0.57"},{"$f":"IF(B78=\"\",\"\",SUM(J78:$J$563))","v":{"v":24.194999999999986,"d":"24.20"}},100.512,{"$nulls":9},100.512,null,{"v":0.5039999999999996,"d":"0.50"},0.5039999999999996,{"v":57.074999999970835,"d":"57.075"},null,1,{"$f":"IF($AU$21=\"INVERT\",Y78,IF(AC77>=$Z$12,\"\",IF(Y77=\"\",\"\",INDEX($Y$18:$Y$227,$AB$17-ROWS($Y$18:$Y77)))))","v":""},"","","",{"$nulls":26},{"$f":"IF($AU$21=\"INVERT\",Y78,IF(AC77>=$Z$12,\"\",IF(Y77=\"\",\"\",INDEX($Y$18:$Y$227,$AB$17-ROWS($Y$18:$Y77)))))","v":""},"",{"$f":"IF(AE77=\"\",\"\",\n    IF($AU$21=\"TYP\",\n       IF(Z77=\"\",\"\", INDEX($Z$18:$Z$227, $AB$17-ROWS($Z$18:$Z77))),\n       IF($AU$21=\"INVERT\",Z78, \"\")\n    )\n)","v":""},"",null,{"$f":"IF(BL77>=$Z$12,\"\",IF(Y77=\"\",\"\",INDEX($Y$18:$Y$227,$AB$17-ROWS($Y$18:$Y77))))","v":{"v":0.6039999999999996,"d":"0.60"}},{"$f":"IF(#REF!=\"\",\"\",#REF!/43560)","v":{"$error":"#REF!"}},{"$f":"#REF!","v":{"$error":"#REF!"}}]
[79,50.2,{"$f":"IF(B79=\"\",\"\",IFERROR(_xlfn.XLOOKUP(ROUND(B79,1),MetricIncrementalData[System Increment],_xlfn.XLOOKUP('Metric Incremental Crate'!$R$3,MetricIncrementalData[#Headers],MetricIncrementalData[]),,1),0))","v":{"v":0.005399999999999999,"d":"0.0054"}},{"v":0.567,"d":"0.5670"},{"$f":"IF(B79=\"\",\"\",IFERROR(_xlfn.XLOOKUP(ROUND(B79,1),MetricIncrementalData[System Increment],_xlfn.XLOOKUP(Metric_Incremental_Data_Target_Column,MetricIncrementalData[#Headers],MetricIncrementalData[]),,1),0))","v":{"v":0.005625,"d":"0.0056"}},{"$f":"IF(B79=\"\",\"\",IF(B80=\"\",((((B79-0)/100)*Metric_Module_Square_Foot_Area)-'Cumulative Volumes Metric'!E79)*Metric_Stone_Void_Percentage,((((B79-B80)/100)*Metric_Module_Square_Foot_Area)-'Cumulative Volumes Metric'!E79)*Metric_Stone_Void_Percentage))","v":{"v":0,"d":"0.0000"}},{"v":0,"d":"0.00"},{"$f":"IF(B79=\"\",\"\",((Metric_System_Area_Input-Metric_Number_Of_Stacks*_xlfn.XLOOKUP(Metric_Layers,CrateData[Layer],CrateData[Surface Area (m2)]))*((B79-IF(B80=\"\",0,B80))/100))*Metric_Stone_Void_Percentage)","v":{"v":0.00375,"d":"0.00"}},{"v":0.00375,"d":"0.00"},{"v":0.57075,"d":"0.57"},{"$f":"IF(B79=\"\",\"\",SUM(J79:$J$563))","v":{"v":23.624249999999986,"d":"23.62"}},100.502,{"$nulls":9},100.502,null,{"v":0.49399999999999955,"d":"0.49"},0.49399999999999955,{"v":57.07500000005194,"d":"57.075"},null,1,{"$f":"IF($AU$21=\"INVERT\",Y79,IF(AC78>=$Z$12,\"\",IF(Y78=\"\",\"\",INDEX($Y$18:$Y$227,$AB$17-ROWS($Y$18:$Y78)))))","v":""},"","","",{"$nulls":26},{"$f":"IF($AU$21=\"INVERT\",Y79,IF(AC78>=$Z$12,\"\",IF(Y78=\"\",\"\",INDEX($Y$18:$Y$227,$AB$17-ROWS($Y$18:$Y78)))))","v":""},"",{"$f":"IF(AE78=\"\",\"\",\n    IF($AU$21=\"TYP\",\n       IF(Z78=\"\",\"\", INDEX($Z$18:$Z$227, $AB$17-ROWS($Z$18:$Z78))),\n       IF($AU$21=\"INVERT\",Z79, \"\")\n    )\n)","v":""},"",null,{"$f":"IF(BL78>=$Z$12,\"\",IF(Y78=\"\",\"\",INDEX($Y$18:$Y$227,$AB$17-ROWS($Y$18:$Y78))))","v":{"v":0.6139999999999997,"d":"0.61"}},{"$f":"IF(#REF!=\"\",\"\",#REF!/43560)","v":{"$error":"#REF!"}},{"$f":"#REF!","v":{"$error":"#REF!"}}]
[{"$f":"IF(B82<>\"\",A79+1,\"\")","v":80},49.2,{"$f":"IF(B80=\"\",\"\",IFERROR(_xlfn.XLOOKUP(ROUND(B80,1),MetricIncrementalData[System Increment],_xlfn.XLOOKUP('Metric Incremental Crate'!$R$3,MetricIncrementalData[#Headers],MetricIncrementalData[]),,1),0))","v":{"v":0.005399999999999999,"d":"0.0054"}},{"v":0.567,"d":"0.5670"},{"$f":"IF(B80=\"\",\"\",IFERROR(_xlfn.XLOOKUP(ROUND(B80,1),MetricIncrementalData[System Increment],_xlfn.XLOOKUP(Metric_Incremental_Data_Target_Column,MetricIncrementalData[#Headers],MetricIncrementalData[]),,1),0))","v":{"v":0.005625,"d":"0.0056"}},{"$f":"IF(B80=\"\",\"\",IF(B81=\"\",((((B80-0)/100)*Metric_Module_Square_Foot_Area)-'Cumulative Volumes Metric'!E80)*Metric_Stone_Void_Percentage,((((B80-B81)/100)*Metric_Module_Square_Foot_Area)-'Cumulative Volumes Metric'!E80)*Metric_Stone_Void_Percentage))","v":{"v":0,"d":"0.0000"}},{"v":0,"d":"0.00"},{"$f":"IF(B80=\"\",\"\",((Metric_System_Area_Input-Metric_Number_Of_Stacks*_xlfn.XLOOKUP(Metric_Layers,CrateData[Layer],CrateData[Surface Area (m2)]))*((B80-IF(B81=\"\",0,B81))/100))*Metric_Stone_Void_Percentage)","v":{"v":0.00375,"d":"0.00"}},{"v":0.00375,"d":"0.00"},{"v":0.57075,"d":"0.57"},{"$f":"IF(B80=\"\",\"\",SUM(J80:$J$563))","v":{"v":23.053499999999985,"d":"23.05"}},100.492,{"$nulls":9},100.492,null,{"v":0.48399999999999954,"d":"0.48"},0.48399999999999954,{"v":57.074999999970835,"d":"57.075"},null,1,{"$f":"IF($AU$21=\"INVERT\",Y80,IF(AC79>=$Z$12,\"\",IF(Y79=\"\",\"\",INDEX($Y$18:$Y$227,$AB$17-ROWS($Y$18:$Y79)))))","v":""},"","","",{"$nulls":26},{"$f":"IF($AU$21=\"INVERT\",Y80,IF(AC79>=$Z$12,\"\",IF(Y79=\"\",\"\",INDEX($Y$18:$Y$227,$AB$17-ROWS($Y$18:$Y79)))))","v":""},"",{"$f":"IF(AE79=\"\",\"\",\n    IF($AU$21=\"TYP\",\n       IF(Z79=\"\",\"\", INDEX($Z$18:$Z$227, $AB$17-ROWS($Z$18:$Z79))),\n       IF($AU$21=\"INVERT\",Z80, \"\")\n    )\n)","v":""},"",null,{"$f":"IF(BL79>=$Z$12,\"\",IF(Y79=\"\",\"\",INDEX($Y$18:$Y$227,$AB$17-ROWS($Y$18:$Y79))))","v":{"v":0.6239999999999997,"d":"0.62"}},{"$f":"IF(#REF!=\"\",\"\",#REF!/43560)","v":{"$error":"#REF!"}},{"$f":"#REF!","v":{"$error":"#REF!"}}]
[81,48.2,{"$f":"IF(B81=\"\",\"\",IFERROR(_xlfn.XLOOKUP(ROUND(B81,1),MetricIncrementalData[System Increment],_xlfn.XLOOKUP('Metric Incremental Crate'!$R$3,MetricIncrementalData[#Headers],MetricIncrementalData[]),,1),0))","v":{"v":0.005399999999999999,"d":"0.0054"}},{"v":0.567,"d":"0.5670"},{"$f":"IF(B81=\"\",\"\",IFERROR(_xlfn.XLOOKUP(ROUND(B81,1),MetricIncrementalData[System Increment],_xlfn.XLOOKUP(Metric_Incremental_Data_Target_Column,MetricIncrementalData[#Headers],MetricIncrementalData[]),,1),0))","v":{"v":0.005625,"d":"0.0056"}},{"$f":"IF(B81=\"\",\"\",IF(B82=\"\",((((B81-0)/100)*Metric_Module_Square_Foot_Area)-'Cumulative Volumes Metric'!E81)*Metric_Stone_Void_Percentage,((((B81-B82)/100)*Metric_Module_Square_Foot_Area)-'Cumulative Volumes Metric'!E81)*Metric_Stone_Void_Percentage))","v":{"v":0,"d":"0.0000"}},{"v":0,"d":"0.00"},{"$f":"IF(B81=\"\",\"\",((Metric_System_Area_Input-Metric_Number_Of_Stacks*_xlfn.XLOOKUP(Metric_Layers,CrateData[Layer],CrateData[Surface Area (m2)]))*((B81-IF(B82=\"\",0,B82))/100))*Metric_Stone_Void_Percentage)","v":{"v":0.00375,"d":"0.00"}},{"v":0.00375,"d":"0.00"},{"v":0.57075,"d":"0.57"},{"$f":"IF(B81=\"\",\"\",SUM(J81:$J$563))","v":{"v":22.482749999999985,"d":"22.48"}},100.482,{"$nulls":9},100.482,null,{"v":0.47399999999999953,"d":"0.47"},0.47399999999999953,{"v":57.074999999970835,"d":"57.075"},null,1,{"$f":"IF($AU$21=\"INVERT\",Y81,IF(AC80>=$Z$12,\"\",IF(Y80=\"\",\"\",INDEX($Y$18:$Y$227,$AB$17-ROWS($Y$18:$Y80)))))","v":""},"","","",{"$nulls":26},{"$f":"IF($AU$21=\"INVERT\",Y81,IF(AC80>=$Z$12,\"\",IF(Y80=\"\",\"\",INDEX($Y$18:$Y$227,$AB$17-ROWS($Y$18:$Y80)))))","v":""},"",{"$f":"IF(AE80=\"\",\"\",\n    IF($AU$21=\"TYP\",\n       IF(Z80=\"\",\"\", INDEX($Z$18:$Z$227, $AB$17-ROWS($Z$18:$Z80))),\n       IF($AU$21=\"INVERT\",Z81, \"\")\n    )\n)","v":""},"",null,{"$f":"IF(BL80>=$Z$12,\"\",IF(Y80=\"\",\"\",INDEX($Y$18:$Y$227,$AB$17-ROWS($Y$18:$Y80))))","v":{"v":0.6339999999999997,"d":"0.63"}},{"$f":"IF(#REF!=\"\",\"\",#REF!/43560)","v":{"$error":"#REF!"}},{"$f":"#REF!","v":{"$error":"#REF!"}}]
[82,47.2,{"$f":"IF(B82=\"\",\"\",IFERROR(_xlfn.XLOOKUP(ROUND(B82,1),MetricIncrementalData[System Increment],_xlfn.XLOOKUP('Metric Incremental Crate'!$R$3,MetricIncrementalData[#Headers],MetricIncrementalData[]),,1),0))","v":{"v":0.005399999999999999,"d":"0.0054"}},{"$f":"IFERROR(C82*Metric_Number_Of_Stacks,\"\")","v":{"v":0.567,"d":"0.5670"}},{"$f":"IF(B82=\"\",\"\",IFERROR(_xlfn.XLOOKUP(ROUND(B82,1),MetricIncrementalData[System Increment],_xlfn.XLOOKUP(Metric_Incremental_Data_Target_Column,MetricIncrementalData[#Headers],MetricIncrementalData[]),,1),0))","v":{"v":0.005625,"d":"0.0056"}},{"$f":"IF(B82=\"\",\"\",IF(B83=\"\",((((B82-0)/100)*Metric_Module_Square_Foot_Area)-'Cumulative Volumes Metric'!E82)*Metric_Stone_Void_Percentage,((((B82-B83)/100)*Metric_Module_Square_Foot_Area)-'Cumulative Volumes Metric'!E82)*Metric_Stone_Void_Percentage))","v":{"v":0,"d":"0.0000"}},{"$f":"IFERROR(F82*Metric_Number_Of_Stacks,\"\")","v":{"v":0,"d":"0.00"}},{"$f":"IF(B82=\"\",\"\",((Metric_System_Area_Input-Metric_Number_Of_Stacks*_xlfn.XLOOKUP(Metric_Layers,CrateData[Layer],CrateData[Surface Area (m2)]))*((B82-IF(B83=\"\",0,B83))/100))*Metric_Stone_Void_Percentage)","v":{"v":0.00375,"d":"0.00"}},{"$f":"IFERROR(IF($AW$17, H82+G82, G82), \"\")","v":{"v":0.00375,"d":"0.00"}},{"v":0.57075,"d":"0.57"},{"$f":"IF(B82=\"\",\"\",SUM(J82:$J$563))","v":{"v":21.911999999999985,"d":"21.91"}},100.472,{"$nulls":9},{"$f":"IF(L83=\"\",IF(L82=\"\",\"\",$I$11),L82)","v":100.472},null,{"v":0.4639999999999995,"d":"0.46"},0.4639999999999995,{"v":57.07500000005194,"d":"57.075"},null,1,{"$f":"IF($AU$21=\"INVERT\",Y82,IF(AC81>=$Z$12,\"\",IF(Y81=\"\",\"\",INDEX($Y$18:$Y$227,$AB$17-ROWS($Y$18:$Y81)))))","v":""},"","",{"$f":"IF($AU$17=TRUE, BJ82, IF($AU$23=TRUE, \"\", \"\"))","v":""},{"$nulls":26},{"$f":"IF($AU$21=\"INVERT\",Y82,IF(AC81>=$Z$12,\"\",IF(Y81=\"\",\"\",INDEX($Y$18:$Y$227,$AB$17-ROWS($Y$18:$Y81)))))","v":""},{"$f":"IF(AC82=\"\",\"\",$I$11+AC82)","v":""},{"$f":"IF(AE81=\"\",\"\",\n    IF($AU$21=\"TYP\",\n       IF(Z81=\"\",\"\", INDEX($Z$18:$Z$227, $AB$17-ROWS($Z$18:$Z81))),\n       IF($AU$21=\"INVERT\",Z82, \"\")\n    )\n)","v":""},"",null,{"$f":"IF(BL81>=$Z$12,\"\",IF(Y81=\"\",\"\",INDEX($Y$18:$Y$227,$AB$17-ROWS($Y$18:$Y81))))","v":{"v":0.6439999999999997,"d":"0.64"}},{"$f":"IF(#REF!=\"\",\"\",#REF!/43560)","v":{"$error":"#REF!"}},{"$f":"#REF!","v":{"$error":"#REF!"}}]
[83,46.2,{"$f":"IF(B83=\"\",\"\",IFERROR(_xlfn.XLOOKUP(ROUND(B83,1),MetricIncrementalData[System Increment],_xlfn.XLOOKUP('Metric Incremental Crate'!$R$3,MetricIncrementalData[#Headers],MetricIncrementalData[]),,1),0))","v":{"v":0.005399999999999999,"d":"0.0054"}},{"v":0.567,"d":"0.5670"},{"$f":"IF(B83=\"\",\"\",IFERROR(_xlfn.XLOOKUP(ROUND(B83,1),MetricIncrementalData[System Increment],_xlfn.XLOOKUP(Metric_Incremental_Data_Target_Column,MetricIncrementalData[#Headers],MetricIncrementalData[]),,1),0))","v":{"v":0.005625,"d":"0.0056"}},{"$f":"IF(B83=\"\",\"\",IF(B84=\"\",((((B83-0)/100)*Metric_Module_Square_Foot_Area)-'Cumulative Volumes Metric'!E83)*Metric_Stone_Void_Percentage,((((B83-B84)/100)*Metric_Module_Square_Foot_Area)-'Cumulative Volumes Metric'!E83)*Metric_Stone_Void_Percentage))","v":{"v":0,"d":"0.0000"}},{"v":0,"d":"0.00"},{"$f":"IF(B83=\"\",\"\",((Metric_System_Area_Input-Metric_Number_Of_Stacks*_xlfn.XLOOKUP(Metric_Layers,CrateData[Layer],CrateData[Surface Area (m2)]))*((B83-IF(B84=\"\",0,B84))/100))*Metric_Stone_Void_Percentage)","v":{"v":0.00375,"d":"0.00"}},{"v":0.00375,"d":"0.00"},{"v":0.57075,"d":"0.57"},{"$f":"IF(B83=\"\",\"\",SUM(J83:$J$563))","v":{"v":21.341249999999985,"d":"21.34"}},100.462,{"$nulls":9},100.462,null,{"v":0.4539999999999995,"d":"0.45"},{"$f":"IF(AND(B83=\"\",B82=1),0,IF(B83=\"\",\"\",IF(OR(X83=0,X83>0),X83,\"\")))","v":0.4539999999999995},{"$f":"IF(Y83=\"\",\"\",IF(Y83=0,K82/$AB$11,IF(ISNUMBER(V84),(K83-K84)/(L83-L84),Z82)))","v":{"v":57.074999999970835,"d":"57.075"}},null,{"$f":"IF(Y83=\"\",\"\",1)","v":1},{"$f":"IF($AU$21=\"INVERT\",Y83,IF(AC82>=$Z$12,\"\",IF(Y82=\"\",\"\",INDEX($Y$18:$Y$227,$AB$17-ROWS($Y$18:$Y82)))))","v":""},{"$f":"IF($AN$17=TRUE, BH83, IF($AN$23=TRUE, BM83, \"\"))","v":""},{"$f":"IF($AU$17=TRUE, BI83, IF($AU$23=TRUE, BN83, \"\"))","v":""},"",{"$nulls":26},{"$f":"IF($AU$21=\"INVERT\",Y83,IF(AC82>=$Z$12,\"\",IF(Y82=\"\",\"\",INDEX($Y$18:$Y$227,$AB$17-ROWS($Y$18:$Y82)))))","v":""},"",{"$f":"IF(AE82=\"\",\"\",\n    IF($AU$21=\"TYP\",\n       IF(Z82=\"\",\"\", INDEX($Z$18:$Z$227, $AB$17-ROWS($Z$18:$Z82))),\n       IF($AU$21=\"INVERT\",Z83, \"\")\n    )\n)","v":""},{"$f":"IF(AE83=\"\",\"\",AE83/10000)","v":""},null,{"$f":"IF(BL82>=$Z$12,\"\",IF(Y82=\"\",\"\",INDEX($Y$18:$Y$227,$AB$17-ROWS($Y$18:$Y82))))","v":{"v":0.6539999999999997,"d":"0.65"}},{"$f":"IF(#REF!=\"\",\"\",#REF!/43560)","v":{"$error":"#REF!"}},{"$f":"#REF!","v":{"$error":"#REF!"}}]
[84,45.2,{"$f":"IF(B84=\"\",\"\",IFERROR(_xlfn.XLOOKUP(ROUND(B84,1),MetricIncrementalData[System Increment],_xlfn.XLOOKUP('Metric Incremental Crate'!$R$3,MetricIncrementalData[#Headers],MetricIncrementalData[]),,1),0))","v":{"v":0.005399999999999999,"d":"0.0054"}},{"v":0.567,"d":"0.5670"},{"$f":"IF(B84=\"\",\"\",IFERROR(_xlfn.XLOOKUP(ROUND(B84,1),MetricIncrementalData[System Increment],_xlfn.XLOOKUP(Metric_Incremental_Data_Target_Column,MetricIncrementalData[#Headers],MetricIncrementalData[]),,1),0))","v":{"v":0.005625,"d":"0.0056"}},{"$f":"IF(B84=\"\",\"\",IF(B85=\"\",((((B84-0)/100)*Metric_Module_Square_Foot_Area)-'Cumulative Volumes Metric'!E84)*Metric_Stone_Void_Percentage,((((B84-B85)/100)*Metric_Module_Square_Foot_Area)-'Cumulative Volumes Metric'!E84)*Metric_Stone_Void_Percentage))","v":{"v":0,"d":"0.0000"}},{"v":0,"d":"0.00"},{"$f":"IF(B84=\"\",\"\",((Metric_System_Area_Input-Metric_Number_Of_Stacks*_xlfn.XLOOKUP(Metric_Layers,CrateData[Layer],CrateData[Surface Area (m2)]))*((B84-IF(B85=\"\",0,B85))/100))*Metric_Stone_Void_Percentage)","v":{"v":0.00375,"d":"0.00"}},{"v":0.00375,"d":"0.00"},{"v":0.57075,"d":"0.57"},{"$f":"IF(B84=\"\",\"\",SUM(J84:$J$563))","v":{"v":20.770499999999984,"d":"20.77"}},100.452,{"$nulls":9},100.452,null,{"$f":"X83-($AB$11)","v":{"v":0.4439999999999995,"d":"0.44"}},0.4439999999999995,{"v":57.074999999970835,"d":"57.075"},null,1,{"$f":"IF($AU$21=\"INVERT\",Y84,IF(AC83>=$Z$12,\"\",IF(Y83=\"\",\"\",INDEX($Y$18:$Y$227,$AB$17-ROWS($Y$18:$Y83)))))","v":""},"","","",{"$nulls":26},{"$f":"IF($AU$21=\"INVERT\",Y84,IF(AC83>=$Z$12,\"\",IF(Y83=\"\",\"\",INDEX($Y$18:$Y$227,$AB$17-ROWS($Y$18:$Y83)))))","v":""},"",{"$f":"IF(AE83=\"\",\"\",\n    IF($AU$21=\"TYP\",\n       IF(Z83=\"\",\"\", INDEX($Z$18:$Z$227, $AB$17-ROWS($Z$18:$Z83))),\n       IF($AU$21=\"INVERT\",Z84, \"\")\n    )\n)","v":""},"",null,{"$f":"IF(BL83>=$Z$12,\"\",IF(Y83=\"\",\"\",INDEX($Y$18:$Y$227,$AB$17-ROWS($Y$18:$Y83))))","v":{"v":0.6639999999999997,"d":"0.66"}},{"$f":"IF(#REF!=\"\",\"\",#REF!/43560)","v":{"$error":"#REF!"}},{"$f":"#REF!","v":{"$error":"#REF!"}}]
[85,44.2,{"$f":"IF(B85=\"\",\"\",IFERROR(_xlfn.XLOOKUP(ROUND(B85,1),MetricIncrementalData[System Increment],_xlfn.XLOOKUP('Metric Incremental Crate'!$R$3,MetricIncrementalData[#Headers],MetricIncrementalData[]),,1),0))","v":{"v":0.005399999999999999,"d":"0.0054"}},{"v":0.567,"d":"0.5670"},{"$f":"IF(B85=\"\",\"\",IFERROR(_xlfn.XLOOKUP(ROUND(B85,1),MetricIncrementalData[System Increment],_xlfn.XLOOKUP(Metric_Incremental_Data_Target_Column,MetricIncrementalData[#Headers],MetricIncrementalData[]),,1),0))","v":{"v":0.005625,"d":"0.0056"}},{"$f":"IF(B85=\"\",\"\",IF(B86=\"\",((((B85-0)/100)*Metric_Module_Square_Foot_Area)-'Cumulative Volumes Metric'!E85)*Metric_Stone_Void_Percentage,((((B85-B86)/100)*Metric_Module_Square_Foot_Area)-'Cumulative Volumes Metric'!E85)*Metric_Stone_Void_Percentage))","v":{"v":0,"d":"0.0000"}},{"v":0,"d":"0.00"},{"$f":"IF(B85=\"\",\"\",((Metric_System_Area_Input-Metric_Number_Of_Stacks*_xlfn.XLOOKUP(Metric_Layers,CrateData[Layer],CrateData[Surface Area (m2)]))*((B85-IF(B86=\"\",0,B86))/100))*Metric_Stone_Void_Percentage)","v":{"v":0.00375,"d":"0.00"}},{"v":0.00375,"d":"0.00"},{"v":0.57075,"d":"0.57"},{"$f":"IF(B85=\"\",\"\",SUM(J85:$J$563))","v":{"v":20.199749999999984,"d":"20.20"}},100.442,{"$nulls":9},100.442,null,{"v":0.4339999999999995,"d":"0.43"},0.4339999999999995,{"v":57.07500000005194,"d":"57.075"},null,1,{"$f":"IF($AU$21=\"INVERT\",Y85,IF(AC84>=$Z$12,\"\",IF(Y84=\"\",\"\",INDEX($Y$18:$Y$227,$AB$17-ROWS($Y$18:$Y84)))))","v":""},"","","",{"$nulls":26},{"$f":"IF($AU$21=\"INVERT\",Y85,IF(AC84>=$Z$12,\"\",IF(Y84=\"\",\"\",INDEX($Y$18:$Y$227,$AB$17-ROWS($Y$18:$Y84)))))","v":""},"",{"$f":"IF(AE84=\"\",\"\",\n    IF($AU$21=\"TYP\",\n       IF(Z84=\"\",\"\", INDEX($Z$18:$Z$227, $AB$17-ROWS($Z$18:$Z84))),\n       IF($AU$21=\"INVERT\",Z85, \"\")\n    )\n)","v":""},"",null,{"$f":"IF(BL84>=$Z$12,\"\",IF(Y84=\"\",\"\",INDEX($Y$18:$Y$227,$AB$17-ROWS($Y$18:$Y84))))","v":{"v":0.6739999999999997,"d":"0.67"}},{"$f":"IF(#REF!=\"\",\"\",#REF!/43560)","v":{"$error":"#REF!"}},{"$f":"#REF!","v":{"$error":"#REF!"}}]
[86,{"$f":"IFERROR(IF(B85-1<1,\"\",B85-1),\"\")","v":43.2},{"$f":"IF(B86=\"\",\"\",IFERROR(_xlfn.XLOOKUP(ROUND(B86,1),MetricIncrementalData[System Increment],_xlfn.XLOOKUP('Metric Incremental Crate'!$R$3,MetricIncrementalData[#Headers],MetricIncrementalData[]),,1),0))","v":{"v":0.005399999999999999,"d":"0.0054"}},{"v":0.567,"d":"0.5670"},{"$f":"IF(B86=\"\",\"\",IFERROR(_xlfn.XLOOKUP(ROUND(B86,1),MetricIncrementalData[System Increment],_xlfn.XLOOKUP(Metric_Incremental_Data_Target_Column,MetricIncrementalData[#Headers],MetricIncrementalData[]),,1),0))","v":{"v":0.005625,"d":"0.0056"}},{"$f":"IF(B86=\"\",\"\",IF(B87=\"\",((((B86-0)/100)*Metric_Module_Square_Foot_Area)-'Cumulative Volumes Metric'!E86)*Metric_Stone_Void_Percentage,((((B86-B87)/100)*Metric_Module_Square_Foot_Area)-'Cumulative Volumes Metric'!E86)*Metric_Stone_Void_Percentage))","v":{"v":0,"d":"0.0000"}},{"v":0,"d":"0.00"},{"$f":"IF(B86=\"\",\"\",((Metric_System_Area_Input-Metric_Number_Of_Stacks*_xlfn.XLOOKUP(Metric_Layers,CrateData[Layer],CrateData[Surface Area (m2)]))*((B86-IF(B87=\"\",0,B87))/100))*Metric_Stone_Void_Percentage)","v":{"v":0.00375,"d":"0.00"}},{"v":0.00375,"d":"0.00"},{"$f":"IFERROR(I86+D86,\"\")","v":{"v":0.57075,"d":"0.57"}},{"$f":"IF(B86=\"\",\"\",SUM(J86:$J$563))","v":{"v":19.628999999999984,"d":"19.63"}},{"$f":"IFERROR($I$11+B86/100,\"\")","v":100.432},{"$nulls":9},100.432,null,{"v":0.4239999999999995,"d":"0.42"},0.4239999999999995,{"v":57.07499999997048,"d":"57.075"},null,1,{"$f":"IF($AU$21=\"INVERT\",Y86,IF(AC85>=$Z$12,\"\",IF(Y85=\"\",\"\",INDEX($Y$18:$Y$227,$AB$17-ROWS($Y$18:$Y85)))))","v":""},"","","",{"$nulls":26},{"$f":"IF($AU$21=\"INVERT\",Y86,IF(AC85>=$Z$12,\"\",IF(Y85=\"\",\"\",INDEX($Y$18:$Y$227,$AB$17-ROWS($Y$18:$Y85)))))","v":""},"",{"$f":"IF(AE85=\"\",\"\",\n    IF($AU$21=\"TYP\",\n       IF(Z85=\"\",\"\", INDEX($Z$18:$Z$227, $AB$17-ROWS($Z$18:$Z85))),\n       IF($AU$21=\"INVERT\",Z86, \"\")\n    )\n)","v":""},"",null,{"$f":"IF(BL85>=$Z$12,\"\",IF(Y85=\"\",\"\",INDEX($Y$18:$Y$227,$AB$17-ROWS($Y$18:$Y85))))","v":{"v":0.6839999999999997,"d":"0.68"}},{"$f":"IF(#REF!=\"\",\"\",#REF!/43560)","v":{"$error":"#REF!"}},{"$f":"#REF!","v":{"$error":"#REF!"}}]
[87,42.2,{"$f":"IF(B87=\"\",\"\",IFERROR(_xlfn.XLOOKUP(ROUND(B87,1),MetricIncrementalData[System Increment],_xlfn.XLOOKUP('Metric Incremental Crate'!$R$3,MetricIncrementalData[#Headers],MetricIncrementalData[]),,1),0))","v":{"v":0.005399999999999999,"d":"0.0054"}},{"v":0.567,"d":"0.5670"},{"$f":"IF(B87=\"\",\"\",IFERROR(_xlfn.XLOOKUP(ROUND(B87,1),MetricIncrementalData[System Increment],_xlfn.XLOOKUP(Metric_Incremental_Data_Target_Column,MetricIncrementalData[#Headers],MetricIncrementalData[]),,1),0))","v":{"v":0.005625,"d":"0.0056"}},{"$f":"IF(B87=\"\",\"\",IF(B88=\"\",((((B87-0)/100)*Metric_Module_Square_Foot_Area)-'Cumulative Volumes Metric'!E87)*Metric_Stone_Void_Percentage,((((B87-B88)/100)*Metric_Module_Square_Foot_Area)-'Cumulative Volumes Metric'!E87)*Metric_Stone_Void_Percentage))","v":{"v":0,"d":"0.0000"}},{"v":0,"d":"0.00"},{"$f":"IF(B87=\"\",\"\",((Metric_System_Area_Input-Metric_Number_Of_Stacks*_xlfn.XLOOKUP(Metric_Layers,CrateData[Layer],CrateData[Surface Area (m2)]))*((B87-IF(B88=\"\",0,B88))/100))*Metric_Stone_Void_Percentage)","v":{"v":0.00375,"d":"0.00"}},{"v":0.00375,"d":"0.00"},{"v":0.57075,"d":"0.57"},{"$f":"IF(B87=\"\",\"\",SUM(J87:$J$563))","v":{"v":19.058249999999987,"d":"19.06"}},100.422,{"$nulls":9},100.422,null,{"v":0.4139999999999995,"d":"0.41"},0.4139999999999995,{"v":57.07500000005159,"d":"57.075"},null,1,{"$f":"IF($AU$21=\"INVERT\",Y87,IF(AC86>=$Z$12,\"\",IF(Y86=\"\",\"\",INDEX($Y$18:$Y$227,$AB$17-ROWS($Y$18:$Y86)))))","v":""},"","","",{"$nulls":26},{"$f":"IF($AU$21=\"INVERT\",Y87,IF(AC86>=$Z$12,\"\",IF(Y86=\"\",\"\",INDEX($Y$18:$Y$227,$AB$17-ROWS($Y$18:$Y86)))))","v":""},"",{"$f":"IF(AE86=\"\",\"\",\n    IF($AU$21=\"TYP\",\n       IF(Z86=\"\",\"\", INDEX($Z$18:$Z$227, $AB$17-ROWS($Z$18:$Z86))),\n       IF($AU$21=\"INVERT\",Z87, \"\")\n    )\n)","v":""},"",null,{"$f":"IF(BL86>=$Z$12,\"\",IF(Y86=\"\",\"\",INDEX($Y$18:$Y$227,$AB$17-ROWS($Y$18:$Y86))))","v":{"v":0.6939999999999997,"d":"0.69"}},{"$f":"IF(#REF!=\"\",\"\",#REF!/43560)","v":{"$error":"#REF!"}},{"$f":"#REF!","v":{"$error":"#REF!"}}]
[88,41.2,{"$f":"IF(B88=\"\",\"\",IFERROR(_xlfn.XLOOKUP(ROUND(B88,1),MetricIncrementalData[System Increment],_xlfn.XLOOKUP('Metric Incremental Crate'!$R$3,MetricIncrementalData[#Headers],MetricIncrementalData[]),,1),0))","v":{"v":0.005399999999999999,"d":"0.0054"}},{"v":0.567,"d":"0.5670"},{"$f":"IF(B88=\"\",\"\",IFERROR(_xlfn.XLOOKUP(ROUND(B88,1),MetricIncrementalData[System Increment],_xlfn.XLOOKUP(Metric_Incremental_Data_Target_Column,MetricIncrementalData[#Headers],MetricIncrementalData[]),,1),0))","v":{"v":0.005625,"d":"0.0056"}},{"$f":"IF(B88=\"\",\"\",IF(B89=\"\",((((B88-0)/100)*Metric_Module_Square_Foot_Area)-'Cumulative Volumes Metric'!E88)*Metric_Stone_Void_Percentage,((((B88-B89)/100)*Metric_Module_Square_Foot_Area)-'Cumulative Volumes Metric'!E88)*Metric_Stone_Void_Percentage))","v":{"v":0,"d":"0.0000"}},{"v":0,"d":"0.00"},{"$f":"IF(B88=\"\",\"\",((Metric_System_Area_Input-Metric_Number_Of_Stacks*_xlfn.XLOOKUP(Metric_Layers,CrateData[Layer],CrateData[Surface Area (m2)]))*((B88-IF(B89=\"\",0,B89))/100))*Metric_Stone_Void_Percentage)","v":{"v":0.00375,"d":"0.00"}},{"v":0.00375,"d":"0.00"},{"v":0.57075,"d":"0.57"},{"$f":"IF(B88=\"\",\"\",SUM(J88:$J$563))","v":{"v":18.48749999999999,"d":"18.49"}},100.412,{"$nulls":9},100.412,null,{"v":0.40399999999999947,"d":"0.40"},0.40399999999999947,{"v":57.074999999970125,"d":"57.075"},null,1,{"$f":"IF($AU$21=\"INVERT\",Y88,IF(AC87>=$Z$12,\"\",IF(Y87=\"\",\"\",INDEX($Y$18:$Y$227,$AB$17-ROWS($Y$18:$Y87)))))","v":""},"","","",{"$nulls":26},{"$f":"IF($AU$21=\"INVERT\",Y88,IF(AC87>=$Z$12,\"\",IF(Y87=\"\",\"\",INDEX($Y$18:$Y$227,$AB$17-ROWS($Y$18:$Y87)))))","v":""},"",{"$f":"IF(AE87=\"\",\"\",\n    IF($AU$21=\"TYP\",\n       IF(Z87=\"\",\"\", INDEX($Z$18:$Z$227, $AB$17-ROWS($Z$18:$Z87))),\n       IF($AU$21=\"INVERT\",Z88, \"\")\n    )\n)","v":""},"",null,{"$f":"IF(BL87>=$Z$12,\"\",IF(Y87=\"\",\"\",INDEX($Y$18:$Y$227,$AB$17-ROWS($Y$18:$Y87))))","v":{"v":0.7039999999999997,"d":"0.70"}},{"$f":"IF(#REF!=\"\",\"\",#REF!/43560)","v":{"$error":"#REF!"}},{"$f":"#REF!","v":{"$error":"#REF!"}}]
[89,40.2,{"$f":"IF(B89=\"\",\"\",IFERROR(_xlfn.XLOOKUP(ROUND(B89,1),MetricIncrementalData[System Increment],_xlfn.XLOOKUP('Metric Incremental Crate'!$R$3,MetricIncrementalData[#Headers],MetricIncrementalData[]),,1),0))","v":{"v":0.005399999999999999,"d":"0.0054"}},{"v":0.567,"d":"0.5670"},{"$f":"IF(B89=\"\",\"\",IFERROR(_xlfn.XLOOKUP(ROUND(B89,1),MetricIncrementalData[System Increment],_xlfn.XLOOKUP(Metric_Incremental_Data_Target_Column,MetricIncrementalData[#Headers],MetricIncrementalData[]),,1),0))","v":{"v":0.005625,"d":"0.0056"}},{"$f":"IF(B89=\"\",\"\",IF(B90=\"\",((((B89-0)/100)*Metric_Module_Square_Foot_Area)-'Cumulative Volumes Metric'!E89)*Metric_Stone_Void_Percentage,((((B89-B90)/100)*Metric_Module_Square_Foot_Area)-'Cumulative Volumes Metric'!E89)*Metric_Stone_Void_Percentage))","v":{"v":0,"d":"0.0000"}},{"v":0,"d":"0.00"},{"$f":"IF(B89=\"\",\"\",((Metric_System_Area_Input-Metric_Number_Of_Stacks*_xlfn.XLOOKUP(Metric_Layers,CrateData[Layer],CrateData[Surface Area (m2)]))*((B89-IF(B90=\"\",0,B90))/100))*Metric_Stone_Void_Percentage)","v":{"v":0.00375,"d":"0.00"}},{"v":0.00375,"d":"0.00"},{"v":0.57075,"d":"0.57"},{"$f":"IF(B89=\"\",\"\",SUM(J89:$J$563))","v":{"v":17.916749999999997,"d":"17.92"}},100.402,{"$nulls":9},100.402,null,{"v":0.39399999999999946,"d":"0.39"},0.39399999999999946,{"v":57.07499999997048,"d":"57.075"},null,1,{"$f":"IF($AU$21=\"INVERT\",Y89,IF(AC88>=$Z$12,\"\",IF(Y88=\"\",\"\",INDEX($Y$18:$Y$227,$AB$17-ROWS($Y$18:$Y88)))))","v":""},"","","",{"$nulls":26},{"$f":"IF($AU$21=\"INVERT\",Y89,IF(AC88>=$Z$12,\"\",IF(Y88=\"\",\"\",INDEX($Y$18:$Y$227,$AB$17-ROWS($Y$18:$Y88)))))","v":""},"",{"$f":"IF(AE88=\"\",\"\",\n    IF($AU$21=\"TYP\",\n       IF(Z88=\"\",\"\", INDEX($Z$18:$Z$227, $AB$17-ROWS($Z$18:$Z88))),\n       IF($AU$21=\"INVERT\",Z89, \"\")\n    )\n)","v":""},"",null,{"$f":"IF(BL88>=$Z$12,\"\",IF(Y88=\"\",\"\",INDEX($Y$18:$Y$227,$AB$17-ROWS($Y$18:$Y88))))","v":{"v":0.7139999999999997,"d":"0.71"}},{"$f":"IF(#REF!=\"\",\"\",#REF!/43560)","v":{"$error":"#REF!"}},{"$f":"#REF!","v":{"$error":"#REF!"}}]
[90,39.2,{"$f":"IF(B90=\"\",\"\",IFERROR(_xlfn.XLOOKUP(ROUND(B90,1),MetricIncrementalData[System Increment],_xlfn.XLOOKUP('Metric Incremental Crate'!$R$3,MetricIncrementalData[#Headers],MetricIncrementalData[]),,1),0))","v":{"v":0.005399999999999999,"d":"0.0054"}},{"v":0.567,"d":"0.5670"},{"$f":"IF(B90=\"\",\"\",IFERROR(_xlfn.XLOOKUP(ROUND(B90,1),MetricIncrementalData[System Increment],_xlfn.XLOOKUP(Metric_Incremental_Data_Target_Column,MetricIncrementalData[#Headers],MetricIncrementalData[]),,1),0))","v":{"v":0.005625,"d":"0.0056"}},{"$f":"IF(B90=\"\",\"\",IF(B91=\"\",((((B90-0)/100)*Metric_Module_Square_Foot_Area)-'Cumulative Volumes Metric'!E90)*Metric_Stone_Void_Percentage,((((B90-B91)/100)*Metric_Module_Square_Foot_Area)-'Cumulative Volumes Metric'!E90)*Metric_Stone_Void_Percentage))","v":{"v":0,"d":"0.0000"}},{"v":0,"d":"0.00"},{"$f":"IF(B90=\"\",\"\",((Metric_System_Area_Input-Metric_Number_Of_Stacks*_xlfn.XLOOKUP(Metric_Layers,CrateData[Layer],CrateData[Surface Area (m2)]))*((B90-IF(B91=\"\",0,B91))/100))*Metric_Stone_Void_Percentage)","v":{"v":0.00375,"d":"0.00"}},{"v":0.00375,"d":"0.00"},{"v":0.57075,"d":"0.57"},{"$f":"IF(B90=\"\",\"\",SUM(J90:$J$563))","v":{"v":17.346,"d":"17.35"}},100.392,{"$nulls":9},100.392,null,{"v":0.38399999999999945,"d":"0.38"},0.38399999999999945,{"v":57.07500000005159,"d":"57.075"},null,1,{"$f":"IF($AU$21=\"INVERT\",Y90,IF(AC89>=$Z$12,\"\",IF(Y89=\"\",\"\",INDEX($Y$18:$Y$227,$AB$17-ROWS($Y$18:$Y89)))))","v":""},"","","",{"$nulls":26},{"$f":"IF($AU$21=\"INVERT\",Y90,IF(AC89>=$Z$12,\"\",IF(Y89=\"\",\"\",INDEX($Y$18:$Y$227,$AB$17-ROWS($Y$18:$Y89)))))","v":""},"",{"$f":"IF(AE89=\"\",\"\",\n    IF($AU$21=\"TYP\",\n       IF(Z89=\"\",\"\", INDEX($Z$18:$Z$227, $AB$17-ROWS($Z$18:$Z89))),\n       IF($AU$21=\"INVERT\",Z90, \"\")\n    )\n)","v":""},"",null,{"$f":"IF(BL89>=$Z$12,\"\",IF(Y89=\"\",\"\",INDEX($Y$18:$Y$227,$AB$17-ROWS($Y$18:$Y89))))","v":{"v":0.7239999999999998,"d":"0.72"}},{"$f":"IF(#REF!=\"\",\"\",#REF!/43560)","v":{"$error":"#REF!"}},{"$f":"#REF!","v":{"$error":"#REF!"}}]
[91,38.2,{"$f":"IF(B91=\"\",\"\",IFERROR(_xlfn.XLOOKUP(ROUND(B91,1),MetricIncrementalData[System Increment],_xlfn.XLOOKUP('Metric Incremental Crate'!$R$3,MetricIncrementalData[#Headers],MetricIncrementalData[]),,1),0))","v":{"v":0.005399999999999999,"d":"0.0054"}},{"v":0.567,"d":"0.5670"},{"$f":"IF(B91=\"\",\"\",IFERROR(_xlfn.XLOOKUP(ROUND(B91,1),MetricIncrementalData[System Increment],_xlfn.XLOOKUP(Metric_Incremental_Data_Target_Column,MetricIncrementalData[#Headers],MetricIncrementalData[]),,1),0))","v":{"v":0.005625,"d":"0.0056"}},{"$f":"IF(B91=\"\",\"\",IF(B92=\"\",((((B91-0)/100)*Metric_Module_Square_Foot_Area)-'Cumulative Volumes Metric'!E91)*Metric_Stone_Void_Percentage,((((B91-B92)/100)*Metric_Module_Square_Foot_Area)-'Cumulative Volumes Metric'!E91)*Metric_Stone_Void_Percentage))","v":{"v":0,"d":"0.0000"}},{"v":0,"d":"0.00"},{"$f":"IF(B91=\"\",\"\",((Metric_System_Area_Input-Metric_Number_Of_Stacks*_xlfn.XLOOKUP(Metric_Layers,CrateData[Layer],CrateData[Surface Area (m2)]))*((B91-IF(B92=\"\",0,B92))/100))*Metric_Stone_Void_Percentage)","v":{"v":0.00375,"d":"0.00"}},{"v":0.00375,"d":"0.00"},{"v":0.57075,"d":"0.57"},{"$f":"IF(B91=\"\",\"\",SUM(J91:$J$563))","v":{"v":16.775250000000003,"d":"16.78"}},100.382,{"$nulls":9},100.382,null,{"v":0.37399999999999944,"d":"0.37"},0.37399999999999944,{"v":57.07499999997048,"d":"57.075"},null,1,{"$f":"IF($AU$21=\"INVERT\",Y91,IF(AC90>=$Z$12,\"\",IF(Y90=\"\",\"\",INDEX($Y$18:$Y$227,$AB$17-ROWS($Y$18:$Y90)))))","v":""},"","","",{"$nulls":26},{"$f":"IF($AU$21=\"INVERT\",Y91,IF(AC90>=$Z$12,\"\",IF(Y90=\"\",\"\",INDEX($Y$18:$Y$227,$AB$17-ROWS($Y$18:$Y90)))))","v":""},"",{"$f":"IF(AE90=\"\",\"\",\n    IF($AU$21=\"TYP\",\n       IF(Z90=\"\",\"\", INDEX($Z$18:$Z$227, $AB$17-ROWS($Z$18:$Z90))),\n       IF($AU$21=\"INVERT\",Z91, \"\")\n    )\n)","v":""},"",null,{"$f":"IF(BL90>=$Z$12,\"\",IF(Y90=\"\",\"\",INDEX($Y$18:$Y$227,$AB$17-ROWS($Y$18:$Y90))))","v":{"v":0.7339999999999998,"d":"0.73"}},{"$f":"IF(#REF!=\"\",\"\",#REF!/43560)","v":{"$error":"#REF!"}},{"$f":"#REF!","v":{"$error":"#REF!"}}]
[92,37.2,{"$f":"IF(B92=\"\",\"\",IFERROR(_xlfn.XLOOKUP(ROUND(B92,1),MetricIncrementalData[System Increment],_xlfn.XLOOKUP('Metric Incremental Crate'!$R$3,MetricIncrementalData[#Headers],MetricIncrementalData[]),,1),0))","v":{"v":0.005399999999999999,"d":"0.0054"}},{"v":0.567,"d":"0.5670"},{"$f":"IF(B92=\"\",\"\",IFERROR(_xlfn.XLOOKUP(ROUND(B92,1),MetricIncrementalData[System Increment],_xlfn.XLOOKUP(Metric_Incremental_Data_Target_Column,MetricIncrementalData[#Headers],MetricIncrementalData[]),,1),0))","v":{"v":0.005625,"d":"0.0056"}},{"$f":"IF(B92=\"\",\"\",IF(B93=\"\",((((B92-0)/100)*Metric_Module_Square_Foot_Area)-'Cumulative Volumes Metric'!E92)*Metric_Stone_Void_Percentage,((((B92-B93)/100)*Metric_Module_Square_Foot_Area)-'Cumulative Volumes Metric'!E92)*Metric_Stone_Void_Percentage))","v":{"v":0,"d":"0.0000"}},{"v":0,"d":"0.00"},{"$f":"IF(B92=\"\",\"\",((Metric_System_Area_Input-Metric_Number_Of_Stacks*_xlfn.XLOOKUP(Metric_Layers,CrateData[Layer],CrateData[Surface Area (m2)]))*((B92-IF(B93=\"\",0,B93))/100))*Metric_Stone_Void_Percentage)","v":{"v":0.00375,"d":"0.00"}},{"v":0.00375,"d":"0.00"},{"v":0.57075,"d":"0.57"},{"$f":"IF(B92=\"\",\"\",SUM(J92:$J$563))","v":{"v":16.204500000000007,"d":"16.20"}},100.372,{"$nulls":9},100.372,null,{"v":0.36399999999999944,"d":"0.36"},0.36399999999999944,{"v":57.074999999970835,"d":"57.075"},null,1,{"$f":"IF($AU$21=\"INVERT\",Y92,IF(AC91>=$Z$12,\"\",IF(Y91=\"\",\"\",INDEX($Y$18:$Y$227,$AB$17-ROWS($Y$18:$Y91)))))","v":""},"","","",{"$nulls":26},{"$f":"IF($AU$21=\"INVERT\",Y92,IF(AC91>=$Z$12,\"\",IF(Y91=\"\",\"\",INDEX($Y$18:$Y$227,$AB$17-ROWS($Y$18:$Y91)))))","v":""},"",{"$f":"IF(AE91=\"\",\"\",\n    IF($AU$21=\"TYP\",\n       IF(Z91=\"\",\"\", INDEX($Z$18:$Z$227, $AB$17-ROWS($Z$18:$Z91))),\n       IF($AU$21=\"INVERT\",Z92, \"\")\n    )\n)","v":""},"",null,{"$f":"IF(BL91>=$Z$12,\"\",IF(Y91=\"\",\"\",INDEX($Y$18:$Y$227,$AB$17-ROWS($Y$18:$Y91))))","v":{"v":0.7439999999999998,"d":"0.74"}},{"$f":"IF(#REF!=\"\",\"\",#REF!/43560)","v":{"$error":"#REF!"}},{"$f":"#REF!","v":{"$error":"#REF!"}}]
[93,36.2,{"$f":"IF(B93=\"\",\"\",IFERROR(_xlfn.XLOOKUP(ROUND(B93,1),MetricIncrementalData[System Increment],_xlfn.XLOOKUP('Metric Incremental Crate'!$R$3,MetricIncrementalData[#Headers],MetricIncrementalData[]),,1),0))","v":{"v":0.005399999999999999,"d":"0.0054"}},{"v":0.567,"d":"0.5670"},{"$f":"IF(B93=\"\",\"\",IFERROR(_xlfn.XLOOKUP(ROUND(B93,1),MetricIncrementalData[System Increment],_xlfn.XLOOKUP(Metric_Incremental_Data_Target_Column,MetricIncrementalData[#Headers],MetricIncrementalData[]),,1),0))","v":{"v":0.005625,"d":"0.0056"}},{"$f":"IF(B93=\"\",\"\",IF(B94=\"\",((((B93-0)/100)*Metric_Module_Square_Foot_Area)-'Cumulative Volumes Metric'!E93)*Metric_Stone_Void_Percentage,((((B93-B94)/100)*Metric_Module_Square_Foot_Area)-'Cumulative Volumes Metric'!E93)*Metric_Stone_Void_Percentage))","v":{"v":0,"d":"0.0000"}},{"v":0,"d":"0.00"},{"$f":"IF(B93=\"\",\"\",((Metric_System_Area_Input-Metric_Number_Of_Stacks*_xlfn.XLOOKUP(Metric_Layers,CrateData[Layer],CrateData[Surface Area (m2)]))*((B93-IF(B94=\"\",0,B94))/100))*Metric_Stone_Void_Percentage)","v":{"v":0.00375,"d":"0.00"}},{"v":0.00375,"d":"0.00"},{"v":0.57075,"d":"0.57"},{"$f":"IF(B93=\"\",\"\",SUM(J93:$J$563))","v":{"v":15.633750000000006,"d":"15.63"}},100.362,{"$nulls":9},100.362,null,{"v":0.3539999999999994,"d":"0.35"},0.3539999999999994,{"v":57.07500000005194,"d":"57.075"},null,1,{"$f":"IF($AU$21=\"INVERT\",Y93,IF(AC92>=$Z$12,\"\",IF(Y92=\"\",\"\",INDEX($Y$18:$Y$227,$AB$17-ROWS($Y$18:$Y92)))))","v":""},"","","",{"$nulls":26},{"$f":"IF($AU$21=\"INVERT\",Y93,IF(AC92>=$Z$12,\"\",IF(Y92=\"\",\"\",INDEX($Y$18:$Y$227,$AB$17-ROWS($Y$18:$Y92)))))","v":""},"",{"$f":"IF(AE92=\"\",\"\",\n    IF($AU$21=\"TYP\",\n       IF(Z92=\"\",\"\", INDEX($Z$18:$Z$227, $AB$17-ROWS($Z$18:$Z92))),\n       IF($AU$21=\"INVERT\",Z93, \"\")\n    )\n)","v":""},"",null,{"$f":"IF(BL92>=$Z$12,\"\",IF(Y92=\"\",\"\",INDEX($Y$18:$Y$227,$AB$17-ROWS($Y$18:$Y92))))","v":{"v":0.7539999999999998,"d":"0.75"}},{"$f":"IF(#REF!=\"\",\"\",#REF!/43560)","v":{"$error":"#REF!"}},{"$f":"#REF!","v":{"$error":"#REF!"}}]
[94,35.2,{"$f":"IF(B94=\"\",\"\",IFERROR(_xlfn.XLOOKUP(ROUND(B94,1),MetricIncrementalData[System Increment],_xlfn.XLOOKUP('Metric Incremental Crate'!$R$3,MetricIncrementalData[#Headers],MetricIncrementalData[]),,1),0))","v":{"v":0.005399999999999999,"d":"0.0054"}},{"v":0.567,"d":"0.5670"},{"$f":"IF(B94=\"\",\"\",IFERROR(_xlfn.XLOOKUP(ROUND(B94,1),MetricIncrementalData[System Increment],_xlfn.XLOOKUP(Metric_Incremental_Data_Target_Column,MetricIncrementalData[#Headers],MetricIncrementalData[]),,1),0))","v":{"v":0.005625,"d":"0.0056"}},{"$f":"IF(B94=\"\",\"\",IF(B95=\"\",((((B94-0)/100)*Metric_Module_Square_Foot_Area)-'Cumulative Volumes Metric'!E94)*Metric_Stone_Void_Percentage,((((B94-B95)/100)*Metric_Module_Square_Foot_Area)-'Cumulative Volumes Metric'!E94)*Metric_Stone_Void_Percentage))","v":{"v":0,"d":"0.0000"}},{"v":0,"d":"0.00"},{"$f":"IF(B94=\"\",\"\",((Metric_System_Area_Input-Metric_Number_Of_Stacks*_xlfn.XLOOKUP(Metric_Layers,CrateData[Layer],CrateData[Surface Area (m2)]))*((B94-IF(B95=\"\",0,B95))/100))*Metric_Stone_Void_Percentage)","v":{"v":0.00375,"d":"0.00"}},{"v":0.00375,"d":"0.00"},{"v":0.57075,"d":"0.57"},{"$f":"IF(B94=\"\",\"\",SUM(J94:$J$563))","v":{"v":15.063000000000006,"d":"15.06"}},100.352,{"$nulls":9},100.352,null,{"v":0.3439999999999994,"d":"0.34"},0.3439999999999994,{"v":57.074999999970835,"d":"57.075"},null,1,{"$f":"IF($AU$21=\"INVERT\",Y94,IF(AC93>=$Z$12,\"\",IF(Y93=\"\",\"\",INDEX($Y$18:$Y$227,$AB$17-ROWS($Y$18:$Y93)))))","v":""},"","","",{"$nulls":26},{"$f":"IF($AU$21=\"INVERT\",Y94,IF(AC93>=$Z$12,\"\",IF(Y93=\"\",\"\",INDEX($Y$18:$Y$227,$AB$17-ROWS($Y$18:$Y93)))))","v":""},"",{"$f":"IF(AE93=\"\",\"\",\n    IF($AU$21=\"TYP\",\n       IF(Z93=\"\",\"\", INDEX($Z$18:$Z$227, $AB$17-ROWS($Z$18:$Z93))),\n       IF($AU$21=\"INVERT\",Z94, \"\")\n    )\n)","v":""},"",null,{"$f":"IF(BL93>=$Z$12,\"\",IF(Y93=\"\",\"\",INDEX($Y$18:$Y$227,$AB$17-ROWS($Y$18:$Y93))))","v":{"v":0.7639999999999998,"d":"0.76"}},{"$f":"IF(#REF!=\"\",\"\",#REF!/43560)","v":{"$error":"#REF!"}},{"$f":"#REF!","v":{"$error":"#REF!"}}]
[95,34.2,{"$f":"IF(B95=\"\",\"\",IFERROR(_xlfn.XLOOKUP(ROUND(B95,1),MetricIncrementalData[System Increment],_xlfn.XLOOKUP('Metric Incremental Crate'!$R$3,MetricIncrementalData[#Headers],MetricIncrementalData[]),,1),0))","v":{"v":0.005399999999999999,"d":"0.0054"}},{"v":0.567,"d":"0.5670"},{"$f":"IF(B95=\"\",\"\",IFERROR(_xlfn.XLOOKUP(ROUND(B95,1),MetricIncrementalData[System Increment],_xlfn.XLOOKUP(Metric_Incremental_Data_Target_Column,MetricIncrementalData[#Headers],MetricIncrementalData[]),,1),0))","v":{"v":0.005625,"d":"0.0056"}},{"$f":"IF(B95=\"\",\"\",IF(B96=\"\",((((B95-0)/100)*Metric_Module_Square_Foot_Area)-'Cumulative Volumes Metric'!E95)*Metric_Stone_Void_Percentage,((((B95-B96)/100)*Metric_Module_Square_Foot_Area)-'Cumulative Volumes Metric'!E95)*Metric_Stone_Void_Percentage))","v":{"v":0,"d":"0.0000"}},{"v":0,"d":"0.00"},{"$f":"IF(B95=\"\",\"\",((Metric_System_Area_Input-Metric_Number_Of_Stacks*_xlfn.XLOOKUP(Metric_Layers,CrateData[Layer],CrateData[Surface Area (m2)]))*((B95-IF(B96=\"\",0,B96))/100))*Metric_Stone_Void_Percentage)","v":{"v":0.00375,"d":"0.00"}},{"v":0.00375,"d":"0.00"},{"v":0.57075,"d":"0.57"},{"$f":"IF(B95=\"\",\"\",SUM(J95:$J$563))","v":{"v":14.492250000000006,"d":"14.49"}},100.342,{"$nulls":9},100.342,null,{"v":0.3339999999999994,"d":"0.33"},0.3339999999999994,{"v":57.074999999970835,"d":"57.075"},null,1,{"$f":"IF($AU$21=\"INVERT\",Y95,IF(AC94>=$Z$12,\"\",IF(Y94=\"\",\"\",INDEX($Y$18:$Y$227,$AB$17-ROWS($Y$18:$Y94)))))","v":""},"","","",{"$nulls":26},{"$f":"IF($AU$21=\"INVERT\",Y95,IF(AC94>=$Z$12,\"\",IF(Y94=\"\",\"\",INDEX($Y$18:$Y$227,$AB$17-ROWS($Y$18:$Y94)))))","v":""},"",{"$f":"IF(AE94=\"\",\"\",\n    IF($AU$21=\"TYP\",\n       IF(Z94=\"\",\"\", INDEX($Z$18:$Z$227, $AB$17-ROWS($Z$18:$Z94))),\n       IF($AU$21=\"INVERT\",Z95, \"\")\n    )\n)","v":""},"",null,{"$f":"IF(BL94>=$Z$12,\"\",IF(Y94=\"\",\"\",INDEX($Y$18:$Y$227,$AB$17-ROWS($Y$18:$Y94))))","v":{"v":0.7739999999999998,"d":"0.77"}},{"$f":"IF(#REF!=\"\",\"\",#REF!/43560)","v":{"$error":"#REF!"}},{"$f":"#REF!","v":{"$error":"#REF!"}}]
[96,33.2,{"$f":"IF(B96=\"\",\"\",IFERROR(_xlfn.XLOOKUP(ROUND(B96,1),MetricIncrementalData[System Increment],_xlfn.XLOOKUP('Metric Incremental Crate'!$R$3,MetricIncrementalData[#Headers],MetricIncrementalData[]),,1),0))","v":{"v":0.005399999999999999,"d":"0.0054"}},{"v":0.567,"d":"0.5670"},{"$f":"IF(B96=\"\",\"\",IFERROR(_xlfn.XLOOKUP(ROUND(B96,1),MetricIncrementalData[System Increment],_xlfn.XLOOKUP(Metric_Incremental_Data_Target_Column,MetricIncrementalData[#Headers],MetricIncrementalData[]),,1),0))","v":{"v":0.005625,"d":"0.0056"}},{"$f":"IF(B96=\"\",\"\",IF(B97=\"\",((((B96-0)/100)*Metric_Module_Square_Foot_Area)-'Cumulative Volumes Metric'!E96)*Metric_Stone_Void_Percentage,((((B96-B97)/100)*Metric_Module_Square_Foot_Area)-'Cumulative Volumes Metric'!E96)*Metric_Stone_Void_Percentage))","v":{"v":0,"d":"0.0000"}},{"v":0,"d":"0.00"},{"$f":"IF(B96=\"\",\"\",((Metric_System_Area_Input-Metric_Number_Of_Stacks*_xlfn.XLOOKUP(Metric_Layers,CrateData[Layer],CrateData[Surface Area (m2)]))*((B96-IF(B97=\"\",0,B97))/100))*Metric_Stone_Void_Percentage)","v":{"v":0.00375,"d":"0.00"}},{"v":0.00375,"d":"0.00"},{"v":0.57075,"d":"0.57"},{"$f":"IF(B96=\"\",\"\",SUM(J96:$J$563))","v":{"v":13.921500000000005,"d":"13.92"}},100.332,{"$nulls":9},100.332,null,{"v":0.3239999999999994,"d":"0.32"},0.3239999999999994,{"v":57.07500000005194,"d":"57.075"},null,1,{"$f":"IF($AU$21=\"INVERT\",Y96,IF(AC95>=$Z$12,\"\",IF(Y95=\"\",\"\",INDEX($Y$18:$Y$227,$AB$17-ROWS($Y$18:$Y95)))))","v":""},"","","",{"$nulls":26},{"$f":"IF($AU$21=\"INVERT\",Y96,IF(AC95>=$Z$12,\"\",IF(Y95=\"\",\"\",INDEX($Y$18:$Y$227,$AB$17-ROWS($Y$18:$Y95)))))","v":""},"",{"$f":"IF(AE95=\"\",\"\",\n    IF($AU$21=\"TYP\",\n       IF(Z95=\"\",\"\", INDEX($Z$18:$Z$227, $AB$17-ROWS($Z$18:$Z95))),\n       IF($AU$21=\"INVERT\",Z96, \"\")\n    )\n)","v":""},"",null,{"$f":"IF(BL95>=$Z$12,\"\",IF(Y95=\"\",\"\",INDEX($Y$18:$Y$227,$AB$17-ROWS($Y$18:$Y95))))","v":{"v":0.7839999999999998,"d":"0.78"}},{"$f":"IF(#REF!=\"\",\"\",#REF!/43560)","v":{"$error":"#REF!"}},{"$f":"#REF!","v":{"$error":"#REF!"}}]
[97,32.2,{"$f":"IF(B97=\"\",\"\",IFERROR(_xlfn.XLOOKUP(ROUND(B97,1),MetricIncrementalData[System Increment],_xlfn.XLOOKUP('Metric Incremental Crate'!$R$3,MetricIncrementalData[#Headers],MetricIncrementalData[]),,1),0))","v":{"v":0.005399999999999999,"d":"0.0054"}},{"v":0.567,"d":"0.5670"},{"$f":"IF(B97=\"\",\"\",IFERROR(_xlfn.XLOOKUP(ROUND(B97,1),MetricIncrementalData[System Increment],_xlfn.XLOOKUP(Metric_Incremental_Data_Target_Column,MetricIncrementalData[#Headers],MetricIncrementalData[]),,1),0))","v":{"v":0.005625,"d":"0.0056"}},{"$f":"IF(B97=\"\",\"\",IF(B98=\"\",((((B97-0)/100)*Metric_Module_Square_Foot_Area)-'Cumulative Volumes Metric'!E97)*Metric_Stone_Void_Percentage,((((B97-B98)/100)*Metric_Module_Square_Foot_Area)-'Cumulative Volumes Metric'!E97)*Metric_Stone_Void_Percentage))","v":{"v":0,"d":"0.0000"}},{"v":0,"d":"0.00"},{"$f":"IF(B97=\"\",\"\",((Metric_System_Area_Input-Metric_Number_Of_Stacks*_xlfn.XLOOKUP(Metric_Layers,CrateData[Layer],CrateData[Surface Area (m2)]))*((B97-IF(B98=\"\",0,B98))/100))*Metric_Stone_Void_Percentage)","v":{"v":0.00375,"d":"0.00"}},{"v":0.00375,"d":"0.00"},{"v":0.57075,"d":"0.57"},{"$f":"IF(B97=\"\",\"\",SUM(J97:$J$563))","v":{"v":13.350750000000005,"d":"13.35"}},100.322,{"$nulls":9},100.322,null,{"v":0.3139999999999994,"d":"0.31"},0.3139999999999994,{"v":57.074999999970835,"d":"57.075"},null,1,{"$f":"IF($AU$21=\"INVERT\",Y97,IF(AC96>=$Z$12,\"\",IF(Y96=\"\",\"\",INDEX($Y$18:$Y$227,$AB$17-ROWS($Y$18:$Y96)))))","v":""},"","","",{"$nulls":26},{"$f":"IF($AU$21=\"INVERT\",Y97,IF(AC96>=$Z$12,\"\",IF(Y96=\"\",\"\",INDEX($Y$18:$Y$227,$AB$17-ROWS($Y$18:$Y96)))))","v":""},"",{"$f":"IF(AE96=\"\",\"\",\n    IF($AU$21=\"TYP\",\n       IF(Z96=\"\",\"\", INDEX($Z$18:$Z$227, $AB$17-ROWS($Z$18:$Z96))),\n       IF($AU$21=\"INVERT\",Z97, \"\")\n    )\n)","v":""},"",null,{"$f":"IF(BL96>=$Z$12,\"\",IF(Y96=\"\",\"\",INDEX($Y$18:$Y$227,$AB$17-ROWS($Y$18:$Y96))))","v":{"v":0.7939999999999998,"d":"0.79"}},{"$f":"IF(#REF!=\"\",\"\",#REF!/43560)","v":{"$error":"#REF!"}},{"$f":"#REF!","v":{"$error":"#REF!"}}]
[98,{"v":31.200000000000003,"d":"31.2"},{"$f":"IF(B98=\"\",\"\",IFERROR(_xlfn.XLOOKUP(ROUND(B98,1),MetricIncrementalData[System Increment],_xlfn.XLOOKUP('Metric Incremental Crate'!$R$3,MetricIncrementalData[#Headers],MetricIncrementalData[]),,1),0))","v":{"v":0.005399999999999999,"d":"0.0054"}},{"v":0.567,"d":"0.5670"},{"$f":"IF(B98=\"\",\"\",IFERROR(_xlfn.XLOOKUP(ROUND(B98,1),MetricIncrementalData[System Increment],_xlfn.XLOOKUP(Metric_Incremental_Data_Target_Column,MetricIncrementalData[#Headers],MetricIncrementalData[]),,1),0))","v":{"v":0.005625,"d":"0.0056"}},{"$f":"IF(B98=\"\",\"\",IF(B99=\"\",((((B98-0)/100)*Metric_Module_Square_Foot_Area)-'Cumulative Volumes Metric'!E98)*Metric_Stone_Void_Percentage,((((B98-B99)/100)*Metric_Module_Square_Foot_Area)-'Cumulative Volumes Metric'!E98)*Metric_Stone_Void_Percentage))","v":{"v":0,"d":"0.0000"}},{"v":0,"d":"0.00"},{"$f":"IF(B98=\"\",\"\",((Metric_System_Area_Input-Metric_Number_Of_Stacks*_xlfn.XLOOKUP(Metric_Layers,CrateData[Layer],CrateData[Surface Area (m2)]))*((B98-IF(B99=\"\",0,B99))/100))*Metric_Stone_Void_Percentage)","v":{"v":0.00375,"d":"0.00"}},{"v":0.00375,"d":"0.00"},{"v":0.57075,"d":"0.57"},{"$f":"IF(B98=\"\",\"\",SUM(J98:$J$563))","v":{"v":12.780000000000005,"d":"12.78"}},100.312,{"$nulls":9},100.312,null,{"v":0.3039999999999994,"d":"0.30"},0.3039999999999994,{"v":57.07500000005194,"d":"57.075"},null,1,{"$f":"IF($AU$21=\"INVERT\",Y98,IF(AC97>=$Z$12,\"\",IF(Y97=\"\",\"\",INDEX($Y$18:$Y$227,$AB$17-ROWS($Y$18:$Y97)))))","v":""},"","","",{"$nulls":26},{"$f":"IF($AU$21=\"INVERT\",Y98,IF(AC97>=$Z$12,\"\",IF(Y97=\"\",\"\",INDEX($Y$18:$Y$227,$AB$17-ROWS($Y$18:$Y97)))))","v":""},"",{"$f":"IF(AE97=\"\",\"\",\n    IF($AU$21=\"TYP\",\n       IF(Z97=\"\",\"\", INDEX($Z$18:$Z$227, $AB$17-ROWS($Z$18:$Z97))),\n       IF($AU$21=\"INVERT\",Z98, \"\")\n    )\n)","v":""},"",null,{"$f":"IF(BL97>=$Z$12,\"\",IF(Y97=\"\",\"\",INDEX($Y$18:$Y$227,$AB$17-ROWS($Y$18:$Y97))))","v":{"v":0.8039999999999998,"d":"0.80"}},{"$f":"IF(#REF!=\"\",\"\",#REF!/43560)","v":{"$error":"#REF!"}},{"$f":"#REF!","v":{"$error":"#REF!"}}]
[99,{"v":30.200000000000003,"d":"30.2"},{"$f":"IF(B99=\"\",\"\",IFERROR(_xlfn.XLOOKUP(ROUND(B99,1),MetricIncrementalData[System Increment],_xlfn.XLOOKUP('Metric Incremental Crate'!$R$3,MetricIncrementalData[#Headers],MetricIncrementalData[]),,1),0))","v":{"v":0.005399999999999999,"d":"0.0054"}},{"v":0.567,"d":"0.5670"},{"$f":"IF(B99=\"\",\"\",IFERROR(_xlfn.XLOOKUP(ROUND(B99,1),MetricIncrementalData[System Increment],_xlfn.XLOOKUP(Metric_Incremental_Data_Target_Column,MetricIncrementalData[#Headers],MetricIncrementalData[]),,1),0))","v":{"v":0.005625,"d":"0.0056"}},{"$f":"IF(B99=\"\",\"\",IF(B100=\"\",((((B99-0)/100)*Metric_Module_Square_Foot_Area)-'Cumulative Volumes Metric'!E99)*Metric_Stone_Void_Percentage,((((B99-B100)/100)*Metric_Module_Square_Foot_Area)-'Cumulative Volumes Metric'!E99)*Metric_Stone_Void_Percentage))","v":{"v":0,"d":"0.0000"}},{"v":0,"d":"0.00"},{"$f":"IF(B99=\"\",\"\",((Metric_System_Area_Input-Metric_Number_Of_Stacks*_xlfn.XLOOKUP(Metric_Layers,CrateData[Layer],CrateData[Surface Area (m2)]))*((B99-IF(B100=\"\",0,B100))/100))*Metric_Stone_Void_Percentage)","v":{"v":0.00375,"d":"0.00"}},{"v":0.00375,"d":"0.00"},{"v":0.57075,"d":"0.57"},{"$f":"IF(B99=\"\",\"\",SUM(J99:$J$563))","v":{"v":12.209250000000004,"d":"12.21"}},100.302,{"$nulls":9},100.302,null,{"v":0.2939999999999994,"d":"0.29"},0.2939999999999994,{"v":57.074999999970835,"d":"57.075"},null,1,{"$f":"IF($AU$21=\"INVERT\",Y99,IF(AC98>=$Z$12,\"\",IF(Y98=\"\",\"\",INDEX($Y$18:$Y$227,$AB$17-ROWS($Y$18:$Y98)))))","v":""},"","","",{"$nulls":26},{"$f":"IF($AU$21=\"INVERT\",Y99,IF(AC98>=$Z$12,\"\",IF(Y98=\"\",\"\",INDEX($Y$18:$Y$227,$AB$17-ROWS($Y$18:$Y98)))))","v":""},"",{"$f":"IF(AE98=\"\",\"\",\n    IF($AU$21=\"TYP\",\n       IF(Z98=\"\",\"\", INDEX($Z$18:$Z$227, $AB$17-ROWS($Z$18:$Z98))),\n       IF($AU$21=\"INVERT\",Z99, \"\")\n    )\n)","v":""},"",null,{"$f":"IF(BL98>=$Z$12,\"\",IF(Y98=\"\",\"\",INDEX($Y$18:$Y$227,$AB$17-ROWS($Y$18:$Y98))))","v":{"v":0.8139999999999998,"d":"0.81"}},{"$f":"IF(#REF!=\"\",\"\",#REF!/43560)","v":{"$error":"#REF!"}},{"$f":"#REF!","v":{"$error":"#REF!"}}]
[100,{"v":29.200000000000003,"d":"29.2"},{"$f":"IF(B100=\"\",\"\",IFERROR(_xlfn.XLOOKUP(ROUND(B100,1),MetricIncrementalData[System Increment],_xlfn.XLOOKUP('Metric Incremental Crate'!$R$3,MetricIncrementalData[#Headers],MetricIncrementalData[]),,1),0))","v":{"v":0.005399999999999999,"d":"0.0054"}},{"v":0.567,"d":"0.5670"},{"$f":"IF(B100=\"\",\"\",IFERROR(_xlfn.XLOOKUP(ROUND(B100,1),MetricIncrementalData[System Increment],_xlfn.XLOOKUP(Metric_Incremental_Data_Target_Column,MetricIncrementalData[#Headers],MetricIncrementalData[]),,1),0))","v":{"v":0.005625,"d":"0.0056"}},{"$f":"IF(B100=\"\",\"\",IF(B101=\"\",((((B100-0)/100)*Metric_Module_Square_Foot_Area)-'Cumulative Volumes Metric'!E100)*Metric_Stone_Void_Percentage,((((B100-B101)/100)*Metric_Module_Square_Foot_Area)-'Cumulative Volumes Metric'!E100)*Metric_Stone_Void_Percentage))","v":{"v":0,"d":"0.0000"}},{"v":0,"d":"0.00"},{"$f":"IF(B100=\"\",\"\",((Metric_System_Area_Input-Metric_Number_Of_Stacks*_xlfn.XLOOKUP(Metric_Layers,CrateData[Layer],CrateData[Surface Area (m2)]))*((B100-IF(B101=\"\",0,B101))/100))*Metric_Stone_Void_Percentage)","v":{"v":0.00375,"d":"0.00"}},{"v":0.00375,"d":"0.00"},{"v":0.57075,"d":"0.57"},{"$f":"IF(B100=\"\",\"\",SUM(J100:$J$563))","v":{"v":11.638500000000004,"d":"11.64"}},100.292,{"$nulls":9},100.292,null,{"v":0.28399999999999936,"d":"0.28"},0.28399999999999936,{"v":57.074999999970835,"d":"57.075"},null,1,{"$f":"IF($AU$21=\"INVERT\",Y100,IF(AC99>=$Z$12,\"\",IF(Y99=\"\",\"\",INDEX($Y$18:$Y$227,$AB$17-ROWS($Y$18:$Y99)))))","v":""},"","","",{"$nulls":26},{"$f":"IF($AU$21=\"INVERT\",Y100,IF(AC99>=$Z$12,\"\",IF(Y99=\"\",\"\",INDEX($Y$18:$Y$227,$AB$17-ROWS($Y$18:$Y99)))))","v":""},"",{"$f":"IF(AE99=\"\",\"\",\n    IF($AU$21=\"TYP\",\n       IF(Z99=\"\",\"\", INDEX($Z$18:$Z$227, $AB$17-ROWS($Z$18:$Z99))),\n       IF($AU$21=\"INVERT\",Z100, \"\")\n    )\n)","v":""},"",null,{"$f":"IF(BL99>=$Z$12,\"\",IF(Y99=\"\",\"\",INDEX($Y$18:$Y$227,$AB$17-ROWS($Y$18:$Y99))))","v":{"v":0.8239999999999998,"d":"0.82"}},{"$f":"IF(#REF!=\"\",\"\",#REF!/43560)","v":{"$error":"#REF!"}},{"$f":"#REF!","v":{"$error":"#REF!"}}]
[101,{"v":28.200000000000003,"d":"28.2"},{"$f":"IF(B101=\"\",\"\",IFERROR(_xlfn.XLOOKUP(ROUND(B101,1),MetricIncrementalData[System Increment],_xlfn.XLOOKUP('Metric Incremental Crate'!$R$3,MetricIncrementalData[#Headers],MetricIncrementalData[]),,1),0))","v":{"v":0.005399999999999999,"d":"0.0054"}},{"v":0.567,"d":"0.5670"},{"$f":"IF(B101=\"\",\"\",IFERROR(_xlfn.XLOOKUP(ROUND(B101,1),MetricIncrementalData[System Increment],_xlfn.XLOOKUP(Metric_Incremental_Data_Target_Column,MetricIncrementalData[#Headers],MetricIncrementalData[]),,1),0))","v":{"v":0.005625,"d":"0.0056"}},{"$f":"IF(B101=\"\",\"\",IF(B102=\"\",((((B101-0)/100)*Metric_Module_Square_Foot_Area)-'Cumulative Volumes Metric'!E101)*Metric_Stone_Void_Percentage,((((B101-B102)/100)*Metric_Module_Square_Foot_Area)-'Cumulative Volumes Metric'!E101)*Metric_Stone_Void_Percentage))","v":{"v":0,"d":"0.0000"}},{"v":0,"d":"0.00"},{"$f":"IF(B101=\"\",\"\",((Metric_System_Area_Input-Metric_Number_Of_Stacks*_xlfn.XLOOKUP(Metric_Layers,CrateData[Layer],CrateData[Surface Area (m2)]))*((B101-IF(B102=\"\",0,B102))/100))*Metric_Stone_Void_Percentage)","v":{"v":0.00375,"d":"0.00"}},{"v":0.00375,"d":"0.00"},{"v":0.57075,"d":"0.57"},{"$f":"IF(B101=\"\",\"\",SUM(J101:$J$563))","v":{"v":11.067750000000004,"d":"11.07"}},100.282,{"$nulls":9},100.282,null,{"v":0.27399999999999936,"d":"0.27"},0.27399999999999936,{"v":57.07500000005194,"d":"57.075"},null,1,{"$f":"IF($AU$21=\"INVERT\",Y101,IF(AC100>=$Z$12,\"\",IF(Y100=\"\",\"\",INDEX($Y$18:$Y$227,$AB$17-ROWS($Y$18:$Y100)))))","v":""},"","","",{"$nulls":26},{"$f":"IF($AU$21=\"INVERT\",Y101,IF(AC100>=$Z$12,\"\",IF(Y100=\"\",\"\",INDEX($Y$18:$Y$227,$AB$17-ROWS($Y$18:$Y100)))))","v":""},"",{"$f":"IF(AE100=\"\",\"\",\n    IF($AU$21=\"TYP\",\n       IF(Z100=\"\",\"\", INDEX($Z$18:$Z$227, $AB$17-ROWS($Z$18:$Z100))),\n       IF($AU$21=\"INVERT\",Z101, \"\")\n    )\n)","v":""},"",null,{"$f":"IF(BL100>=$Z$12,\"\",IF(Y100=\"\",\"\",INDEX($Y$18:$Y$227,$AB$17-ROWS($Y$18:$Y100))))","v":{"v":0.8339999999999999,"d":"0.83"}},{"$f":"IF(#REF!=\"\",\"\",#REF!/43560)","v":{"$error":"#REF!"}},{"$f":"#REF!","v":{"$error":"#REF!"}}]
[102,{"v":27.200000000000003,"d":"27.2"},{"$f":"IF(B102=\"\",\"\",IFERROR(_xlfn.XLOOKUP(ROUND(B102,1),MetricIncrementalData[System Increment],_xlfn.XLOOKUP('Metric Incremental Crate'!$R$3,MetricIncrementalData[#Headers],MetricIncrementalData[]),,1),0))","v":{"v":0.005399999999999999,"d":"0.0054"}},{"v":0.567,"d":"0.5670"},{"$f":"IF(B102=\"\",\"\",IFERROR(_xlfn.XLOOKUP(ROUND(B102,1),MetricIncrementalData[System Increment],_xlfn.XLOOKUP(Metric_Incremental_Data_Target_Column,MetricIncrementalData[#Headers],MetricIncrementalData[]),,1),0))","v":{"v":0.005625,"d":"0.0056"}},{"$f":"IF(B102=\"\",\"\",IF(B103=\"\",((((B102-0)/100)*Metric_Module_Square_Foot_Area)-'Cumulative Volumes Metric'!E102)*Metric_Stone_Void_Percentage,((((B102-B103)/100)*Metric_Module_Square_Foot_Area)-'Cumulative Volumes Metric'!E102)*Metric_Stone_Void_Percentage))","v":{"v":0,"d":"0.0000"}},{"v":0,"d":"0.00"},{"$f":"IF(B102=\"\",\"\",((Metric_System_Area_Input-Metric_Number_Of_Stacks*_xlfn.XLOOKUP(Metric_Layers,CrateData[Layer],CrateData[Surface Area (m2)]))*((B102-IF(B103=\"\",0,B103))/100))*Metric_Stone_Void_Percentage)","v":{"v":0.00375,"d":"0.00"}},{"v":0.00375,"d":"0.00"},{"v":0.57075,"d":"0.57"},{"$f":"IF(B102=\"\",\"\",SUM(J102:$J$563))","v":{"v":10.497000000000003,"d":"10.50"}},100.272,{"$nulls":9},100.272,null,{"v":0.26399999999999935,"d":"0.26"},0.26399999999999935,{"v":57.074999999970835,"d":"57.075"},null,1,{"$f":"IF($AU$21=\"INVERT\",Y102,IF(AC101>=$Z$12,\"\",IF(Y101=\"\",\"\",INDEX($Y$18:$Y$227,$AB$17-ROWS($Y$18:$Y101)))))","v":""},"","","",{"$nulls":26},{"$f":"IF($AU$21=\"INVERT\",Y102,IF(AC101>=$Z$12,\"\",IF(Y101=\"\",\"\",INDEX($Y$18:$Y$227,$AB$17-ROWS($Y$18:$Y101)))))","v":""},"",{"$f":"IF(AE101=\"\",\"\",\n    IF($AU$21=\"TYP\",\n       IF(Z101=\"\",\"\", INDEX($Z$18:$Z$227, $AB$17-ROWS($Z$18:$Z101))),\n       IF($AU$21=\"INVERT\",Z102, \"\")\n    )\n)","v":""},"",null,{"$f":"IF(BL101>=$Z$12,\"\",IF(Y101=\"\",\"\",INDEX($Y$18:$Y$227,$AB$17-ROWS($Y$18:$Y101))))","v":{"v":0.8439999999999999,"d":"0.84"}},{"$f":"IF(#REF!=\"\",\"\",#REF!/43560)","v":{"$error":"#REF!"}},{"$f":"#REF!","v":{"$error":"#REF!"}}]
[103,{"v":26.200000000000003,"d":"26.2"},{"$f":"IF(B103=\"\",\"\",IFERROR(_xlfn.XLOOKUP(ROUND(B103,1),MetricIncrementalData[System Increment],_xlfn.XLOOKUP('Metric Incremental Crate'!$R$3,MetricIncrementalData[#Headers],MetricIncrementalData[]),,1),0))","v":{"v":0.005399999999999999,"d":"0.0054"}},{"v":0.567,"d":"0.5670"},{"$f":"IF(B103=\"\",\"\",IFERROR(_xlfn.XLOOKUP(ROUND(B103,1),MetricIncrementalData[System Increment],_xlfn.XLOOKUP(Metric_Incremental_Data_Target_Column,MetricIncrementalData[#Headers],MetricIncrementalData[]),,1),0))","v":{"v":0.005625,"d":"0.0056"}},{"$f":"IF(B103=\"\",\"\",IF(B104=\"\",((((B103-0)/100)*Metric_Module_Square_Foot_Area)-'Cumulative Volumes Metric'!E103)*Metric_Stone_Void_Percentage,((((B103-B104)/100)*Metric_Module_Square_Foot_Area)-'Cumulative Volumes Metric'!E103)*Metric_Stone_Void_Percentage))","v":{"v":0,"d":"0.0000"}},{"v":0,"d":"0.00"},{"$f":"IF(B103=\"\",\"\",((Metric_System_Area_Input-Metric_Number_Of_Stacks*_xlfn.XLOOKUP(Metric_Layers,CrateData[Layer],CrateData[Surface Area (m2)]))*((B103-IF(B104=\"\",0,B104))/100))*Metric_Stone_Void_Percentage)","v":{"v":0.00375,"d":"0.00"}},{"v":0.00375,"d":"0.00"},{"v":0.57075,"d":"0.57"},{"$f":"IF(B103=\"\",\"\",SUM(J103:$J$563))","v":{"v":9.926250000000003,"d":"9.93"}},100.262,{"$nulls":9},100.262,null,{"v":0.25399999999999934,"d":"0.25"},0.25399999999999934,{"v":57.074999999970835,"d":"57.075"},null,1,{"$f":"IF($AU$21=\"INVERT\",Y103,IF(AC102>=$Z$12,\"\",IF(Y102=\"\",\"\",INDEX($Y$18:$Y$227,$AB$17-ROWS($Y$18:$Y102)))))","v":""},"","","",{"$nulls":26},{"$f":"IF($AU$21=\"INVERT\",Y103,IF(AC102>=$Z$12,\"\",IF(Y102=\"\",\"\",INDEX($Y$18:$Y$227,$AB$17-ROWS($Y$18:$Y102)))))","v":""},"",{"$f":"IF(AE102=\"\",\"\",\n    IF($AU$21=\"TYP\",\n       IF(Z102=\"\",\"\", INDEX($Z$18:$Z$227, $AB$17-ROWS($Z$18:$Z102))),\n       IF($AU$21=\"INVERT\",Z103, \"\")\n    )\n)","v":""},"",null,{"$f":"IF(BL102>=$Z$12,\"\",IF(Y102=\"\",\"\",INDEX($Y$18:$Y$227,$AB$17-ROWS($Y$18:$Y102))))","v":{"v":0.8539999999999999,"d":"0.85"}},{"$f":"IF(#REF!=\"\",\"\",#REF!/43560)","v":{"$error":"#REF!"}},{"$f":"#REF!","v":{"$error":"#REF!"}}]
[104,{"v":25.200000000000003,"d":"25.2"},{"$f":"IF(B104=\"\",\"\",IFERROR(_xlfn.XLOOKUP(ROUND(B104,1),MetricIncrementalData[System Increment],_xlfn.XLOOKUP('Metric Incremental Crate'!$R$3,MetricIncrementalData[#Headers],MetricIncrementalData[]),,1),0))","v":{"v":0.005399999999999999,"d":"0.0054"}},{"v":0.567,"d":"0.5670"},{"$f":"IF(B104=\"\",\"\",IFERROR(_xlfn.XLOOKUP(ROUND(B104,1),MetricIncrementalData[System Increment],_xlfn.XLOOKUP(Metric_Incremental_Data_Target_Column,MetricIncrementalData[#Headers],MetricIncrementalData[]),,1),0))","v":{"v":0.005625,"d":"0.0056"}},{"$f":"IF(B104=\"\",\"\",IF(B105=\"\",((((B104-0)/100)*Metric_Module_Square_Foot_Area)-'Cumulative Volumes Metric'!E104)*Metric_Stone_Void_Percentage,((((B104-B105)/100)*Metric_Module_Square_Foot_Area)-'Cumulative Volumes Metric'!E104)*Metric_Stone_Void_Percentage))","v":{"v":0,"d":"0.0000"}},{"v":0,"d":"0.00"},{"$f":"IF(B104=\"\",\"\",((Metric_System_Area_Input-Metric_Number_Of_Stacks*_xlfn.XLOOKUP(Metric_Layers,CrateData[Layer],CrateData[Surface Area (m2)]))*((B104-IF(B105=\"\",0,B105))/100))*Metric_Stone_Void_Percentage)","v":{"v":0.00375,"d":"0.00"}},{"v":0.00375,"d":"0.00"},{"v":0.57075,"d":"0.57"},{"$f":"IF(B104=\"\",\"\",SUM(J104:$J$563))","v":{"v":9.355500000000003,"d":"9.36"}},100.252,{"$nulls":9},100.252,null,{"v":0.24399999999999933,"d":"0.24"},0.24399999999999933,{"v":57.07500000005194,"d":"57.075"},null,1,{"$f":"IF($AU$21=\"INVERT\",Y104,IF(AC103>=$Z$12,\"\",IF(Y103=\"\",\"\",INDEX($Y$18:$Y$227,$AB$17-ROWS($Y$18:$Y103)))))","v":""},"","","",{"$nulls":26},{"$f":"IF($AU$21=\"INVERT\",Y104,IF(AC103>=$Z$12,\"\",IF(Y103=\"\",\"\",INDEX($Y$18:$Y$227,$AB$17-ROWS($Y$18:$Y103)))))","v":""},"",{"$f":"IF(AE103=\"\",\"\",\n    IF($AU$21=\"TYP\",\n       IF(Z103=\"\",\"\", INDEX($Z$18:$Z$227, $AB$17-ROWS($Z$18:$Z103))),\n       IF($AU$21=\"INVERT\",Z104, \"\")\n    )\n)","v":""},"",null,{"$f":"IF(BL103>=$Z$12,\"\",IF(Y103=\"\",\"\",INDEX($Y$18:$Y$227,$AB$17-ROWS($Y$18:$Y103))))","v":{"v":0.8639999999999999,"d":"0.86"}},{"$f":"IF(#REF!=\"\",\"\",#REF!/43560)","v":{"$error":"#REF!"}},{"$f":"#REF!","v":{"$error":"#REF!"}}]
[105,{"v":24.200000000000003,"d":"24.2"},{"$f":"IF(B105=\"\",\"\",IFERROR(_xlfn.XLOOKUP(ROUND(B105,1),MetricIncrementalData[System Increment],_xlfn.XLOOKUP('Metric Incremental Crate'!$R$3,MetricIncrementalData[#Headers],MetricIncrementalData[]),,1),0))","v":{"v":0.005399999999999999,"d":"0.0054"}},{"v":0.567,"d":"0.5670"},{"$f":"IF(B105=\"\",\"\",IFERROR(_xlfn.XLOOKUP(ROUND(B105,1),MetricIncrementalData[System Increment],_xlfn.XLOOKUP(Metric_Incremental_Data_Target_Column,MetricIncrementalData[#Headers],MetricIncrementalData[]),,1),0))","v":{"v":0.005625,"d":"0.0056"}},{"$f":"IF(B105=\"\",\"\",IF(B106=\"\",((((B105-0)/100)*Metric_Module_Square_Foot_Area)-'Cumulative Volumes Metric'!E105)*Metric_Stone_Void_Percentage,((((B105-B106)/100)*Metric_Module_Square_Foot_Area)-'Cumulative Volumes Metric'!E105)*Metric_Stone_Void_Percentage))","v":{"v":0,"d":"0.0000"}},{"v":0,"d":"0.00"},{"$f":"IF(B105=\"\",\"\",((Metric_System_Area_Input-Metric_Number_Of_Stacks*_xlfn.XLOOKUP(Metric_Layers,CrateData[Layer],CrateData[Surface Area (m2)]))*((B105-IF(B106=\"\",0,B106))/100))*Metric_Stone_Void_Percentage)","v":{"v":0.00375,"d":"0.00"}},{"v":0.00375,"d":"0.00"},{"v":0.57075,"d":"0.57"},{"$f":"IF(B105=\"\",\"\",SUM(J105:$J$563))","v":{"v":8.784750000000003,"d":"8.78"}},100.242,{"$nulls":9},100.242,null,{"v":0.23399999999999932,"d":"0.23"},0.23399999999999932,{"v":57.07499999997066,"d":"57.075"},null,1,{"$f":"IF($AU$21=\"INVERT\",Y105,IF(AC104>=$Z$12,\"\",IF(Y104=\"\",\"\",INDEX($Y$18:$Y$227,$AB$17-ROWS($Y$18:$Y104)))))","v":""},"","","",{"$nulls":26},{"$f":"IF($AU$21=\"INVERT\",Y105,IF(AC104>=$Z$12,\"\",IF(Y104=\"\",\"\",INDEX($Y$18:$Y$227,$AB$17-ROWS($Y$18:$Y104)))))","v":""},"",{"$f":"IF(AE104=\"\",\"\",\n    IF($AU$21=\"TYP\",\n       IF(Z104=\"\",\"\", INDEX($Z$18:$Z$227, $AB$17-ROWS($Z$18:$Z104))),\n       IF($AU$21=\"INVERT\",Z105, \"\")\n    )\n)","v":""},"",null,{"$f":"IF(BL104>=$Z$12,\"\",IF(Y104=\"\",\"\",INDEX($Y$18:$Y$227,$AB$17-ROWS($Y$18:$Y104))))","v":{"v":0.8739999999999999,"d":"0.87"}},{"$f":"IF(#REF!=\"\",\"\",#REF!/43560)","v":{"$error":"#REF!"}},{"$f":"#REF!","v":{"$error":"#REF!"}}]
[106,{"v":23.200000000000003,"d":"23.2"},{"$f":"IF(B106=\"\",\"\",IFERROR(_xlfn.XLOOKUP(ROUND(B106,1),MetricIncrementalData[System Increment],_xlfn.XLOOKUP('Metric Incremental Crate'!$R$3,MetricIncrementalData[#Headers],MetricIncrementalData[]),,1),0))","v":{"v":0.005399999999999999,"d":"0.0054"}},{"v":0.567,"d":"0.5670"},{"$f":"IF(B106=\"\",\"\",IFERROR(_xlfn.XLOOKUP(ROUND(B106,1),MetricIncrementalData[System Increment],_xlfn.XLOOKUP(Metric_Incremental_Data_Target_Column,MetricIncrementalData[#Headers],MetricIncrementalData[]),,1),0))","v":{"v":0.005625,"d":"0.0056"}},{"$f":"IF(B106=\"\",\"\",IF(B107=\"\",((((B106-0)/100)*Metric_Module_Square_Foot_Area)-'Cumulative Volumes Metric'!E106)*Metric_Stone_Void_Percentage,((((B106-B107)/100)*Metric_Module_Square_Foot_Area)-'Cumulative Volumes Metric'!E106)*Metric_Stone_Void_Percentage))","v":{"v":0,"d":"0.0000"}},{"v":0,"d":"0.00"},{"$f":"IF(B106=\"\",\"\",((Metric_System_Area_Input-Metric_Number_Of_Stacks*_xlfn.XLOOKUP(Metric_Layers,CrateData[Layer],CrateData[Surface Area (m2)]))*((B106-IF(B107=\"\",0,B107))/100))*Metric_Stone_Void_Percentage)","v":{"v":0.00375,"d":"0.00"}},{"v":0.00375,"d":"0.00"},{"v":0.57075,"d":"0.57"},{"$f":"IF(B106=\"\",\"\",SUM(J106:$J$563))","v":{"v":8.214000000000004,"d":"8.21"}},100.232,{"$nulls":9},100.232,null,{"v":0.2239999999999993,"d":"0.22"},0.2239999999999993,{"v":57.07499999997092,"d":"57.075"},null,1,{"$f":"IF($AU$21=\"INVERT\",Y106,IF(AC105>=$Z$12,\"\",IF(Y105=\"\",\"\",INDEX($Y$18:$Y$227,$AB$17-ROWS($Y$18:$Y105)))))","v":""},"","","",{"$nulls":26},{"$f":"IF($AU$21=\"INVERT\",Y106,IF(AC105>=$Z$12,\"\",IF(Y105=\"\",\"\",INDEX($Y$18:$Y$227,$AB$17-ROWS($Y$18:$Y105)))))","v":""},"",{"$f":"IF(AE105=\"\",\"\",\n    IF($AU$21=\"TYP\",\n       IF(Z105=\"\",\"\", INDEX($Z$18:$Z$227, $AB$17-ROWS($Z$18:$Z105))),\n       IF($AU$21=\"INVERT\",Z106, \"\")\n    )\n)","v":""},"",null,{"$f":"IF(BL105>=$Z$12,\"\",IF(Y105=\"\",\"\",INDEX($Y$18:$Y$227,$AB$17-ROWS($Y$18:$Y105))))","v":{"v":0.8839999999999999,"d":"0.88"}},{"$f":"IF(#REF!=\"\",\"\",#REF!/43560)","v":{"$error":"#REF!"}},{"$f":"#REF!","v":{"$error":"#REF!"}}]
[107,{"v":22.200000000000003,"d":"22.2"},{"$f":"IF(B107=\"\",\"\",IFERROR(_xlfn.XLOOKUP(ROUND(B107,1),MetricIncrementalData[System Increment],_xlfn.XLOOKUP('Metric Incremental Crate'!$R$3,MetricIncrementalData[#Headers],MetricIncrementalData[]),,1),0))","v":{"v":0.005399999999999999,"d":"0.0054"}},{"v":0.567,"d":"0.5670"},{"$f":"IF(B107=\"\",\"\",IFERROR(_xlfn.XLOOKUP(ROUND(B107,1),MetricIncrementalData[System Increment],_xlfn.XLOOKUP(Metric_Incremental_Data_Target_Column,MetricIncrementalData[#Headers],MetricIncrementalData[]),,1),0))","v":{"v":0.005625,"d":"0.0056"}},{"$f":"IF(B107=\"\",\"\",IF(B108=\"\",((((B107-0)/100)*Metric_Module_Square_Foot_Area)-'Cumulative Volumes Metric'!E107)*Metric_Stone_Void_Percentage,((((B107-B108)/100)*Metric_Module_Square_Foot_Area)-'Cumulative Volumes Metric'!E107)*Metric_Stone_Void_Percentage))","v":{"v":0,"d":"0.0000"}},{"v":0,"d":"0.00"},{"$f":"IF(B107=\"\",\"\",((Metric_System_Area_Input-Metric_Number_Of_Stacks*_xlfn.XLOOKUP(Metric_Layers,CrateData[Layer],CrateData[Surface Area (m2)]))*((B107-IF(B108=\"\",0,B108))/100))*Metric_Stone_Void_Percentage)","v":{"v":0.00375,"d":"0.00"}},{"v":0.00375,"d":"0.00"},{"v":0.57075,"d":"0.57"},{"$f":"IF(B107=\"\",\"\",SUM(J107:$J$563))","v":{"v":7.643250000000003,"d":"7.64"}},100.222,{"$nulls":9},100.222,null,{"v":0.2139999999999993,"d":"0.21"},0.2139999999999993,{"v":57.07500000005194,"d":"57.075"},null,1,{"$f":"IF($AU$21=\"INVERT\",Y107,IF(AC106>=$Z$12,\"\",IF(Y106=\"\",\"\",INDEX($Y$18:$Y$227,$AB$17-ROWS($Y$18:$Y106)))))","v":""},"","","",{"$nulls":26},{"$f":"IF($AU$21=\"INVERT\",Y107,IF(AC106>=$Z$12,\"\",IF(Y106=\"\",\"\",INDEX($Y$18:$Y$227,$AB$17-ROWS($Y$18:$Y106)))))","v":""},"",{"$f":"IF(AE106=\"\",\"\",\n    IF($AU$21=\"TYP\",\n       IF(Z106=\"\",\"\", INDEX($Z$18:$Z$227, $AB$17-ROWS($Z$18:$Z106))),\n       IF($AU$21=\"INVERT\",Z107, \"\")\n    )\n)","v":""},"",null,{"$f":"IF(BL106>=$Z$12,\"\",IF(Y106=\"\",\"\",INDEX($Y$18:$Y$227,$AB$17-ROWS($Y$18:$Y106))))","v":{"v":0.8939999999999999,"d":"0.89"}},{"$f":"IF(#REF!=\"\",\"\",#REF!/43560)","v":{"$error":"#REF!"}},{"$f":"#REF!","v":{"$error":"#REF!"}}]
[108,{"v":21.200000000000003,"d":"21.2"},{"$f":"IF(B108=\"\",\"\",IFERROR(_xlfn.XLOOKUP(ROUND(B108,1),MetricIncrementalData[System Increment],_xlfn.XLOOKUP('Metric Incremental Crate'!$R$3,MetricIncrementalData[#Headers],MetricIncrementalData[]),,1),0))","v":{"v":0.005399999999999999,"d":"0.0054"}},{"v":0.567,"d":"0.5670"},{"$f":"IF(B108=\"\",\"\",IFERROR(_xlfn.XLOOKUP(ROUND(B108,1),MetricIncrementalData[System Increment],_xlfn.XLOOKUP(Metric_Incremental_Data_Target_Column,MetricIncrementalData[#Headers],MetricIncrementalData[]),,1),0))","v":{"v":0.005625,"d":"0.0056"}},{"$f":"IF(B108=\"\",\"\",IF(B109=\"\",((((B108-0)/100)*Metric_Module_Square_Foot_Area)-'Cumulative Volumes Metric'!E108)*Metric_Stone_Void_Percentage,((((B108-B109)/100)*Metric_Module_Square_Foot_Area)-'Cumulative Volumes Metric'!E108)*Metric_Stone_Void_Percentage))","v":{"v":0,"d":"0.0000"}},{"v":0,"d":"0.00"},{"$f":"IF(B108=\"\",\"\",((Metric_System_Area_Input-Metric_Number_Of_Stacks*_xlfn.XLOOKUP(Metric_Layers,CrateData[Layer],CrateData[Surface Area (m2)]))*((B108-IF(B109=\"\",0,B109))/100))*Metric_Stone_Void_Percentage)","v":{"v":0.00375,"d":"0.00"}},{"v":0.00375,"d":"0.00"},{"v":0.57075,"d":"0.57"},{"$f":"IF(B108=\"\",\"\",SUM(J108:$J$563))","v":{"v":7.0725000000000025,"d":"7.07"}},100.212,{"$nulls":9},100.212,null,{"v":0.2039999999999993,"d":"0.20"},0.2039999999999993,{"v":57.07499999997074,"d":"57.075"},null,1,{"$f":"IF($AU$21=\"INVERT\",Y108,IF(AC107>=$Z$12,\"\",IF(Y107=\"\",\"\",INDEX($Y$18:$Y$227,$AB$17-ROWS($Y$18:$Y107)))))","v":""},"","","",{"$nulls":26},{"$f":"IF($AU$21=\"INVERT\",Y108,IF(AC107>=$Z$12,\"\",IF(Y107=\"\",\"\",INDEX($Y$18:$Y$227,$AB$17-ROWS($Y$18:$Y107)))))","v":""},"",{"$f":"IF(AE107=\"\",\"\",\n    IF($AU$21=\"TYP\",\n       IF(Z107=\"\",\"\", INDEX($Z$18:$Z$227, $AB$17-ROWS($Z$18:$Z107))),\n       IF($AU$21=\"INVERT\",Z108, \"\")\n    )\n)","v":""},"",null,{"$f":"IF(BL107>=$Z$12,\"\",IF(Y107=\"\",\"\",INDEX($Y$18:$Y$227,$AB$17-ROWS($Y$18:$Y107))))","v":{"v":0.9039999999999999,"d":"0.90"}},{"$f":"IF(#REF!=\"\",\"\",#REF!/43560)","v":{"$error":"#REF!"}},{"$f":"#REF!","v":{"$error":"#REF!"}}]
[109,{"v":20.200000000000003,"d":"20.2"},{"$f":"IF(B109=\"\",\"\",IFERROR(_xlfn.XLOOKUP(ROUND(B109,1),MetricIncrementalData[System Increment],_xlfn.XLOOKUP('Metric Incremental Crate'!$R$3,MetricIncrementalData[#Headers],MetricIncrementalData[]),,1),0))","v":{"v":0.005399999999999999,"d":"0.0054"}},{"v":0.567,"d":"0.5670"},{"$f":"IF(B109=\"\",\"\",IFERROR(_xlfn.XLOOKUP(ROUND(B109,1),MetricIncrementalData[System Increment],_xlfn.XLOOKUP(Metric_Incremental_Data_Target_Column,MetricIncrementalData[#Headers],MetricIncrementalData[]),,1),0))","v":{"v":0.005625,"d":"0.0056"}},{"$f":"IF(B109=\"\",\"\",IF(B110=\"\",((((B109-0)/100)*Metric_Module_Square_Foot_Area)-'Cumulative Volumes Metric'!E109)*Metric_Stone_Void_Percentage,((((B109-B110)/100)*Metric_Module_Square_Foot_Area)-'Cumulative Volumes Metric'!E109)*Metric_Stone_Void_Percentage))","v":{"v":0,"d":"0.0000"}},{"v":0,"d":"0.00"},{"$f":"IF(B109=\"\",\"\",((Metric_System_Area_Input-Metric_Number_Of_Stacks*_xlfn.XLOOKUP(Metric_Layers,CrateData[Layer],CrateData[Surface Area (m2)]))*((B109-IF(B110=\"\",0,B110))/100))*Metric_Stone_Void_Percentage)","v":{"v":0.00375,"d":"0.00"}},{"v":0.00375,"d":"0.00"},{"v":0.57075,"d":"0.57"},{"$f":"IF(B109=\"\",\"\",SUM(J109:$J$563))","v":{"v":6.501750000000003,"d":"6.50"}},100.202,{"$nulls":9},100.202,null,{"v":0.19399999999999928,"d":"0.19"},0.19399999999999928,{"v":57.074999999970835,"d":"57.075"},null,1,{"$f":"IF($AU$21=\"INVERT\",Y109,IF(AC108>=$Z$12,\"\",IF(Y108=\"\",\"\",INDEX($Y$18:$Y$227,$AB$17-ROWS($Y$18:$Y108)))))","v":""},"","","",{"$nulls":26},{"$f":"IF($AU$21=\"INVERT\",Y109,IF(AC108>=$Z$12,\"\",IF(Y108=\"\",\"\",INDEX($Y$18:$Y$227,$AB$17-ROWS($Y$18:$Y108)))))","v":""},"",{"$f":"IF(AE108=\"\",\"\",\n    IF($AU$21=\"TYP\",\n       IF(Z108=\"\",\"\", INDEX($Z$18:$Z$227, $AB$17-ROWS($Z$18:$Z108))),\n       IF($AU$21=\"INVERT\",Z109, \"\")\n    )\n)","v":""},"",null,{"$f":"IF(BL108>=$Z$12,\"\",IF(Y108=\"\",\"\",INDEX($Y$18:$Y$227,$AB$17-ROWS($Y$18:$Y108))))","v":{"v":0.9139999999999999,"d":"0.91"}},{"$f":"IF(#REF!=\"\",\"\",#REF!/43560)","v":{"$error":"#REF!"}},{"$f":"#REF!","v":{"$error":"#REF!"}}]
[110,{"v":19.200000000000003,"d":"19.2"},{"$f":"IF(B110=\"\",\"\",IFERROR(_xlfn.XLOOKUP(ROUND(B110,1),MetricIncrementalData[System Increment],_xlfn.XLOOKUP('Metric Incremental Crate'!$R$3,MetricIncrementalData[#Headers],MetricIncrementalData[]),,1),0))","v":{"v":0.005399999999999999,"d":"0.0054"}},{"v":0.567,"d":"0.5670"},{"$f":"IF(B110=\"\",\"\",IFERROR(_xlfn.XLOOKUP(ROUND(B110,1),MetricIncrementalData[System Increment],_xlfn.XLOOKUP(Metric_Incremental_Data_Target_Column,MetricIncrementalData[#Headers],MetricIncrementalData[]),,1),0))","v":{"v":0.005625,"d":"0.0056"}},{"$f":"IF(B110=\"\",\"\",IF(B111=\"\",((((B110-0)/100)*Metric_Module_Square_Foot_Area)-'Cumulative Volumes Metric'!E110)*Metric_Stone_Void_Percentage,((((B110-B111)/100)*Metric_Module_Square_Foot_Area)-'Cumulative Volumes Metric'!E110)*Metric_Stone_Void_Percentage))","v":{"v":0,"d":"0.0000"}},{"v":0,"d":"0.00"},{"$f":"IF(B110=\"\",\"\",((Metric_System_Area_Input-Metric_Number_Of_Stacks*_xlfn.XLOOKUP(Metric_Layers,CrateData[Layer],CrateData[Surface Area (m2)]))*((B110-IF(B111=\"\",0,B111))/100))*Metric_Stone_Void_Percentage)","v":{"v":0.00375,"d":"0.00"}},{"v":0.00375,"d":"0.00"},{"v":0.57075,"d":"0.57"},{"$f":"IF(B110=\"\",\"\",SUM(J110:$J$563))","v":{"v":5.931000000000003,"d":"5.93"}},100.192,{"$nulls":9},100.192,null,{"v":0.18399999999999928,"d":"0.18"},0.18399999999999928,{"v":57.07500000005194,"d":"57.075"},null,1,{"$f":"IF($AU$21=\"INVERT\",Y110,IF(AC109>=$Z$12,\"\",IF(Y109=\"\",\"\",INDEX($Y$18:$Y$227,$AB$17-ROWS($Y$18:$Y109)))))","v":""},"","","",{"$nulls":26},{"$f":"IF($AU$21=\"INVERT\",Y110,IF(AC109>=$Z$12,\"\",IF(Y109=\"\",\"\",INDEX($Y$18:$Y$227,$AB$17-ROWS($Y$18:$Y109)))))","v":""},"",{"$f":"IF(AE109=\"\",\"\",\n    IF($AU$21=\"TYP\",\n       IF(Z109=\"\",\"\", INDEX($Z$18:$Z$227, $AB$17-ROWS($Z$18:$Z109))),\n       IF($AU$21=\"INVERT\",Z110, \"\")\n    )\n)","v":""},"",null,{"$f":"IF(BL109>=$Z$12,\"\",IF(Y109=\"\",\"\",INDEX($Y$18:$Y$227,$AB$17-ROWS($Y$18:$Y109))))","v":{"v":0.9239999999999999,"d":"0.92"}},{"$f":"IF(#REF!=\"\",\"\",#REF!/43560)","v":{"$error":"#REF!"}},{"$f":"#REF!","v":{"$error":"#REF!"}}]
[111,{"v":18.200000000000003,"d":"18.2"},{"$f":"IF(B111=\"\",\"\",IFERROR(_xlfn.XLOOKUP(ROUND(B111,1),MetricIncrementalData[System Increment],_xlfn.XLOOKUP('Metric Incremental Crate'!$R$3,MetricIncrementalData[#Headers],MetricIncrementalData[]),,1),0))","v":{"v":0.005399999999999999,"d":"0.0054"}},{"v":0.567,"d":"0.5670"},{"$f":"IF(B111=\"\",\"\",IFERROR(_xlfn.XLOOKUP(ROUND(B111,1),MetricIncrementalData[System Increment],_xlfn.XLOOKUP(Metric_Incremental_Data_Target_Column,MetricIncrementalData[#Headers],MetricIncrementalData[]),,1),0))","v":{"v":0.005625,"d":"0.0056"}},{"$f":"IF(B111=\"\",\"\",IF(B112=\"\",((((B111-0)/100)*Metric_Module_Square_Foot_Area)-'Cumulative Volumes Metric'!E111)*Metric_Stone_Void_Percentage,((((B111-B112)/100)*Metric_Module_Square_Foot_Area)-'Cumulative Volumes Metric'!E111)*Metric_Stone_Void_Percentage))","v":{"v":0,"d":"0.0000"}},{"v":0,"d":"0.00"},{"$f":"IF(B111=\"\",\"\",((Metric_System_Area_Input-Metric_Number_Of_Stacks*_xlfn.XLOOKUP(Metric_Layers,CrateData[Layer],CrateData[Surface Area (m2)]))*((B111-IF(B112=\"\",0,B112))/100))*Metric_Stone_Void_Percentage)","v":{"v":0.00375,"d":"0.00"}},{"v":0.00375,"d":"0.00"},{"v":0.57075,"d":"0.57"},{"$f":"IF(B111=\"\",\"\",SUM(J111:$J$563))","v":{"v":5.360250000000002,"d":"5.36"}},100.182,{"$nulls":9},100.182,null,{"v":0.17399999999999927,"d":"0.17"},0.17399999999999927,{"v":57.074999999970835,"d":"57.075"},null,1,{"$f":"IF($AU$21=\"INVERT\",Y111,IF(AC110>=$Z$12,\"\",IF(Y110=\"\",\"\",INDEX($Y$18:$Y$227,$AB$17-ROWS($Y$18:$Y110)))))","v":""},"","","",{"$nulls":26},{"$f":"IF($AU$21=\"INVERT\",Y111,IF(AC110>=$Z$12,\"\",IF(Y110=\"\",\"\",INDEX($Y$18:$Y$227,$AB$17-ROWS($Y$18:$Y110)))))","v":""},"",{"$f":"IF(AE110=\"\",\"\",\n    IF($AU$21=\"TYP\",\n       IF(Z110=\"\",\"\", INDEX($Z$18:$Z$227, $AB$17-ROWS($Z$18:$Z110))),\n       IF($AU$21=\"INVERT\",Z111, \"\")\n    )\n)","v":""},"",null,{"$f":"IF(BL110>=$Z$12,\"\",IF(Y110=\"\",\"\",INDEX($Y$18:$Y$227,$AB$17-ROWS($Y$18:$Y110))))","v":{"v":0.9339999999999999,"d":"0.93"}},{"$f":"IF(#REF!=\"\",\"\",#REF!/43560)","v":{"$error":"#REF!"}},{"$f":"#REF!","v":{"$error":"#REF!"}}]
[112,{"v":17.200000000000003,"d":"17.2"},{"$f":"IF(B112=\"\",\"\",IFERROR(_xlfn.XLOOKUP(ROUND(B112,1),MetricIncrementalData[System Increment],_xlfn.XLOOKUP('Metric Incremental Crate'!$R$3,MetricIncrementalData[#Headers],MetricIncrementalData[]),,1),0))","v":{"v":0.005399999999999999,"d":"0.0054"}},{"v":0.567,"d":"0.5670"},{"$f":"IF(B112=\"\",\"\",IFERROR(_xlfn.XLOOKUP(ROUND(B112,1),MetricIncrementalData[System Increment],_xlfn.XLOOKUP(Metric_Incremental_Data_Target_Column,MetricIncrementalData[#Headers],MetricIncrementalData[]),,1),0))","v":{"v":0.005625,"d":"0.0056"}},{"$f":"IF(B112=\"\",\"\",IF(B113=\"\",((((B112-0)/100)*Metric_Module_Square_Foot_Area)-'Cumulative Volumes Metric'!E112)*Metric_Stone_Void_Percentage,((((B112-B113)/100)*Metric_Module_Square_Foot_Area)-'Cumulative Volumes Metric'!E112)*Metric_Stone_Void_Percentage))","v":{"v":0,"d":"0.0000"}},{"v":0,"d":"0.00"},{"$f":"IF(B112=\"\",\"\",((Metric_System_Area_Input-Metric_Number_Of_Stacks*_xlfn.XLOOKUP(Metric_Layers,CrateData[Layer],CrateData[Surface Area (m2)]))*((B112-IF(B113=\"\",0,B113))/100))*Metric_Stone_Void_Percentage)","v":{"v":0.00375,"d":"0.00"}},{"v":0.00375,"d":"0.00"},{"v":0.57075,"d":"0.57"},{"$f":"IF(B112=\"\",\"\",SUM(J112:$J$563))","v":{"v":4.789500000000002,"d":"4.79"}},100.172,{"$nulls":9},100.172,null,{"v":0.16399999999999926,"d":"0.16"},0.16399999999999926,{"v":57.07500000005194,"d":"57.075"},null,1,{"$f":"IF($AU$21=\"INVERT\",Y112,IF(AC111>=$Z$12,\"\",IF(Y111=\"\",\"\",INDEX($Y$18:$Y$227,$AB$17-ROWS($Y$18:$Y111)))))","v":""},"","","",{"$nulls":26},{"$f":"IF($AU$21=\"INVERT\",Y112,IF(AC111>=$Z$12,\"\",IF(Y111=\"\",\"\",INDEX($Y$18:$Y$227,$AB$17-ROWS($Y$18:$Y111)))))","v":""},"",{"$f":"IF(AE111=\"\",\"\",\n    IF($AU$21=\"TYP\",\n       IF(Z111=\"\",\"\", INDEX($Z$18:$Z$227, $AB$17-ROWS($Z$18:$Z111))),\n       IF($AU$21=\"INVERT\",Z112, \"\")\n    )\n)","v":""},"",null,{"$f":"IF(BL111>=$Z$12,\"\",IF(Y111=\"\",\"\",INDEX($Y$18:$Y$227,$AB$17-ROWS($Y$18:$Y111))))","v":{"v":0.944,"d":"0.94"}},{"$f":"IF(#REF!=\"\",\"\",#REF!/43560)","v":{"$error":"#REF!"}},{"$f":"#REF!","v":{"$error":"#REF!"}}]
[113,{"v":16.200000000000003,"d":"16.2"},{"$f":"IF(B113=\"\",\"\",IFERROR(_xlfn.XLOOKUP(ROUND(B113,1),MetricIncrementalData[System Increment],_xlfn.XLOOKUP('Metric Incremental Crate'!$R$3,MetricIncrementalData[#Headers],MetricIncrementalData[]),,1),0))","v":{"v":0.005399999999999999,"d":"0.0054"}},{"v":0.567,"d":"0.5670"},{"$f":"IF(B113=\"\",\"\",IFERROR(_xlfn.XLOOKUP(ROUND(B113,1),MetricIncrementalData[System Increment],_xlfn.XLOOKUP(Metric_Incremental_Data_Target_Column,MetricIncrementalData[#Headers],MetricIncrementalData[]),,1),0))","v":{"v":0.005625,"d":"0.0056"}},{"$f":"IF(B113=\"\",\"\",IF(B114=\"\",((((B113-0)/100)*Metric_Module_Square_Foot_Area)-'Cumulative Volumes Metric'!E113)*Metric_Stone_Void_Percentage,((((B113-B114)/100)*Metric_Module_Square_Foot_Area)-'Cumulative Volumes Metric'!E113)*Metric_Stone_Void_Percentage))","v":{"v":0,"d":"0.0000"}},{"v":0,"d":"0.00"},{"$f":"IF(B113=\"\",\"\",((Metric_System_Area_Input-Metric_Number_Of_Stacks*_xlfn.XLOOKUP(Metric_Layers,CrateData[Layer],CrateData[Surface Area (m2)]))*((B113-IF(B114=\"\",0,B114))/100))*Metric_Stone_Void_Percentage)","v":{"v":0.00375,"d":"0.00"}},{"v":0.00375,"d":"0.00"},{"v":0.57075,"d":"0.57"},{"$f":"IF(B113=\"\",\"\",SUM(J113:$J$563))","v":{"v":4.218750000000002,"d":"4.22"}},100.162,{"$nulls":9},100.162,null,{"v":0.15399999999999925,"d":"0.15"},0.15399999999999925,{"v":57.074999999970785,"d":"57.075"},null,1,{"$f":"IF($AU$21=\"INVERT\",Y113,IF(AC112>=$Z$12,\"\",IF(Y112=\"\",\"\",INDEX($Y$18:$Y$227,$AB$17-ROWS($Y$18:$Y112)))))","v":""},"","","",{"$nulls":26},{"$f":"IF($AU$21=\"INVERT\",Y113,IF(AC112>=$Z$12,\"\",IF(Y112=\"\",\"\",INDEX($Y$18:$Y$227,$AB$17-ROWS($Y$18:$Y112)))))","v":""},"",{"$f":"IF(AE112=\"\",\"\",\n    IF($AU$21=\"TYP\",\n       IF(Z112=\"\",\"\", INDEX($Z$18:$Z$227, $AB$17-ROWS($Z$18:$Z112))),\n       IF($AU$21=\"INVERT\",Z113, \"\")\n    )\n)","v":""},"",null,{"$f":"IF(BL112>=$Z$12,\"\",IF(Y112=\"\",\"\",INDEX($Y$18:$Y$227,$AB$17-ROWS($Y$18:$Y112))))","v":{"v":0.954,"d":"0.95"}},{"$f":"IF(#REF!=\"\",\"\",#REF!/43560)","v":{"$error":"#REF!"}},{"$f":"#REF!","v":{"$error":"#REF!"}}]
[114,{"v":15.200000000000003,"d":"15.2"},{"$f":"IF(B114=\"\",\"\",IFERROR(_xlfn.XLOOKUP(ROUND(B114,1),MetricIncrementalData[System Increment],_xlfn.XLOOKUP('Metric Incremental Crate'!$R$3,MetricIncrementalData[#Headers],MetricIncrementalData[]),,1),0))","v":{"v":0,"d":"0.0000"}},{"v":0,"d":"0.0000"},{"$f":"IF(B114=\"\",\"\",IFERROR(_xlfn.XLOOKUP(ROUND(B114,1),MetricIncrementalData[System Increment],_xlfn.XLOOKUP(Metric_Incremental_Data_Target_Column,MetricIncrementalData[#Headers],MetricIncrementalData[]),,1),0))","v":{"v":0,"d":"0.0000"}},{"$f":"IF(B114=\"\",\"\",IF(B115=\"\",((((B114-0)/100)*Metric_Module_Square_Foot_Area)-'Cumulative Volumes Metric'!E114)*Metric_Stone_Void_Percentage,((((B114-B115)/100)*Metric_Module_Square_Foot_Area)-'Cumulative Volumes Metric'!E114)*Metric_Stone_Void_Percentage))","v":{"v":0.00225,"d":"0.0023"}},{"v":0.23625,"d":"0.24"},{"$f":"IF(B114=\"\",\"\",((Metric_System_Area_Input-Metric_Number_Of_Stacks*_xlfn.XLOOKUP(Metric_Layers,CrateData[Layer],CrateData[Surface Area (m2)]))*((B114-IF(B115=\"\",0,B115))/100))*Metric_Stone_Void_Percentage)","v":{"v":0.00375,"d":"0.00"}},0.24,0.24,{"$f":"IF(B114=\"\",\"\",SUM(J114:$J$563))","v":{"v":3.648000000000002,"d":"3.65"}},100.152,{"$nulls":9},100.152,null,{"v":0.14399999999999924,"d":"0.14"},0.14399999999999924,{"v":23.999999999987743,"d":"24.000"},null,1,{"$f":"IF($AU$21=\"INVERT\",Y114,IF(AC113>=$Z$12,\"\",IF(Y113=\"\",\"\",INDEX($Y$18:$Y$227,$AB$17-ROWS($Y$18:$Y113)))))","v":""},"","","",{"$nulls":26},{"$f":"IF($AU$21=\"INVERT\",Y114,IF(AC113>=$Z$12,\"\",IF(Y113=\"\",\"\",INDEX($Y$18:$Y$227,$AB$17-ROWS($Y$18:$Y113)))))","v":""},"",{"$f":"IF(AE113=\"\",\"\",\n    IF($AU$21=\"TYP\",\n       IF(Z113=\"\",\"\", INDEX($Z$18:$Z$227, $AB$17-ROWS($Z$18:$Z113))),\n       IF($AU$21=\"INVERT\",Z114, \"\")\n    )\n)","v":""},"",null,{"$f":"IF(BL113>=$Z$12,\"\",IF(Y113=\"\",\"\",INDEX($Y$18:$Y$227,$AB$17-ROWS($Y$18:$Y113))))","v":{"v":0.964,"d":"0.96"}},{"$f":"IF(#REF!=\"\",\"\",#REF!/43560)","v":{"$error":"#REF!"}},{"$f":"#REF!","v":{"$error":"#REF!"}}]
[115,{"v":14.200000000000003,"d":"14.2"},{"$f":"IF(B115=\"\",\"\",IFERROR(_xlfn.XLOOKUP(ROUND(B115,1),MetricIncrementalData[System Increment],_xlfn.XLOOKUP('Metric Incremental Crate'!$R$3,MetricIncrementalData[#Headers],MetricIncrementalData[]),,1),0))","v":{"v":0,"d":"0.0000"}},{"v":0,"d":"0.0000"},{"$f":"IF(B115=\"\",\"\",IFERROR(_xlfn.XLOOKUP(ROUND(B115,1),MetricIncrementalData[System Increment],_xlfn.XLOOKUP(Metric_Incremental_Data_Target_Column,MetricIncrementalData[#Headers],MetricIncrementalData[]),,1),0))","v":{"v":0,"d":"0.0000"}},{"$f":"IF(B115=\"\",\"\",IF(B116=\"\",((((B115-0)/100)*Metric_Module_Square_Foot_Area)-'Cumulative Volumes Metric'!E115)*Metric_Stone_Void_Percentage,((((B115-B116)/100)*Metric_Module_Square_Foot_Area)-'Cumulative Volumes Metric'!E115)*Metric_Stone_Void_Percentage))","v":{"v":0.00225,"d":"0.0023"}},{"v":0.23625,"d":"0.24"},{"$f":"IF(B115=\"\",\"\",((Metric_System_Area_Input-Metric_Number_Of_Stacks*_xlfn.XLOOKUP(Metric_Layers,CrateData[Layer],CrateData[Surface Area (m2)]))*((B115-IF(B116=\"\",0,B116))/100))*Metric_Stone_Void_Percentage)","v":{"v":0.00375,"d":"0.00"}},0.24,0.24,{"$f":"IF(B115=\"\",\"\",SUM(J115:$J$563))","v":{"v":3.4080000000000017,"d":"3.41"}},100.142,{"$nulls":9},100.142,null,{"v":0.13399999999999923,"d":"0.13"},0.13399999999999923,{"v":24.00000000002185,"d":"24.000"},null,1,{"$f":"IF($AU$21=\"INVERT\",Y115,IF(AC114>=$Z$12,\"\",IF(Y114=\"\",\"\",INDEX($Y$18:$Y$227,$AB$17-ROWS($Y$18:$Y114)))))","v":""},"","","",{"$nulls":26},{"$f":"IF($AU$21=\"INVERT\",Y115,IF(AC114>=$Z$12,\"\",IF(Y114=\"\",\"\",INDEX($Y$18:$Y$227,$AB$17-ROWS($Y$18:$Y114)))))","v":""},"",{"$f":"IF(AE114=\"\",\"\",\n    IF($AU$21=\"TYP\",\n       IF(Z114=\"\",\"\", INDEX($Z$18:$Z$227, $AB$17-ROWS($Z$18:$Z114))),\n       IF($AU$21=\"INVERT\",Z115, \"\")\n    )\n)","v":""},"",null,{"$f":"IF(BL114>=$Z$12,\"\",IF(Y114=\"\",\"\",INDEX($Y$18:$Y$227,$AB$17-ROWS($Y$18:$Y114))))","v":{"v":0.974,"d":"0.97"}},{"$f":"IF(#REF!=\"\",\"\",#REF!/43560)","v":{"$error":"#REF!"}},{"$f":"#REF!","v":{"$error":"#REF!"}}]
[116,{"v":13.200000000000003,"d":"13.2"},{"$f":"IF(B116=\"\",\"\",IFERROR(_xlfn.XLOOKUP(ROUND(B116,1),MetricIncrementalData[System Increment],_xlfn.XLOOKUP('Metric Incremental Crate'!$R$3,MetricIncrementalData[#Headers],MetricIncrementalData[]),,1),0))","v":{"v":0,"d":"0.0000"}},{"v":0,"d":"0.0000"},{"$f":"IF(B116=\"\",\"\",IFERROR(_xlfn.XLOOKUP(ROUND(B116,1),MetricIncrementalData[System Increment],_xlfn.XLOOKUP(Metric_Incremental_Data_Target_Column,MetricIncrementalData[#Headers],MetricIncrementalData[]),,1),0))","v":{"v":0,"d":"0.0000"}},{"$f":"IF(B116=\"\",\"\",IF(B117=\"\",((((B116-0)/100)*Metric_Module_Square_Foot_Area)-'Cumulative Volumes Metric'!E116)*Metric_Stone_Void_Percentage,((((B116-B117)/100)*Metric_Module_Square_Foot_Area)-'Cumulative Volumes Metric'!E116)*Metric_Stone_Void_Percentage))","v":{"v":0.00225,"d":"0.0023"}},{"v":0.23625,"d":"0.24"},{"$f":"IF(B116=\"\",\"\",((Metric_System_Area_Input-Metric_Number_Of_Stacks*_xlfn.XLOOKUP(Metric_Layers,CrateData[Layer],CrateData[Surface Area (m2)]))*((B116-IF(B117=\"\",0,B117))/100))*Metric_Stone_Void_Percentage)","v":{"v":0.00375,"d":"0.00"}},0.24,0.24,{"$f":"IF(B116=\"\",\"\",SUM(J116:$J$563))","v":{"v":3.1680000000000015,"d":"3.17"}},100.132,{"$nulls":9},100.132,null,{"v":0.12399999999999924,"d":"0.12"},0.12399999999999924,{"v":23.999999999987743,"d":"24.000"},null,1,{"$f":"IF($AU$21=\"INVERT\",Y116,IF(AC115>=$Z$12,\"\",IF(Y115=\"\",\"\",INDEX($Y$18:$Y$227,$AB$17-ROWS($Y$18:$Y115)))))","v":""},"","","",{"$nulls":26},{"$f":"IF($AU$21=\"INVERT\",Y116,IF(AC115>=$Z$12,\"\",IF(Y115=\"\",\"\",INDEX($Y$18:$Y$227,$AB$17-ROWS($Y$18:$Y115)))))","v":""},"",{"$f":"IF(AE115=\"\",\"\",\n    IF($AU$21=\"TYP\",\n       IF(Z115=\"\",\"\", INDEX($Z$18:$Z$227, $AB$17-ROWS($Z$18:$Z115))),\n       IF($AU$21=\"INVERT\",Z116, \"\")\n    )\n)","v":""},"",null,{"$f":"IF(BL115>=$Z$12,\"\",IF(Y115=\"\",\"\",INDEX($Y$18:$Y$227,$AB$17-ROWS($Y$18:$Y115))))","v":{"v":0.984,"d":"0.98"}},{"$f":"IF(#REF!=\"\",\"\",#REF!/43560)","v":{"$error":"#REF!"}},{"$f":"#REF!","v":{"$error":"#REF!"}}]
[117,{"v":12.200000000000003,"d":"12.2"},{"$f":"IF(B117=\"\",\"\",IFERROR(_xlfn.XLOOKUP(ROUND(B117,1),MetricIncrementalData[System Increment],_xlfn.XLOOKUP('Metric Incremental Crate'!$R$3,MetricIncrementalData[#Headers],MetricIncrementalData[]),,1),0))","v":{"v":0,"d":"0.0000"}},{"v":0,"d":"0.0000"},{"$f":"IF(B117=\"\",\"\",IFERROR(_xlfn.XLOOKUP(ROUND(B117,1),MetricIncrementalData[System Increment],_xlfn.XLOOKUP(Metric_Incremental_Data_Target_Column,MetricIncrementalData[#Headers],MetricIncrementalData[]),,1),0))","v":{"v":0,"d":"0.0000"}},{"$f":"IF(B117=\"\",\"\",IF(B118=\"\",((((B117-0)/100)*Metric_Module_Square_Foot_Area)-'Cumulative Volumes Metric'!E117)*Metric_Stone_Void_Percentage,((((B117-B118)/100)*Metric_Module_Square_Foot_Area)-'Cumulative Volumes Metric'!E117)*Metric_Stone_Void_Percentage))","v":{"v":0.00225,"d":"0.0023"}},{"v":0.23625,"d":"0.24"},{"$f":"IF(B117=\"\",\"\",((Metric_System_Area_Input-Metric_Number_Of_Stacks*_xlfn.XLOOKUP(Metric_Layers,CrateData[Layer],CrateData[Surface Area (m2)]))*((B117-IF(B118=\"\",0,B118))/100))*Metric_Stone_Void_Percentage)","v":{"v":0.00375,"d":"0.00"}},0.24,0.24,{"$f":"IF(B117=\"\",\"\",SUM(J117:$J$563))","v":{"v":2.9280000000000013,"d":"2.93"}},100.122,{"$nulls":9},100.122,null,{"v":0.11399999999999924,"d":"0.11"},0.11399999999999924,{"v":23.999999999987743,"d":"24.000"},null,1,{"$f":"IF($AU$21=\"INVERT\",Y117,IF(AC116>=$Z$12,\"\",IF(Y116=\"\",\"\",INDEX($Y$18:$Y$227,$AB$17-ROWS($Y$18:$Y116)))))","v":""},"","","",{"$nulls":26},{"$f":"IF($AU$21=\"INVERT\",Y117,IF(AC116>=$Z$12,\"\",IF(Y116=\"\",\"\",INDEX($Y$18:$Y$227,$AB$17-ROWS($Y$18:$Y116)))))","v":""},"",{"$f":"IF(AE116=\"\",\"\",\n    IF($AU$21=\"TYP\",\n       IF(Z116=\"\",\"\", INDEX($Z$18:$Z$227, $AB$17-ROWS($Z$18:$Z116))),\n       IF($AU$21=\"INVERT\",Z117, \"\")\n    )\n)","v":""},"",null,{"$f":"IF(BL116>=$Z$12,\"\",IF(Y116=\"\",\"\",INDEX($Y$18:$Y$227,$AB$17-ROWS($Y$18:$Y116))))","v":{"v":0.994,"d":"0.99"}},{"$f":"IF(#REF!=\"\",\"\",#REF!/43560)","v":{"$error":"#REF!"}},{"$f":"#REF!","v":{"$error":"#REF!"}}]
[118,{"v":11.200000000000003,"d":"11.2"},{"$f":"IF(B118=\"\",\"\",IFERROR(_xlfn.XLOOKUP(ROUND(B118,1),MetricIncrementalData[System Increment],_xlfn.XLOOKUP('Metric Incremental Crate'!$R$3,MetricIncrementalData[#Headers],MetricIncrementalData[]),,1),0))","v":{"v":0,"d":"0.0000"}},{"v":0,"d":"0.0000"},{"$f":"IF(B118=\"\",\"\",IFERROR(_xlfn.XLOOKUP(ROUND(B118,1),MetricIncrementalData[System Increment],_xlfn.XLOOKUP(Metric_Incremental_Data_Target_Column,MetricIncrementalData[#Headers],MetricIncrementalData[]),,1),0))","v":{"v":0,"d":"0.0000"}},{"$f":"IF(B118=\"\",\"\",IF(B119=\"\",((((B118-0)/100)*Metric_Module_Square_Foot_Area)-'Cumulative Volumes Metric'!E118)*Metric_Stone_Void_Percentage,((((B118-B119)/100)*Metric_Module_Square_Foot_Area)-'Cumulative Volumes Metric'!E118)*Metric_Stone_Void_Percentage))","v":{"v":0.00225,"d":"0.0023"}},{"v":0.23625,"d":"0.24"},{"$f":"IF(B118=\"\",\"\",((Metric_System_Area_Input-Metric_Number_Of_Stacks*_xlfn.XLOOKUP(Metric_Layers,CrateData[Layer],CrateData[Surface Area (m2)]))*((B118-IF(B119=\"\",0,B119))/100))*Metric_Stone_Void_Percentage)","v":{"v":0.00375,"d":"0.00"}},0.24,0.24,{"$f":"IF(B118=\"\",\"\",SUM(J118:$J$563))","v":{"v":2.688000000000001,"d":"2.69"}},100.112,{"$nulls":9},100.112,null,{"v":0.10399999999999925,"d":"0.10"},0.10399999999999925,{"v":24.00000000002185,"d":"24.000"},null,1,{"$f":"IF($AU$21=\"INVERT\",Y118,IF(AC117>=$Z$12,\"\",IF(Y117=\"\",\"\",INDEX($Y$18:$Y$227,$AB$17-ROWS($Y$18:$Y117)))))","v":""},"","","",{"$nulls":26},{"$f":"IF($AU$21=\"INVERT\",Y118,IF(AC117>=$Z$12,\"\",IF(Y117=\"\",\"\",INDEX($Y$18:$Y$227,$AB$17-ROWS($Y$18:$Y117)))))","v":""},"",{"$f":"IF(AE117=\"\",\"\",\n    IF($AU$21=\"TYP\",\n       IF(Z117=\"\",\"\", INDEX($Z$18:$Z$227, $AB$17-ROWS($Z$18:$Z117))),\n       IF($AU$21=\"INVERT\",Z118, \"\")\n    )\n)","v":""},"",null,{"$f":"IF(BL117>=$Z$12,\"\",IF(Y117=\"\",\"\",INDEX($Y$18:$Y$227,$AB$17-ROWS($Y$18:$Y117))))","v":{"v":1.004,"d":"1.00"}},{"$f":"IF(#REF!=\"\",\"\",#REF!/43560)","v":{"$error":"#REF!"}},{"$f":"#REF!","v":{"$error":"#REF!"}}]
[119,{"v":10.200000000000003,"d":"10.2"},{"$f":"IF(B119=\"\",\"\",IFERROR(_xlfn.XLOOKUP(ROUND(B119,1),MetricIncrementalData[System Increment],_xlfn.XLOOKUP('Metric Incremental Crate'!$R$3,MetricIncrementalData[#Headers],MetricIncrementalData[]),,1),0))","v":{"v":0,"d":"0.0000"}},{"v":0,"d":"0.0000"},{"$f":"IF(B119=\"\",\"\",IFERROR(_xlfn.XLOOKUP(ROUND(B119,1),MetricIncrementalData[System Increment],_xlfn.XLOOKUP(Metric_Incremental_Data_Target_Column,MetricIncrementalData[#Headers],MetricIncrementalData[]),,1),0))","v":{"v":0,"d":"0.0000"}},{"$f":"IF(B119=\"\",\"\",IF(B120=\"\",((((B119-0)/100)*Metric_Module_Square_Foot_Area)-'Cumulative Volumes Metric'!E119)*Metric_Stone_Void_Percentage,((((B119-B120)/100)*Metric_Module_Square_Foot_Area)-'Cumulative Volumes Metric'!E119)*Metric_Stone_Void_Percentage))","v":{"v":0.00225,"d":"0.0023"}},{"v":0.23625,"d":"0.24"},{"$f":"IF(B119=\"\",\"\",((Metric_System_Area_Input-Metric_Number_Of_Stacks*_xlfn.XLOOKUP(Metric_Layers,CrateData[Layer],CrateData[Surface Area (m2)]))*((B119-IF(B120=\"\",0,B120))/100))*Metric_Stone_Void_Percentage)","v":{"v":0.00375,"d":"0.00"}},0.24,0.24,{"$f":"IF(B119=\"\",\"\",SUM(J119:$J$563))","v":{"v":2.448000000000001,"d":"2.45"}},100.102,{"$nulls":9},100.102,null,{"v":0.09399999999999925,"d":"0.09"},0.09399999999999925,{"v":23.999999999987743,"d":"24.000"},null,1,{"$f":"IF($AU$21=\"INVERT\",Y119,IF(AC118>=$Z$12,\"\",IF(Y118=\"\",\"\",INDEX($Y$18:$Y$227,$AB$17-ROWS($Y$18:$Y118)))))","v":""},"","","",{"$nulls":26},{"$f":"IF($AU$21=\"INVERT\",Y119,IF(AC118>=$Z$12,\"\",IF(Y118=\"\",\"\",INDEX($Y$18:$Y$227,$AB$17-ROWS($Y$18:$Y118)))))","v":""},"",{"$f":"IF(AE118=\"\",\"\",\n    IF($AU$21=\"TYP\",\n       IF(Z118=\"\",\"\", INDEX($Z$18:$Z$227, $AB$17-ROWS($Z$18:$Z118))),\n       IF($AU$21=\"INVERT\",Z119, \"\")\n    )\n)","v":""},"",null,{"$f":"IF(BL118>=$Z$12,\"\",IF(Y118=\"\",\"\",INDEX($Y$18:$Y$227,$AB$17-ROWS($Y$18:$Y118))))","v":{"v":1.014,"d":"1.01"}},{"$f":"IF(#REF!=\"\",\"\",#REF!/43560)","v":{"$error":"#REF!"}},{"$f":"#REF!","v":{"$error":"#REF!"}}]
[120,{"v":9.200000000000003,"d":"9.2"},{"$f":"IF(B120=\"\",\"\",IFERROR(_xlfn.XLOOKUP(ROUND(B120,1),MetricIncrementalData[System Increment],_xlfn.XLOOKUP('Metric Incremental Crate'!$R$3,MetricIncrementalData[#Headers],MetricIncrementalData[]),,1),0))","v":{"v":0,"d":"0.0000"}},{"v":0,"d":"0.0000"},{"$f":"IF(B120=\"\",\"\",IFERROR(_xlfn.XLOOKUP(ROUND(B120,1),MetricIncrementalData[System Increment],_xlfn.XLOOKUP(Metric_Incremental_Data_Target_Column,MetricIncrementalData[#Headers],MetricIncrementalData[]),,1),0))","v":{"v":0,"d":"0.0000"}},{"$f":"IF(B120=\"\",\"\",IF(B121=\"\",((((B120-0)/100)*Metric_Module_Square_Foot_Area)-'Cumulative Volumes Metric'!E120)*Metric_Stone_Void_Percentage,((((B120-B121)/100)*Metric_Module_Square_Foot_Area)-'Cumulative Volumes Metric'!E120)*Metric_Stone_Void_Percentage))","v":{"v":0.00225,"d":"0.0023"}},{"v":0.23625,"d":"0.24"},{"$f":"IF(B120=\"\",\"\",((Metric_System_Area_Input-Metric_Number_Of_Stacks*_xlfn.XLOOKUP(Metric_Layers,CrateData[Layer],CrateData[Surface Area (m2)]))*((B120-IF(B121=\"\",0,B121))/100))*Metric_Stone_Void_Percentage)","v":{"v":0.00375,"d":"0.00"}},0.24,0.24,{"$f":"IF(B120=\"\",\"\",SUM(J120:$J$563))","v":{"v":2.2080000000000006,"d":"2.21"}},100.092,{"$nulls":9},100.092,null,{"v":0.08399999999999926,"d":"0.08"},0.08399999999999926,{"v":23.999999999987722,"d":"24.000"},null,1,{"$f":"IF($AU$21=\"INVERT\",Y120,IF(AC119>=$Z$12,\"\",IF(Y119=\"\",\"\",INDEX($Y$18:$Y$227,$AB$17-ROWS($Y$18:$Y119)))))","v":""},"","","",{"$nulls":26},{"$f":"IF($AU$21=\"INVERT\",Y120,IF(AC119>=$Z$12,\"\",IF(Y119=\"\",\"\",INDEX($Y$18:$Y$227,$AB$17-ROWS($Y$18:$Y119)))))","v":""},"",{"$f":"IF(AE119=\"\",\"\",\n    IF($AU$21=\"TYP\",\n       IF(Z119=\"\",\"\", INDEX($Z$18:$Z$227, $AB$17-ROWS($Z$18:$Z119))),\n       IF($AU$21=\"INVERT\",Z120, \"\")\n    )\n)","v":""},"",null,{"$f":"IF(BL119>=$Z$12,\"\",IF(Y119=\"\",\"\",INDEX($Y$18:$Y$227,$AB$17-ROWS($Y$18:$Y119))))","v":{"v":1.024,"d":"1.02"}},{"$f":"IF(#REF!=\"\",\"\",#REF!/43560)","v":{"$error":"#REF!"}},{"$f":"#REF!","v":{"$error":"#REF!"}}]
[121,{"v":8.200000000000003,"d":"8.2"},{"$f":"IF(B121=\"\",\"\",IFERROR(_xlfn.XLOOKUP(ROUND(B121,1),MetricIncrementalData[System Increment],_xlfn.XLOOKUP('Metric Incremental Crate'!$R$3,MetricIncrementalData[#Headers],MetricIncrementalData[]),,1),0))","v":{"v":0,"d":"0.0000"}},{"v":0,"d":"0.0000"},{"$f":"IF(B121=\"\",\"\",IFERROR(_xlfn.XLOOKUP(ROUND(B121,1),MetricIncrementalData[System Increment],_xlfn.XLOOKUP(Metric_Incremental_Data_Target_Column,MetricIncrementalData[#Headers],MetricIncrementalData[]),,1),0))","v":{"v":0,"d":"0.0000"}},{"$f":"IF(B121=\"\",\"\",IF(B122=\"\",((((B121-0)/100)*Metric_Module_Square_Foot_Area)-'Cumulative Volumes Metric'!E121)*Metric_Stone_Void_Percentage,((((B121-B122)/100)*Metric_Module_Square_Foot_Area)-'Cumulative Volumes Metric'!E121)*Metric_Stone_Void_Percentage))","v":{"v":0.00225,"d":"0.0023"}},{"v":0.23625,"d":"0.24"},{"$f":"IF(B121=\"\",\"\",((Metric_System_Area_Input-Metric_Number_Of_Stacks*_xlfn.XLOOKUP(Metric_Layers,CrateData[Layer],CrateData[Surface Area (m2)]))*((B121-IF(B122=\"\",0,B122))/100))*Metric_Stone_Void_Percentage)","v":{"v":0.00375,"d":"0.00"}},0.24,0.24,{"$f":"IF(B121=\"\",\"\",SUM(J121:$J$563))","v":{"v":1.9680000000000006,"d":"1.97"}},100.082,{"$nulls":9},100.082,null,{"v":0.07399999999999926,"d":"0.07"},0.07399999999999926,{"v":24.000000000021828,"d":"24.000"},null,1,{"$f":"IF($AU$21=\"INVERT\",Y121,IF(AC120>=$Z$12,\"\",IF(Y120=\"\",\"\",INDEX($Y$18:$Y$227,$AB$17-ROWS($Y$18:$Y120)))))","v":""},"","","",{"$nulls":26},{"$f":"IF($AU$21=\"INVERT\",Y121,IF(AC120>=$Z$12,\"\",IF(Y120=\"\",\"\",INDEX($Y$18:$Y$227,$AB$17-ROWS($Y$18:$Y120)))))","v":""},"",{"$f":"IF(AE120=\"\",\"\",\n    IF($AU$21=\"TYP\",\n       IF(Z120=\"\",\"\", INDEX($Z$18:$Z$227, $AB$17-ROWS($Z$18:$Z120))),\n       IF($AU$21=\"INVERT\",Z121, \"\")\n    )\n)","v":""},"",null,{"$f":"IF(BL120>=$Z$12,\"\",IF(Y120=\"\",\"\",INDEX($Y$18:$Y$227,$AB$17-ROWS($Y$18:$Y120))))","v":{"v":1.034,"d":"1.03"}},{"$f":"IF(#REF!=\"\",\"\",#REF!/43560)","v":{"$error":"#REF!"}},{"$f":"#REF!","v":{"$error":"#REF!"}}]
[122,{"v":7.200000000000003,"d":"7.2"},{"$f":"IF(B122=\"\",\"\",IFERROR(_xlfn.XLOOKUP(ROUND(B122,1),MetricIncrementalData[System Increment],_xlfn.XLOOKUP('Metric Incremental Crate'!$R$3,MetricIncrementalData[#Headers],MetricIncrementalData[]),,1),0))","v":{"v":0,"d":"0.0000"}},{"v":0,"d":"0.0000"},{"$f":"IF(B122=\"\",\"\",IFERROR(_xlfn.XLOOKUP(ROUND(B122,1),MetricIncrementalData[System Increment],_xlfn.XLOOKUP(Metric_Incremental_Data_Target_Column,MetricIncrementalData[#Headers],MetricIncrementalData[]),,1),0))","v":{"v":0,"d":"0.0000"}},{"$f":"IF(B122=\"\",\"\",IF(B123=\"\",((((B122-0)/100)*Metric_Module_Square_Foot_Area)-'Cumulative Volumes Metric'!E122)*Metric_Stone_Void_Percentage,((((B122-B123)/100)*Metric_Module_Square_Foot_Area)-'Cumulative Volumes Metric'!E122)*Metric_Stone_Void_Percentage))","v":{"v":0.00225,"d":"0.0023"}},{"v":0.23625,"d":"0.24"},{"$f":"IF(B122=\"\",\"\",((Metric_System_Area_Input-Metric_Number_Of_Stacks*_xlfn.XLOOKUP(Metric_Layers,CrateData[Layer],CrateData[Surface Area (m2)]))*((B122-IF(B123=\"\",0,B123))/100))*Metric_Stone_Void_Percentage)","v":{"v":0.00375,"d":"0.00"}},0.24,0.24,{"$f":"IF(B122=\"\",\"\",SUM(J122:$J$563))","v":{"v":1.7280000000000006,"d":"1.73"}},100.072,{"$nulls":9},100.072,null,{"v":0.06399999999999927,"d":"0.06"},0.06399999999999927,{"v":23.999999999987722,"d":"24.000"},null,1,{"$f":"IF($AU$21=\"INVERT\",Y122,IF(AC121>=$Z$12,\"\",IF(Y121=\"\",\"\",INDEX($Y$18:$Y$227,$AB$17-ROWS($Y$18:$Y121)))))","v":""},"","","",{"$nulls":26},{"$f":"IF($AU$21=\"INVERT\",Y122,IF(AC121>=$Z$12,\"\",IF(Y121=\"\",\"\",INDEX($Y$18:$Y$227,$AB$17-ROWS($Y$18:$Y121)))))","v":""},"",{"$f":"IF(AE121=\"\",\"\",\n    IF($AU$21=\"TYP\",\n       IF(Z121=\"\",\"\", INDEX($Z$18:$Z$227, $AB$17-ROWS($Z$18:$Z121))),\n       IF($AU$21=\"INVERT\",Z122, \"\")\n    )\n)","v":""},"",null,{"$f":"IF(BL121>=$Z$12,\"\",IF(Y121=\"\",\"\",INDEX($Y$18:$Y$227,$AB$17-ROWS($Y$18:$Y121))))","v":{"v":1.044,"d":"1.04"}},{"$f":"IF(#REF!=\"\",\"\",#REF!/43560)","v":{"$error":"#REF!"}},{"$f":"#REF!","v":{"$error":"#REF!"}}]
[123,{"v":6.200000000000003,"d":"6.2"},{"$f":"IF(B123=\"\",\"\",IFERROR(_xlfn.XLOOKUP(ROUND(B123,1),MetricIncrementalData[System Increment],_xlfn.XLOOKUP('Metric Incremental Crate'!$R$3,MetricIncrementalData[#Headers],MetricIncrementalData[]),,1),0))","v":{"v":0,"d":"0.0000"}},{"v":0,"d":"0.0000"},{"$f":"IF(B123=\"\",\"\",IFERROR(_xlfn.XLOOKUP(ROUND(B123,1),MetricIncrementalData[System Increment],_xlfn.XLOOKUP(Metric_Incremental_Data_Target_Column,MetricIncrementalData[#Headers],MetricIncrementalData[]),,1),0))","v":{"v":0,"d":"0.0000"}},{"$f":"IF(B123=\"\",\"\",IF(B124=\"\",((((B123-0)/100)*Metric_Module_Square_Foot_Area)-'Cumulative Volumes Metric'!E123)*Metric_Stone_Void_Percentage,((((B123-B124)/100)*Metric_Module_Square_Foot_Area)-'Cumulative Volumes Metric'!E123)*Metric_Stone_Void_Percentage))","v":{"v":0.00225,"d":"0.0023"}},{"v":0.23625,"d":"0.24"},{"$f":"IF(B123=\"\",\"\",((Metric_System_Area_Input-Metric_Number_Of_Stacks*_xlfn.XLOOKUP(Metric_Layers,CrateData[Layer],CrateData[Surface Area (m2)]))*((B123-IF(B124=\"\",0,B124))/100))*Metric_Stone_Void_Percentage)","v":{"v":0.00375,"d":"0.00"}},0.24,0.24,{"$f":"IF(B123=\"\",\"\",SUM(J123:$J$563))","v":{"v":1.4880000000000007,"d":"1.49"}},100.062,{"$nulls":9},100.062,null,{"v":0.053999999999999264,"d":"0.05"},0.053999999999999264,{"v":24.000000000021828,"d":"24.000"},null,1,{"$f":"IF($AU$21=\"INVERT\",Y123,IF(AC122>=$Z$12,\"\",IF(Y122=\"\",\"\",INDEX($Y$18:$Y$227,$AB$17-ROWS($Y$18:$Y122)))))","v":""},"","","",{"$nulls":26},{"$f":"IF($AU$21=\"INVERT\",Y123,IF(AC122>=$Z$12,\"\",IF(Y122=\"\",\"\",INDEX($Y$18:$Y$227,$AB$17-ROWS($Y$18:$Y122)))))","v":""},"",{"$f":"IF(AE122=\"\",\"\",\n    IF($AU$21=\"TYP\",\n       IF(Z122=\"\",\"\", INDEX($Z$18:$Z$227, $AB$17-ROWS($Z$18:$Z122))),\n       IF($AU$21=\"INVERT\",Z123, \"\")\n    )\n)","v":""},"",null,{"$f":"IF(BL122>=$Z$12,\"\",IF(Y122=\"\",\"\",INDEX($Y$18:$Y$227,$AB$17-ROWS($Y$18:$Y122))))","v":{"v":1.054,"d":"1.05"}},{"$f":"IF(#REF!=\"\",\"\",#REF!/43560)","v":{"$error":"#REF!"}},{"$f":"#REF!","v":{"$error":"#REF!"}}]
[124,{"v":5.200000000000003,"d":"5.2"},{"$f":"IF(B124=\"\",\"\",IFERROR(_xlfn.XLOOKUP(ROUND(B124,1),MetricIncrementalData[System Increment],_xlfn.XLOOKUP('Metric Incremental Crate'!$R$3,MetricIncrementalData[#Headers],MetricIncrementalData[]),,1),0))","v":{"v":0,"d":"0.0000"}},{"v":0,"d":"0.0000"},{"$f":"IF(B124=\"\",\"\",IFERROR(_xlfn.XLOOKUP(ROUND(B124,1),MetricIncrementalData[System Increment],_xlfn.XLOOKUP(Metric_Incremental_Data_Target_Column,MetricIncrementalData[#Headers],MetricIncrementalData[]),,1),0))","v":{"v":0,"d":"0.0000"}},{"$f":"IF(B124=\"\",\"\",IF(B125=\"\",((((B124-0)/100)*Metric_Module_Square_Foot_Area)-'Cumulative Volumes Metric'!E124)*Metric_Stone_Void_Percentage,((((B124-B125)/100)*Metric_Module_Square_Foot_Area)-'Cumulative Volumes Metric'!E124)*Metric_Stone_Void_Percentage))","v":{"v":0.00225,"d":"0.0023"}},{"v":0.23625,"d":"0.24"},{"$f":"IF(B124=\"\",\"\",((Metric_System_Area_Input-Metric_Number_Of_Stacks*_xlfn.XLOOKUP(Metric_Layers,CrateData[Layer],CrateData[Surface Area (m2)]))*((B124-IF(B125=\"\",0,B125))/100))*Metric_Stone_Void_Percentage)","v":{"v":0.00375,"d":"0.00"}},0.24,0.24,{"$f":"IF(B124=\"\",\"\",SUM(J124:$J$563))","v":{"v":1.2480000000000007,"d":"1.25"}},100.052,{"$nulls":9},100.052,null,{"v":0.04399999999999926,"d":"0.04"},0.04399999999999926,{"v":23.999999999987722,"d":"24.000"},null,1,{"$f":"IF($AU$21=\"INVERT\",Y124,IF(AC123>=$Z$12,\"\",IF(Y123=\"\",\"\",INDEX($Y$18:$Y$227,$AB$17-ROWS($Y$18:$Y123)))))","v":""},"","","",{"$nulls":26},{"$f":"IF($AU$21=\"INVERT\",Y124,IF(AC123>=$Z$12,\"\",IF(Y123=\"\",\"\",INDEX($Y$18:$Y$227,$AB$17-ROWS($Y$18:$Y123)))))","v":""},"",{"$f":"IF(AE123=\"\",\"\",\n    IF($AU$21=\"TYP\",\n       IF(Z123=\"\",\"\", INDEX($Z$18:$Z$227, $AB$17-ROWS($Z$18:$Z123))),\n       IF($AU$21=\"INVERT\",Z124, \"\")\n    )\n)","v":""},"",null,{"$f":"IF(BL123>=$Z$12,\"\",IF(Y123=\"\",\"\",INDEX($Y$18:$Y$227,$AB$17-ROWS($Y$18:$Y123))))","v":{"v":1.064,"d":"1.06"}},{"$f":"IF(#REF!=\"\",\"\",#REF!/43560)","v":{"$error":"#REF!"}},{"$f":"#REF!","v":{"$error":"#REF!"}}]
[125,{"v":4.200000000000003,"d":"4.2"},{"$f":"IF(B125=\"\",\"\",IFERROR(_xlfn.XLOOKUP(ROUND(B125,1),MetricIncrementalData[System Increment],_xlfn.XLOOKUP('Metric Incremental Crate'!$R$3,MetricIncrementalData[#Headers],MetricIncrementalData[]),,1),0))","v":{"v":0,"d":"0.0000"}},{"v":0,"d":"0.0000"},{"$f":"IF(B125=\"\",\"\",IFERROR(_xlfn.XLOOKUP(ROUND(B125,1),MetricIncrementalData[System Increment],_xlfn.XLOOKUP(Metric_Incremental_Data_Target_Column,MetricIncrementalData[#Headers],MetricIncrementalData[]),,1),0))","v":{"v":0,"d":"0.0000"}},{"$f":"IF(B125=\"\",\"\",IF(B126=\"\",((((B125-0)/100)*Metric_Module_Square_Foot_Area)-'Cumulative Volumes Metric'!E125)*Metric_Stone_Void_Percentage,((((B125-B126)/100)*Metric_Module_Square_Foot_Area)-'Cumulative Volumes Metric'!E125)*Metric_Stone_Void_Percentage))","v":{"v":0.00225,"d":"0.0023"}},{"v":0.23625,"d":"0.24"},{"$f":"IF(B125=\"\",\"\",((Metric_System_Area_Input-Metric_Number_Of_Stacks*_xlfn.XLOOKUP(Metric_Layers,CrateData[Layer],CrateData[Surface Area (m2)]))*((B125-IF(B126=\"\",0,B126))/100))*Metric_Stone_Void_Percentage)","v":{"v":0.00375,"d":"0.00"}},0.24,0.24,{"$f":"IF(B125=\"\",\"\",SUM(J125:$J$563))","v":{"v":1.0080000000000007,"d":"1.01"}},100.042,{"$nulls":9},100.042,null,{"v":0.03399999999999926,"d":"0.03"},0.03399999999999926,{"v":23.999999999987722,"d":"24.000"},null,1,{"$f":"IF($AU$21=\"INVERT\",Y125,IF(AC124>=$Z$12,\"\",IF(Y124=\"\",\"\",INDEX($Y$18:$Y$227,$AB$17-ROWS($Y$18:$Y124)))))","v":""},"","","",{"$nulls":26},{"$f":"IF($AU$21=\"INVERT\",Y125,IF(AC124>=$Z$12,\"\",IF(Y124=\"\",\"\",INDEX($Y$18:$Y$227,$AB$17-ROWS($Y$18:$Y124)))))","v":""},"",{"$f":"IF(AE124=\"\",\"\",\n    IF($AU$21=\"TYP\",\n       IF(Z124=\"\",\"\", INDEX($Z$18:$Z$227, $AB$17-ROWS($Z$18:$Z124))),\n       IF($AU$21=\"INVERT\",Z125, \"\")\n    )\n)","v":""},"",null,{"$f":"IF(BL124>=$Z$12,\"\",IF(Y124=\"\",\"\",INDEX($Y$18:$Y$227,$AB$17-ROWS($Y$18:$Y124))))","v":{"v":1.074,"d":"1.07"}},{"$f":"IF(#REF!=\"\",\"\",#REF!/43560)","v":{"$error":"#REF!"}},{"$f":"#REF!","v":{"$error":"#REF!"}}]
[126,{"v":3.200000000000003,"d":"3.2"},{"$f":"IF(B126=\"\",\"\",IFERROR(_xlfn.XLOOKUP(ROUND(B126,1),MetricIncrementalData[System Increment],_xlfn.XLOOKUP('Metric Incremental Crate'!$R$3,MetricIncrementalData[#Headers],MetricIncrementalData[]),,1),0))","v":{"v":0,"d":"0.0000"}},{"v":0,"d":"0.0000"},{"$f":"IF(B126=\"\",\"\",IFERROR(_xlfn.XLOOKUP(ROUND(B126,1),MetricIncrementalData[System Increment],_xlfn.XLOOKUP(Metric_Incremental_Data_Target_Column,MetricIncrementalData[#Headers],MetricIncrementalData[]),,1),0))","v":{"v":0,"d":"0.0000"}},{"$f":"IF(B126=\"\",\"\",IF(B127=\"\",((((B126-0)/100)*Metric_Module_Square_Foot_Area)-'Cumulative Volumes Metric'!E126)*Metric_Stone_Void_Percentage,((((B126-B127)/100)*Metric_Module_Square_Foot_Area)-'Cumulative Volumes Metric'!E126)*Metric_Stone_Void_Percentage))","v":{"v":0.00225,"d":"0.0023"}},{"v":0.23625,"d":"0.24"},{"$f":"IF(B126=\"\",\"\",((Metric_System_Area_Input-Metric_Number_Of_Stacks*_xlfn.XLOOKUP(Metric_Layers,CrateData[Layer],CrateData[Surface Area (m2)]))*((B126-IF(B127=\"\",0,B127))/100))*Metric_Stone_Void_Percentage)","v":{"v":0.00375,"d":"0.00"}},0.24,0.24,{"$f":"IF(B126=\"\",\"\",SUM(J126:$J$563))","v":{"v":0.7680000000000007,"d":"0.77"}},100.032,{"$nulls":9},100.032,null,{"v":0.023999999999999258,"d":"0.02"},0.023999999999999258,{"v":24.000000000021828,"d":"24.000"},null,1,{"$f":"IF($AU$21=\"INVERT\",Y126,IF(AC125>=$Z$12,\"\",IF(Y125=\"\",\"\",INDEX($Y$18:$Y$227,$AB$17-ROWS($Y$18:$Y125)))))","v":""},"","","",{"$nulls":26},{"$f":"IF($AU$21=\"INVERT\",Y126,IF(AC125>=$Z$12,\"\",IF(Y125=\"\",\"\",INDEX($Y$18:$Y$227,$AB$17-ROWS($Y$18:$Y125)))))","v":""},"",{"$f":"IF(AE125=\"\",\"\",\n    IF($AU$21=\"TYP\",\n       IF(Z125=\"\",\"\", INDEX($Z$18:$Z$227, $AB$17-ROWS($Z$18:$Z125))),\n       IF($AU$21=\"INVERT\",Z126, \"\")\n    )\n)","v":""},"",null,{"$f":"IF(BL125>=$Z$12,\"\",IF(Y125=\"\",\"\",INDEX($Y$18:$Y$227,$AB$17-ROWS($Y$18:$Y125))))","v":{"v":1.084,"d":"1.08"}},{"$f":"IF(#REF!=\"\",\"\",#REF!/43560)","v":{"$error":"#REF!"}},{"$f":"#REF!","v":{"$error":"#REF!"}}]
["",{"v":2.200000000000003,"d":"2.2"},{"$f":"IF(B127=\"\",\"\",IFERROR(_xlfn.XLOOKUP(ROUND(B127,1),MetricIncrementalData[System Increment],_xlfn.XLOOKUP('Metric Incremental Crate'!$R$3,MetricIncrementalData[#Headers],MetricIncrementalData[]),,1),0))","v":{"v":0,"d":"0.0000"}},{"v":0,"d":"0.0000"},{"$f":"IF(B127=\"\",\"\",IFERROR(_xlfn.XLOOKUP(ROUND(B127,1),MetricIncrementalData[System Increment],_xlfn.XLOOKUP(Metric_Incremental_Data_Target_Column,MetricIncrementalData[#Headers],MetricIncrementalData[]),,1),0))","v":{"v":0,"d":"0.0000"}},{"$f":"IF(B127=\"\",\"\",IF(B128=\"\",((((B127-0)/100)*Metric_Module_Square_Foot_Area)-'Cumulative Volumes Metric'!E127)*Metric_Stone_Void_Percentage,((((B127-B128)/100)*Metric_Module_Square_Foot_Area)-'Cumulative Volumes Metric'!E127)*Metric_Stone_Void_Percentage))","v":{"v":0.00225,"d":"0.0023"}},{"v":0.23625,"d":"0.24"},{"$f":"IF(B127=\"\",\"\",((Metric_System_Area_Input-Metric_Number_Of_Stacks*_xlfn.XLOOKUP(Metric_Layers,CrateData[Layer],CrateData[Surface Area (m2)]))*((B127-IF(B128=\"\",0,B128))/100))*Metric_Stone_Void_Percentage)","v":{"v":0.00375,"d":"0.00"}},0.24,0.24,{"$f":"IF(B127=\"\",\"\",SUM(J127:$J$563))","v":{"v":0.5280000000000007,"d":"0.53"}},100.022,{"$nulls":9},100.022,null,{"v":0.013999999999999258,"d":"0.01"},0.013999999999999258,{"v":23.999999999987725,"d":"24.000"},null,1,{"$f":"IF($AU$21=\"INVERT\",Y127,IF(AC126>=$Z$12,\"\",IF(Y126=\"\",\"\",INDEX($Y$18:$Y$227,$AB$17-ROWS($Y$18:$Y126)))))","v":""},"","","",{"$nulls":26},{"$f":"IF($AU$21=\"INVERT\",Y127,IF(AC126>=$Z$12,\"\",IF(Y126=\"\",\"\",INDEX($Y$18:$Y$227,$AB$17-ROWS($Y$18:$Y126)))))","v":""},"",{"$f":"IF(AE126=\"\",\"\",\n    IF($AU$21=\"TYP\",\n       IF(Z126=\"\",\"\", INDEX($Z$18:$Z$227, $AB$17-ROWS($Z$18:$Z126))),\n       IF($AU$21=\"INVERT\",Z127, \"\")\n    )\n)","v":""},"",null,{"$f":"IF(BL126>=$Z$12,\"\",IF(Y126=\"\",\"\",INDEX($Y$18:$Y$227,$AB$17-ROWS($Y$18:$Y126))))","v":{"v":1.094,"d":"1.09"}},{"$f":"IF(#REF!=\"\",\"\",#REF!/43560)","v":{"$error":"#REF!"}},{"$f":"#REF!","v":{"$error":"#REF!"}}]
["",{"v":1.2000000000000028,"d":"1.2"},{"$f":"IF(B128=\"\",\"\",IFERROR(_xlfn.XLOOKUP(ROUND(B128,1),MetricIncrementalData[System Increment],_xlfn.XLOOKUP('Metric Incremental Crate'!$R$3,MetricIncrementalData[#Headers],MetricIncrementalData[]),,1),0))","v":{"v":0,"d":"0.0000"}},{"v":0,"d":"0.0000"},{"$f":"IF(B128=\"\",\"\",IFERROR(_xlfn.XLOOKUP(ROUND(B128,1),MetricIncrementalData[System Increment],_xlfn.XLOOKUP(Metric_Incremental_Data_Target_Column,MetricIncrementalData[#Headers],MetricIncrementalData[]),,1),0))","v":{"v":0,"d":"0.0000"}},{"$f":"IF(B128=\"\",\"\",IF(B129=\"\",((((B128-0)/100)*Metric_Module_Square_Foot_Area)-'Cumulative Volumes Metric'!E128)*Metric_Stone_Void_Percentage,((((B128-B129)/100)*Metric_Module_Square_Foot_Area)-'Cumulative Volumes Metric'!E128)*Metric_Stone_Void_Percentage))","v":{"v":0.002700000000000006,"d":"0.0027"}},{"v":0.28350000000000064,"d":"0.28"},{"$f":"IF(B128=\"\",\"\",((Metric_System_Area_Input-Metric_Number_Of_Stacks*_xlfn.XLOOKUP(Metric_Layers,CrateData[Layer],CrateData[Surface Area (m2)]))*((B128-IF(B129=\"\",0,B129))/100))*Metric_Stone_Void_Percentage)","v":{"v":0.00450000000000001,"d":"0.00"}},{"v":0.28800000000000064,"d":"0.29"},{"v":0.28800000000000064,"d":"0.29"},{"$f":"IF(B128=\"\",\"\",SUM(J128:$J$563))","v":{"v":0.28800000000000064,"d":"0.29"}},100.012,{"$nulls":9},100,null,{"v":0.003999999999999258,"d":"0.00"},0.003999999999999258,{"v":23.999999999987725,"d":"24.000"},null,1,{"$f":"IF($AU$21=\"INVERT\",Y128,IF(AC127>=$Z$12,\"\",IF(Y127=\"\",\"\",INDEX($Y$18:$Y$227,$AB$17-ROWS($Y$18:$Y127)))))","v":""},"","","",{"$nulls":26},{"$f":"IF($AU$21=\"INVERT\",Y128,IF(AC127>=$Z$12,\"\",IF(Y127=\"\",\"\",INDEX($Y$18:$Y$227,$AB$17-ROWS($Y$18:$Y127)))))","v":""},"",{"$f":"IF(AE127=\"\",\"\",\n    IF($AU$21=\"TYP\",\n       IF(Z127=\"\",\"\", INDEX($Z$18:$Z$227, $AB$17-ROWS($Z$18:$Z127))),\n       IF($AU$21=\"INVERT\",Z128, \"\")\n    )\n)","v":""},"",null,{"$f":"IF(BL127>=$Z$12,\"\",IF(Y127=\"\",\"\",INDEX($Y$18:$Y$227,$AB$17-ROWS($Y$18:$Y127))))","v":{"v":1.104,"d":"1.10"}},{"$f":"IF(#REF!=\"\",\"\",#REF!/43560)","v":{"$error":"#REF!"}},{"$f":"#REF!","v":{"$error":"#REF!"}}]
["","",{"$f":"IF(B129=\"\",\"\",IFERROR(_xlfn.XLOOKUP(ROUND(B129,1),MetricIncrementalData[System Increment],_xlfn.XLOOKUP('Metric Incremental Crate'!$R$3,MetricIncrementalData[#Headers],MetricIncrementalData[]),,1),0))","v":""},"",{"$f":"IF(B129=\"\",\"\",IFERROR(_xlfn.XLOOKUP(ROUND(B129,1),MetricIncrementalData[System Increment],_xlfn.XLOOKUP(Metric_Incremental_Data_Target_Column,MetricIncrementalData[#Headers],MetricIncrementalData[]),,1),0))","v":""},{"$f":"IF(B129=\"\",\"\",IF(B130=\"\",((((B129-0)/100)*Metric_Module_Square_Foot_Area)-'Cumulative Volumes Metric'!E129)*Metric_Stone_Void_Percentage,((((B129-B130)/100)*Metric_Module_Square_Foot_Area)-'Cumulative Volumes Metric'!E129)*Metric_Stone_Void_Percentage))","v":""},"",{"$f":"IF(B129=\"\",\"\",((Metric_System_Area_Input-Metric_Number_Of_Stacks*_xlfn.XLOOKUP(Metric_Layers,CrateData[Layer],CrateData[Surface Area (m2)]))*((B129-IF(B130=\"\",0,B130))/100))*Metric_Stone_Void_Percentage)","v":""},"","",{"$f":"IF(B129=\"\",\"\",SUM(J129:$J$563))","v":""},"",{"$nulls":9},"",null,{"v":-0.006000000000000743,"d":"-0.01"},"","",null,"",{"$f":"IF($AU$21=\"INVERT\",Y129,IF(AC128>=$Z$12,\"\",IF(Y128=\"\",\"\",INDEX($Y$18:$Y$227,$AB$17-ROWS($Y$18:$Y128)))))","v":""},"","","",{"$nulls":26},{"$f":"IF($AU$21=\"INVERT\",Y129,IF(AC128>=$Z$12,\"\",IF(Y128=\"\",\"\",INDEX($Y$18:$Y$227,$AB$17-ROWS($Y$18:$Y128)))))","v":""},"",{"$f":"IF(AE128=\"\",\"\",\n    IF($AU$21=\"TYP\",\n       IF(Z128=\"\",\"\", INDEX($Z$18:$Z$227, $AB$17-ROWS($Z$18:$Z128))),\n       IF($AU$21=\"INVERT\",Z129, \"\")\n    )\n)","v":""},"",null,{"$f":"IF(BL128>=$Z$12,\"\",IF(Y128=\"\",\"\",INDEX($Y$18:$Y$227,$AB$17-ROWS($Y$18:$Y128))))","v":""},{"$f":"IF(#REF!=\"\",\"\",#REF!/43560)","v":{"$error":"#REF!"}},{"$f":"#REF!","v":{"$error":"#REF!"}}]
["","",{"$f":"IF(B130=\"\",\"\",IFERROR(_xlfn.XLOOKUP(ROUND(B130,1),MetricIncrementalData[System Increment],_xlfn.XLOOKUP('Metric Incremental Crate'!$R$3,MetricIncrementalData[#Headers],MetricIncrementalData[]),,1),0))","v":""},"",{"$f":"IF(B130=\"\",\"\",IFERROR(_xlfn.XLOOKUP(ROUND(B130,1),MetricIncrementalData[System Increment],_xlfn.XLOOKUP(Metric_Incremental_Data_Target_Column,MetricIncrementalData[#Headers],MetricIncrementalData[]),,1),0))","v":""},{"$f":"IF(B130=\"\",\"\",IF(B131=\"\",((((B130-0)/100)*Metric_Module_Square_Foot_Area)-'Cumulative Volumes Metric'!E130)*Metric_Stone_Void_Percentage,((((B130-B131)/100)*Metric_Module_Square_Foot_Area)-'Cumulative Volumes Metric'!E130)*Metric_Stone_Void_Percentage))","v":""},"",{"$f":"IF(B130=\"\",\"\",((Metric_System_Area_Input-Metric_Number_Of_Stacks*_xlfn.XLOOKUP(Metric_Layers,CrateData[Layer],CrateData[Surface Area (m2)]))*((B130-IF(B131=\"\",0,B131))/100))*Metric_Stone_Void_Percentage)","v":""},"","",{"$f":"IF(B130=\"\",\"\",SUM(J130:$J$563))","v":""},"",{"$nulls":9},"",null,{"v":-0.016000000000000743,"d":"-0.02"},"","",null,"",{"$f":"IF($AU$21=\"INVERT\",Y130,IF(AC129>=$Z$12,\"\",IF(Y129=\"\",\"\",INDEX($Y$18:$Y$227,$AB$17-ROWS($Y$18:$Y129)))))","v":""},"","","",{"$nulls":26},{"$f":"IF($AU$21=\"INVERT\",Y130,IF(AC129>=$Z$12,\"\",IF(Y129=\"\",\"\",INDEX($Y$18:$Y$227,$AB$17-ROWS($Y$18:$Y129)))))","v":""},"",{"$f":"IF(AE129=\"\",\"\",\n    IF($AU$21=\"TYP\",\n       IF(Z129=\"\",\"\", INDEX($Z$18:$Z$227, $AB$17-ROWS($Z$18:$Z129))),\n       IF($AU$21=\"INVERT\",Z130, \"\")\n    )\n)","v":""},"",null,{"$f":"IF(BL129>=$Z$12,\"\",IF(Y129=\"\",\"\",INDEX($Y$18:$Y$227,$AB$17-ROWS($Y$18:$Y129))))","v":""},{"$f":"IF(#REF!=\"\",\"\",#REF!/43560)","v":{"$error":"#REF!"}},{"$f":"#REF!","v":{"$error":"#REF!"}}]
["","",{"$f":"IF(B131=\"\",\"\",IFERROR(_xlfn.XLOOKUP(ROUND(B131,1),MetricIncrementalData[System Increment],_xlfn.XLOOKUP('Metric Incremental Crate'!$R$3,MetricIncrementalData[#Headers],MetricIncrementalData[]),,1),0))","v":""},"",{"$f":"IF(B131=\"\",\"\",IFERROR(_xlfn.XLOOKUP(ROUND(B131,1),MetricIncrementalData[System Increment],_xlfn.XLOOKUP(Metric_Incremental_Data_Target_Column,MetricIncrementalData[#Headers],MetricIncrementalData[]),,1),0))","v":""},{"$f":"IF(B131=\"\",\"\",IF(B132=\"\",((((B131-0)/100)*Metric_Module_Square_Foot_Area)-'Cumulative Volumes Metric'!E131)*Metric_Stone_Void_Percentage,((((B131-B132)/100)*Metric_Module_Square_Foot_Area)-'Cumulative Volumes Metric'!E131)*Metric_Stone_Void_Percentage))","v":""},"",{"$f":"IF(B131=\"\",\"\",((Metric_System_Area_Input-Metric_Number_Of_Stacks*_xlfn.XLOOKUP(Metric_Layers,CrateData[Layer],CrateData[Surface Area (m2)]))*((B131-IF(B132=\"\",0,B132))/100))*Metric_Stone_Void_Percentage)","v":""},"","",{"$f":"IF(B131=\"\",\"\",SUM(J131:$J$563))","v":""},"",{"$nulls":9},"",null,{"v":-0.026000000000000745,"d":"-0.03"},"","",null,"",{"$f":"IF($AU$21=\"INVERT\",Y131,IF(AC130>=$Z$12,\"\",IF(Y130=\"\",\"\",INDEX($Y$18:$Y$227,$AB$17-ROWS($Y$18:$Y130)))))","v":""},"","","",{"$nulls":26},{"$f":"IF($AU$21=\"INVERT\",Y131,IF(AC130>=$Z$12,\"\",IF(Y130=\"\",\"\",INDEX($Y$18:$Y$227,$AB$17-ROWS($Y$18:$Y130)))))","v":""},"",{"$f":"IF(AE130=\"\",\"\",\n    IF($AU$21=\"TYP\",\n       IF(Z130=\"\",\"\", INDEX($Z$18:$Z$227, $AB$17-ROWS($Z$18:$Z130))),\n       IF($AU$21=\"INVERT\",Z131, \"\")\n    )\n)","v":""},"",null,{"$f":"IF(BL130>=$Z$12,\"\",IF(Y130=\"\",\"\",INDEX($Y$18:$Y$227,$AB$17-ROWS($Y$18:$Y130))))","v":""},{"$f":"IF(#REF!=\"\",\"\",#REF!/43560)","v":{"$error":"#REF!"}},{"$f":"#REF!","v":{"$error":"#REF!"}}]
["","",{"$f":"IF(B132=\"\",\"\",IFERROR(_xlfn.XLOOKUP(ROUND(B132,1),MetricIncrementalData[System Increment],_xlfn.XLOOKUP('Metric Incremental Crate'!$R$3,MetricIncrementalData[#Headers],MetricIncrementalData[]),,1),0))","v":""},"",{"$f":"IF(B132=\"\",\"\",IFERROR(_xlfn.XLOOKUP(ROUND(B132,1),MetricIncrementalData[System Increment],_xlfn.XLOOKUP(Metric_Incremental_Data_Target_Column,MetricIncrementalData[#Headers],MetricIncrementalData[]),,1),0))","v":""},{"$f":"IF(B132=\"\",\"\",IF(B133=\"\",((((B132-0)/100)*Metric_Module_Square_Foot_Area)-'Cumulative Volumes Metric'!E132)*Metric_Stone_Void_Percentage,((((B132-B133)/100)*Metric_Module_Square_Foot_Area)-'Cumulative Volumes Metric'!E132)*Metric_Stone_Void_Percentage))","v":""},"",{"$f":"IF(B132=\"\",\"\",((Metric_System_Area_Input-Metric_Number_Of_Stacks*_xlfn.XLOOKUP(Metric_Layers,CrateData[Layer],CrateData[Surface Area (m2)]))*((B132-IF(B133=\"\",0,B133))/100))*Metric_Stone_Void_Percentage)","v":""},"","",{"$f":"IF(B132=\"\",\"\",SUM(J132:$J$563))","v":""},"",{"$nulls":9},"",null,{"v":-0.03600000000000075,"d":"-0.04"},"","",null,"",{"$f":"IF($AU$21=\"INVERT\",Y132,IF(AC131>=$Z$12,\"\",IF(Y131=\"\",\"\",INDEX($Y$18:$Y$227,$AB$17-ROWS($Y$18:$Y131)))))","v":""},"","","",{"$nulls":26},{"$f":"IF($AU$21=\"INVERT\",Y132,IF(AC131>=$Z$12,\"\",IF(Y131=\"\",\"\",INDEX($Y$18:$Y$227,$AB$17-ROWS($Y$18:$Y131)))))","v":""},"",{"$f":"IF(AE131=\"\",\"\",\n    IF($AU$21=\"TYP\",\n       IF(Z131=\"\",\"\", INDEX($Z$18:$Z$227, $AB$17-ROWS($Z$18:$Z131))),\n       IF($AU$21=\"INVERT\",Z132, \"\")\n    )\n)","v":""},"",null,{"$f":"IF(BL131>=$Z$12,\"\",IF(Y131=\"\",\"\",INDEX($Y$18:$Y$227,$AB$17-ROWS($Y$18:$Y131))))","v":""},{"$f":"IF(#REF!=\"\",\"\",#REF!/43560)","v":{"$error":"#REF!"}},{"$f":"#REF!","v":{"$error":"#REF!"}}]
["","",{"$f":"IF(B133=\"\",\"\",IFERROR(_xlfn.XLOOKUP(ROUND(B133,1),MetricIncrementalData[System Increment],_xlfn.XLOOKUP('Metric Incremental Crate'!$R$3,MetricIncrementalData[#Headers],MetricIncrementalData[]),,1),0))","v":""},"",{"$f":"IF(B133=\"\",\"\",IFERROR(_xlfn.XLOOKUP(ROUND(B133,1),MetricIncrementalData[System Increment],_xlfn.XLOOKUP(Metric_Incremental_Data_Target_Column,MetricIncrementalData[#Headers],MetricIncrementalData[]),,1),0))","v":""},{"$f":"IF(B133=\"\",\"\",IF(B134=\"\",((((B133-0)/100)*Metric_Module_Square_Foot_Area)-'Cumulative Volumes Metric'!E133)*Metric_Stone_Void_Percentage,((((B133-B134)/100)*Metric_Module_Square_Foot_Area)-'Cumulative Volumes Metric'!E133)*Metric_Stone_Void_Percentage))","v":""},"",{"$f":"IF(B133=\"\",\"\",((Metric_System_Area_Input-Metric_Number_Of_Stacks*_xlfn.XLOOKUP(Metric_Layers,CrateData[Layer],CrateData[Surface Area (m2)]))*((B133-IF(B134=\"\",0,B134))/100))*Metric_Stone_Void_Percentage)","v":""},"","",{"$f":"IF(B133=\"\",\"\",SUM(J133:$J$563))","v":""},"",{"$nulls":9},"",null,{"v":-0.04600000000000075,"d":"-0.05"},"","",null,"",{"$f":"IF($AU$21=\"INVERT\",Y133,IF(AC132>=$Z$12,\"\",IF(Y132=\"\",\"\",INDEX($Y$18:$Y$227,$AB$17-ROWS($Y$18:$Y132)))))","v":""},"","","",{"$nulls":26},{"$f":"IF($AU$21=\"INVERT\",Y133,IF(AC132>=$Z$12,\"\",IF(Y132=\"\",\"\",INDEX($Y$18:$Y$227,$AB$17-ROWS($Y$18:$Y132)))))","v":""},"",{"$f":"IF(AE132=\"\",\"\",\n    IF($AU$21=\"TYP\",\n       IF(Z132=\"\",\"\", INDEX($Z$18:$Z$227, $AB$17-ROWS($Z$18:$Z132))),\n       IF($AU$21=\"INVERT\",Z133, \"\")\n    )\n)","v":""},"",null,{"$f":"IF(BL132>=$Z$12,\"\",IF(Y132=\"\",\"\",INDEX($Y$18:$Y$227,$AB$17-ROWS($Y$18:$Y132))))","v":""},{"$f":"IF(#REF!=\"\",\"\",#REF!/43560)","v":{"$error":"#REF!"}},{"$f":"#REF!","v":{"$error":"#REF!"}}]
["","",{"$f":"IF(B134=\"\",\"\",IFERROR(_xlfn.XLOOKUP(ROUND(B134,1),MetricIncrementalData[System Increment],_xlfn.XLOOKUP('Metric Incremental Crate'!$R$3,MetricIncrementalData[#Headers],MetricIncrementalData[]),,1),0))","v":""},"",{"$f":"IF(B134=\"\",\"\",IFERROR(_xlfn.XLOOKUP(ROUND(B134,1),MetricIncrementalData[System Increment],_xlfn.XLOOKUP(Metric_Incremental_Data_Target_Column,MetricIncrementalData[#Headers],MetricIncrementalData[]),,1),0))","v":""},{"$f":"IF(B134=\"\",\"\",IF(B135=\"\",((((B134-0)/100)*Metric_Module_Square_Foot_Area)-'Cumulative Volumes Metric'!E134)*Metric_Stone_Void_Percentage,((((B134-B135)/100)*Metric_Module_Square_Foot_Area)-'Cumulative Volumes Metric'!E134)*Metric_Stone_Void_Percentage))","v":""},"",{"$f":"IF(B134=\"\",\"\",((Metric_System_Area_Input-Metric_Number_Of_Stacks*_xlfn.XLOOKUP(Metric_Layers,CrateData[Layer],CrateData[Surface Area (m2)]))*((B134-IF(B135=\"\",0,B135))/100))*Metric_Stone_Void_Percentage)","v":""},"","",{"$f":"IF(B134=\"\",\"\",SUM(J134:$J$563))","v":""},"",{"$nulls":9},"",null,{"v":-0.05600000000000075,"d":"-0.06"},"","",null,"",{"$f":"IF($AU$21=\"INVERT\",Y134,IF(AC133>=$Z$12,\"\",IF(Y133=\"\",\"\",INDEX($Y$18:$Y$227,$AB$17-ROWS($Y$18:$Y133)))))","v":""},"","","",{"$nulls":26},{"$f":"IF($AU$21=\"INVERT\",Y134,IF(AC133>=$Z$12,\"\",IF(Y133=\"\",\"\",INDEX($Y$18:$Y$227,$AB$17-ROWS($Y$18:$Y133)))))","v":""},"",{"$f":"IF(AE133=\"\",\"\",\n    IF($AU$21=\"TYP\",\n       IF(Z133=\"\",\"\", INDEX($Z$18:$Z$227, $AB$17-ROWS($Z$18:$Z133))),\n       IF($AU$21=\"INVERT\",Z134, \"\")\n    )\n)","v":""},"",null,{"$f":"IF(BL133>=$Z$12,\"\",IF(Y133=\"\",\"\",INDEX($Y$18:$Y$227,$AB$17-ROWS($Y$18:$Y133))))","v":""},{"$f":"IF(#REF!=\"\",\"\",#REF!/43560)","v":{"$error":"#REF!"}},{"$f":"#REF!","v":{"$error":"#REF!"}}]
["","",{"$f":"IF(B135=\"\",\"\",IFERROR(_xlfn.XLOOKUP(ROUND(B135,1),MetricIncrementalData[System Increment],_xlfn.XLOOKUP('Metric Incremental Crate'!$R$3,MetricIncrementalData[#Headers],MetricIncrementalData[]),,1),0))","v":""},"",{"$f":"IF(B135=\"\",\"\",IFERROR(_xlfn.XLOOKUP(ROUND(B135,1),MetricIncrementalData[System Increment],_xlfn.XLOOKUP(Metric_Incremental_Data_Target_Column,MetricIncrementalData[#Headers],MetricIncrementalData[]),,1),0))","v":""},{"$f":"IF(B135=\"\",\"\",IF(B136=\"\",((((B135-0)/100)*Metric_Module_Square_Foot_Area)-'Cumulative Volumes Metric'!E135)*Metric_Stone_Void_Percentage,((((B135-B136)/100)*Metric_Module_Square_Foot_Area)-'Cumulative Volumes Metric'!E135)*Metric_Stone_Void_Percentage))","v":""},"",{"$f":"IF(B135=\"\",\"\",((Metric_System_Area_Input-Metric_Number_Of_Stacks*_xlfn.XLOOKUP(Metric_Layers,CrateData[Layer],CrateData[Surface Area (m2)]))*((B135-IF(B136=\"\",0,B136))/100))*Metric_Stone_Void_Percentage)","v":""},"","",{"$f":"IF(B135=\"\",\"\",SUM(J135:$J$563))","v":""},"",{"$nulls":9},"",null,{"v":-0.06600000000000075,"d":"-0.07"},"","",null,"",{"$f":"IF($AU$21=\"INVERT\",Y135,IF(AC134>=$Z$12,\"\",IF(Y134=\"\",\"\",INDEX($Y$18:$Y$227,$AB$17-ROWS($Y$18:$Y134)))))","v":""},"","","",{"$nulls":26},{"$f":"IF($AU$21=\"INVERT\",Y135,IF(AC134>=$Z$12,\"\",IF(Y134=\"\",\"\",INDEX($Y$18:$Y$227,$AB$17-ROWS($Y$18:$Y134)))))","v":""},"",{"$f":"IF(AE134=\"\",\"\",\n    IF($AU$21=\"TYP\",\n       IF(Z134=\"\",\"\", INDEX($Z$18:$Z$227, $AB$17-ROWS($Z$18:$Z134))),\n       IF($AU$21=\"INVERT\",Z135, \"\")\n    )\n)","v":""},"",null,{"$f":"IF(BL134>=$Z$12,\"\",IF(Y134=\"\",\"\",INDEX($Y$18:$Y$227,$AB$17-ROWS($Y$18:$Y134))))","v":""},{"$f":"IF(#REF!=\"\",\"\",#REF!/43560)","v":{"$error":"#REF!"}},{"$f":"#REF!","v":{"$error":"#REF!"}}]
["","",{"$f":"IF(B136=\"\",\"\",IFERROR(_xlfn.XLOOKUP(ROUND(B136,1),MetricIncrementalData[System Increment],_xlfn.XLOOKUP('Metric Incremental Crate'!$R$3,MetricIncrementalData[#Headers],MetricIncrementalData[]),,1),0))","v":""},"",{"$f":"IF(B136=\"\",\"\",IFERROR(_xlfn.XLOOKUP(ROUND(B136,1),MetricIncrementalData[System Increment],_xlfn.XLOOKUP(Metric_Incremental_Data_Target_Column,MetricIncrementalData[#Headers],MetricIncrementalData[]),,1),0))","v":""},{"$f":"IF(B136=\"\",\"\",IF(B137=\"\",((((B136-0)/100)*Metric_Module_Square_Foot_Area)-'Cumulative Volumes Metric'!E136)*Metric_Stone_Void_Percentage,((((B136-B137)/100)*Metric_Module_Square_Foot_Area)-'Cumulative Volumes Metric'!E136)*Metric_Stone_Void_Percentage))","v":""},"",{"$f":"IF(B136=\"\",\"\",((Metric_System_Area_Input-Metric_Number_Of_Stacks*_xlfn.XLOOKUP(Metric_Layers,CrateData[Layer],CrateData[Surface Area (m2)]))*((B136-IF(B137=\"\",0,B137))/100))*Metric_Stone_Void_Percentage)","v":""},"","",{"$f":"IF(B136=\"\",\"\",SUM(J136:$J$563))","v":""},"",{"$nulls":9},"",null,{"v":-0.07600000000000075,"d":"-0.08"},"","",null,"",{"$f":"IF($AU$21=\"INVERT\",Y136,IF(AC135>=$Z$12,\"\",IF(Y135=\"\",\"\",INDEX($Y$18:$Y$227,$AB$17-ROWS($Y$18:$Y135)))))","v":""},"","","",{"$nulls":26},{"$f":"IF($AU$21=\"INVERT\",Y136,IF(AC135>=$Z$12,\"\",IF(Y135=\"\",\"\",INDEX($Y$18:$Y$227,$AB$17-ROWS($Y$18:$Y135)))))","v":""},"",{"$f":"IF(AE135=\"\",\"\",\n    IF($AU$21=\"TYP\",\n       IF(Z135=\"\",\"\", INDEX($Z$18:$Z$227, $AB$17-ROWS($Z$18:$Z135))),\n       IF($AU$21=\"INVERT\",Z136, \"\")\n    )\n)","v":""},"",null,{"$f":"IF(BL135>=$Z$12,\"\",IF(Y135=\"\",\"\",INDEX($Y$18:$Y$227,$AB$17-ROWS($Y$18:$Y135))))","v":""},{"$f":"IF(#REF!=\"\",\"\",#REF!/43560)","v":{"$error":"#REF!"}},{"$f":"#REF!","v":{"$error":"#REF!"}}]
["","",{"$f":"IF(B137=\"\",\"\",IFERROR(_xlfn.XLOOKUP(ROUND(B137,1),MetricIncrementalData[System Increment],_xlfn.XLOOKUP('Metric Incremental Crate'!$R$3,MetricIncrementalData[#Headers],MetricIncrementalData[]),,1),0))","v":""},"",{"$f":"IF(B137=\"\",\"\",IFERROR(_xlfn.XLOOKUP(ROUND(B137,1),MetricIncrementalData[System Increment],_xlfn.XLOOKUP(Metric_Incremental_Data_Target_Column,MetricIncrementalData[#Headers],MetricIncrementalData[]),,1),0))","v":""},{"$f":"IF(B137=\"\",\"\",IF(B138=\"\",((((B137-0)/100)*Metric_Module_Square_Foot_Area)-'Cumulative Volumes Metric'!E137)*Metric_Stone_Void_Percentage,((((B137-B138)/100)*Metric_Module_Square_Foot_Area)-'Cumulative Volumes Metric'!E137)*Metric_Stone_Void_Percentage))","v":""},"",{"$f":"IF(B137=\"\",\"\",((Metric_System_Area_Input-Metric_Number_Of_Stacks*_xlfn.XLOOKUP(Metric_Layers,CrateData[Layer],CrateData[Surface Area (m2)]))*((B137-IF(B138=\"\",0,B138))/100))*Metric_Stone_Void_Percentage)","v":""},"","",{"$f":"IF(B137=\"\",\"\",SUM(J137:$J$563))","v":""},"",{"$nulls":9},"",null,{"v":-0.08600000000000074,"d":"-0.09"},"","",null,"",{"$f":"IF($AU$21=\"INVERT\",Y137,IF(AC136>=$Z$12,\"\",IF(Y136=\"\",\"\",INDEX($Y$18:$Y$227,$AB$17-ROWS($Y$18:$Y136)))))","v":""},"","","",{"$nulls":26},{"$f":"IF($AU$21=\"INVERT\",Y137,IF(AC136>=$Z$12,\"\",IF(Y136=\"\",\"\",INDEX($Y$18:$Y$227,$AB$17-ROWS($Y$18:$Y136)))))","v":""},"",{"$f":"IF(AE136=\"\",\"\",\n    IF($AU$21=\"TYP\",\n       IF(Z136=\"\",\"\", INDEX($Z$18:$Z$227, $AB$17-ROWS($Z$18:$Z136))),\n       IF($AU$21=\"INVERT\",Z137, \"\")\n    )\n)","v":""},"",null,{"$f":"IF(BL136>=$Z$12,\"\",IF(Y136=\"\",\"\",INDEX($Y$18:$Y$227,$AB$17-ROWS($Y$18:$Y136))))","v":""},{"$f":"IF(#REF!=\"\",\"\",#REF!/43560)","v":{"$error":"#REF!"}},{"$f":"#REF!","v":{"$error":"#REF!"}}]
["","",{"$f":"IF(B138=\"\",\"\",IFERROR(_xlfn.XLOOKUP(ROUND(B138,1),MetricIncrementalData[System Increment],_xlfn.XLOOKUP('Metric Incremental Crate'!$R$3,MetricIncrementalData[#Headers],MetricIncrementalData[]),,1),0))","v":""},"",{"$f":"IF(B138=\"\",\"\",IFERROR(_xlfn.XLOOKUP(ROUND(B138,1),MetricIncrementalData[System Increment],_xlfn.XLOOKUP(Metric_Incremental_Data_Target_Column,MetricIncrementalData[#Headers],MetricIncrementalData[]),,1),0))","v":""},{"$f":"IF(B138=\"\",\"\",IF(B139=\"\",((((B138-0)/100)*Metric_Module_Square_Foot_Area)-'Cumulative Volumes Metric'!E138)*Metric_Stone_Void_Percentage,((((B138-B139)/100)*Metric_Module_Square_Foot_Area)-'Cumulative Volumes Metric'!E138)*Metric_Stone_Void_Percentage))","v":""},"",{"$f":"IF(B138=\"\",\"\",((Metric_System_Area_Input-Metric_Number_Of_Stacks*_xlfn.XLOOKUP(Metric_Layers,CrateData[Layer],CrateData[Surface Area (m2)]))*((B138-IF(B139=\"\",0,B139))/100))*Metric_Stone_Void_Percentage)","v":""},"","",{"$f":"IF(B138=\"\",\"\",SUM(J138:$J$563))","v":""},"",{"$nulls":9},"",null,{"v":-0.09600000000000074,"d":"-0.10"},"","",null,"",{"$f":"IF($AU$21=\"INVERT\",Y138,IF(AC137>=$Z$12,\"\",IF(Y137=\"\",\"\",INDEX($Y$18:$Y$227,$AB$17-ROWS($Y$18:$Y137)))))","v":""},"","","",{"$nulls":26},{"$f":"IF($AU$21=\"INVERT\",Y138,IF(AC137>=$Z$12,\"\",IF(Y137=\"\",\"\",INDEX($Y$18:$Y$227,$AB$17-ROWS($Y$18:$Y137)))))","v":""},"",{"$f":"IF(AE137=\"\",\"\",\n    IF($AU$21=\"TYP\",\n       IF(Z137=\"\",\"\", INDEX($Z$18:$Z$227, $AB$17-ROWS($Z$18:$Z137))),\n       IF($AU$21=\"INVERT\",Z138, \"\")\n    )\n)","v":""},"",null,{"$f":"IF(BL137>=$Z$12,\"\",IF(Y137=\"\",\"\",INDEX($Y$18:$Y$227,$AB$17-ROWS($Y$18:$Y137))))","v":""},{"$f":"IF(#REF!=\"\",\"\",#REF!/43560)","v":{"$error":"#REF!"}},{"$f":"#REF!","v":{"$error":"#REF!"}}]
["","",{"$f":"IF(B139=\"\",\"\",IFERROR(_xlfn.XLOOKUP(ROUND(B139,1),MetricIncrementalData[System Increment],_xlfn.XLOOKUP('Metric Incremental Crate'!$R$3,MetricIncrementalData[#Headers],MetricIncrementalData[]),,1),0))","v":""},"",{"$f":"IF(B139=\"\",\"\",IFERROR(_xlfn.XLOOKUP(ROUND(B139,1),MetricIncrementalData[System Increment],_xlfn.XLOOKUP(Metric_Incremental_Data_Target_Column,MetricIncrementalData[#Headers],MetricIncrementalData[]),,1),0))","v":""},{"$f":"IF(B139=\"\",\"\",IF(B140=\"\",((((B139-0)/100)*Metric_Module_Square_Foot_Area)-'Cumulative Volumes Metric'!E139)*Metric_Stone_Void_Percentage,((((B139-B140)/100)*Metric_Module_Square_Foot_Area)-'Cumulative Volumes Metric'!E139)*Metric_Stone_Void_Percentage))","v":""},"",{"$f":"IF(B139=\"\",\"\",((Metric_System_Area_Input-Metric_Number_Of_Stacks*_xlfn.XLOOKUP(Metric_Layers,CrateData[Layer],CrateData[Surface Area (m2)]))*((B139-IF(B140=\"\",0,B140))/100))*Metric_Stone_Void_Percentage)","v":""},"","",{"$f":"IF(B139=\"\",\"\",SUM(J139:$J$563))","v":""},"",{"$nulls":9},"",null,{"v":-0.10600000000000073,"d":"-0.11"},"","",null,"",{"$f":"IF($AU$21=\"INVERT\",Y139,IF(AC138>=$Z$12,\"\",IF(Y138=\"\",\"\",INDEX($Y$18:$Y$227,$AB$17-ROWS($Y$18:$Y138)))))","v":""},"","","",{"$nulls":26},{"$f":"IF($AU$21=\"INVERT\",Y139,IF(AC138>=$Z$12,\"\",IF(Y138=\"\",\"\",INDEX($Y$18:$Y$227,$AB$17-ROWS($Y$18:$Y138)))))","v":""},"",{"$f":"IF(AE138=\"\",\"\",\n    IF($AU$21=\"TYP\",\n       IF(Z138=\"\",\"\", INDEX($Z$18:$Z$227, $AB$17-ROWS($Z$18:$Z138))),\n       IF($AU$21=\"INVERT\",Z139, \"\")\n    )\n)","v":""},"",null,{"$f":"IF(BL138>=$Z$12,\"\",IF(Y138=\"\",\"\",INDEX($Y$18:$Y$227,$AB$17-ROWS($Y$18:$Y138))))","v":""},{"$f":"IF(#REF!=\"\",\"\",#REF!/43560)","v":{"$error":"#REF!"}},{"$f":"#REF!","v":{"$error":"#REF!"}}]
["","",{"$f":"IF(B140=\"\",\"\",IFERROR(_xlfn.XLOOKUP(ROUND(B140,1),MetricIncrementalData[System Increment],_xlfn.XLOOKUP('Metric Incremental Crate'!$R$3,MetricIncrementalData[#Headers],MetricIncrementalData[]),,1),0))","v":""},"",{"$f":"IF(B140=\"\",\"\",IFERROR(_xlfn.XLOOKUP(ROUND(B140,1),MetricIncrementalData[System Increment],_xlfn.XLOOKUP(Metric_Incremental_Data_Target_Column,MetricIncrementalData[#Headers],MetricIncrementalData[]),,1),0))","v":""},{"$f":"IF(B140=\"\",\"\",IF(B141=\"\",((((B140-0)/100)*Metric_Module_Square_Foot_Area)-'Cumulative Volumes Metric'!E140)*Metric_Stone_Void_Percentage,((((B140-B141)/100)*Metric_Module_Square_Foot_Area)-'Cumulative Volumes Metric'!E140)*Metric_Stone_Void_Percentage))","v":""},"",{"$f":"IF(B140=\"\",\"\",((Metric_System_Area_Input-Metric_Number_Of_Stacks*_xlfn.XLOOKUP(Metric_Layers,CrateData[Layer],CrateData[Surface Area (m2)]))*((B140-IF(B141=\"\",0,B141))/100))*Metric_Stone_Void_Percentage)","v":""},"","",{"$f":"IF(B140=\"\",\"\",SUM(J140:$J$563))","v":""},"",{"$nulls":9},"",null,{"v":-0.11600000000000073,"d":"-0.12"},"","",null,"",{"$f":"IF($AU$21=\"INVERT\",Y140,IF(AC139>=$Z$12,\"\",IF(Y139=\"\",\"\",INDEX($Y$18:$Y$227,$AB$17-ROWS($Y$18:$Y139)))))","v":""},"","","",{"$nulls":26},{"$f":"IF($AU$21=\"INVERT\",Y140,IF(AC139>=$Z$12,\"\",IF(Y139=\"\",\"\",INDEX($Y$18:$Y$227,$AB$17-ROWS($Y$18:$Y139)))))","v":""},"",{"$f":"IF(AE139=\"\",\"\",\n    IF($AU$21=\"TYP\",\n       IF(Z139=\"\",\"\", INDEX($Z$18:$Z$227, $AB$17-ROWS($Z$18:$Z139))),\n       IF($AU$21=\"INVERT\",Z140, \"\")\n    )\n)","v":""},"",null,{"$f":"IF(BL139>=$Z$12,\"\",IF(Y139=\"\",\"\",INDEX($Y$18:$Y$227,$AB$17-ROWS($Y$18:$Y139))))","v":""},{"$f":"IF(#REF!=\"\",\"\",#REF!/43560)","v":{"$error":"#REF!"}},{"$f":"#REF!","v":{"$error":"#REF!"}}]
["","",{"$f":"IF(B141=\"\",\"\",IFERROR(_xlfn.XLOOKUP(ROUND(B141,1),MetricIncrementalData[System Increment],_xlfn.XLOOKUP('Metric Incremental Crate'!$R$3,MetricIncrementalData[#Headers],MetricIncrementalData[]),,1),0))","v":""},"",{"$f":"IF(B141=\"\",\"\",IFERROR(_xlfn.XLOOKUP(ROUND(B141,1),MetricIncrementalData[System Increment],_xlfn.XLOOKUP(Metric_Incremental_Data_Target_Column,MetricIncrementalData[#Headers],MetricIncrementalData[]),,1),0))","v":""},{"$f":"IF(B141=\"\",\"\",IF(B142=\"\",((((B141-0)/100)*Metric_Module_Square_Foot_Area)-'Cumulative Volumes Metric'!E141)*Metric_Stone_Void_Percentage,((((B141-B142)/100)*Metric_Module_Square_Foot_Area)-'Cumulative Volumes Metric'!E141)*Metric_Stone_Void_Percentage))","v":""},"",{"$f":"IF(B141=\"\",\"\",((Metric_System_Area_Input-Metric_Number_Of_Stacks*_xlfn.XLOOKUP(Metric_Layers,CrateData[Layer],CrateData[Surface Area (m2)]))*((B141-IF(B142=\"\",0,B142))/100))*Metric_Stone_Void_Percentage)","v":""},"","",{"$f":"IF(B141=\"\",\"\",SUM(J141:$J$563))","v":""},"",{"$nulls":9},"",null,{"v":-0.12600000000000072,"d":"-0.13"},"","",null,"",{"$f":"IF($AU$21=\"INVERT\",Y141,IF(AC140>=$Z$12,\"\",IF(Y140=\"\",\"\",INDEX($Y$18:$Y$227,$AB$17-ROWS($Y$18:$Y140)))))","v":""},"","","",{"$nulls":26},{"$f":"IF($AU$21=\"INVERT\",Y141,IF(AC140>=$Z$12,\"\",IF(Y140=\"\",\"\",INDEX($Y$18:$Y$227,$AB$17-ROWS($Y$18:$Y140)))))","v":""},"",{"$f":"IF(AE140=\"\",\"\",\n    IF($AU$21=\"TYP\",\n       IF(Z140=\"\",\"\", INDEX($Z$18:$Z$227, $AB$17-ROWS($Z$18:$Z140))),\n       IF($AU$21=\"INVERT\",Z141, \"\")\n    )\n)","v":""},"",null,{"$f":"IF(BL140>=$Z$12,\"\",IF(Y140=\"\",\"\",INDEX($Y$18:$Y$227,$AB$17-ROWS($Y$18:$Y140))))","v":""},{"$f":"IF(#REF!=\"\",\"\",#REF!/43560)","v":{"$error":"#REF!"}},{"$f":"#REF!","v":{"$error":"#REF!"}}]
["","",{"$f":"IF(B142=\"\",\"\",IFERROR(_xlfn.XLOOKUP(ROUND(B142,1),MetricIncrementalData[System Increment],_xlfn.XLOOKUP('Metric Incremental Crate'!$R$3,MetricIncrementalData[#Headers],MetricIncrementalData[]),,1),0))","v":""},"",{"$f":"IF(B142=\"\",\"\",IFERROR(_xlfn.XLOOKUP(ROUND(B142,1),MetricIncrementalData[System Increment],_xlfn.XLOOKUP(Metric_Incremental_Data_Target_Column,MetricIncrementalData[#Headers],MetricIncrementalData[]),,1),0))","v":""},{"$f":"IF(B142=\"\",\"\",IF(B143=\"\",((((B142-0)/100)*Metric_Module_Square_Foot_Area)-'Cumulative Volumes Metric'!E142)*Metric_Stone_Void_Percentage,((((B142-B143)/100)*Metric_Module_Square_Foot_Area)-'Cumulative Volumes Metric'!E142)*Metric_Stone_Void_Percentage))","v":""},"",{"$f":"IF(B142=\"\",\"\",((Metric_System_Area_Input-Metric_Number_Of_Stacks*_xlfn.XLOOKUP(Metric_Layers,CrateData[Layer],CrateData[Surface Area (m2)]))*((B142-IF(B143=\"\",0,B143))/100))*Metric_Stone_Void_Percentage)","v":""},"","",{"$f":"IF(B142=\"\",\"\",SUM(J142:$J$563))","v":""},"",{"$nulls":9},"",null,{"v":-0.13600000000000073,"d":"-0.14"},"","",null,"",{"$f":"IF($AU$21=\"INVERT\",Y142,IF(AC141>=$Z$12,\"\",IF(Y141=\"\",\"\",INDEX($Y$18:$Y$227,$AB$17-ROWS($Y$18:$Y141)))))","v":""},"","","",{"$nulls":26},{"$f":"IF($AU$21=\"INVERT\",Y142,IF(AC141>=$Z$12,\"\",IF(Y141=\"\",\"\",INDEX($Y$18:$Y$227,$AB$17-ROWS($Y$18:$Y141)))))","v":""},"",{"$f":"IF(AE141=\"\",\"\",\n    IF($AU$21=\"TYP\",\n       IF(Z141=\"\",\"\", INDEX($Z$18:$Z$227, $AB$17-ROWS($Z$18:$Z141))),\n       IF($AU$21=\"INVERT\",Z142, \"\")\n    )\n)","v":""},"",null,{"$f":"IF(BL141>=$Z$12,\"\",IF(Y141=\"\",\"\",INDEX($Y$18:$Y$227,$AB$17-ROWS($Y$18:$Y141))))","v":""},{"$f":"IF(#REF!=\"\",\"\",#REF!/43560)","v":{"$error":"#REF!"}},{"$f":"#REF!","v":{"$error":"#REF!"}}]
["","",{"$f":"IF(B143=\"\",\"\",IFERROR(_xlfn.XLOOKUP(ROUND(B143,1),MetricIncrementalData[System Increment],_xlfn.XLOOKUP('Metric Incremental Crate'!$R$3,MetricIncrementalData[#Headers],MetricIncrementalData[]),,1),0))","v":""},"",{"$f":"IF(B143=\"\",\"\",IFERROR(_xlfn.XLOOKUP(ROUND(B143,1),MetricIncrementalData[System Increment],_xlfn.XLOOKUP(Metric_Incremental_Data_Target_Column,MetricIncrementalData[#Headers],MetricIncrementalData[]),,1),0))","v":""},{"$f":"IF(B143=\"\",\"\",IF(B144=\"\",((((B143-0)/100)*Metric_Module_Square_Foot_Area)-'Cumulative Volumes Metric'!E143)*Metric_Stone_Void_Percentage,((((B143-B144)/100)*Metric_Module_Square_Foot_Area)-'Cumulative Volumes Metric'!E143)*Metric_Stone_Void_Percentage))","v":""},"",{"$f":"IF(B143=\"\",\"\",((Metric_System_Area_Input-Metric_Number_Of_Stacks*_xlfn.XLOOKUP(Metric_Layers,CrateData[Layer],CrateData[Surface Area (m2)]))*((B143-IF(B144=\"\",0,B144))/100))*Metric_Stone_Void_Percentage)","v":""},"","",{"$f":"IF(B143=\"\",\"\",SUM(J143:$J$563))","v":""},"",{"$nulls":9},"",null,{"v":-0.14600000000000074,"d":"-0.15"},"","",null,"",{"$f":"IF($AU$21=\"INVERT\",Y143,IF(AC142>=$Z$12,\"\",IF(Y142=\"\",\"\",INDEX($Y$18:$Y$227,$AB$17-ROWS($Y$18:$Y142)))))","v":""},"","","",{"$nulls":26},{"$f":"IF($AU$21=\"INVERT\",Y143,IF(AC142>=$Z$12,\"\",IF(Y142=\"\",\"\",INDEX($Y$18:$Y$227,$AB$17-ROWS($Y$18:$Y142)))))","v":""},"",{"$f":"IF(AE142=\"\",\"\",\n    IF($AU$21=\"TYP\",\n       IF(Z142=\"\",\"\", INDEX($Z$18:$Z$227, $AB$17-ROWS($Z$18:$Z142))),\n       IF($AU$21=\"INVERT\",Z143, \"\")\n    )\n)","v":""},"",null,{"$f":"IF(BL142>=$Z$12,\"\",IF(Y142=\"\",\"\",INDEX($Y$18:$Y$227,$AB$17-ROWS($Y$18:$Y142))))","v":""},{"$f":"IF(#REF!=\"\",\"\",#REF!/43560)","v":{"$error":"#REF!"}},{"$f":"#REF!","v":{"$error":"#REF!"}}]
[{"$f":"IF(B146<>\"\",A143+1,\"\")","v":""},"",{"$f":"IF(B144=\"\",\"\",IFERROR(_xlfn.XLOOKUP(ROUND(B144,1),MetricIncrementalData[System Increment],_xlfn.XLOOKUP('Metric Incremental Crate'!$R$3,MetricIncrementalData[#Headers],MetricIncrementalData[]),,1),0))","v":""},"",{"$f":"IF(B144=\"\",\"\",IFERROR(_xlfn.XLOOKUP(ROUND(B144,1),MetricIncrementalData[System Increment],_xlfn.XLOOKUP(Metric_Incremental_Data_Target_Column,MetricIncrementalData[#Headers],MetricIncrementalData[]),,1),0))","v":""},{"$f":"IF(B144=\"\",\"\",IF(B145=\"\",((((B144-0)/100)*Metric_Module_Square_Foot_Area)-'Cumulative Volumes Metric'!E144)*Metric_Stone_Void_Percentage,((((B144-B145)/100)*Metric_Module_Square_Foot_Area)-'Cumulative Volumes Metric'!E144)*Metric_Stone_Void_Percentage))","v":""},"",{"$f":"IF(B144=\"\",\"\",((Metric_System_Area_Input-Metric_Number_Of_Stacks*_xlfn.XLOOKUP(Metric_Layers,CrateData[Layer],CrateData[Surface Area (m2)]))*((B144-IF(B145=\"\",0,B145))/100))*Metric_Stone_Void_Percentage)","v":""},"","",{"$f":"IF(B144=\"\",\"\",SUM(J144:$J$563))","v":""},"",{"$nulls":9},"",null,{"v":-0.15600000000000075,"d":"-0.16"},"","",null,"",{"$f":"IF($AU$21=\"INVERT\",Y144,IF(AC143>=$Z$12,\"\",IF(Y143=\"\",\"\",INDEX($Y$18:$Y$227,$AB$17-ROWS($Y$18:$Y143)))))","v":""},"","","",{"$nulls":26},{"$f":"IF($AU$21=\"INVERT\",Y144,IF(AC143>=$Z$12,\"\",IF(Y143=\"\",\"\",INDEX($Y$18:$Y$227,$AB$17-ROWS($Y$18:$Y143)))))","v":""},"",{"$f":"IF(AE143=\"\",\"\",\n    IF($AU$21=\"TYP\",\n       IF(Z143=\"\",\"\", INDEX($Z$18:$Z$227, $AB$17-ROWS($Z$18:$Z143))),\n       IF($AU$21=\"INVERT\",Z144, \"\")\n    )\n)","v":""},"",null,{"$f":"IF(BL143>=$Z$12,\"\",IF(Y143=\"\",\"\",INDEX($Y$18:$Y$227,$AB$17-ROWS($Y$18:$Y143))))","v":""},{"$f":"IF(#REF!=\"\",\"\",#REF!/43560)","v":{"$error":"#REF!"}},{"$f":"#REF!","v":{"$error":"#REF!"}}]
["","",{"$f":"IF(B145=\"\",\"\",IFERROR(_xlfn.XLOOKUP(ROUND(B145,1),MetricIncrementalData[System Increment],_xlfn.XLOOKUP('Metric Incremental Crate'!$R$3,MetricIncrementalData[#Headers],MetricIncrementalData[]),,1),0))","v":""},"",{"$f":"IF(B145=\"\",\"\",IFERROR(_xlfn.XLOOKUP(ROUND(B145,1),MetricIncrementalData[System Increment],_xlfn.XLOOKUP(Metric_Incremental_Data_Target_Column,MetricIncrementalData[#Headers],MetricIncrementalData[]),,1),0))","v":""},{"$f":"IF(B145=\"\",\"\",IF(B146=\"\",((((B145-0)/100)*Metric_Module_Square_Foot_Area)-'Cumulative Volumes Metric'!E145)*Metric_Stone_Void_Percentage,((((B145-B146)/100)*Metric_Module_Square_Foot_Area)-'Cumulative Volumes Metric'!E145)*Metric_Stone_Void_Percentage))","v":""},"",{"$f":"IF(B145=\"\",\"\",((Metric_System_Area_Input-Metric_Number_Of_Stacks*_xlfn.XLOOKUP(Metric_Layers,CrateData[Layer],CrateData[Surface Area (m2)]))*((B145-IF(B146=\"\",0,B146))/100))*Metric_Stone_Void_Percentage)","v":""},"","",{"$f":"IF(B145=\"\",\"\",SUM(J145:$J$563))","v":""},"",{"$nulls":9},"",null,{"v":-0.16600000000000076,"d":"-0.17"},"","",null,"",{"$f":"IF($AU$21=\"INVERT\",Y145,IF(AC144>=$Z$12,\"\",IF(Y144=\"\",\"\",INDEX($Y$18:$Y$227,$AB$17-ROWS($Y$18:$Y144)))))","v":""},"","","",{"$nulls":26},{"$f":"IF($AU$21=\"INVERT\",Y145,IF(AC144>=$Z$12,\"\",IF(Y144=\"\",\"\",INDEX($Y$18:$Y$227,$AB$17-ROWS($Y$18:$Y144)))))","v":""},"",{"$f":"IF(AE144=\"\",\"\",\n    IF($AU$21=\"TYP\",\n       IF(Z144=\"\",\"\", INDEX($Z$18:$Z$227, $AB$17-ROWS($Z$18:$Z144))),\n       IF($AU$21=\"INVERT\",Z145, \"\")\n    )\n)","v":""},"",null,{"$f":"IF(BL144>=$Z$12,\"\",IF(Y144=\"\",\"\",INDEX($Y$18:$Y$227,$AB$17-ROWS($Y$18:$Y144))))","v":""},{"$f":"IF(#REF!=\"\",\"\",#REF!/43560)","v":{"$error":"#REF!"}},{"$f":"#REF!","v":{"$error":"#REF!"}}]
["","",{"$f":"IF(B146=\"\",\"\",IFERROR(_xlfn.XLOOKUP(ROUND(B146,1),MetricIncrementalData[System Increment],_xlfn.XLOOKUP('Metric Incremental Crate'!$R$3,MetricIncrementalData[#Headers],MetricIncrementalData[]),,1),0))","v":""},{"$f":"IFERROR(C146*Metric_Number_Of_Stacks,\"\")","v":""},{"$f":"IF(B146=\"\",\"\",IFERROR(_xlfn.XLOOKUP(ROUND(B146,1),MetricIncrementalData[System Increment],_xlfn.XLOOKUP(Metric_Incremental_Data_Target_Column,MetricIncrementalData[#Headers],MetricIncrementalData[]),,1),0))","v":""},{"$f":"IF(B146=\"\",\"\",IF(B147=\"\",((((B146-0)/100)*Metric_Module_Square_Foot_Area)-'Cumulative Volumes Metric'!E146)*Metric_Stone_Void_Percentage,((((B146-B147)/100)*Metric_Module_Square_Foot_Area)-'Cumulative Volumes Metric'!E146)*Metric_Stone_Void_Percentage))","v":""},{"$f":"IFERROR(F146*Metric_Number_Of_Stacks,\"\")","v":""},{"$f":"IF(B146=\"\",\"\",((Metric_System_Area_Input-Metric_Number_Of_Stacks*_xlfn.XLOOKUP(Metric_Layers,CrateData[Layer],CrateData[Surface Area (m2)]))*((B146-IF(B147=\"\",0,B147))/100))*Metric_Stone_Void_Percentage)","v":""},{"$f":"IFERROR(IF($AW$17, H146+G146, G146), \"\")","v":""},"",{"$f":"IF(B146=\"\",\"\",SUM(J146:$J$563))","v":""},"",{"$nulls":9},{"$f":"IF(L147=\"\",IF(L146=\"\",\"\",$I$11),L146)","v":""},null,{"v":-0.17600000000000077,"d":"-0.18"},"","",null,"",{"$f":"IF($AU$21=\"INVERT\",Y146,IF(AC145>=$Z$12,\"\",IF(Y145=\"\",\"\",INDEX($Y$18:$Y$227,$AB$17-ROWS($Y$18:$Y145)))))","v":""},"","",{"$f":"IF($AU$17=TRUE, BJ146, IF($AU$23=TRUE, \"\", \"\"))","v":""},{"$nulls":26},{"$f":"IF($AU$21=\"INVERT\",Y146,IF(AC145>=$Z$12,\"\",IF(Y145=\"\",\"\",INDEX($Y$18:$Y$227,$AB$17-ROWS($Y$18:$Y145)))))","v":""},{"$f":"IF(AC146=\"\",\"\",$I$11+AC146)","v":""},{"$f":"IF(AE145=\"\",\"\",\n    IF($AU$21=\"TYP\",\n       IF(Z145=\"\",\"\", INDEX($Z$18:$Z$227, $AB$17-ROWS($Z$18:$Z145))),\n       IF($AU$21=\"INVERT\",Z146, \"\")\n    )\n)","v":""},"",null,{"$f":"IF(BL145>=$Z$12,\"\",IF(Y145=\"\",\"\",INDEX($Y$18:$Y$227,$AB$17-ROWS($Y$18:$Y145))))","v":""},{"$f":"IF(#REF!=\"\",\"\",#REF!/43560)","v":{"$error":"#REF!"}},{"$f":"#REF!","v":{"$error":"#REF!"}}]
["","",{"$f":"IF(B147=\"\",\"\",IFERROR(_xlfn.XLOOKUP(ROUND(B147,1),MetricIncrementalData[System Increment],_xlfn.XLOOKUP('Metric Incremental Crate'!$R$3,MetricIncrementalData[#Headers],MetricIncrementalData[]),,1),0))","v":""},"",{"$f":"IF(B147=\"\",\"\",IFERROR(_xlfn.XLOOKUP(ROUND(B147,1),MetricIncrementalData[System Increment],_xlfn.XLOOKUP(Metric_Incremental_Data_Target_Column,MetricIncrementalData[#Headers],MetricIncrementalData[]),,1),0))","v":""},{"$f":"IF(B147=\"\",\"\",IF(B148=\"\",((((B147-0)/100)*Metric_Module_Square_Foot_Area)-'Cumulative Volumes Metric'!E147)*Metric_Stone_Void_Percentage,((((B147-B148)/100)*Metric_Module_Square_Foot_Area)-'Cumulative Volumes Metric'!E147)*Metric_Stone_Void_Percentage))","v":""},"",{"$f":"IF(B147=\"\",\"\",((Metric_System_Area_Input-Metric_Number_Of_Stacks*_xlfn.XLOOKUP(Metric_Layers,CrateData[Layer],CrateData[Surface Area (m2)]))*((B147-IF(B148=\"\",0,B148))/100))*Metric_Stone_Void_Percentage)","v":""},"","",{"$f":"IF(B147=\"\",\"\",SUM(J147:$J$563))","v":""},"",{"$nulls":9},"",null,{"v":-0.18600000000000078,"d":"-0.19"},{"$f":"IF(AND(B147=\"\",B146=1),0,IF(B147=\"\",\"\",IF(OR(X147=0,X147>0),X147,\"\")))","v":""},{"$f":"IF(Y147=\"\",\"\",IF(Y147=0,K146/$AB$11,IF(ISNUMBER(V148),(K147-K148)/(L147-L148),Z146)))","v":""},null,{"$f":"IF(Y147=\"\",\"\",1)","v":""},{"$f":"IF($AU$21=\"INVERT\",Y147,IF(AC146>=$Z$12,\"\",IF(Y146=\"\",\"\",INDEX($Y$18:$Y$227,$AB$17-ROWS($Y$18:$Y146)))))","v":""},{"$f":"IF($AN$17=TRUE, BH147, IF($AN$23=TRUE, BM147, \"\"))","v":""},{"$f":"IF($AU$17=TRUE, BI147, IF($AU$23=TRUE, BN147, \"\"))","v":""},"",{"$nulls":26},{"$f":"IF($AU$21=\"INVERT\",Y147,IF(AC146>=$Z$12,\"\",IF(Y146=\"\",\"\",INDEX($Y$18:$Y$227,$AB$17-ROWS($Y$18:$Y146)))))","v":""},"",{"$f":"IF(AE146=\"\",\"\",\n    IF($AU$21=\"TYP\",\n       IF(Z146=\"\",\"\", INDEX($Z$18:$Z$227, $AB$17-ROWS($Z$18:$Z146))),\n       IF($AU$21=\"INVERT\",Z147, \"\")\n    )\n)","v":""},{"$f":"IF(AE147=\"\",\"\",AE147/10000)","v":""},null,{"$f":"IF(BL146>=$Z$12,\"\",IF(Y146=\"\",\"\",INDEX($Y$18:$Y$227,$AB$17-ROWS($Y$18:$Y146))))","v":""},{"$f":"IF(#REF!=\"\",\"\",#REF!/43560)","v":{"$error":"#REF!"}},{"$f":"#REF!","v":{"$error":"#REF!"}}]
["","",{"$f":"IF(B148=\"\",\"\",IFERROR(_xlfn.XLOOKUP(ROUND(B148,1),MetricIncrementalData[System Increment],_xlfn.XLOOKUP('Metric Incremental Crate'!$R$3,MetricIncrementalData[#Headers],MetricIncrementalData[]),,1),0))","v":""},"",{"$f":"IF(B148=\"\",\"\",IFERROR(_xlfn.XLOOKUP(ROUND(B148,1),MetricIncrementalData[System Increment],_xlfn.XLOOKUP(Metric_Incremental_Data_Target_Column,MetricIncrementalData[#Headers],MetricIncrementalData[]),,1),0))","v":""},{"$f":"IF(B148=\"\",\"\",IF(B149=\"\",((((B148-0)/100)*Metric_Module_Square_Foot_Area)-'Cumulative Volumes Metric'!E148)*Metric_Stone_Void_Percentage,((((B148-B149)/100)*Metric_Module_Square_Foot_Area)-'Cumulative Volumes Metric'!E148)*Metric_Stone_Void_Percentage))","v":""},"",{"$f":"IF(B148=\"\",\"\",((Metric_System_Area_Input-Metric_Number_Of_Stacks*_xlfn.XLOOKUP(Metric_Layers,CrateData[Layer],CrateData[Surface Area (m2)]))*((B148-IF(B149=\"\",0,B149))/100))*Metric_Stone_Void_Percentage)","v":""},"","",{"$f":"IF(B148=\"\",\"\",SUM(J148:$J$563))","v":""},"",{"$nulls":9},"",null,{"$f":"X147-($AB$11)","v":{"v":-0.19600000000000078,"d":"-0.20"}},"","",null,"",{"$f":"IF($AU$21=\"INVERT\",Y148,IF(AC147>=$Z$12,\"\",IF(Y147=\"\",\"\",INDEX($Y$18:$Y$227,$AB$17-ROWS($Y$18:$Y147)))))","v":""},"","","",{"$nulls":26},{"$f":"IF($AU$21=\"INVERT\",Y148,IF(AC147>=$Z$12,\"\",IF(Y147=\"\",\"\",INDEX($Y$18:$Y$227,$AB$17-ROWS($Y$18:$Y147)))))","v":""},"",{"$f":"IF(AE147=\"\",\"\",\n    IF($AU$21=\"TYP\",\n       IF(Z147=\"\",\"\", INDEX($Z$18:$Z$227, $AB$17-ROWS($Z$18:$Z147))),\n       IF($AU$21=\"INVERT\",Z148, \"\")\n    )\n)","v":""},"",null,{"$f":"IF(BL147>=$Z$12,\"\",IF(Y147=\"\",\"\",INDEX($Y$18:$Y$227,$AB$17-ROWS($Y$18:$Y147))))","v":""},{"$f":"IF(#REF!=\"\",\"\",#REF!/43560)","v":{"$error":"#REF!"}},{"$f":"#REF!","v":{"$error":"#REF!"}}]
["","",{"$f":"IF(B149=\"\",\"\",IFERROR(_xlfn.XLOOKUP(ROUND(B149,1),MetricIncrementalData[System Increment],_xlfn.XLOOKUP('Metric Incremental Crate'!$R$3,MetricIncrementalData[#Headers],MetricIncrementalData[]),,1),0))","v":""},"",{"$f":"IF(B149=\"\",\"\",IFERROR(_xlfn.XLOOKUP(ROUND(B149,1),MetricIncrementalData[System Increment],_xlfn.XLOOKUP(Metric_Incremental_Data_Target_Column,MetricIncrementalData[#Headers],MetricIncrementalData[]),,1),0))","v":""},{"$f":"IF(B149=\"\",\"\",IF(B150=\"\",((((B149-0)/100)*Metric_Module_Square_Foot_Area)-'Cumulative Volumes Metric'!E149)*Metric_Stone_Void_Percentage,((((B149-B150)/100)*Metric_Module_Square_Foot_Area)-'Cumulative Volumes Metric'!E149)*Metric_Stone_Void_Percentage))","v":""},"",{"$f":"IF(B149=\"\",\"\",((Metric_System_Area_Input-Metric_Number_Of_Stacks*_xlfn.XLOOKUP(Metric_Layers,CrateData[Layer],CrateData[Surface Area (m2)]))*((B149-IF(B150=\"\",0,B150))/100))*Metric_Stone_Void_Percentage)","v":""},"","",{"$f":"IF(B149=\"\",\"\",SUM(J149:$J$563))","v":""},"",{"$nulls":9},"",null,{"v":-0.2060000000000008,"d":"-0.21"},"","",null,"",{"$f":"IF($AU$21=\"INVERT\",Y149,IF(AC148>=$Z$12,\"\",IF(Y148=\"\",\"\",INDEX($Y$18:$Y$227,$AB$17-ROWS($Y$18:$Y148)))))","v":""},"","","",{"$nulls":26},{"$f":"IF($AU$21=\"INVERT\",Y149,IF(AC148>=$Z$12,\"\",IF(Y148=\"\",\"\",INDEX($Y$18:$Y$227,$AB$17-ROWS($Y$18:$Y148)))))","v":""},"",{"$f":"IF(AE148=\"\",\"\",\n    IF($AU$21=\"TYP\",\n       IF(Z148=\"\",\"\", INDEX($Z$18:$Z$227, $AB$17-ROWS($Z$18:$Z148))),\n       IF($AU$21=\"INVERT\",Z149, \"\")\n    )\n)","v":""},"",null,{"$f":"IF(BL148>=$Z$12,\"\",IF(Y148=\"\",\"\",INDEX($Y$18:$Y$227,$AB$17-ROWS($Y$18:$Y148))))","v":""},{"$f":"IF(#REF!=\"\",\"\",#REF!/43560)","v":{"$error":"#REF!"}},{"$f":"#REF!","v":{"$error":"#REF!"}}]
["",{"$f":"IFERROR(IF(B149-1<1,\"\",B149-1),\"\")","v":""},{"$f":"IF(B150=\"\",\"\",IFERROR(_xlfn.XLOOKUP(ROUND(B150,1),MetricIncrementalData[System Increment],_xlfn.XLOOKUP('Metric Incremental Crate'!$R$3,MetricIncrementalData[#Headers],MetricIncrementalData[]),,1),0))","v":""},"",{"$f":"IF(B150=\"\",\"\",IFERROR(_xlfn.XLOOKUP(ROUND(B150,1),MetricIncrementalData[System Increment],_xlfn.XLOOKUP(Metric_Incremental_Data_Target_Column,MetricIncrementalData[#Headers],MetricIncrementalData[]),,1),0))","v":""},{"$f":"IF(B150=\"\",\"\",IF(B151=\"\",((((B150-0)/100)*Metric_Module_Square_Foot_Area)-'Cumulative Volumes Metric'!E150)*Metric_Stone_Void_Percentage,((((B150-B151)/100)*Metric_Module_Square_Foot_Area)-'Cumulative Volumes Metric'!E150)*Metric_Stone_Void_Percentage))","v":""},"",{"$f":"IF(B150=\"\",\"\",((Metric_System_Area_Input-Metric_Number_Of_Stacks*_xlfn.XLOOKUP(Metric_Layers,CrateData[Layer],CrateData[Surface Area (m2)]))*((B150-IF(B151=\"\",0,B151))/100))*Metric_Stone_Void_Percentage)","v":""},"",{"$f":"IFERROR(I150+D150,\"\")","v":""},{"$f":"IF(B150=\"\",\"\",SUM(J150:$J$563))","v":""},{"$f":"IFERROR($I$11+B150/100,\"\")","v":""},{"$nulls":9},"",null,{"v":-0.2160000000000008,"d":"-0.22"},"","",null,"",{"$f":"IF($AU$21=\"INVERT\",Y150,IF(AC149>=$Z$12,\"\",IF(Y149=\"\",\"\",INDEX($Y$18:$Y$227,$AB$17-ROWS($Y$18:$Y149)))))","v":""},"","","",{"$nulls":26},{"$f":"IF($AU$21=\"INVERT\",Y150,IF(AC149>=$Z$12,\"\",IF(Y149=\"\",\"\",INDEX($Y$18:$Y$227,$AB$17-ROWS($Y$18:$Y149)))))","v":""},"",{"$f":"IF(AE149=\"\",\"\",\n    IF($AU$21=\"TYP\",\n       IF(Z149=\"\",\"\", INDEX($Z$18:$Z$227, $AB$17-ROWS($Z$18:$Z149))),\n       IF($AU$21=\"INVERT\",Z150, \"\")\n    )\n)","v":""},"",null,{"$f":"IF(BL149>=$Z$12,\"\",IF(Y149=\"\",\"\",INDEX($Y$18:$Y$227,$AB$17-ROWS($Y$18:$Y149))))","v":""},{"$f":"IF(#REF!=\"\",\"\",#REF!/43560)","v":{"$error":"#REF!"}},{"$f":"#REF!","v":{"$error":"#REF!"}}]
["","",{"$f":"IF(B151=\"\",\"\",IFERROR(_xlfn.XLOOKUP(ROUND(B151,1),MetricIncrementalData[System Increment],_xlfn.XLOOKUP('Metric Incremental Crate'!$R$3,MetricIncrementalData[#Headers],MetricIncrementalData[]),,1),0))","v":""},"",{"$f":"IF(B151=\"\",\"\",IFERROR(_xlfn.XLOOKUP(ROUND(B151,1),MetricIncrementalData[System Increment],_xlfn.XLOOKUP(Metric_Incremental_Data_Target_Column,MetricIncrementalData[#Headers],MetricIncrementalData[]),,1),0))","v":""},{"$f":"IF(B151=\"\",\"\",IF(B152=\"\",((((B151-0)/100)*Metric_Module_Square_Foot_Area)-'Cumulative Volumes Metric'!E151)*Metric_Stone_Void_Percentage,((((B151-B152)/100)*Metric_Module_Square_Foot_Area)-'Cumulative Volumes Metric'!E151)*Metric_Stone_Void_Percentage))","v":""},"",{"$f":"IF(B151=\"\",\"\",((Metric_System_Area_Input-Metric_Number_Of_Stacks*_xlfn.XLOOKUP(Metric_Layers,CrateData[Layer],CrateData[Surface Area (m2)]))*((B151-IF(B152=\"\",0,B152))/100))*Metric_Stone_Void_Percentage)","v":""},"","",{"$f":"IF(B151=\"\",\"\",SUM(J151:$J$563))","v":""},"",{"$nulls":9},"",null,{"v":-0.2260000000000008,"d":"-0.23"},"","",null,"",{"$f":"IF($AU$21=\"INVERT\",Y151,IF(AC150>=$Z$12,\"\",IF(Y150=\"\",\"\",INDEX($Y$18:$Y$227,$AB$17-ROWS($Y$18:$Y150)))))","v":""},"","","",{"$nulls":26},{"$f":"IF($AU$21=\"INVERT\",Y151,IF(AC150>=$Z$12,\"\",IF(Y150=\"\",\"\",INDEX($Y$18:$Y$227,$AB$17-ROWS($Y$18:$Y150)))))","v":""},"",{"$f":"IF(AE150=\"\",\"\",\n    IF($AU$21=\"TYP\",\n       IF(Z150=\"\",\"\", INDEX($Z$18:$Z$227, $AB$17-ROWS($Z$18:$Z150))),\n       IF($AU$21=\"INVERT\",Z151, \"\")\n    )\n)","v":""},"",null,{"$f":"IF(BL150>=$Z$12,\"\",IF(Y150=\"\",\"\",INDEX($Y$18:$Y$227,$AB$17-ROWS($Y$18:$Y150))))","v":""},{"$f":"IF(#REF!=\"\",\"\",#REF!/43560)","v":{"$error":"#REF!"}},{"$f":"#REF!","v":{"$error":"#REF!"}}]
["","",{"$f":"IF(B152=\"\",\"\",IFERROR(_xlfn.XLOOKUP(ROUND(B152,1),MetricIncrementalData[System Increment],_xlfn.XLOOKUP('Metric Incremental Crate'!$R$3,MetricIncrementalData[#Headers],MetricIncrementalData[]),,1),0))","v":""},"",{"$f":"IF(B152=\"\",\"\",IFERROR(_xlfn.XLOOKUP(ROUND(B152,1),MetricIncrementalData[System Increment],_xlfn.XLOOKUP(Metric_Incremental_Data_Target_Column,MetricIncrementalData[#Headers],MetricIncrementalData[]),,1),0))","v":""},{"$f":"IF(B152=\"\",\"\",IF(B153=\"\",((((B152-0)/100)*Metric_Module_Square_Foot_Area)-'Cumulative Volumes Metric'!E152)*Metric_Stone_Void_Percentage,((((B152-B153)/100)*Metric_Module_Square_Foot_Area)-'Cumulative Volumes Metric'!E152)*Metric_Stone_Void_Percentage))","v":""},"",{"$f":"IF(B152=\"\",\"\",((Metric_System_Area_Input-Metric_Number_Of_Stacks*_xlfn.XLOOKUP(Metric_Layers,CrateData[Layer],CrateData[Surface Area (m2)]))*((B152-IF(B153=\"\",0,B153))/100))*Metric_Stone_Void_Percentage)","v":""},"","",{"$f":"IF(B152=\"\",\"\",SUM(J152:$J$563))","v":""},"",{"$nulls":9},"",null,{"v":-0.23600000000000082,"d":"-0.24"},"","",null,"",{"$f":"IF($AU$21=\"INVERT\",Y152,IF(AC151>=$Z$12,\"\",IF(Y151=\"\",\"\",INDEX($Y$18:$Y$227,$AB$17-ROWS($Y$18:$Y151)))))","v":""},"","","",{"$nulls":26},{"$f":"IF($AU$21=\"INVERT\",Y152,IF(AC151>=$Z$12,\"\",IF(Y151=\"\",\"\",INDEX($Y$18:$Y$227,$AB$17-ROWS($Y$18:$Y151)))))","v":""},"",{"$f":"IF(AE151=\"\",\"\",\n    IF($AU$21=\"TYP\",\n       IF(Z151=\"\",\"\", INDEX($Z$18:$Z$227, $AB$17-ROWS($Z$18:$Z151))),\n       IF($AU$21=\"INVERT\",Z152, \"\")\n    )\n)","v":""},"",null,{"$f":"IF(BL151>=$Z$12,\"\",IF(Y151=\"\",\"\",INDEX($Y$18:$Y$227,$AB$17-ROWS($Y$18:$Y151))))","v":""},{"$f":"IF(#REF!=\"\",\"\",#REF!/43560)","v":{"$error":"#REF!"}},{"$f":"#REF!","v":{"$error":"#REF!"}}]
["","",{"$f":"IF(B153=\"\",\"\",IFERROR(_xlfn.XLOOKUP(ROUND(B153,1),MetricIncrementalData[System Increment],_xlfn.XLOOKUP('Metric Incremental Crate'!$R$3,MetricIncrementalData[#Headers],MetricIncrementalData[]),,1),0))","v":""},"",{"$f":"IF(B153=\"\",\"\",IFERROR(_xlfn.XLOOKUP(ROUND(B153,1),MetricIncrementalData[System Increment],_xlfn.XLOOKUP(Metric_Incremental_Data_Target_Column,MetricIncrementalData[#Headers],MetricIncrementalData[]),,1),0))","v":""},{"$f":"IF(B153=\"\",\"\",IF(B154=\"\",((((B153-0)/100)*Metric_Module_Square_Foot_Area)-'Cumulative Volumes Metric'!E153)*Metric_Stone_Void_Percentage,((((B153-B154)/100)*Metric_Module_Square_Foot_Area)-'Cumulative Volumes Metric'!E153)*Metric_Stone_Void_Percentage))","v":""},"",{"$f":"IF(B153=\"\",\"\",((Metric_System_Area_Input-Metric_Number_Of_Stacks*_xlfn.XLOOKUP(Metric_Layers,CrateData[Layer],CrateData[Surface Area (m2)]))*((B153-IF(B154=\"\",0,B154))/100))*Metric_Stone_Void_Percentage)","v":""},"","",{"$f":"IF(B153=\"\",\"\",SUM(J153:$J$563))","v":""},"",{"$nulls":9},"",null,{"v":-0.24600000000000083,"d":"-0.25"},"","",null,"",{"$f":"IF($AU$21=\"INVERT\",Y153,IF(AC152>=$Z$12,\"\",IF(Y152=\"\",\"\",INDEX($Y$18:$Y$227,$AB$17-ROWS($Y$18:$Y152)))))","v":""},"","","",{"$nulls":26},{"$f":"IF($AU$21=\"INVERT\",Y153,IF(AC152>=$Z$12,\"\",IF(Y152=\"\",\"\",INDEX($Y$18:$Y$227,$AB$17-ROWS($Y$18:$Y152)))))","v":""},"",{"$f":"IF(AE152=\"\",\"\",\n    IF($AU$21=\"TYP\",\n       IF(Z152=\"\",\"\", INDEX($Z$18:$Z$227, $AB$17-ROWS($Z$18:$Z152))),\n       IF($AU$21=\"INVERT\",Z153, \"\")\n    )\n)","v":""},"",null,{"$f":"IF(BL152>=$Z$12,\"\",IF(Y152=\"\",\"\",INDEX($Y$18:$Y$227,$AB$17-ROWS($Y$18:$Y152))))","v":""},{"$f":"IF(#REF!=\"\",\"\",#REF!/43560)","v":{"$error":"#REF!"}},{"$f":"#REF!","v":{"$error":"#REF!"}}]
["","",{"$f":"IF(B154=\"\",\"\",IFERROR(_xlfn.XLOOKUP(ROUND(B154,1),MetricIncrementalData[System Increment],_xlfn.XLOOKUP('Metric Incremental Crate'!$R$3,MetricIncrementalData[#Headers],MetricIncrementalData[]),,1),0))","v":""},"",{"$f":"IF(B154=\"\",\"\",IFERROR(_xlfn.XLOOKUP(ROUND(B154,1),MetricIncrementalData[System Increment],_xlfn.XLOOKUP(Metric_Incremental_Data_Target_Column,MetricIncrementalData[#Headers],MetricIncrementalData[]),,1),0))","v":""},{"$f":"IF(B154=\"\",\"\",IF(B155=\"\",((((B154-0)/100)*Metric_Module_Square_Foot_Area)-'Cumulative Volumes Metric'!E154)*Metric_Stone_Void_Percentage,((((B154-B155)/100)*Metric_Module_Square_Foot_Area)-'Cumulative Volumes Metric'!E154)*Metric_Stone_Void_Percentage))","v":""},"",{"$f":"IF(B154=\"\",\"\",((Metric_System_Area_Input-Metric_Number_Of_Stacks*_xlfn.XLOOKUP(Metric_Layers,CrateData[Layer],CrateData[Surface Area (m2)]))*((B154-IF(B155=\"\",0,B155))/100))*Metric_Stone_Void_Percentage)","v":""},"","",{"$f":"IF(B154=\"\",\"\",SUM(J154:$J$563))","v":""},"",{"$nulls":9},"",null,{"v":-0.25600000000000084,"d":"-0.26"},"","",null,"",{"$f":"IF($AU$21=\"INVERT\",Y154,IF(AC153>=$Z$12,\"\",IF(Y153=\"\",\"\",INDEX($Y$18:$Y$227,$AB$17-ROWS($Y$18:$Y153)))))","v":""},"","","",{"$nulls":26},{"$f":"IF($AU$21=\"INVERT\",Y154,IF(AC153>=$Z$12,\"\",IF(Y153=\"\",\"\",INDEX($Y$18:$Y$227,$AB$17-ROWS($Y$18:$Y153)))))","v":""},"",{"$f":"IF(AE153=\"\",\"\",\n    IF($AU$21=\"TYP\",\n       IF(Z153=\"\",\"\", INDEX($Z$18:$Z$227, $AB$17-ROWS($Z$18:$Z153))),\n       IF($AU$21=\"INVERT\",Z154, \"\")\n    )\n)","v":""},"",null,{"$f":"IF(BL153>=$Z$12,\"\",IF(Y153=\"\",\"\",INDEX($Y$18:$Y$227,$AB$17-ROWS($Y$18:$Y153))))","v":""},{"$f":"IF(#REF!=\"\",\"\",#REF!/43560)","v":{"$error":"#REF!"}},{"$f":"#REF!","v":{"$error":"#REF!"}}]
["","",{"$f":"IF(B155=\"\",\"\",IFERROR(_xlfn.XLOOKUP(ROUND(B155,1),MetricIncrementalData[System Increment],_xlfn.XLOOKUP('Metric Incremental Crate'!$R$3,MetricIncrementalData[#Headers],MetricIncrementalData[]),,1),0))","v":""},"",{"$f":"IF(B155=\"\",\"\",IFERROR(_xlfn.XLOOKUP(ROUND(B155,1),MetricIncrementalData[System Increment],_xlfn.XLOOKUP(Metric_Incremental_Data_Target_Column,MetricIncrementalData[#Headers],MetricIncrementalData[]),,1),0))","v":""},{"$f":"IF(B155=\"\",\"\",IF(B156=\"\",((((B155-0)/100)*Metric_Module_Square_Foot_Area)-'Cumulative Volumes Metric'!E155)*Metric_Stone_Void_Percentage,((((B155-B156)/100)*Metric_Module_Square_Foot_Area)-'Cumulative Volumes Metric'!E155)*Metric_Stone_Void_Percentage))","v":""},"",{"$f":"IF(B155=\"\",\"\",((Metric_System_Area_Input-Metric_Number_Of_Stacks*_xlfn.XLOOKUP(Metric_Layers,CrateData[Layer],CrateData[Surface Area (m2)]))*((B155-IF(B156=\"\",0,B156))/100))*Metric_Stone_Void_Percentage)","v":""},"","",{"$f":"IF(B155=\"\",\"\",SUM(J155:$J$563))","v":""},"",{"$nulls":9},"",null,{"v":-0.26600000000000085,"d":"-0.27"},"","",null,"",{"$f":"IF($AU$21=\"INVERT\",Y155,IF(AC154>=$Z$12,\"\",IF(Y154=\"\",\"\",INDEX($Y$18:$Y$227,$AB$17-ROWS($Y$18:$Y154)))))","v":""},"","","",{"$nulls":26},{"$f":"IF($AU$21=\"INVERT\",Y155,IF(AC154>=$Z$12,\"\",IF(Y154=\"\",\"\",INDEX($Y$18:$Y$227,$AB$17-ROWS($Y$18:$Y154)))))","v":""},"",{"$f":"IF(AE154=\"\",\"\",\n    IF($AU$21=\"TYP\",\n       IF(Z154=\"\",\"\", INDEX($Z$18:$Z$227, $AB$17-ROWS($Z$18:$Z154))),\n       IF($AU$21=\"INVERT\",Z155, \"\")\n    )\n)","v":""},"",null,{"$f":"IF(BL154>=$Z$12,\"\",IF(Y154=\"\",\"\",INDEX($Y$18:$Y$227,$AB$17-ROWS($Y$18:$Y154))))","v":""},{"$f":"IF(#REF!=\"\",\"\",#REF!/43560)","v":{"$error":"#REF!"}},{"$f":"#REF!","v":{"$error":"#REF!"}}]
["","",{"$f":"IF(B156=\"\",\"\",IFERROR(_xlfn.XLOOKUP(ROUND(B156,1),MetricIncrementalData[System Increment],_xlfn.XLOOKUP('Metric Incremental Crate'!$R$3,MetricIncrementalData[#Headers],MetricIncrementalData[]),,1),0))","v":""},"",{"$f":"IF(B156=\"\",\"\",IFERROR(_xlfn.XLOOKUP(ROUND(B156,1),MetricIncrementalData[System Increment],_xlfn.XLOOKUP(Metric_Incremental_Data_Target_Column,MetricIncrementalData[#Headers],MetricIncrementalData[]),,1),0))","v":""},{"$f":"IF(B156=\"\",\"\",IF(B157=\"\",((((B156-0)/100)*Metric_Module_Square_Foot_Area)-'Cumulative Volumes Metric'!E156)*Metric_Stone_Void_Percentage,((((B156-B157)/100)*Metric_Module_Square_Foot_Area)-'Cumulative Volumes Metric'!E156)*Metric_Stone_Void_Percentage))","v":""},"",{"$f":"IF(B156=\"\",\"\",((Metric_System_Area_Input-Metric_Number_Of_Stacks*_xlfn.XLOOKUP(Metric_Layers,CrateData[Layer],CrateData[Surface Area (m2)]))*((B156-IF(B157=\"\",0,B157))/100))*Metric_Stone_Void_Percentage)","v":""},"","",{"$f":"IF(B156=\"\",\"\",SUM(J156:$J$563))","v":""},"",{"$nulls":9},"",null,{"v":-0.27600000000000086,"d":"-0.28"},"","",null,"",{"$f":"IF($AU$21=\"INVERT\",Y156,IF(AC155>=$Z$12,\"\",IF(Y155=\"\",\"\",INDEX($Y$18:$Y$227,$AB$17-ROWS($Y$18:$Y155)))))","v":""},"","","",{"$nulls":26},{"$f":"IF($AU$21=\"INVERT\",Y156,IF(AC155>=$Z$12,\"\",IF(Y155=\"\",\"\",INDEX($Y$18:$Y$227,$AB$17-ROWS($Y$18:$Y155)))))","v":""},"",{"$f":"IF(AE155=\"\",\"\",\n    IF($AU$21=\"TYP\",\n       IF(Z155=\"\",\"\", INDEX($Z$18:$Z$227, $AB$17-ROWS($Z$18:$Z155))),\n       IF($AU$21=\"INVERT\",Z156, \"\")\n    )\n)","v":""},"",null,{"$f":"IF(BL155>=$Z$12,\"\",IF(Y155=\"\",\"\",INDEX($Y$18:$Y$227,$AB$17-ROWS($Y$18:$Y155))))","v":""},{"$f":"IF(#REF!=\"\",\"\",#REF!/43560)","v":{"$error":"#REF!"}},{"$f":"#REF!","v":{"$error":"#REF!"}}]
["","",{"$f":"IF(B157=\"\",\"\",IFERROR(_xlfn.XLOOKUP(ROUND(B157,1),MetricIncrementalData[System Increment],_xlfn.XLOOKUP('Metric Incremental Crate'!$R$3,MetricIncrementalData[#Headers],MetricIncrementalData[]),,1),0))","v":""},"",{"$f":"IF(B157=\"\",\"\",IFERROR(_xlfn.XLOOKUP(ROUND(B157,1),MetricIncrementalData[System Increment],_xlfn.XLOOKUP(Metric_Incremental_Data_Target_Column,MetricIncrementalData[#Headers],MetricIncrementalData[]),,1),0))","v":""},{"$f":"IF(B157=\"\",\"\",IF(B158=\"\",((((B157-0)/100)*Metric_Module_Square_Foot_Area)-'Cumulative Volumes Metric'!E157)*Metric_Stone_Void_Percentage,((((B157-B158)/100)*Metric_Module_Square_Foot_Area)-'Cumulative Volumes Metric'!E157)*Metric_Stone_Void_Percentage))","v":""},"",{"$f":"IF(B157=\"\",\"\",((Metric_System_Area_Input-Metric_Number_Of_Stacks*_xlfn.XLOOKUP(Metric_Layers,CrateData[Layer],CrateData[Surface Area (m2)]))*((B157-IF(B158=\"\",0,B158))/100))*Metric_Stone_Void_Percentage)","v":""},"","",{"$f":"IF(B157=\"\",\"\",SUM(J157:$J$563))","v":""},"",{"$nulls":9},"",null,{"v":-0.28600000000000086,"d":"-0.29"},"","",null,"",{"$f":"IF($AU$21=\"INVERT\",Y157,IF(AC156>=$Z$12,\"\",IF(Y156=\"\",\"\",INDEX($Y$18:$Y$227,$AB$17-ROWS($Y$18:$Y156)))))","v":""},"","","",{"$nulls":26},{"$f":"IF($AU$21=\"INVERT\",Y157,IF(AC156>=$Z$12,\"\",IF(Y156=\"\",\"\",INDEX($Y$18:$Y$227,$AB$17-ROWS($Y$18:$Y156)))))","v":""},"",{"$f":"IF(AE156=\"\",\"\",\n    IF($AU$21=\"TYP\",\n       IF(Z156=\"\",\"\", INDEX($Z$18:$Z$227, $AB$17-ROWS($Z$18:$Z156))),\n       IF($AU$21=\"INVERT\",Z157, \"\")\n    )\n)","v":""},"",null,{"$f":"IF(BL156>=$Z$12,\"\",IF(Y156=\"\",\"\",INDEX($Y$18:$Y$227,$AB$17-ROWS($Y$18:$Y156))))","v":""},{"$f":"IF(#REF!=\"\",\"\",#REF!/43560)","v":{"$error":"#REF!"}},{"$f":"#REF!","v":{"$error":"#REF!"}}]
["","",{"$f":"IF(B158=\"\",\"\",IFERROR(_xlfn.XLOOKUP(ROUND(B158,1),MetricIncrementalData[System Increment],_xlfn.XLOOKUP('Metric Incremental Crate'!$R$3,MetricIncrementalData[#Headers],MetricIncrementalData[]),,1),0))","v":""},"",{"$f":"IF(B158=\"\",\"\",IFERROR(_xlfn.XLOOKUP(ROUND(B158,1),MetricIncrementalData[System Increment],_xlfn.XLOOKUP(Metric_Incremental_Data_Target_Column,MetricIncrementalData[#Headers],MetricIncrementalData[]),,1),0))","v":""},{"$f":"IF(B158=\"\",\"\",IF(B159=\"\",((((B158-0)/100)*Metric_Module_Square_Foot_Area)-'Cumulative Volumes Metric'!E158)*Metric_Stone_Void_Percentage,((((B158-B159)/100)*Metric_Module_Square_Foot_Area)-'Cumulative Volumes Metric'!E158)*Metric_Stone_Void_Percentage))","v":""},"",{"$f":"IF(B158=\"\",\"\",((Metric_System_Area_Input-Metric_Number_Of_Stacks*_xlfn.XLOOKUP(Metric_Layers,CrateData[Layer],CrateData[Surface Area (m2)]))*((B158-IF(B159=\"\",0,B159))/100))*Metric_Stone_Void_Percentage)","v":""},"","",{"$f":"IF(B158=\"\",\"\",SUM(J158:$J$563))","v":""},"",{"$nulls":9},"",null,{"v":-0.2960000000000009,"d":"-0.30"},"","",null,"",{"$f":"IF($AU$21=\"INVERT\",Y158,IF(AC157>=$Z$12,\"\",IF(Y157=\"\",\"\",INDEX($Y$18:$Y$227,$AB$17-ROWS($Y$18:$Y157)))))","v":""},"","","",{"$nulls":26},{"$f":"IF($AU$21=\"INVERT\",Y158,IF(AC157>=$Z$12,\"\",IF(Y157=\"\",\"\",INDEX($Y$18:$Y$227,$AB$17-ROWS($Y$18:$Y157)))))","v":""},"",{"$f":"IF(AE157=\"\",\"\",\n    IF($AU$21=\"TYP\",\n       IF(Z157=\"\",\"\", INDEX($Z$18:$Z$227, $AB$17-ROWS($Z$18:$Z157))),\n       IF($AU$21=\"INVERT\",Z158, \"\")\n    )\n)","v":""},"",null,{"$f":"IF(BL157>=$Z$12,\"\",IF(Y157=\"\",\"\",INDEX($Y$18:$Y$227,$AB$17-ROWS($Y$18:$Y157))))","v":""},{"$f":"IF(#REF!=\"\",\"\",#REF!/43560)","v":{"$error":"#REF!"}},{"$f":"#REF!","v":{"$error":"#REF!"}}]
["","",{"$f":"IF(B159=\"\",\"\",IFERROR(_xlfn.XLOOKUP(ROUND(B159,1),MetricIncrementalData[System Increment],_xlfn.XLOOKUP('Metric Incremental Crate'!$R$3,MetricIncrementalData[#Headers],MetricIncrementalData[]),,1),0))","v":""},"",{"$f":"IF(B159=\"\",\"\",IFERROR(_xlfn.XLOOKUP(ROUND(B159,1),MetricIncrementalData[System Increment],_xlfn.XLOOKUP(Metric_Incremental_Data_Target_Column,MetricIncrementalData[#Headers],MetricIncrementalData[]),,1),0))","v":""},{"$f":"IF(B159=\"\",\"\",IF(B160=\"\",((((B159-0)/100)*Metric_Module_Square_Foot_Area)-'Cumulative Volumes Metric'!E159)*Metric_Stone_Void_Percentage,((((B159-B160)/100)*Metric_Module_Square_Foot_Area)-'Cumulative Volumes Metric'!E159)*Metric_Stone_Void_Percentage))","v":""},"",{"$f":"IF(B159=\"\",\"\",((Metric_System_Area_Input-Metric_Number_Of_Stacks*_xlfn.XLOOKUP(Metric_Layers,CrateData[Layer],CrateData[Surface Area (m2)]))*((B159-IF(B160=\"\",0,B160))/100))*Metric_Stone_Void_Percentage)","v":""},"","",{"$f":"IF(B159=\"\",\"\",SUM(J159:$J$563))","v":""},"",{"$nulls":9},"",null,{"v":-0.3060000000000009,"d":"-0.31"},"","",null,"",{"$f":"IF($AU$21=\"INVERT\",Y159,IF(AC158>=$Z$12,\"\",IF(Y158=\"\",\"\",INDEX($Y$18:$Y$227,$AB$17-ROWS($Y$18:$Y158)))))","v":""},"","","",{"$nulls":26},{"$f":"IF($AU$21=\"INVERT\",Y159,IF(AC158>=$Z$12,\"\",IF(Y158=\"\",\"\",INDEX($Y$18:$Y$227,$AB$17-ROWS($Y$18:$Y158)))))","v":""},"",{"$f":"IF(AE158=\"\",\"\",\n    IF($AU$21=\"TYP\",\n       IF(Z158=\"\",\"\", INDEX($Z$18:$Z$227, $AB$17-ROWS($Z$18:$Z158))),\n       IF($AU$21=\"INVERT\",Z159, \"\")\n    )\n)","v":""},"",null,{"$f":"IF(BL158>=$Z$12,\"\",IF(Y158=\"\",\"\",INDEX($Y$18:$Y$227,$AB$17-ROWS($Y$18:$Y158))))","v":""},{"$f":"IF(#REF!=\"\",\"\",#REF!/43560)","v":{"$error":"#REF!"}},{"$f":"#REF!","v":{"$error":"#REF!"}}]
["","",{"$f":"IF(B160=\"\",\"\",IFERROR(_xlfn.XLOOKUP(ROUND(B160,1),MetricIncrementalData[System Increment],_xlfn.XLOOKUP('Metric Incremental Crate'!$R$3,MetricIncrementalData[#Headers],MetricIncrementalData[]),,1),0))","v":""},"",{"$f":"IF(B160=\"\",\"\",IFERROR(_xlfn.XLOOKUP(ROUND(B160,1),MetricIncrementalData[System Increment],_xlfn.XLOOKUP(Metric_Incremental_Data_Target_Column,MetricIncrementalData[#Headers],MetricIncrementalData[]),,1),0))","v":""},{"$f":"IF(B160=\"\",\"\",IF(B161=\"\",((((B160-0)/100)*Metric_Module_Square_Foot_Area)-'Cumulative Volumes Metric'!E160)*Metric_Stone_Void_Percentage,((((B160-B161)/100)*Metric_Module_Square_Foot_Area)-'Cumulative Volumes Metric'!E160)*Metric_Stone_Void_Percentage))","v":""},"",{"$f":"IF(B160=\"\",\"\",((Metric_System_Area_Input-Metric_Number_Of_Stacks*_xlfn.XLOOKUP(Metric_Layers,CrateData[Layer],CrateData[Surface Area (m2)]))*((B160-IF(B161=\"\",0,B161))/100))*Metric_Stone_Void_Percentage)","v":""},"","",{"$f":"IF(B160=\"\",\"\",SUM(J160:$J$563))","v":""},"",{"$nulls":9},"",null,{"v":-0.3160000000000009,"d":"-0.32"},"","",null,"",{"$f":"IF($AU$21=\"INVERT\",Y160,IF(AC159>=$Z$12,\"\",IF(Y159=\"\",\"\",INDEX($Y$18:$Y$227,$AB$17-ROWS($Y$18:$Y159)))))","v":""},"","","",{"$nulls":26},{"$f":"IF($AU$21=\"INVERT\",Y160,IF(AC159>=$Z$12,\"\",IF(Y159=\"\",\"\",INDEX($Y$18:$Y$227,$AB$17-ROWS($Y$18:$Y159)))))","v":""},"",{"$f":"IF(AE159=\"\",\"\",\n    IF($AU$21=\"TYP\",\n       IF(Z159=\"\",\"\", INDEX($Z$18:$Z$227, $AB$17-ROWS($Z$18:$Z159))),\n       IF($AU$21=\"INVERT\",Z160, \"\")\n    )\n)","v":""},"",null,{"$f":"IF(BL159>=$Z$12,\"\",IF(Y159=\"\",\"\",INDEX($Y$18:$Y$227,$AB$17-ROWS($Y$18:$Y159))))","v":""},{"$f":"IF(#REF!=\"\",\"\",#REF!/43560)","v":{"$error":"#REF!"}},{"$f":"#REF!","v":{"$error":"#REF!"}}]
["","",{"$f":"IF(B161=\"\",\"\",IFERROR(_xlfn.XLOOKUP(ROUND(B161,1),MetricIncrementalData[System Increment],_xlfn.XLOOKUP('Metric Incremental Crate'!$R$3,MetricIncrementalData[#Headers],MetricIncrementalData[]),,1),0))","v":""},"",{"$f":"IF(B161=\"\",\"\",IFERROR(_xlfn.XLOOKUP(ROUND(B161,1),MetricIncrementalData[System Increment],_xlfn.XLOOKUP(Metric_Incremental_Data_Target_Column,MetricIncrementalData[#Headers],MetricIncrementalData[]),,1),0))","v":""},{"$f":"IF(B161=\"\",\"\",IF(B162=\"\",((((B161-0)/100)*Metric_Module_Square_Foot_Area)-'Cumulative Volumes Metric'!E161)*Metric_Stone_Void_Percentage,((((B161-B162)/100)*Metric_Module_Square_Foot_Area)-'Cumulative Volumes Metric'!E161)*Metric_Stone_Void_Percentage))","v":""},"",{"$f":"IF(B161=\"\",\"\",((Metric_System_Area_Input-Metric_Number_Of_Stacks*_xlfn.XLOOKUP(Metric_Layers,CrateData[Layer],CrateData[Surface Area (m2)]))*((B161-IF(B162=\"\",0,B162))/100))*Metric_Stone_Void_Percentage)","v":""},"","",{"$f":"IF(B161=\"\",\"\",SUM(J161:$J$563))","v":""},"",{"$nulls":9},"",null,{"v":-0.3260000000000009,"d":"-0.33"},"","",null,"",{"$f":"IF($AU$21=\"INVERT\",Y161,IF(AC160>=$Z$12,\"\",IF(Y160=\"\",\"\",INDEX($Y$18:$Y$227,$AB$17-ROWS($Y$18:$Y160)))))","v":""},"","","",{"$nulls":26},{"$f":"IF($AU$21=\"INVERT\",Y161,IF(AC160>=$Z$12,\"\",IF(Y160=\"\",\"\",INDEX($Y$18:$Y$227,$AB$17-ROWS($Y$18:$Y160)))))","v":""},"",{"$f":"IF(AE160=\"\",\"\",\n    IF($AU$21=\"TYP\",\n       IF(Z160=\"\",\"\", INDEX($Z$18:$Z$227, $AB$17-ROWS($Z$18:$Z160))),\n       IF($AU$21=\"INVERT\",Z161, \"\")\n    )\n)","v":""},"",null,{"$f":"IF(BL160>=$Z$12,\"\",IF(Y160=\"\",\"\",INDEX($Y$18:$Y$227,$AB$17-ROWS($Y$18:$Y160))))","v":""},{"$f":"IF(#REF!=\"\",\"\",#REF!/43560)","v":{"$error":"#REF!"}},{"$f":"#REF!","v":{"$error":"#REF!"}}]
["","",{"$f":"IF(B162=\"\",\"\",IFERROR(_xlfn.XLOOKUP(ROUND(B162,1),MetricIncrementalData[System Increment],_xlfn.XLOOKUP('Metric Incremental Crate'!$R$3,MetricIncrementalData[#Headers],MetricIncrementalData[]),,1),0))","v":""},"",{"$f":"IF(B162=\"\",\"\",IFERROR(_xlfn.XLOOKUP(ROUND(B162,1),MetricIncrementalData[System Increment],_xlfn.XLOOKUP(Metric_Incremental_Data_Target_Column,MetricIncrementalData[#Headers],MetricIncrementalData[]),,1),0))","v":""},{"$f":"IF(B162=\"\",\"\",IF(B163=\"\",((((B162-0)/100)*Metric_Module_Square_Foot_Area)-'Cumulative Volumes Metric'!E162)*Metric_Stone_Void_Percentage,((((B162-B163)/100)*Metric_Module_Square_Foot_Area)-'Cumulative Volumes Metric'!E162)*Metric_Stone_Void_Percentage))","v":""},"",{"$f":"IF(B162=\"\",\"\",((Metric_System_Area_Input-Metric_Number_Of_Stacks*_xlfn.XLOOKUP(Metric_Layers,CrateData[Layer],CrateData[Surface Area (m2)]))*((B162-IF(B163=\"\",0,B163))/100))*Metric_Stone_Void_Percentage)","v":""},"","",{"$f":"IF(B162=\"\",\"\",SUM(J162:$J$563))","v":""},"",{"$nulls":9},"",null,{"v":-0.3360000000000009,"d":"-0.34"},"","",null,"",{"$f":"IF($AU$21=\"INVERT\",Y162,IF(AC161>=$Z$12,\"\",IF(Y161=\"\",\"\",INDEX($Y$18:$Y$227,$AB$17-ROWS($Y$18:$Y161)))))","v":""},"","","",{"$nulls":26},{"$f":"IF($AU$21=\"INVERT\",Y162,IF(AC161>=$Z$12,\"\",IF(Y161=\"\",\"\",INDEX($Y$18:$Y$227,$AB$17-ROWS($Y$18:$Y161)))))","v":""},"",{"$f":"IF(AE161=\"\",\"\",\n    IF($AU$21=\"TYP\",\n       IF(Z161=\"\",\"\", INDEX($Z$18:$Z$227, $AB$17-ROWS($Z$18:$Z161))),\n       IF($AU$21=\"INVERT\",Z162, \"\")\n    )\n)","v":""},"",null,{"$f":"IF(BL161>=$Z$12,\"\",IF(Y161=\"\",\"\",INDEX($Y$18:$Y$227,$AB$17-ROWS($Y$18:$Y161))))","v":""},{"$f":"IF(#REF!=\"\",\"\",#REF!/43560)","v":{"$error":"#REF!"}},{"$f":"#REF!","v":{"$error":"#REF!"}}]
["","",{"$f":"IF(B163=\"\",\"\",IFERROR(_xlfn.XLOOKUP(ROUND(B163,1),MetricIncrementalData[System Increment],_xlfn.XLOOKUP('Metric Incremental Crate'!$R$3,MetricIncrementalData[#Headers],MetricIncrementalData[]),,1),0))","v":""},"",{"$f":"IF(B163=\"\",\"\",IFERROR(_xlfn.XLOOKUP(ROUND(B163,1),MetricIncrementalData[System Increment],_xlfn.XLOOKUP(Metric_Incremental_Data_Target_Column,MetricIncrementalData[#Headers],MetricIncrementalData[]),,1),0))","v":""},{"$f":"IF(B163=\"\",\"\",IF(B164=\"\",((((B163-0)/100)*Metric_Module_Square_Foot_Area)-'Cumulative Volumes Metric'!E163)*Metric_Stone_Void_Percentage,((((B163-B164)/100)*Metric_Module_Square_Foot_Area)-'Cumulative Volumes Metric'!E163)*Metric_Stone_Void_Percentage))","v":""},"",{"$f":"IF(B163=\"\",\"\",((Metric_System_Area_Input-Metric_Number_Of_Stacks*_xlfn.XLOOKUP(Metric_Layers,CrateData[Layer],CrateData[Surface Area (m2)]))*((B163-IF(B164=\"\",0,B164))/100))*Metric_Stone_Void_Percentage)","v":""},"","",{"$f":"IF(B163=\"\",\"\",SUM(J163:$J$563))","v":""},"",{"$nulls":9},"",null,{"v":-0.3460000000000009,"d":"-0.35"},"","",null,"",{"$f":"IF($AU$21=\"INVERT\",Y163,IF(AC162>=$Z$12,\"\",IF(Y162=\"\",\"\",INDEX($Y$18:$Y$227,$AB$17-ROWS($Y$18:$Y162)))))","v":""},"","","",{"$nulls":26},{"$f":"IF($AU$21=\"INVERT\",Y163,IF(AC162>=$Z$12,\"\",IF(Y162=\"\",\"\",INDEX($Y$18:$Y$227,$AB$17-ROWS($Y$18:$Y162)))))","v":""},"",{"$f":"IF(AE162=\"\",\"\",\n    IF($AU$21=\"TYP\",\n       IF(Z162=\"\",\"\", INDEX($Z$18:$Z$227, $AB$17-ROWS($Z$18:$Z162))),\n       IF($AU$21=\"INVERT\",Z163, \"\")\n    )\n)","v":""},"",null,{"$f":"IF(BL162>=$Z$12,\"\",IF(Y162=\"\",\"\",INDEX($Y$18:$Y$227,$AB$17-ROWS($Y$18:$Y162))))","v":""},{"$f":"IF(#REF!=\"\",\"\",#REF!/43560)","v":{"$error":"#REF!"}},{"$f":"#REF!","v":{"$error":"#REF!"}}]
["","",{"$f":"IF(B164=\"\",\"\",IFERROR(_xlfn.XLOOKUP(ROUND(B164,1),MetricIncrementalData[System Increment],_xlfn.XLOOKUP('Metric Incremental Crate'!$R$3,MetricIncrementalData[#Headers],MetricIncrementalData[]),,1),0))","v":""},"",{"$f":"IF(B164=\"\",\"\",IFERROR(_xlfn.XLOOKUP(ROUND(B164,1),MetricIncrementalData[System Increment],_xlfn.XLOOKUP(Metric_Incremental_Data_Target_Column,MetricIncrementalData[#Headers],MetricIncrementalData[]),,1),0))","v":""},{"$f":"IF(B164=\"\",\"\",IF(B165=\"\",((((B164-0)/100)*Metric_Module_Square_Foot_Area)-'Cumulative Volumes Metric'!E164)*Metric_Stone_Void_Percentage,((((B164-B165)/100)*Metric_Module_Square_Foot_Area)-'Cumulative Volumes Metric'!E164)*Metric_Stone_Void_Percentage))","v":""},"",{"$f":"IF(B164=\"\",\"\",((Metric_System_Area_Input-Metric_Number_Of_Stacks*_xlfn.XLOOKUP(Metric_Layers,CrateData[Layer],CrateData[Surface Area (m2)]))*((B164-IF(B165=\"\",0,B165))/100))*Metric_Stone_Void_Percentage)","v":""},"","",{"$f":"IF(B164=\"\",\"\",SUM(J164:$J$563))","v":""},"",{"$nulls":9},"",null,{"v":-0.3560000000000009,"d":"-0.36"},"","",null,"",{"$f":"IF($AU$21=\"INVERT\",Y164,IF(AC163>=$Z$12,\"\",IF(Y163=\"\",\"\",INDEX($Y$18:$Y$227,$AB$17-ROWS($Y$18:$Y163)))))","v":""},"","","",{"$nulls":26},{"$f":"IF($AU$21=\"INVERT\",Y164,IF(AC163>=$Z$12,\"\",IF(Y163=\"\",\"\",INDEX($Y$18:$Y$227,$AB$17-ROWS($Y$18:$Y163)))))","v":""},"",{"$f":"IF(AE163=\"\",\"\",\n    IF($AU$21=\"TYP\",\n       IF(Z163=\"\",\"\", INDEX($Z$18:$Z$227, $AB$17-ROWS($Z$18:$Z163))),\n       IF($AU$21=\"INVERT\",Z164, \"\")\n    )\n)","v":""},"",null,{"$f":"IF(BL163>=$Z$12,\"\",IF(Y163=\"\",\"\",INDEX($Y$18:$Y$227,$AB$17-ROWS($Y$18:$Y163))))","v":""},{"$f":"IF(#REF!=\"\",\"\",#REF!/43560)","v":{"$error":"#REF!"}},{"$f":"#REF!","v":{"$error":"#REF!"}}]
["","",{"$f":"IF(B165=\"\",\"\",IFERROR(_xlfn.XLOOKUP(ROUND(B165,1),MetricIncrementalData[System Increment],_xlfn.XLOOKUP('Metric Incremental Crate'!$R$3,MetricIncrementalData[#Headers],MetricIncrementalData[]),,1),0))","v":""},"",{"$f":"IF(B165=\"\",\"\",IFERROR(_xlfn.XLOOKUP(ROUND(B165,1),MetricIncrementalData[System Increment],_xlfn.XLOOKUP(Metric_Incremental_Data_Target_Column,MetricIncrementalData[#Headers],MetricIncrementalData[]),,1),0))","v":""},{"$f":"IF(B165=\"\",\"\",IF(B166=\"\",((((B165-0)/100)*Metric_Module_Square_Foot_Area)-'Cumulative Volumes Metric'!E165)*Metric_Stone_Void_Percentage,((((B165-B166)/100)*Metric_Module_Square_Foot_Area)-'Cumulative Volumes Metric'!E165)*Metric_Stone_Void_Percentage))","v":""},"",{"$f":"IF(B165=\"\",\"\",((Metric_System_Area_Input-Metric_Number_Of_Stacks*_xlfn.XLOOKUP(Metric_Layers,CrateData[Layer],CrateData[Surface Area (m2)]))*((B165-IF(B166=\"\",0,B166))/100))*Metric_Stone_Void_Percentage)","v":""},"","",{"$f":"IF(B165=\"\",\"\",SUM(J165:$J$563))","v":""},"",{"$nulls":9},"",null,{"v":-0.36600000000000094,"d":"-0.37"},"","",null,"",{"$f":"IF($AU$21=\"INVERT\",Y165,IF(AC164>=$Z$12,\"\",IF(Y164=\"\",\"\",INDEX($Y$18:$Y$227,$AB$17-ROWS($Y$18:$Y164)))))","v":""},"","","",{"$nulls":26},{"$f":"IF($AU$21=\"INVERT\",Y165,IF(AC164>=$Z$12,\"\",IF(Y164=\"\",\"\",INDEX($Y$18:$Y$227,$AB$17-ROWS($Y$18:$Y164)))))","v":""},"",{"$f":"IF(AE164=\"\",\"\",\n    IF($AU$21=\"TYP\",\n       IF(Z164=\"\",\"\", INDEX($Z$18:$Z$227, $AB$17-ROWS($Z$18:$Z164))),\n       IF($AU$21=\"INVERT\",Z165, \"\")\n    )\n)","v":""},"",null,{"$f":"IF(BL164>=$Z$12,\"\",IF(Y164=\"\",\"\",INDEX($Y$18:$Y$227,$AB$17-ROWS($Y$18:$Y164))))","v":""},{"$f":"IF(#REF!=\"\",\"\",#REF!/43560)","v":{"$error":"#REF!"}},{"$f":"#REF!","v":{"$error":"#REF!"}}]
["","",{"$f":"IF(B166=\"\",\"\",IFERROR(_xlfn.XLOOKUP(ROUND(B166,1),MetricIncrementalData[System Increment],_xlfn.XLOOKUP('Metric Incremental Crate'!$R$3,MetricIncrementalData[#Headers],MetricIncrementalData[]),,1),0))","v":""},"",{"$f":"IF(B166=\"\",\"\",IFERROR(_xlfn.XLOOKUP(ROUND(B166,1),MetricIncrementalData[System Increment],_xlfn.XLOOKUP(Metric_Incremental_Data_Target_Column,MetricIncrementalData[#Headers],MetricIncrementalData[]),,1),0))","v":""},{"$f":"IF(B166=\"\",\"\",IF(B167=\"\",((((B166-0)/100)*Metric_Module_Square_Foot_Area)-'Cumulative Volumes Metric'!E166)*Metric_Stone_Void_Percentage,((((B166-B167)/100)*Metric_Module_Square_Foot_Area)-'Cumulative Volumes Metric'!E166)*Metric_Stone_Void_Percentage))","v":""},"",{"$f":"IF(B166=\"\",\"\",((Metric_System_Area_Input-Metric_Number_Of_Stacks*_xlfn.XLOOKUP(Metric_Layers,CrateData[Layer],CrateData[Surface Area (m2)]))*((B166-IF(B167=\"\",0,B167))/100))*Metric_Stone_Void_Percentage)","v":""},"","",{"$f":"IF(B166=\"\",\"\",SUM(J166:$J$563))","v":""},"",{"$nulls":9},"",null,{"v":-0.37600000000000094,"d":"-0.38"},"","",null,"",{"$f":"IF($AU$21=\"INVERT\",Y166,IF(AC165>=$Z$12,\"\",IF(Y165=\"\",\"\",INDEX($Y$18:$Y$227,$AB$17-ROWS($Y$18:$Y165)))))","v":""},"","","",{"$nulls":26},{"$f":"IF($AU$21=\"INVERT\",Y166,IF(AC165>=$Z$12,\"\",IF(Y165=\"\",\"\",INDEX($Y$18:$Y$227,$AB$17-ROWS($Y$18:$Y165)))))","v":""},"",{"$f":"IF(AE165=\"\",\"\",\n    IF($AU$21=\"TYP\",\n       IF(Z165=\"\",\"\", INDEX($Z$18:$Z$227, $AB$17-ROWS($Z$18:$Z165))),\n       IF($AU$21=\"INVERT\",Z166, \"\")\n    )\n)","v":""},"",null,{"$f":"IF(BL165>=$Z$12,\"\",IF(Y165=\"\",\"\",INDEX($Y$18:$Y$227,$AB$17-ROWS($Y$18:$Y165))))","v":""},{"$f":"IF(#REF!=\"\",\"\",#REF!/43560)","v":{"$error":"#REF!"}},{"$f":"#REF!","v":{"$error":"#REF!"}}]
["","",{"$f":"IF(B167=\"\",\"\",IFERROR(_xlfn.XLOOKUP(ROUND(B167,1),MetricIncrementalData[System Increment],_xlfn.XLOOKUP('Metric Incremental Crate'!$R$3,MetricIncrementalData[#Headers],MetricIncrementalData[]),,1),0))","v":""},"",{"$f":"IF(B167=\"\",\"\",IFERROR(_xlfn.XLOOKUP(ROUND(B167,1),MetricIncrementalData[System Increment],_xlfn.XLOOKUP(Metric_Incremental_Data_Target_Column,MetricIncrementalData[#Headers],MetricIncrementalData[]),,1),0))","v":""},{"$f":"IF(B167=\"\",\"\",IF(B168=\"\",((((B167-0)/100)*Metric_Module_Square_Foot_Area)-'Cumulative Volumes Metric'!E167)*Metric_Stone_Void_Percentage,((((B167-B168)/100)*Metric_Module_Square_Foot_Area)-'Cumulative Volumes Metric'!E167)*Metric_Stone_Void_Percentage))","v":""},"",{"$f":"IF(B167=\"\",\"\",((Metric_System_Area_Input-Metric_Number_Of_Stacks*_xlfn.XLOOKUP(Metric_Layers,CrateData[Layer],CrateData[Surface Area (m2)]))*((B167-IF(B168=\"\",0,B168))/100))*Metric_Stone_Void_Percentage)","v":""},"","",{"$f":"IF(B167=\"\",\"\",SUM(J167:$J$563))","v":""},"",{"$nulls":9},"",null,{"v":-0.38600000000000095,"d":"-0.39"},"","",null,"",{"$f":"IF($AU$21=\"INVERT\",Y167,IF(AC166>=$Z$12,\"\",IF(Y166=\"\",\"\",INDEX($Y$18:$Y$227,$AB$17-ROWS($Y$18:$Y166)))))","v":""},"","","",{"$nulls":26},{"$f":"IF($AU$21=\"INVERT\",Y167,IF(AC166>=$Z$12,\"\",IF(Y166=\"\",\"\",INDEX($Y$18:$Y$227,$AB$17-ROWS($Y$18:$Y166)))))","v":""},"",{"$f":"IF(AE166=\"\",\"\",\n    IF($AU$21=\"TYP\",\n       IF(Z166=\"\",\"\", INDEX($Z$18:$Z$227, $AB$17-ROWS($Z$18:$Z166))),\n       IF($AU$21=\"INVERT\",Z167, \"\")\n    )\n)","v":""},"",null,{"$f":"IF(BL166>=$Z$12,\"\",IF(Y166=\"\",\"\",INDEX($Y$18:$Y$227,$AB$17-ROWS($Y$18:$Y166))))","v":""},{"$f":"IF(#REF!=\"\",\"\",#REF!/43560)","v":{"$error":"#REF!"}},{"$f":"#REF!","v":{"$error":"#REF!"}}]
["","",{"$f":"IF(B168=\"\",\"\",IFERROR(_xlfn.XLOOKUP(ROUND(B168,1),MetricIncrementalData[System Increment],_xlfn.XLOOKUP('Metric Incremental Crate'!$R$3,MetricIncrementalData[#Headers],MetricIncrementalData[]),,1),0))","v":""},"",{"$f":"IF(B168=\"\",\"\",IFERROR(_xlfn.XLOOKUP(ROUND(B168,1),MetricIncrementalData[System Increment],_xlfn.XLOOKUP(Metric_Incremental_Data_Target_Column,MetricIncrementalData[#Headers],MetricIncrementalData[]),,1),0))","v":""},{"$f":"IF(B168=\"\",\"\",IF(B169=\"\",((((B168-0)/100)*Metric_Module_Square_Foot_Area)-'Cumulative Volumes Metric'!E168)*Metric_Stone_Void_Percentage,((((B168-B169)/100)*Metric_Module_Square_Foot_Area)-'Cumulative Volumes Metric'!E168)*Metric_Stone_Void_Percentage))","v":""},"",{"$f":"IF(B168=\"\",\"\",((Metric_System_Area_Input-Metric_Number_Of_Stacks*_xlfn.XLOOKUP(Metric_Layers,CrateData[Layer],CrateData[Surface Area (m2)]))*((B168-IF(B169=\"\",0,B169))/100))*Metric_Stone_Void_Percentage)","v":""},"","",{"$f":"IF(B168=\"\",\"\",SUM(J168:$J$563))","v":""},"",{"$nulls":9},"",null,{"v":-0.39600000000000096,"d":"-0.40"},"","",null,"",{"$f":"IF($AU$21=\"INVERT\",Y168,IF(AC167>=$Z$12,\"\",IF(Y167=\"\",\"\",INDEX($Y$18:$Y$227,$AB$17-ROWS($Y$18:$Y167)))))","v":""},"","","",{"$nulls":26},{"$f":"IF($AU$21=\"INVERT\",Y168,IF(AC167>=$Z$12,\"\",IF(Y167=\"\",\"\",INDEX($Y$18:$Y$227,$AB$17-ROWS($Y$18:$Y167)))))","v":""},"",{"$f":"IF(AE167=\"\",\"\",\n    IF($AU$21=\"TYP\",\n       IF(Z167=\"\",\"\", INDEX($Z$18:$Z$227, $AB$17-ROWS($Z$18:$Z167))),\n       IF($AU$21=\"INVERT\",Z168, \"\")\n    )\n)","v":""},"",null,{"$f":"IF(BL167>=$Z$12,\"\",IF(Y167=\"\",\"\",INDEX($Y$18:$Y$227,$AB$17-ROWS($Y$18:$Y167))))","v":""},{"$f":"IF(#REF!=\"\",\"\",#REF!/43560)","v":{"$error":"#REF!"}},{"$f":"#REF!","v":{"$error":"#REF!"}}]
["","",{"$f":"IF(B169=\"\",\"\",IFERROR(_xlfn.XLOOKUP(ROUND(B169,1),MetricIncrementalData[System Increment],_xlfn.XLOOKUP('Metric Incremental Crate'!$R$3,MetricIncrementalData[#Headers],MetricIncrementalData[]),,1),0))","v":""},"",{"$f":"IF(B169=\"\",\"\",IFERROR(_xlfn.XLOOKUP(ROUND(B169,1),MetricIncrementalData[System Increment],_xlfn.XLOOKUP(Metric_Incremental_Data_Target_Column,MetricIncrementalData[#Headers],MetricIncrementalData[]),,1),0))","v":""},{"$f":"IF(B169=\"\",\"\",IF(B170=\"\",((((B169-0)/100)*Metric_Module_Square_Foot_Area)-'Cumulative Volumes Metric'!E169)*Metric_Stone_Void_Percentage,((((B169-B170)/100)*Metric_Module_Square_Foot_Area)-'Cumulative Volumes Metric'!E169)*Metric_Stone_Void_Percentage))","v":""},"",{"$f":"IF(B169=\"\",\"\",((Metric_System_Area_Input-Metric_Number_Of_Stacks*_xlfn.XLOOKUP(Metric_Layers,CrateData[Layer],CrateData[Surface Area (m2)]))*((B169-IF(B170=\"\",0,B170))/100))*Metric_Stone_Void_Percentage)","v":""},"","",{"$f":"IF(B169=\"\",\"\",SUM(J169:$J$563))","v":""},"",{"$nulls":9},"",null,{"v":-0.40600000000000097,"d":"-0.41"},"","",null,"",{"$f":"IF($AU$21=\"INVERT\",Y169,IF(AC168>=$Z$12,\"\",IF(Y168=\"\",\"\",INDEX($Y$18:$Y$227,$AB$17-ROWS($Y$18:$Y168)))))","v":""},"","","",{"$nulls":26},{"$f":"IF($AU$21=\"INVERT\",Y169,IF(AC168>=$Z$12,\"\",IF(Y168=\"\",\"\",INDEX($Y$18:$Y$227,$AB$17-ROWS($Y$18:$Y168)))))","v":""},"",{"$f":"IF(AE168=\"\",\"\",\n    IF($AU$21=\"TYP\",\n       IF(Z168=\"\",\"\", INDEX($Z$18:$Z$227, $AB$17-ROWS($Z$18:$Z168))),\n       IF($AU$21=\"INVERT\",Z169, \"\")\n    )\n)","v":""},"",null,{"$f":"IF(BL168>=$Z$12,\"\",IF(Y168=\"\",\"\",INDEX($Y$18:$Y$227,$AB$17-ROWS($Y$18:$Y168))))","v":""},{"$f":"IF(#REF!=\"\",\"\",#REF!/43560)","v":{"$error":"#REF!"}},{"$f":"#REF!","v":{"$error":"#REF!"}}]
["","",{"$f":"IF(B170=\"\",\"\",IFERROR(_xlfn.XLOOKUP(ROUND(B170,1),MetricIncrementalData[System Increment],_xlfn.XLOOKUP('Metric Incremental Crate'!$R$3,MetricIncrementalData[#Headers],MetricIncrementalData[]),,1),0))","v":""},"",{"$f":"IF(B170=\"\",\"\",IFERROR(_xlfn.XLOOKUP(ROUND(B170,1),MetricIncrementalData[System Increment],_xlfn.XLOOKUP(Metric_Incremental_Data_Target_Column,MetricIncrementalData[#Headers],MetricIncrementalData[]),,1),0))","v":""},{"$f":"IF(B170=\"\",\"\",IF(B171=\"\",((((B170-0)/100)*Metric_Module_Square_Foot_Area)-'Cumulative Volumes Metric'!E170)*Metric_Stone_Void_Percentage,((((B170-B171)/100)*Metric_Module_Square_Foot_Area)-'Cumulative Volumes Metric'!E170)*Metric_Stone_Void_Percentage))","v":""},"",{"$f":"IF(B170=\"\",\"\",((Metric_System_Area_Input-Metric_Number_Of_Stacks*_xlfn.XLOOKUP(Metric_Layers,CrateData[Layer],CrateData[Surface Area (m2)]))*((B170-IF(B171=\"\",0,B171))/100))*Metric_Stone_Void_Percentage)","v":""},"","",{"$f":"IF(B170=\"\",\"\",SUM(J170:$J$563))","v":""},"",{"$nulls":9},"",null,{"v":-0.416000000000001,"d":"-0.42"},"","",null,"",{"$f":"IF($AU$21=\"INVERT\",Y170,IF(AC169>=$Z$12,\"\",IF(Y169=\"\",\"\",INDEX($Y$18:$Y$227,$AB$17-ROWS($Y$18:$Y169)))))","v":""},"","","",{"$nulls":26},{"$f":"IF($AU$21=\"INVERT\",Y170,IF(AC169>=$Z$12,\"\",IF(Y169=\"\",\"\",INDEX($Y$18:$Y$227,$AB$17-ROWS($Y$18:$Y169)))))","v":""},"",{"$f":"IF(AE169=\"\",\"\",\n    IF($AU$21=\"TYP\",\n       IF(Z169=\"\",\"\", INDEX($Z$18:$Z$227, $AB$17-ROWS($Z$18:$Z169))),\n       IF($AU$21=\"INVERT\",Z170, \"\")\n    )\n)","v":""},"",null,{"$f":"IF(BL169>=$Z$12,\"\",IF(Y169=\"\",\"\",INDEX($Y$18:$Y$227,$AB$17-ROWS($Y$18:$Y169))))","v":""},{"$f":"IF(#REF!=\"\",\"\",#REF!/43560)","v":{"$error":"#REF!"}},{"$f":"#REF!","v":{"$error":"#REF!"}}]
["","",{"$f":"IF(B171=\"\",\"\",IFERROR(_xlfn.XLOOKUP(ROUND(B171,1),MetricIncrementalData[System Increment],_xlfn.XLOOKUP('Metric Incremental Crate'!$R$3,MetricIncrementalData[#Headers],MetricIncrementalData[]),,1),0))","v":""},"",{"$f":"IF(B171=\"\",\"\",IFERROR(_xlfn.XLOOKUP(ROUND(B171,1),MetricIncrementalData[System Increment],_xlfn.XLOOKUP(Metric_Incremental_Data_Target_Column,MetricIncrementalData[#Headers],MetricIncrementalData[]),,1),0))","v":""},{"$f":"IF(B171=\"\",\"\",IF(B172=\"\",((((B171-0)/100)*Metric_Module_Square_Foot_Area)-'Cumulative Volumes Metric'!E171)*Metric_Stone_Void_Percentage,((((B171-B172)/100)*Metric_Module_Square_Foot_Area)-'Cumulative Volumes Metric'!E171)*Metric_Stone_Void_Percentage))","v":""},"",{"$f":"IF(B171=\"\",\"\",((Metric_System_Area_Input-Metric_Number_Of_Stacks*_xlfn.XLOOKUP(Metric_Layers,CrateData[Layer],CrateData[Surface Area (m2)]))*((B171-IF(B172=\"\",0,B172))/100))*Metric_Stone_Void_Percentage)","v":""},"","",{"$f":"IF(B171=\"\",\"\",SUM(J171:$J$563))","v":""},"",{"$nulls":9},"",null,{"v":-0.426000000000001,"d":"-0.43"},"","",null,"",{"$f":"IF($AU$21=\"INVERT\",Y171,IF(AC170>=$Z$12,\"\",IF(Y170=\"\",\"\",INDEX($Y$18:$Y$227,$AB$17-ROWS($Y$18:$Y170)))))","v":""},"","","",{"$nulls":26},{"$f":"IF($AU$21=\"INVERT\",Y171,IF(AC170>=$Z$12,\"\",IF(Y170=\"\",\"\",INDEX($Y$18:$Y$227,$AB$17-ROWS($Y$18:$Y170)))))","v":""},"",{"$f":"IF(AE170=\"\",\"\",\n    IF($AU$21=\"TYP\",\n       IF(Z170=\"\",\"\", INDEX($Z$18:$Z$227, $AB$17-ROWS($Z$18:$Z170))),\n       IF($AU$21=\"INVERT\",Z171, \"\")\n    )\n)","v":""},"",null,{"$f":"IF(BL170>=$Z$12,\"\",IF(Y170=\"\",\"\",INDEX($Y$18:$Y$227,$AB$17-ROWS($Y$18:$Y170))))","v":""},{"$f":"IF(#REF!=\"\",\"\",#REF!/43560)","v":{"$error":"#REF!"}},{"$f":"#REF!","v":{"$error":"#REF!"}}]
["","",{"$f":"IF(B172=\"\",\"\",IFERROR(_xlfn.XLOOKUP(ROUND(B172,1),MetricIncrementalData[System Increment],_xlfn.XLOOKUP('Metric Incremental Crate'!$R$3,MetricIncrementalData[#Headers],MetricIncrementalData[]),,1),0))","v":""},"",{"$f":"IF(B172=\"\",\"\",IFERROR(_xlfn.XLOOKUP(ROUND(B172,1),MetricIncrementalData[System Increment],_xlfn.XLOOKUP(Metric_Incremental_Data_Target_Column,MetricIncrementalData[#Headers],MetricIncrementalData[]),,1),0))","v":""},{"$f":"IF(B172=\"\",\"\",IF(B173=\"\",((((B172-0)/100)*Metric_Module_Square_Foot_Area)-'Cumulative Volumes Metric'!E172)*Metric_Stone_Void_Percentage,((((B172-B173)/100)*Metric_Module_Square_Foot_Area)-'Cumulative Volumes Metric'!E172)*Metric_Stone_Void_Percentage))","v":""},"",{"$f":"IF(B172=\"\",\"\",((Metric_System_Area_Input-Metric_Number_Of_Stacks*_xlfn.XLOOKUP(Metric_Layers,CrateData[Layer],CrateData[Surface Area (m2)]))*((B172-IF(B173=\"\",0,B173))/100))*Metric_Stone_Void_Percentage)","v":""},"","",{"$f":"IF(B172=\"\",\"\",SUM(J172:$J$563))","v":""},"",{"$nulls":9},"",null,{"v":-0.436000000000001,"d":"-0.44"},"","",null,"",{"$f":"IF($AU$21=\"INVERT\",Y172,IF(AC171>=$Z$12,\"\",IF(Y171=\"\",\"\",INDEX($Y$18:$Y$227,$AB$17-ROWS($Y$18:$Y171)))))","v":""},"","","",{"$nulls":26},{"$f":"IF($AU$21=\"INVERT\",Y172,IF(AC171>=$Z$12,\"\",IF(Y171=\"\",\"\",INDEX($Y$18:$Y$227,$AB$17-ROWS($Y$18:$Y171)))))","v":""},"",{"$f":"IF(AE171=\"\",\"\",\n    IF($AU$21=\"TYP\",\n       IF(Z171=\"\",\"\", INDEX($Z$18:$Z$227, $AB$17-ROWS($Z$18:$Z171))),\n       IF($AU$21=\"INVERT\",Z172, \"\")\n    )\n)","v":""},"",null,{"$f":"IF(BL171>=$Z$12,\"\",IF(Y171=\"\",\"\",INDEX($Y$18:$Y$227,$AB$17-ROWS($Y$18:$Y171))))","v":""},{"$f":"IF(#REF!=\"\",\"\",#REF!/43560)","v":{"$error":"#REF!"}},{"$f":"#REF!","v":{"$error":"#REF!"}}]
["","",{"$f":"IF(B173=\"\",\"\",IFERROR(_xlfn.XLOOKUP(ROUND(B173,1),MetricIncrementalData[System Increment],_xlfn.XLOOKUP('Metric Incremental Crate'!$R$3,MetricIncrementalData[#Headers],MetricIncrementalData[]),,1),0))","v":""},"",{"$f":"IF(B173=\"\",\"\",IFERROR(_xlfn.XLOOKUP(ROUND(B173,1),MetricIncrementalData[System Increment],_xlfn.XLOOKUP(Metric_Incremental_Data_Target_Column,MetricIncrementalData[#Headers],MetricIncrementalData[]),,1),0))","v":""},{"$f":"IF(B173=\"\",\"\",IF(B174=\"\",((((B173-0)/100)*Metric_Module_Square_Foot_Area)-'Cumulative Volumes Metric'!E173)*Metric_Stone_Void_Percentage,((((B173-B174)/100)*Metric_Module_Square_Foot_Area)-'Cumulative Volumes Metric'!E173)*Metric_Stone_Void_Percentage))","v":""},"",{"$f":"IF(B173=\"\",\"\",((Metric_System_Area_Input-Metric_Number_Of_Stacks*_xlfn.XLOOKUP(Metric_Layers,CrateData[Layer],CrateData[Surface Area (m2)]))*((B173-IF(B174=\"\",0,B174))/100))*Metric_Stone_Void_Percentage)","v":""},"","",{"$f":"IF(B173=\"\",\"\",SUM(J173:$J$563))","v":""},"",{"$nulls":9},"",null,{"v":-0.446000000000001,"d":"-0.45"},"","",null,"",{"$f":"IF($AU$21=\"INVERT\",Y173,IF(AC172>=$Z$12,\"\",IF(Y172=\"\",\"\",INDEX($Y$18:$Y$227,$AB$17-ROWS($Y$18:$Y172)))))","v":""},"","","",{"$nulls":26},{"$f":"IF($AU$21=\"INVERT\",Y173,IF(AC172>=$Z$12,\"\",IF(Y172=\"\",\"\",INDEX($Y$18:$Y$227,$AB$17-ROWS($Y$18:$Y172)))))","v":""},"",{"$f":"IF(AE172=\"\",\"\",\n    IF($AU$21=\"TYP\",\n       IF(Z172=\"\",\"\", INDEX($Z$18:$Z$227, $AB$17-ROWS($Z$18:$Z172))),\n       IF($AU$21=\"INVERT\",Z173, \"\")\n    )\n)","v":""},"",null,{"$f":"IF(BL172>=$Z$12,\"\",IF(Y172=\"\",\"\",INDEX($Y$18:$Y$227,$AB$17-ROWS($Y$18:$Y172))))","v":""},{"$f":"IF(#REF!=\"\",\"\",#REF!/43560)","v":{"$error":"#REF!"}},{"$f":"#REF!","v":{"$error":"#REF!"}}]
["","",{"$f":"IF(B174=\"\",\"\",IFERROR(_xlfn.XLOOKUP(ROUND(B174,1),MetricIncrementalData[System Increment],_xlfn.XLOOKUP('Metric Incremental Crate'!$R$3,MetricIncrementalData[#Headers],MetricIncrementalData[]),,1),0))","v":""},"",{"$f":"IF(B174=\"\",\"\",IFERROR(_xlfn.XLOOKUP(ROUND(B174,1),MetricIncrementalData[System Increment],_xlfn.XLOOKUP(Metric_Incremental_Data_Target_Column,MetricIncrementalData[#Headers],MetricIncrementalData[]),,1),0))","v":""},{"$f":"IF(B174=\"\",\"\",IF(B175=\"\",((((B174-0)/100)*Metric_Module_Square_Foot_Area)-'Cumulative Volumes Metric'!E174)*Metric_Stone_Void_Percentage,((((B174-B175)/100)*Metric_Module_Square_Foot_Area)-'Cumulative Volumes Metric'!E174)*Metric_Stone_Void_Percentage))","v":""},"",{"$f":"IF(B174=\"\",\"\",((Metric_System_Area_Input-Metric_Number_Of_Stacks*_xlfn.XLOOKUP(Metric_Layers,CrateData[Layer],CrateData[Surface Area (m2)]))*((B174-IF(B175=\"\",0,B175))/100))*Metric_Stone_Void_Percentage)","v":""},"","",{"$f":"IF(B174=\"\",\"\",SUM(J174:$J$563))","v":""},"",{"$nulls":9},"",null,{"v":-0.456000000000001,"d":"-0.46"},"","",null,"",{"$f":"IF($AU$21=\"INVERT\",Y174,IF(AC173>=$Z$12,\"\",IF(Y173=\"\",\"\",INDEX($Y$18:$Y$227,$AB$17-ROWS($Y$18:$Y173)))))","v":""},"","","",{"$nulls":26},{"$f":"IF($AU$21=\"INVERT\",Y174,IF(AC173>=$Z$12,\"\",IF(Y173=\"\",\"\",INDEX($Y$18:$Y$227,$AB$17-ROWS($Y$18:$Y173)))))","v":""},"",{"$f":"IF(AE173=\"\",\"\",\n    IF($AU$21=\"TYP\",\n       IF(Z173=\"\",\"\", INDEX($Z$18:$Z$227, $AB$17-ROWS($Z$18:$Z173))),\n       IF($AU$21=\"INVERT\",Z174, \"\")\n    )\n)","v":""},"",null,{"$f":"IF(BL173>=$Z$12,\"\",IF(Y173=\"\",\"\",INDEX($Y$18:$Y$227,$AB$17-ROWS($Y$18:$Y173))))","v":""},{"$f":"IF(#REF!=\"\",\"\",#REF!/43560)","v":{"$error":"#REF!"}},{"$f":"#REF!","v":{"$error":"#REF!"}}]
["","",{"$f":"IF(B175=\"\",\"\",IFERROR(_xlfn.XLOOKUP(ROUND(B175,1),MetricIncrementalData[System Increment],_xlfn.XLOOKUP('Metric Incremental Crate'!$R$3,MetricIncrementalData[#Headers],MetricIncrementalData[]),,1),0))","v":""},"",{"$f":"IF(B175=\"\",\"\",IFERROR(_xlfn.XLOOKUP(ROUND(B175,1),MetricIncrementalData[System Increment],_xlfn.XLOOKUP(Metric_Incremental_Data_Target_Column,MetricIncrementalData[#Headers],MetricIncrementalData[]),,1),0))","v":""},{"$f":"IF(B175=\"\",\"\",IF(B176=\"\",((((B175-0)/100)*Metric_Module_Square_Foot_Area)-'Cumulative Volumes Metric'!E175)*Metric_Stone_Void_Percentage,((((B175-B176)/100)*Metric_Module_Square_Foot_Area)-'Cumulative Volumes Metric'!E175)*Metric_Stone_Void_Percentage))","v":""},"",{"$f":"IF(B175=\"\",\"\",((Metric_System_Area_Input-Metric_Number_Of_Stacks*_xlfn.XLOOKUP(Metric_Layers,CrateData[Layer],CrateData[Surface Area (m2)]))*((B175-IF(B176=\"\",0,B176))/100))*Metric_Stone_Void_Percentage)","v":""},"","",{"$f":"IF(B175=\"\",\"\",SUM(J175:$J$563))","v":""},"",{"$nulls":9},"",null,{"v":-0.466000000000001,"d":"-0.47"},"","",null,"",{"$f":"IF($AU$21=\"INVERT\",Y175,IF(AC174>=$Z$12,\"\",IF(Y174=\"\",\"\",INDEX($Y$18:$Y$227,$AB$17-ROWS($Y$18:$Y174)))))","v":""},"","","",{"$nulls":26},{"$f":"IF($AU$21=\"INVERT\",Y175,IF(AC174>=$Z$12,\"\",IF(Y174=\"\",\"\",INDEX($Y$18:$Y$227,$AB$17-ROWS($Y$18:$Y174)))))","v":""},"",{"$f":"IF(AE174=\"\",\"\",\n    IF($AU$21=\"TYP\",\n       IF(Z174=\"\",\"\", INDEX($Z$18:$Z$227, $AB$17-ROWS($Z$18:$Z174))),\n       IF($AU$21=\"INVERT\",Z175, \"\")\n    )\n)","v":""},"",null,{"$f":"IF(BL174>=$Z$12,\"\",IF(Y174=\"\",\"\",INDEX($Y$18:$Y$227,$AB$17-ROWS($Y$18:$Y174))))","v":""},{"$f":"IF(#REF!=\"\",\"\",#REF!/43560)","v":{"$error":"#REF!"}},{"$f":"#REF!","v":{"$error":"#REF!"}}]
["","",{"$f":"IF(B176=\"\",\"\",IFERROR(_xlfn.XLOOKUP(ROUND(B176,1),MetricIncrementalData[System Increment],_xlfn.XLOOKUP('Metric Incremental Crate'!$R$3,MetricIncrementalData[#Headers],MetricIncrementalData[]),,1),0))","v":""},"",{"$f":"IF(B176=\"\",\"\",IFERROR(_xlfn.XLOOKUP(ROUND(B176,1),MetricIncrementalData[System Increment],_xlfn.XLOOKUP(Metric_Incremental_Data_Target_Column,MetricIncrementalData[#Headers],MetricIncrementalData[]),,1),0))","v":""},{"$f":"IF(B176=\"\",\"\",IF(B177=\"\",((((B176-0)/100)*Metric_Module_Square_Foot_Area)-'Cumulative Volumes Metric'!E176)*Metric_Stone_Void_Percentage,((((B176-B177)/100)*Metric_Module_Square_Foot_Area)-'Cumulative Volumes Metric'!E176)*Metric_Stone_Void_Percentage))","v":""},"",{"$f":"IF(B176=\"\",\"\",((Metric_System_Area_Input-Metric_Number_Of_Stacks*_xlfn.XLOOKUP(Metric_Layers,CrateData[Layer],CrateData[Surface Area (m2)]))*((B176-IF(B177=\"\",0,B177))/100))*Metric_Stone_Void_Percentage)","v":""},"","",{"$f":"IF(B176=\"\",\"\",SUM(J176:$J$563))","v":""},"",{"$nulls":9},"",null,{"v":-0.47600000000000103,"d":"-0.48"},"","",null,"",{"$f":"IF($AU$21=\"INVERT\",Y176,IF(AC175>=$Z$12,\"\",IF(Y175=\"\",\"\",INDEX($Y$18:$Y$227,$AB$17-ROWS($Y$18:$Y175)))))","v":""},"","","",{"$nulls":26},{"$f":"IF($AU$21=\"INVERT\",Y176,IF(AC175>=$Z$12,\"\",IF(Y175=\"\",\"\",INDEX($Y$18:$Y$227,$AB$17-ROWS($Y$18:$Y175)))))","v":""},"",{"$f":"IF(AE175=\"\",\"\",\n    IF($AU$21=\"TYP\",\n       IF(Z175=\"\",\"\", INDEX($Z$18:$Z$227, $AB$17-ROWS($Z$18:$Z175))),\n       IF($AU$21=\"INVERT\",Z176, \"\")\n    )\n)","v":""},"",null,{"$f":"IF(BL175>=$Z$12,\"\",IF(Y175=\"\",\"\",INDEX($Y$18:$Y$227,$AB$17-ROWS($Y$18:$Y175))))","v":""},{"$f":"IF(#REF!=\"\",\"\",#REF!/43560)","v":{"$error":"#REF!"}},{"$f":"#REF!","v":{"$error":"#REF!"}}]
["","",{"$f":"IF(B177=\"\",\"\",IFERROR(_xlfn.XLOOKUP(ROUND(B177,1),MetricIncrementalData[System Increment],_xlfn.XLOOKUP('Metric Incremental Crate'!$R$3,MetricIncrementalData[#Headers],MetricIncrementalData[]),,1),0))","v":""},"",{"$f":"IF(B177=\"\",\"\",IFERROR(_xlfn.XLOOKUP(ROUND(B177,1),MetricIncrementalData[System Increment],_xlfn.XLOOKUP(Metric_Incremental_Data_Target_Column,MetricIncrementalData[#Headers],MetricIncrementalData[]),,1),0))","v":""},{"$f":"IF(B177=\"\",\"\",IF(B178=\"\",((((B177-0)/100)*Metric_Module_Square_Foot_Area)-'Cumulative Volumes Metric'!E177)*Metric_Stone_Void_Percentage,((((B177-B178)/100)*Metric_Module_Square_Foot_Area)-'Cumulative Volumes Metric'!E177)*Metric_Stone_Void_Percentage))","v":""},"",{"$f":"IF(B177=\"\",\"\",((Metric_System_Area_Input-Metric_Number_Of_Stacks*_xlfn.XLOOKUP(Metric_Layers,CrateData[Layer],CrateData[Surface Area (m2)]))*((B177-IF(B178=\"\",0,B178))/100))*Metric_Stone_Void_Percentage)","v":""},"","",{"$f":"IF(B177=\"\",\"\",SUM(J177:$J$563))","v":""},"",{"$nulls":9},"",null,{"v":-0.48600000000000104,"d":"-0.49"},"","",null,"",{"$f":"IF($AU$21=\"INVERT\",Y177,IF(AC176>=$Z$12,\"\",IF(Y176=\"\",\"\",INDEX($Y$18:$Y$227,$AB$17-ROWS($Y$18:$Y176)))))","v":""},"","","",{"$nulls":26},{"$f":"IF($AU$21=\"INVERT\",Y177,IF(AC176>=$Z$12,\"\",IF(Y176=\"\",\"\",INDEX($Y$18:$Y$227,$AB$17-ROWS($Y$18:$Y176)))))","v":""},"",{"$f":"IF(AE176=\"\",\"\",\n    IF($AU$21=\"TYP\",\n       IF(Z176=\"\",\"\", INDEX($Z$18:$Z$227, $AB$17-ROWS($Z$18:$Z176))),\n       IF($AU$21=\"INVERT\",Z177, \"\")\n    )\n)","v":""},"",null,{"$f":"IF(BL176>=$Z$12,\"\",IF(Y176=\"\",\"\",INDEX($Y$18:$Y$227,$AB$17-ROWS($Y$18:$Y176))))","v":""},{"$f":"IF(#REF!=\"\",\"\",#REF!/43560)","v":{"$error":"#REF!"}},{"$f":"#REF!","v":{"$error":"#REF!"}}]
["","",{"$f":"IF(B178=\"\",\"\",IFERROR(_xlfn.XLOOKUP(ROUND(B178,1),MetricIncrementalData[System Increment],_xlfn.XLOOKUP('Metric Incremental Crate'!$R$3,MetricIncrementalData[#Headers],MetricIncrementalData[]),,1),0))","v":""},"",{"$f":"IF(B178=\"\",\"\",IFERROR(_xlfn.XLOOKUP(ROUND(B178,1),MetricIncrementalData[System Increment],_xlfn.XLOOKUP(Metric_Incremental_Data_Target_Column,MetricIncrementalData[#Headers],MetricIncrementalData[]),,1),0))","v":""},{"$f":"IF(B178=\"\",\"\",IF(B179=\"\",((((B178-0)/100)*Metric_Module_Square_Foot_Area)-'Cumulative Volumes Metric'!E178)*Metric_Stone_Void_Percentage,((((B178-B179)/100)*Metric_Module_Square_Foot_Area)-'Cumulative Volumes Metric'!E178)*Metric_Stone_Void_Percentage))","v":""},"",{"$f":"IF(B178=\"\",\"\",((Metric_System_Area_Input-Metric_Number_Of_Stacks*_xlfn.XLOOKUP(Metric_Layers,CrateData[Layer],CrateData[Surface Area (m2)]))*((B178-IF(B179=\"\",0,B179))/100))*Metric_Stone_Void_Percentage)","v":""},"","",{"$f":"IF(B178=\"\",\"\",SUM(J178:$J$563))","v":""},"",{"$nulls":9},"",null,{"v":-0.49600000000000105,"d":"-0.50"},"","",null,"",{"$f":"IF($AU$21=\"INVERT\",Y178,IF(AC177>=$Z$12,\"\",IF(Y177=\"\",\"\",INDEX($Y$18:$Y$227,$AB$17-ROWS($Y$18:$Y177)))))","v":""},"","","",{"$nulls":26},{"$f":"IF($AU$21=\"INVERT\",Y178,IF(AC177>=$Z$12,\"\",IF(Y177=\"\",\"\",INDEX($Y$18:$Y$227,$AB$17-ROWS($Y$18:$Y177)))))","v":""},"",{"$f":"IF(AE177=\"\",\"\",\n    IF($AU$21=\"TYP\",\n       IF(Z177=\"\",\"\", INDEX($Z$18:$Z$227, $AB$17-ROWS($Z$18:$Z177))),\n       IF($AU$21=\"INVERT\",Z178, \"\")\n    )\n)","v":""},"",null,{"$f":"IF(BL177>=$Z$12,\"\",IF(Y177=\"\",\"\",INDEX($Y$18:$Y$227,$AB$17-ROWS($Y$18:$Y177))))","v":""},{"$f":"IF(#REF!=\"\",\"\",#REF!/43560)","v":{"$error":"#REF!"}},{"$f":"#REF!","v":{"$error":"#REF!"}}]
["","",{"$f":"IF(B179=\"\",\"\",IFERROR(_xlfn.XLOOKUP(ROUND(B179,1),MetricIncrementalData[System Increment],_xlfn.XLOOKUP('Metric Incremental Crate'!$R$3,MetricIncrementalData[#Headers],MetricIncrementalData[]),,1),0))","v":""},"",{"$f":"IF(B179=\"\",\"\",IFERROR(_xlfn.XLOOKUP(ROUND(B179,1),MetricIncrementalData[System Increment],_xlfn.XLOOKUP(Metric_Incremental_Data_Target_Column,MetricIncrementalData[#Headers],MetricIncrementalData[]),,1),0))","v":""},{"$f":"IF(B179=\"\",\"\",IF(B180=\"\",((((B179-0)/100)*Metric_Module_Square_Foot_Area)-'Cumulative Volumes Metric'!E179)*Metric_Stone_Void_Percentage,((((B179-B180)/100)*Metric_Module_Square_Foot_Area)-'Cumulative Volumes Metric'!E179)*Metric_Stone_Void_Percentage))","v":""},"",{"$f":"IF(B179=\"\",\"\",((Metric_System_Area_Input-Metric_Number_Of_Stacks*_xlfn.XLOOKUP(Metric_Layers,CrateData[Layer],CrateData[Surface Area (m2)]))*((B179-IF(B180=\"\",0,B180))/100))*Metric_Stone_Void_Percentage)","v":""},"","",{"$f":"IF(B179=\"\",\"\",SUM(J179:$J$563))","v":""},"",{"$nulls":9},"",null,{"v":-0.506000000000001,"d":"-0.51"},"","",null,"",{"$f":"IF($AU$21=\"INVERT\",Y179,IF(AC178>=$Z$12,\"\",IF(Y178=\"\",\"\",INDEX($Y$18:$Y$227,$AB$17-ROWS($Y$18:$Y178)))))","v":""},"","","",{"$nulls":26},{"$f":"IF($AU$21=\"INVERT\",Y179,IF(AC178>=$Z$12,\"\",IF(Y178=\"\",\"\",INDEX($Y$18:$Y$227,$AB$17-ROWS($Y$18:$Y178)))))","v":""},"",{"$f":"IF(AE178=\"\",\"\",\n    IF($AU$21=\"TYP\",\n       IF(Z178=\"\",\"\", INDEX($Z$18:$Z$227, $AB$17-ROWS($Z$18:$Z178))),\n       IF($AU$21=\"INVERT\",Z179, \"\")\n    )\n)","v":""},"",null,{"$f":"IF(BL178>=$Z$12,\"\",IF(Y178=\"\",\"\",INDEX($Y$18:$Y$227,$AB$17-ROWS($Y$18:$Y178))))","v":""},{"$f":"IF(#REF!=\"\",\"\",#REF!/43560)","v":{"$error":"#REF!"}},{"$f":"#REF!","v":{"$error":"#REF!"}}]
["","",{"$f":"IF(B180=\"\",\"\",IFERROR(_xlfn.XLOOKUP(ROUND(B180,1),MetricIncrementalData[System Increment],_xlfn.XLOOKUP('Metric Incremental Crate'!$R$3,MetricIncrementalData[#Headers],MetricIncrementalData[]),,1),0))","v":""},"",{"$f":"IF(B180=\"\",\"\",IFERROR(_xlfn.XLOOKUP(ROUND(B180,1),MetricIncrementalData[System Increment],_xlfn.XLOOKUP(Metric_Incremental_Data_Target_Column,MetricIncrementalData[#Headers],MetricIncrementalData[]),,1),0))","v":""},{"$f":"IF(B180=\"\",\"\",IF(B181=\"\",((((B180-0)/100)*Metric_Module_Square_Foot_Area)-'Cumulative Volumes Metric'!E180)*Metric_Stone_Void_Percentage,((((B180-B181)/100)*Metric_Module_Square_Foot_Area)-'Cumulative Volumes Metric'!E180)*Metric_Stone_Void_Percentage))","v":""},"",{"$f":"IF(B180=\"\",\"\",((Metric_System_Area_Input-Metric_Number_Of_Stacks*_xlfn.XLOOKUP(Metric_Layers,CrateData[Layer],CrateData[Surface Area (m2)]))*((B180-IF(B181=\"\",0,B181))/100))*Metric_Stone_Void_Percentage)","v":""},"","",{"$f":"IF(B180=\"\",\"\",SUM(J180:$J$563))","v":""},"",{"$nulls":9},"",null,{"v":-0.516000000000001,"d":"-0.52"},"","",null,"",{"$f":"IF($AU$21=\"INVERT\",Y180,IF(AC179>=$Z$12,\"\",IF(Y179=\"\",\"\",INDEX($Y$18:$Y$227,$AB$17-ROWS($Y$18:$Y179)))))","v":""},"","","",{"$nulls":26},{"$f":"IF($AU$21=\"INVERT\",Y180,IF(AC179>=$Z$12,\"\",IF(Y179=\"\",\"\",INDEX($Y$18:$Y$227,$AB$17-ROWS($Y$18:$Y179)))))","v":""},"",{"$f":"IF(AE179=\"\",\"\",\n    IF($AU$21=\"TYP\",\n       IF(Z179=\"\",\"\", INDEX($Z$18:$Z$227, $AB$17-ROWS($Z$18:$Z179))),\n       IF($AU$21=\"INVERT\",Z180, \"\")\n    )\n)","v":""},"",null,{"$f":"IF(BL179>=$Z$12,\"\",IF(Y179=\"\",\"\",INDEX($Y$18:$Y$227,$AB$17-ROWS($Y$18:$Y179))))","v":""},{"$f":"IF(#REF!=\"\",\"\",#REF!/43560)","v":{"$error":"#REF!"}},{"$f":"#REF!","v":{"$error":"#REF!"}}]
["","",{"$f":"IF(B181=\"\",\"\",IFERROR(_xlfn.XLOOKUP(ROUND(B181,1),MetricIncrementalData[System Increment],_xlfn.XLOOKUP('Metric Incremental Crate'!$R$3,MetricIncrementalData[#Headers],MetricIncrementalData[]),,1),0))","v":""},"",{"$f":"IF(B181=\"\",\"\",IFERROR(_xlfn.XLOOKUP(ROUND(B181,1),MetricIncrementalData[System Increment],_xlfn.XLOOKUP(Metric_Incremental_Data_Target_Column,MetricIncrementalData[#Headers],MetricIncrementalData[]),,1),0))","v":""},{"$f":"IF(B181=\"\",\"\",IF(B182=\"\",((((B181-0)/100)*Metric_Module_Square_Foot_Area)-'Cumulative Volumes Metric'!E181)*Metric_Stone_Void_Percentage,((((B181-B182)/100)*Metric_Module_Square_Foot_Area)-'Cumulative Volumes Metric'!E181)*Metric_Stone_Void_Percentage))","v":""},"",{"$f":"IF(B181=\"\",\"\",((Metric_System_Area_Input-Metric_Number_Of_Stacks*_xlfn.XLOOKUP(Metric_Layers,CrateData[Layer],CrateData[Surface Area (m2)]))*((B181-IF(B182=\"\",0,B182))/100))*Metric_Stone_Void_Percentage)","v":""},"","",{"$f":"IF(B181=\"\",\"\",SUM(J181:$J$563))","v":""},"",{"$nulls":9},"",null,{"v":-0.526000000000001,"d":"-0.53"},"","",null,"",{"$f":"IF($AU$21=\"INVERT\",Y181,IF(AC180>=$Z$12,\"\",IF(Y180=\"\",\"\",INDEX($Y$18:$Y$227,$AB$17-ROWS($Y$18:$Y180)))))","v":""},"","","",{"$nulls":26},{"$f":"IF($AU$21=\"INVERT\",Y181,IF(AC180>=$Z$12,\"\",IF(Y180=\"\",\"\",INDEX($Y$18:$Y$227,$AB$17-ROWS($Y$18:$Y180)))))","v":""},"",{"$f":"IF(AE180=\"\",\"\",\n    IF($AU$21=\"TYP\",\n       IF(Z180=\"\",\"\", INDEX($Z$18:$Z$227, $AB$17-ROWS($Z$18:$Z180))),\n       IF($AU$21=\"INVERT\",Z181, \"\")\n    )\n)","v":""},"",null,{"$f":"IF(BL180>=$Z$12,\"\",IF(Y180=\"\",\"\",INDEX($Y$18:$Y$227,$AB$17-ROWS($Y$18:$Y180))))","v":""},{"$f":"IF(#REF!=\"\",\"\",#REF!/43560)","v":{"$error":"#REF!"}},{"$f":"#REF!","v":{"$error":"#REF!"}}]
["","",{"$f":"IF(B182=\"\",\"\",IFERROR(_xlfn.XLOOKUP(ROUND(B182,1),MetricIncrementalData[System Increment],_xlfn.XLOOKUP('Metric Incremental Crate'!$R$3,MetricIncrementalData[#Headers],MetricIncrementalData[]),,1),0))","v":""},"",{"$f":"IF(B182=\"\",\"\",IFERROR(_xlfn.XLOOKUP(ROUND(B182,1),MetricIncrementalData[System Increment],_xlfn.XLOOKUP(Metric_Incremental_Data_Target_Column,MetricIncrementalData[#Headers],MetricIncrementalData[]),,1),0))","v":""},{"$f":"IF(B182=\"\",\"\",IF(B183=\"\",((((B182-0)/100)*Metric_Module_Square_Foot_Area)-'Cumulative Volumes Metric'!E182)*Metric_Stone_Void_Percentage,((((B182-B183)/100)*Metric_Module_Square_Foot_Area)-'Cumulative Volumes Metric'!E182)*Metric_Stone_Void_Percentage))","v":""},"",{"$f":"IF(B182=\"\",\"\",((Metric_System_Area_Input-Metric_Number_Of_Stacks*_xlfn.XLOOKUP(Metric_Layers,CrateData[Layer],CrateData[Surface Area (m2)]))*((B182-IF(B183=\"\",0,B183))/100))*Metric_Stone_Void_Percentage)","v":""},"","",{"$f":"IF(B182=\"\",\"\",SUM(J182:$J$563))","v":""},"",{"$nulls":9},"",null,{"v":-0.536000000000001,"d":"-0.54"},"","",null,"",{"$f":"IF($AU$21=\"INVERT\",Y182,IF(AC181>=$Z$12,\"\",IF(Y181=\"\",\"\",INDEX($Y$18:$Y$227,$AB$17-ROWS($Y$18:$Y181)))))","v":""},"","","",{"$nulls":26},{"$f":"IF($AU$21=\"INVERT\",Y182,IF(AC181>=$Z$12,\"\",IF(Y181=\"\",\"\",INDEX($Y$18:$Y$227,$AB$17-ROWS($Y$18:$Y181)))))","v":""},"",{"$f":"IF(AE181=\"\",\"\",\n    IF($AU$21=\"TYP\",\n       IF(Z181=\"\",\"\", INDEX($Z$18:$Z$227, $AB$17-ROWS($Z$18:$Z181))),\n       IF($AU$21=\"INVERT\",Z182, \"\")\n    )\n)","v":""},"",null,{"$f":"IF(BL181>=$Z$12,\"\",IF(Y181=\"\",\"\",INDEX($Y$18:$Y$227,$AB$17-ROWS($Y$18:$Y181))))","v":""},{"$f":"IF(#REF!=\"\",\"\",#REF!/43560)","v":{"$error":"#REF!"}},{"$f":"#REF!","v":{"$error":"#REF!"}}]
["","",{"$f":"IF(B183=\"\",\"\",IFERROR(_xlfn.XLOOKUP(ROUND(B183,1),MetricIncrementalData[System Increment],_xlfn.XLOOKUP('Metric Incremental Crate'!$R$3,MetricIncrementalData[#Headers],MetricIncrementalData[]),,1),0))","v":""},"",{"$f":"IF(B183=\"\",\"\",IFERROR(_xlfn.XLOOKUP(ROUND(B183,1),MetricIncrementalData[System Increment],_xlfn.XLOOKUP(Metric_Incremental_Data_Target_Column,MetricIncrementalData[#Headers],MetricIncrementalData[]),,1),0))","v":""},{"$f":"IF(B183=\"\",\"\",IF(B184=\"\",((((B183-0)/100)*Metric_Module_Square_Foot_Area)-'Cumulative Volumes Metric'!E183)*Metric_Stone_Void_Percentage,((((B183-B184)/100)*Metric_Module_Square_Foot_Area)-'Cumulative Volumes Metric'!E183)*Metric_Stone_Void_Percentage))","v":""},"",{"$f":"IF(B183=\"\",\"\",((Metric_System_Area_Input-Metric_Number_Of_Stacks*_xlfn.XLOOKUP(Metric_Layers,CrateData[Layer],CrateData[Surface Area (m2)]))*((B183-IF(B184=\"\",0,B184))/100))*Metric_Stone_Void_Percentage)","v":""},"","",{"$f":"IF(B183=\"\",\"\",SUM(J183:$J$563))","v":""},"",{"$nulls":9},"",null,{"v":-0.546000000000001,"d":"-0.55"},"","",null,"",{"$f":"IF($AU$21=\"INVERT\",Y183,IF(AC182>=$Z$12,\"\",IF(Y182=\"\",\"\",INDEX($Y$18:$Y$227,$AB$17-ROWS($Y$18:$Y182)))))","v":""},"","","",{"$nulls":26},{"$f":"IF($AU$21=\"INVERT\",Y183,IF(AC182>=$Z$12,\"\",IF(Y182=\"\",\"\",INDEX($Y$18:$Y$227,$AB$17-ROWS($Y$18:$Y182)))))","v":""},"",{"$f":"IF(AE182=\"\",\"\",\n    IF($AU$21=\"TYP\",\n       IF(Z182=\"\",\"\", INDEX($Z$18:$Z$227, $AB$17-ROWS($Z$18:$Z182))),\n       IF($AU$21=\"INVERT\",Z183, \"\")\n    )\n)","v":""},"",null,{"$f":"IF(BL182>=$Z$12,\"\",IF(Y182=\"\",\"\",INDEX($Y$18:$Y$227,$AB$17-ROWS($Y$18:$Y182))))","v":""},{"$f":"IF(#REF!=\"\",\"\",#REF!/43560)","v":{"$error":"#REF!"}},{"$f":"#REF!","v":{"$error":"#REF!"}}]
["","",{"$f":"IF(B184=\"\",\"\",IFERROR(_xlfn.XLOOKUP(ROUND(B184,1),MetricIncrementalData[System Increment],_xlfn.XLOOKUP('Metric Incremental Crate'!$R$3,MetricIncrementalData[#Headers],MetricIncrementalData[]),,1),0))","v":""},"",{"$f":"IF(B184=\"\",\"\",IFERROR(_xlfn.XLOOKUP(ROUND(B184,1),MetricIncrementalData[System Increment],_xlfn.XLOOKUP(Metric_Incremental_Data_Target_Column,MetricIncrementalData[#Headers],MetricIncrementalData[]),,1),0))","v":""},{"$f":"IF(B184=\"\",\"\",IF(B185=\"\",((((B184-0)/100)*Metric_Module_Square_Foot_Area)-'Cumulative Volumes Metric'!E184)*Metric_Stone_Void_Percentage,((((B184-B185)/100)*Metric_Module_Square_Foot_Area)-'Cumulative Volumes Metric'!E184)*Metric_Stone_Void_Percentage))","v":""},"",{"$f":"IF(B184=\"\",\"\",((Metric_System_Area_Input-Metric_Number_Of_Stacks*_xlfn.XLOOKUP(Metric_Layers,CrateData[Layer],CrateData[Surface Area (m2)]))*((B184-IF(B185=\"\",0,B185))/100))*Metric_Stone_Void_Percentage)","v":""},"","",{"$f":"IF(B184=\"\",\"\",SUM(J184:$J$563))","v":""},"",{"$nulls":9},"",null,{"v":-0.556000000000001,"d":"-0.56"},"","",null,"",{"$f":"IF($AU$21=\"INVERT\",Y184,IF(AC183>=$Z$12,\"\",IF(Y183=\"\",\"\",INDEX($Y$18:$Y$227,$AB$17-ROWS($Y$18:$Y183)))))","v":""},"","","",{"$nulls":26},{"$f":"IF($AU$21=\"INVERT\",Y184,IF(AC183>=$Z$12,\"\",IF(Y183=\"\",\"\",INDEX($Y$18:$Y$227,$AB$17-ROWS($Y$18:$Y183)))))","v":""},"",{"$f":"IF(AE183=\"\",\"\",\n    IF($AU$21=\"TYP\",\n       IF(Z183=\"\",\"\", INDEX($Z$18:$Z$227, $AB$17-ROWS($Z$18:$Z183))),\n       IF($AU$21=\"INVERT\",Z184, \"\")\n    )\n)","v":""},"",null,{"$f":"IF(BL183>=$Z$12,\"\",IF(Y183=\"\",\"\",INDEX($Y$18:$Y$227,$AB$17-ROWS($Y$18:$Y183))))","v":""},{"$f":"IF(#REF!=\"\",\"\",#REF!/43560)","v":{"$error":"#REF!"}},{"$f":"#REF!","v":{"$error":"#REF!"}}]
["","",{"$f":"IF(B185=\"\",\"\",IFERROR(_xlfn.XLOOKUP(ROUND(B185,1),MetricIncrementalData[System Increment],_xlfn.XLOOKUP('Metric Incremental Crate'!$R$3,MetricIncrementalData[#Headers],MetricIncrementalData[]),,1),0))","v":""},"",{"$f":"IF(B185=\"\",\"\",IFERROR(_xlfn.XLOOKUP(ROUND(B185,1),MetricIncrementalData[System Increment],_xlfn.XLOOKUP(Metric_Incremental_Data_Target_Column,MetricIncrementalData[#Headers],MetricIncrementalData[]),,1),0))","v":""},{"$f":"IF(B185=\"\",\"\",IF(B186=\"\",((((B185-0)/100)*Metric_Module_Square_Foot_Area)-'Cumulative Volumes Metric'!E185)*Metric_Stone_Void_Percentage,((((B185-B186)/100)*Metric_Module_Square_Foot_Area)-'Cumulative Volumes Metric'!E185)*Metric_Stone_Void_Percentage))","v":""},"",{"$f":"IF(B185=\"\",\"\",((Metric_System_Area_Input-Metric_Number_Of_Stacks*_xlfn.XLOOKUP(Metric_Layers,CrateData[Layer],CrateData[Surface Area (m2)]))*((B185-IF(B186=\"\",0,B186))/100))*Metric_Stone_Void_Percentage)","v":""},"","",{"$f":"IF(B185=\"\",\"\",SUM(J185:$J$563))","v":""},"",{"$nulls":9},"",null,{"v":-0.5660000000000011,"d":"-0.57"},"","",null,"",{"$f":"IF($AU$21=\"INVERT\",Y185,IF(AC184>=$Z$12,\"\",IF(Y184=\"\",\"\",INDEX($Y$18:$Y$227,$AB$17-ROWS($Y$18:$Y184)))))","v":""},"","","",{"$nulls":26},{"$f":"IF($AU$21=\"INVERT\",Y185,IF(AC184>=$Z$12,\"\",IF(Y184=\"\",\"\",INDEX($Y$18:$Y$227,$AB$17-ROWS($Y$18:$Y184)))))","v":""},"",{"$f":"IF(AE184=\"\",\"\",\n    IF($AU$21=\"TYP\",\n       IF(Z184=\"\",\"\", INDEX($Z$18:$Z$227, $AB$17-ROWS($Z$18:$Z184))),\n       IF($AU$21=\"INVERT\",Z185, \"\")\n    )\n)","v":""},"",null,{"$f":"IF(BL184>=$Z$12,\"\",IF(Y184=\"\",\"\",INDEX($Y$18:$Y$227,$AB$17-ROWS($Y$18:$Y184))))","v":""},{"$f":"IF(#REF!=\"\",\"\",#REF!/43560)","v":{"$error":"#REF!"}},{"$f":"#REF!","v":{"$error":"#REF!"}}]
["","",{"$f":"IF(B186=\"\",\"\",IFERROR(_xlfn.XLOOKUP(ROUND(B186,1),MetricIncrementalData[System Increment],_xlfn.XLOOKUP('Metric Incremental Crate'!$R$3,MetricIncrementalData[#Headers],MetricIncrementalData[]),,1),0))","v":""},"",{"$f":"IF(B186=\"\",\"\",IFERROR(_xlfn.XLOOKUP(ROUND(B186,1),MetricIncrementalData[System Increment],_xlfn.XLOOKUP(Metric_Incremental_Data_Target_Column,MetricIncrementalData[#Headers],MetricIncrementalData[]),,1),0))","v":""},{"$f":"IF(B186=\"\",\"\",IF(B187=\"\",((((B186-0)/100)*Metric_Module_Square_Foot_Area)-'Cumulative Volumes Metric'!E186)*Metric_Stone_Void_Percentage,((((B186-B187)/100)*Metric_Module_Square_Foot_Area)-'Cumulative Volumes Metric'!E186)*Metric_Stone_Void_Percentage))","v":""},"",{"$f":"IF(B186=\"\",\"\",((Metric_System_Area_Input-Metric_Number_Of_Stacks*_xlfn.XLOOKUP(Metric_Layers,CrateData[Layer],CrateData[Surface Area (m2)]))*((B186-IF(B187=\"\",0,B187))/100))*Metric_Stone_Void_Percentage)","v":""},"","",{"$f":"IF(B186=\"\",\"\",SUM(J186:$J$563))","v":""},"",{"$nulls":9},"",null,{"v":-0.5760000000000011,"d":"-0.58"},"","",null,"",{"$f":"IF($AU$21=\"INVERT\",Y186,IF(AC185>=$Z$12,\"\",IF(Y185=\"\",\"\",INDEX($Y$18:$Y$227,$AB$17-ROWS($Y$18:$Y185)))))","v":""},"","","",{"$nulls":26},{"$f":"IF($AU$21=\"INVERT\",Y186,IF(AC185>=$Z$12,\"\",IF(Y185=\"\",\"\",INDEX($Y$18:$Y$227,$AB$17-ROWS($Y$18:$Y185)))))","v":""},"",{"$f":"IF(AE185=\"\",\"\",\n    IF($AU$21=\"TYP\",\n       IF(Z185=\"\",\"\", INDEX($Z$18:$Z$227, $AB$17-ROWS($Z$18:$Z185))),\n       IF($AU$21=\"INVERT\",Z186, \"\")\n    )\n)","v":""},"",null,{"$f":"IF(BL185>=$Z$12,\"\",IF(Y185=\"\",\"\",INDEX($Y$18:$Y$227,$AB$17-ROWS($Y$18:$Y185))))","v":""},{"$f":"IF(#REF!=\"\",\"\",#REF!/43560)","v":{"$error":"#REF!"}},{"$f":"#REF!","v":{"$error":"#REF!"}}]
["","",{"$f":"IF(B187=\"\",\"\",IFERROR(_xlfn.XLOOKUP(ROUND(B187,1),MetricIncrementalData[System Increment],_xlfn.XLOOKUP('Metric Incremental Crate'!$R$3,MetricIncrementalData[#Headers],MetricIncrementalData[]),,1),0))","v":""},"",{"$f":"IF(B187=\"\",\"\",IFERROR(_xlfn.XLOOKUP(ROUND(B187,1),MetricIncrementalData[System Increment],_xlfn.XLOOKUP(Metric_Incremental_Data_Target_Column,MetricIncrementalData[#Headers],MetricIncrementalData[]),,1),0))","v":""},{"$f":"IF(B187=\"\",\"\",IF(B188=\"\",((((B187-0)/100)*Metric_Module_Square_Foot_Area)-'Cumulative Volumes Metric'!E187)*Metric_Stone_Void_Percentage,((((B187-B188)/100)*Metric_Module_Square_Foot_Area)-'Cumulative Volumes Metric'!E187)*Metric_Stone_Void_Percentage))","v":""},"",{"$f":"IF(B187=\"\",\"\",((Metric_System_Area_Input-Metric_Number_Of_Stacks*_xlfn.XLOOKUP(Metric_Layers,CrateData[Layer],CrateData[Surface Area (m2)]))*((B187-IF(B188=\"\",0,B188))/100))*Metric_Stone_Void_Percentage)","v":""},"","",{"$f":"IF(B187=\"\",\"\",SUM(J187:$J$563))","v":""},"",{"$nulls":9},"",null,{"v":-0.5860000000000011,"d":"-0.59"},"","",null,"",{"$f":"IF($AU$21=\"INVERT\",Y187,IF(AC186>=$Z$12,\"\",IF(Y186=\"\",\"\",INDEX($Y$18:$Y$227,$AB$17-ROWS($Y$18:$Y186)))))","v":""},"","","",{"$nulls":26},{"$f":"IF($AU$21=\"INVERT\",Y187,IF(AC186>=$Z$12,\"\",IF(Y186=\"\",\"\",INDEX($Y$18:$Y$227,$AB$17-ROWS($Y$18:$Y186)))))","v":""},"",{"$f":"IF(AE186=\"\",\"\",\n    IF($AU$21=\"TYP\",\n       IF(Z186=\"\",\"\", INDEX($Z$18:$Z$227, $AB$17-ROWS($Z$18:$Z186))),\n       IF($AU$21=\"INVERT\",Z187, \"\")\n    )\n)","v":""},"",null,{"$f":"IF(BL186>=$Z$12,\"\",IF(Y186=\"\",\"\",INDEX($Y$18:$Y$227,$AB$17-ROWS($Y$18:$Y186))))","v":""},{"$f":"IF(#REF!=\"\",\"\",#REF!/43560)","v":{"$error":"#REF!"}},{"$f":"#REF!","v":{"$error":"#REF!"}}]
["","",{"$f":"IF(B188=\"\",\"\",IFERROR(_xlfn.XLOOKUP(ROUND(B188,1),MetricIncrementalData[System Increment],_xlfn.XLOOKUP('Metric Incremental Crate'!$R$3,MetricIncrementalData[#Headers],MetricIncrementalData[]),,1),0))","v":""},"",{"$f":"IF(B188=\"\",\"\",IFERROR(_xlfn.XLOOKUP(ROUND(B188,1),MetricIncrementalData[System Increment],_xlfn.XLOOKUP(Metric_Incremental_Data_Target_Column,MetricIncrementalData[#Headers],MetricIncrementalData[]),,1),0))","v":""},{"$f":"IF(B188=\"\",\"\",IF(B189=\"\",((((B188-0)/100)*Metric_Module_Square_Foot_Area)-'Cumulative Volumes Metric'!E188)*Metric_Stone_Void_Percentage,((((B188-B189)/100)*Metric_Module_Square_Foot_Area)-'Cumulative Volumes Metric'!E188)*Metric_Stone_Void_Percentage))","v":""},"",{"$f":"IF(B188=\"\",\"\",((Metric_System_Area_Input-Metric_Number_Of_Stacks*_xlfn.XLOOKUP(Metric_Layers,CrateData[Layer],CrateData[Surface Area (m2)]))*((B188-IF(B189=\"\",0,B189))/100))*Metric_Stone_Void_Percentage)","v":""},"","",{"$f":"IF(B188=\"\",\"\",SUM(J188:$J$563))","v":""},"",{"$nulls":9},"",null,{"v":-0.5960000000000011,"d":"-0.60"},"","",null,"",{"$f":"IF($AU$21=\"INVERT\",Y188,IF(AC187>=$Z$12,\"\",IF(Y187=\"\",\"\",INDEX($Y$18:$Y$227,$AB$17-ROWS($Y$18:$Y187)))))","v":""},"","","",{"$nulls":26},{"$f":"IF($AU$21=\"INVERT\",Y188,IF(AC187>=$Z$12,\"\",IF(Y187=\"\",\"\",INDEX($Y$18:$Y$227,$AB$17-ROWS($Y$18:$Y187)))))","v":""},"",{"$f":"IF(AE187=\"\",\"\",\n    IF($AU$21=\"TYP\",\n       IF(Z187=\"\",\"\", INDEX($Z$18:$Z$227, $AB$17-ROWS($Z$18:$Z187))),\n       IF($AU$21=\"INVERT\",Z188, \"\")\n    )\n)","v":""},"",null,{"$f":"IF(BL187>=$Z$12,\"\",IF(Y187=\"\",\"\",INDEX($Y$18:$Y$227,$AB$17-ROWS($Y$18:$Y187))))","v":""},{"$f":"IF(#REF!=\"\",\"\",#REF!/43560)","v":{"$error":"#REF!"}},{"$f":"#REF!","v":{"$error":"#REF!"}}]
["","",{"$f":"IF(B189=\"\",\"\",IFERROR(_xlfn.XLOOKUP(ROUND(B189,1),MetricIncrementalData[System Increment],_xlfn.XLOOKUP('Metric Incremental Crate'!$R$3,MetricIncrementalData[#Headers],MetricIncrementalData[]),,1),0))","v":""},"",{"$f":"IF(B189=\"\",\"\",IFERROR(_xlfn.XLOOKUP(ROUND(B189,1),MetricIncrementalData[System Increment],_xlfn.XLOOKUP(Metric_Incremental_Data_Target_Column,MetricIncrementalData[#Headers],MetricIncrementalData[]),,1),0))","v":""},{"$f":"IF(B189=\"\",\"\",IF(B190=\"\",((((B189-0)/100)*Metric_Module_Square_Foot_Area)-'Cumulative Volumes Metric'!E189)*Metric_Stone_Void_Percentage,((((B189-B190)/100)*Metric_Module_Square_Foot_Area)-'Cumulative Volumes Metric'!E189)*Metric_Stone_Void_Percentage))","v":""},"",{"$f":"IF(B189=\"\",\"\",((Metric_System_Area_Input-Metric_Number_Of_Stacks*_xlfn.XLOOKUP(Metric_Layers,CrateData[Layer],CrateData[Surface Area (m2)]))*((B189-IF(B190=\"\",0,B190))/100))*Metric_Stone_Void_Percentage)","v":""},"","",{"$f":"IF(B189=\"\",\"\",SUM(J189:$J$563))","v":""},"",{"$nulls":9},"",null,{"v":-0.6060000000000011,"d":"-0.61"},"","",null,"",{"$f":"IF($AU$21=\"INVERT\",Y189,IF(AC188>=$Z$12,\"\",IF(Y188=\"\",\"\",INDEX($Y$18:$Y$227,$AB$17-ROWS($Y$18:$Y188)))))","v":""},"","","",{"$nulls":26},{"$f":"IF($AU$21=\"INVERT\",Y189,IF(AC188>=$Z$12,\"\",IF(Y188=\"\",\"\",INDEX($Y$18:$Y$227,$AB$17-ROWS($Y$18:$Y188)))))","v":""},"",{"$f":"IF(AE188=\"\",\"\",\n    IF($AU$21=\"TYP\",\n       IF(Z188=\"\",\"\", INDEX($Z$18:$Z$227, $AB$17-ROWS($Z$18:$Z188))),\n       IF($AU$21=\"INVERT\",Z189, \"\")\n    )\n)","v":""},"",null,{"$f":"IF(BL188>=$Z$12,\"\",IF(Y188=\"\",\"\",INDEX($Y$18:$Y$227,$AB$17-ROWS($Y$18:$Y188))))","v":""},{"$f":"IF(#REF!=\"\",\"\",#REF!/43560)","v":{"$error":"#REF!"}},{"$f":"#REF!","v":{"$error":"#REF!"}}]
["","",{"$f":"IF(B190=\"\",\"\",IFERROR(_xlfn.XLOOKUP(ROUND(B190,1),MetricIncrementalData[System Increment],_xlfn.XLOOKUP('Metric Incremental Crate'!$R$3,MetricIncrementalData[#Headers],MetricIncrementalData[]),,1),0))","v":""},"",{"$f":"IF(B190=\"\",\"\",IFERROR(_xlfn.XLOOKUP(ROUND(B190,1),MetricIncrementalData[System Increment],_xlfn.XLOOKUP(Metric_Incremental_Data_Target_Column,MetricIncrementalData[#Headers],MetricIncrementalData[]),,1),0))","v":""},{"$f":"IF(B190=\"\",\"\",IF(B191=\"\",((((B190-0)/100)*Metric_Module_Square_Foot_Area)-'Cumulative Volumes Metric'!E190)*Metric_Stone_Void_Percentage,((((B190-B191)/100)*Metric_Module_Square_Foot_Area)-'Cumulative Volumes Metric'!E190)*Metric_Stone_Void_Percentage))","v":""},"",{"$f":"IF(B190=\"\",\"\",((Metric_System_Area_Input-Metric_Number_Of_Stacks*_xlfn.XLOOKUP(Metric_Layers,CrateData[Layer],CrateData[Surface Area (m2)]))*((B190-IF(B191=\"\",0,B191))/100))*Metric_Stone_Void_Percentage)","v":""},"","",{"$f":"IF(B190=\"\",\"\",SUM(J190:$J$563))","v":""},"",{"$nulls":9},"",null,{"v":-0.6160000000000011,"d":"-0.62"},"","",null,"",{"$f":"IF($AU$21=\"INVERT\",Y190,IF(AC189>=$Z$12,\"\",IF(Y189=\"\",\"\",INDEX($Y$18:$Y$227,$AB$17-ROWS($Y$18:$Y189)))))","v":""},"","","",{"$nulls":26},{"$f":"IF($AU$21=\"INVERT\",Y190,IF(AC189>=$Z$12,\"\",IF(Y189=\"\",\"\",INDEX($Y$18:$Y$227,$AB$17-ROWS($Y$18:$Y189)))))","v":""},"",{"$f":"IF(AE189=\"\",\"\",\n    IF($AU$21=\"TYP\",\n       IF(Z189=\"\",\"\", INDEX($Z$18:$Z$227, $AB$17-ROWS($Z$18:$Z189))),\n       IF($AU$21=\"INVERT\",Z190, \"\")\n    )\n)","v":""},"",null,{"$f":"IF(BL189>=$Z$12,\"\",IF(Y189=\"\",\"\",INDEX($Y$18:$Y$227,$AB$17-ROWS($Y$18:$Y189))))","v":""},{"$f":"IF(#REF!=\"\",\"\",#REF!/43560)","v":{"$error":"#REF!"}},{"$f":"#REF!","v":{"$error":"#REF!"}}]
["","",{"$f":"IF(B191=\"\",\"\",IFERROR(_xlfn.XLOOKUP(ROUND(B191,1),MetricIncrementalData[System Increment],_xlfn.XLOOKUP('Metric Incremental Crate'!$R$3,MetricIncrementalData[#Headers],MetricIncrementalData[]),,1),0))","v":""},"",{"$f":"IF(B191=\"\",\"\",IFERROR(_xlfn.XLOOKUP(ROUND(B191,1),MetricIncrementalData[System Increment],_xlfn.XLOOKUP(Metric_Incremental_Data_Target_Column,MetricIncrementalData[#Headers],MetricIncrementalData[]),,1),0))","v":""},{"$f":"IF(B191=\"\",\"\",IF(B192=\"\",((((B191-0)/100)*Metric_Module_Square_Foot_Area)-'Cumulative Volumes Metric'!E191)*Metric_Stone_Void_Percentage,((((B191-B192)/100)*Metric_Module_Square_Foot_Area)-'Cumulative Volumes Metric'!E191)*Metric_Stone_Void_Percentage))","v":""},"",{"$f":"IF(B191=\"\",\"\",((Metric_System_Area_Input-Metric_Number_Of_Stacks*_xlfn.XLOOKUP(Metric_Layers,CrateData[Layer],CrateData[Surface Area (m2)]))*((B191-IF(B192=\"\",0,B192))/100))*Metric_Stone_Void_Percentage)","v":""},"","",{"$f":"IF(B191=\"\",\"\",SUM(J191:$J$563))","v":""},"",{"$nulls":9},"",null,{"v":-0.6260000000000011,"d":"-0.63"},"","",null,"",{"$f":"IF($AU$21=\"INVERT\",Y191,IF(AC190>=$Z$12,\"\",IF(Y190=\"\",\"\",INDEX($Y$18:$Y$227,$AB$17-ROWS($Y$18:$Y190)))))","v":""},"","","",{"$nulls":26},{"$f":"IF($AU$21=\"INVERT\",Y191,IF(AC190>=$Z$12,\"\",IF(Y190=\"\",\"\",INDEX($Y$18:$Y$227,$AB$17-ROWS($Y$18:$Y190)))))","v":""},"",{"$f":"IF(AE190=\"\",\"\",\n    IF($AU$21=\"TYP\",\n       IF(Z190=\"\",\"\", INDEX($Z$18:$Z$227, $AB$17-ROWS($Z$18:$Z190))),\n       IF($AU$21=\"INVERT\",Z191, \"\")\n    )\n)","v":""},"",null,{"$f":"IF(BL190>=$Z$12,\"\",IF(Y190=\"\",\"\",INDEX($Y$18:$Y$227,$AB$17-ROWS($Y$18:$Y190))))","v":""},{"$f":"IF(#REF!=\"\",\"\",#REF!/43560)","v":{"$error":"#REF!"}},{"$f":"#REF!","v":{"$error":"#REF!"}}]
["","",{"$f":"IF(B192=\"\",\"\",IFERROR(_xlfn.XLOOKUP(ROUND(B192,1),MetricIncrementalData[System Increment],_xlfn.XLOOKUP('Metric Incremental Crate'!$R$3,MetricIncrementalData[#Headers],MetricIncrementalData[]),,1),0))","v":""},"",{"$f":"IF(B192=\"\",\"\",IFERROR(_xlfn.XLOOKUP(ROUND(B192,1),MetricIncrementalData[System Increment],_xlfn.XLOOKUP(Metric_Incremental_Data_Target_Column,MetricIncrementalData[#Headers],MetricIncrementalData[]),,1),0))","v":""},{"$f":"IF(B192=\"\",\"\",IF(B193=\"\",((((B192-0)/100)*Metric_Module_Square_Foot_Area)-'Cumulative Volumes Metric'!E192)*Metric_Stone_Void_Percentage,((((B192-B193)/100)*Metric_Module_Square_Foot_Area)-'Cumulative Volumes Metric'!E192)*Metric_Stone_Void_Percentage))","v":""},"",{"$f":"IF(B192=\"\",\"\",((Metric_System_Area_Input-Metric_Number_Of_Stacks*_xlfn.XLOOKUP(Metric_Layers,CrateData[Layer],CrateData[Surface Area (m2)]))*((B192-IF(B193=\"\",0,B193))/100))*Metric_Stone_Void_Percentage)","v":""},"","",{"$f":"IF(B192=\"\",\"\",SUM(J192:$J$563))","v":""},"",{"$nulls":9},"",null,{"v":-0.6360000000000011,"d":"-0.64"},"","",null,"",{"$f":"IF($AU$21=\"INVERT\",Y192,IF(AC191>=$Z$12,\"\",IF(Y191=\"\",\"\",INDEX($Y$18:$Y$227,$AB$17-ROWS($Y$18:$Y191)))))","v":""},"","","",{"$nulls":26},{"$f":"IF($AU$21=\"INVERT\",Y192,IF(AC191>=$Z$12,\"\",IF(Y191=\"\",\"\",INDEX($Y$18:$Y$227,$AB$17-ROWS($Y$18:$Y191)))))","v":""},"",{"$f":"IF(AE191=\"\",\"\",\n    IF($AU$21=\"TYP\",\n       IF(Z191=\"\",\"\", INDEX($Z$18:$Z$227, $AB$17-ROWS($Z$18:$Z191))),\n       IF($AU$21=\"INVERT\",Z192, \"\")\n    )\n)","v":""},"",null,{"$f":"IF(BL191>=$Z$12,\"\",IF(Y191=\"\",\"\",INDEX($Y$18:$Y$227,$AB$17-ROWS($Y$18:$Y191))))","v":""},{"$f":"IF(#REF!=\"\",\"\",#REF!/43560)","v":{"$error":"#REF!"}},{"$f":"#REF!","v":{"$error":"#REF!"}}]
["","",{"$f":"IF(B193=\"\",\"\",IFERROR(_xlfn.XLOOKUP(ROUND(B193,1),MetricIncrementalData[System Increment],_xlfn.XLOOKUP('Metric Incremental Crate'!$R$3,MetricIncrementalData[#Headers],MetricIncrementalData[]),,1),0))","v":""},"",{"$f":"IF(B193=\"\",\"\",IFERROR(_xlfn.XLOOKUP(ROUND(B193,1),MetricIncrementalData[System Increment],_xlfn.XLOOKUP(Metric_Incremental_Data_Target_Column,MetricIncrementalData[#Headers],MetricIncrementalData[]),,1),0))","v":""},{"$f":"IF(B193=\"\",\"\",IF(B194=\"\",((((B193-0)/100)*Metric_Module_Square_Foot_Area)-'Cumulative Volumes Metric'!E193)*Metric_Stone_Void_Percentage,((((B193-B194)/100)*Metric_Module_Square_Foot_Area)-'Cumulative Volumes Metric'!E193)*Metric_Stone_Void_Percentage))","v":""},"",{"$f":"IF(B193=\"\",\"\",((Metric_System_Area_Input-Metric_Number_Of_Stacks*_xlfn.XLOOKUP(Metric_Layers,CrateData[Layer],CrateData[Surface Area (m2)]))*((B193-IF(B194=\"\",0,B194))/100))*Metric_Stone_Void_Percentage)","v":""},"","",{"$f":"IF(B193=\"\",\"\",SUM(J193:$J$563))","v":""},"",{"$nulls":9},"",null,{"v":-0.6460000000000011,"d":"-0.65"},"","",null,"",{"$f":"IF($AU$21=\"INVERT\",Y193,IF(AC192>=$Z$12,\"\",IF(Y192=\"\",\"\",INDEX($Y$18:$Y$227,$AB$17-ROWS($Y$18:$Y192)))))","v":""},"","","",{"$nulls":26},{"$f":"IF($AU$21=\"INVERT\",Y193,IF(AC192>=$Z$12,\"\",IF(Y192=\"\",\"\",INDEX($Y$18:$Y$227,$AB$17-ROWS($Y$18:$Y192)))))","v":""},"",{"$f":"IF(AE192=\"\",\"\",\n    IF($AU$21=\"TYP\",\n       IF(Z192=\"\",\"\", INDEX($Z$18:$Z$227, $AB$17-ROWS($Z$18:$Z192))),\n       IF($AU$21=\"INVERT\",Z193, \"\")\n    )\n)","v":""},"",null,{"$f":"IF(BL192>=$Z$12,\"\",IF(Y192=\"\",\"\",INDEX($Y$18:$Y$227,$AB$17-ROWS($Y$18:$Y192))))","v":""},{"$f":"IF(#REF!=\"\",\"\",#REF!/43560)","v":{"$error":"#REF!"}},{"$f":"#REF!","v":{"$error":"#REF!"}}]
["","",{"$f":"IF(B194=\"\",\"\",IFERROR(_xlfn.XLOOKUP(ROUND(B194,1),MetricIncrementalData[System Increment],_xlfn.XLOOKUP('Metric Incremental Crate'!$R$3,MetricIncrementalData[#Headers],MetricIncrementalData[]),,1),0))","v":""},"",{"$f":"IF(B194=\"\",\"\",IFERROR(_xlfn.XLOOKUP(ROUND(B194,1),MetricIncrementalData[System Increment],_xlfn.XLOOKUP(Metric_Incremental_Data_Target_Column,MetricIncrementalData[#Headers],MetricIncrementalData[]),,1),0))","v":""},{"$f":"IF(B194=\"\",\"\",IF(B195=\"\",((((B194-0)/100)*Metric_Module_Square_Foot_Area)-'Cumulative Volumes Metric'!E194)*Metric_Stone_Void_Percentage,((((B194-B195)/100)*Metric_Module_Square_Foot_Area)-'Cumulative Volumes Metric'!E194)*Metric_Stone_Void_Percentage))","v":""},"",{"$f":"IF(B194=\"\",\"\",((Metric_System_Area_Input-Metric_Number_Of_Stacks*_xlfn.XLOOKUP(Metric_Layers,CrateData[Layer],CrateData[Surface Area (m2)]))*((B194-IF(B195=\"\",0,B195))/100))*Metric_Stone_Void_Percentage)","v":""},"","",{"$f":"IF(B194=\"\",\"\",SUM(J194:$J$563))","v":""},"",{"$nulls":9},"",null,{"v":-0.6560000000000011,"d":"-0.66"},"","",null,"",{"$f":"IF($AU$21=\"INVERT\",Y194,IF(AC193>=$Z$12,\"\",IF(Y193=\"\",\"\",INDEX($Y$18:$Y$227,$AB$17-ROWS($Y$18:$Y193)))))","v":""},"","","",{"$nulls":26},{"$f":"IF($AU$21=\"INVERT\",Y194,IF(AC193>=$Z$12,\"\",IF(Y193=\"\",\"\",INDEX($Y$18:$Y$227,$AB$17-ROWS($Y$18:$Y193)))))","v":""},"",{"$f":"IF(AE193=\"\",\"\",\n    IF($AU$21=\"TYP\",\n       IF(Z193=\"\",\"\", INDEX($Z$18:$Z$227, $AB$17-ROWS($Z$18:$Z193))),\n       IF($AU$21=\"INVERT\",Z194, \"\")\n    )\n)","v":""},"",null,{"$f":"IF(BL193>=$Z$12,\"\",IF(Y193=\"\",\"\",INDEX($Y$18:$Y$227,$AB$17-ROWS($Y$18:$Y193))))","v":""},{"$f":"IF(#REF!=\"\",\"\",#REF!/43560)","v":{"$error":"#REF!"}},{"$f":"#REF!","v":{"$error":"#REF!"}}]
["","",{"$f":"IF(B195=\"\",\"\",IFERROR(_xlfn.XLOOKUP(ROUND(B195,1),MetricIncrementalData[System Increment],_xlfn.XLOOKUP('Metric Incremental Crate'!$R$3,MetricIncrementalData[#Headers],MetricIncrementalData[]),,1),0))","v":""},"",{"$f":"IF(B195=\"\",\"\",IFERROR(_xlfn.XLOOKUP(ROUND(B195,1),MetricIncrementalData[System Increment],_xlfn.XLOOKUP(Metric_Incremental_Data_Target_Column,MetricIncrementalData[#Headers],MetricIncrementalData[]),,1),0))","v":""},{"$f":"IF(B195=\"\",\"\",IF(B196=\"\",((((B195-0)/100)*Metric_Module_Square_Foot_Area)-'Cumulative Volumes Metric'!E195)*Metric_Stone_Void_Percentage,((((B195-B196)/100)*Metric_Module_Square_Foot_Area)-'Cumulative Volumes Metric'!E195)*Metric_Stone_Void_Percentage))","v":""},"",{"$f":"IF(B195=\"\",\"\",((Metric_System_Area_Input-Metric_Number_Of_Stacks*_xlfn.XLOOKUP(Metric_Layers,CrateData[Layer],CrateData[Surface Area (m2)]))*((B195-IF(B196=\"\",0,B196))/100))*Metric_Stone_Void_Percentage)","v":""},"","",{"$f":"IF(B195=\"\",\"\",SUM(J195:$J$563))","v":""},"",{"$nulls":9},"",null,{"v":-0.6660000000000011,"d":"-0.67"},"","",null,"",{"$f":"IF($AU$21=\"INVERT\",Y195,IF(AC194>=$Z$12,\"\",IF(Y194=\"\",\"\",INDEX($Y$18:$Y$227,$AB$17-ROWS($Y$18:$Y194)))))","v":""},"","","",{"$nulls":26},{"$f":"IF($AU$21=\"INVERT\",Y195,IF(AC194>=$Z$12,\"\",IF(Y194=\"\",\"\",INDEX($Y$18:$Y$227,$AB$17-ROWS($Y$18:$Y194)))))","v":""},"",{"$f":"IF(AE194=\"\",\"\",\n    IF($AU$21=\"TYP\",\n       IF(Z194=\"\",\"\", INDEX($Z$18:$Z$227, $AB$17-ROWS($Z$18:$Z194))),\n       IF($AU$21=\"INVERT\",Z195, \"\")\n    )\n)","v":""},"",null,{"$f":"IF(BL194>=$Z$12,\"\",IF(Y194=\"\",\"\",INDEX($Y$18:$Y$227,$AB$17-ROWS($Y$18:$Y194))))","v":""},{"$f":"IF(#REF!=\"\",\"\",#REF!/43560)","v":{"$error":"#REF!"}},{"$f":"#REF!","v":{"$error":"#REF!"}}]
["","",{"$f":"IF(B196=\"\",\"\",IFERROR(_xlfn.XLOOKUP(ROUND(B196,1),MetricIncrementalData[System Increment],_xlfn.XLOOKUP('Metric Incremental Crate'!$R$3,MetricIncrementalData[#Headers],MetricIncrementalData[]),,1),0))","v":""},"",{"$f":"IF(B196=\"\",\"\",IFERROR(_xlfn.XLOOKUP(ROUND(B196,1),MetricIncrementalData[System Increment],_xlfn.XLOOKUP(Metric_Incremental_Data_Target_Column,MetricIncrementalData[#Headers],MetricIncrementalData[]),,1),0))","v":""},{"$f":"IF(B196=\"\",\"\",IF(B197=\"\",((((B196-0)/100)*Metric_Module_Square_Foot_Area)-'Cumulative Volumes Metric'!E196)*Metric_Stone_Void_Percentage,((((B196-B197)/100)*Metric_Module_Square_Foot_Area)-'Cumulative Volumes Metric'!E196)*Metric_Stone_Void_Percentage))","v":""},"",{"$f":"IF(B196=\"\",\"\",((Metric_System_Area_Input-Metric_Number_Of_Stacks*_xlfn.XLOOKUP(Metric_Layers,CrateData[Layer],CrateData[Surface Area (m2)]))*((B196-IF(B197=\"\",0,B197))/100))*Metric_Stone_Void_Percentage)","v":""},"","",{"$f":"IF(B196=\"\",\"\",SUM(J196:$J$563))","v":""},"",{"$nulls":9},"",null,{"v":-0.6760000000000012,"d":"-0.68"},"","",null,"",{"$f":"IF($AU$21=\"INVERT\",Y196,IF(AC195>=$Z$12,\"\",IF(Y195=\"\",\"\",INDEX($Y$18:$Y$227,$AB$17-ROWS($Y$18:$Y195)))))","v":""},"","","",{"$nulls":26},{"$f":"IF($AU$21=\"INVERT\",Y196,IF(AC195>=$Z$12,\"\",IF(Y195=\"\",\"\",INDEX($Y$18:$Y$227,$AB$17-ROWS($Y$18:$Y195)))))","v":""},"",{"$f":"IF(AE195=\"\",\"\",\n    IF($AU$21=\"TYP\",\n       IF(Z195=\"\",\"\", INDEX($Z$18:$Z$227, $AB$17-ROWS($Z$18:$Z195))),\n       IF($AU$21=\"INVERT\",Z196, \"\")\n    )\n)","v":""},"",null,{"$f":"IF(BL195>=$Z$12,\"\",IF(Y195=\"\",\"\",INDEX($Y$18:$Y$227,$AB$17-ROWS($Y$18:$Y195))))","v":""},{"$f":"IF(#REF!=\"\",\"\",#REF!/43560)","v":{"$error":"#REF!"}},{"$f":"#REF!","v":{"$error":"#REF!"}}]
["","",{"$f":"IF(B197=\"\",\"\",IFERROR(_xlfn.XLOOKUP(ROUND(B197,1),MetricIncrementalData[System Increment],_xlfn.XLOOKUP('Metric Incremental Crate'!$R$3,MetricIncrementalData[#Headers],MetricIncrementalData[]),,1),0))","v":""},"",{"$f":"IF(B197=\"\",\"\",IFERROR(_xlfn.XLOOKUP(ROUND(B197,1),MetricIncrementalData[System Increment],_xlfn.XLOOKUP(Metric_Incremental_Data_Target_Column,MetricIncrementalData[#Headers],MetricIncrementalData[]),,1),0))","v":""},{"$f":"IF(B197=\"\",\"\",IF(B198=\"\",((((B197-0)/100)*Metric_Module_Square_Foot_Area)-'Cumulative Volumes Metric'!E197)*Metric_Stone_Void_Percentage,((((B197-B198)/100)*Metric_Module_Square_Foot_Area)-'Cumulative Volumes Metric'!E197)*Metric_Stone_Void_Percentage))","v":""},"",{"$f":"IF(B197=\"\",\"\",((Metric_System_Area_Input-Metric_Number_Of_Stacks*_xlfn.XLOOKUP(Metric_Layers,CrateData[Layer],CrateData[Surface Area (m2)]))*((B197-IF(B198=\"\",0,B198))/100))*Metric_Stone_Void_Percentage)","v":""},"","",{"$f":"IF(B197=\"\",\"\",SUM(J197:$J$563))","v":""},"",{"$nulls":9},"",null,{"v":-0.6860000000000012,"d":"-0.69"},"","",null,"",{"$f":"IF($AU$21=\"INVERT\",Y197,IF(AC196>=$Z$12,\"\",IF(Y196=\"\",\"\",INDEX($Y$18:$Y$227,$AB$17-ROWS($Y$18:$Y196)))))","v":""},"","","",{"$nulls":26},{"$f":"IF($AU$21=\"INVERT\",Y197,IF(AC196>=$Z$12,\"\",IF(Y196=\"\",\"\",INDEX($Y$18:$Y$227,$AB$17-ROWS($Y$18:$Y196)))))","v":""},"",{"$f":"IF(AE196=\"\",\"\",\n    IF($AU$21=\"TYP\",\n       IF(Z196=\"\",\"\", INDEX($Z$18:$Z$227, $AB$17-ROWS($Z$18:$Z196))),\n       IF($AU$21=\"INVERT\",Z197, \"\")\n    )\n)","v":""},"",null,{"$f":"IF(BL196>=$Z$12,\"\",IF(Y196=\"\",\"\",INDEX($Y$18:$Y$227,$AB$17-ROWS($Y$18:$Y196))))","v":""},{"$f":"IF(#REF!=\"\",\"\",#REF!/43560)","v":{"$error":"#REF!"}},{"$f":"#REF!","v":{"$error":"#REF!"}}]
["","",{"$f":"IF(B198=\"\",\"\",IFERROR(_xlfn.XLOOKUP(ROUND(B198,1),MetricIncrementalData[System Increment],_xlfn.XLOOKUP('Metric Incremental Crate'!$R$3,MetricIncrementalData[#Headers],MetricIncrementalData[]),,1),0))","v":""},"",{"$f":"IF(B198=\"\",\"\",IFERROR(_xlfn.XLOOKUP(ROUND(B198,1),MetricIncrementalData[System Increment],_xlfn.XLOOKUP(Metric_Incremental_Data_Target_Column,MetricIncrementalData[#Headers],MetricIncrementalData[]),,1),0))","v":""},{"$f":"IF(B198=\"\",\"\",IF(B199=\"\",((((B198-0)/100)*Metric_Module_Square_Foot_Area)-'Cumulative Volumes Metric'!E198)*Metric_Stone_Void_Percentage,((((B198-B199)/100)*Metric_Module_Square_Foot_Area)-'Cumulative Volumes Metric'!E198)*Metric_Stone_Void_Percentage))","v":""},"",{"$f":"IF(B198=\"\",\"\",((Metric_System_Area_Input-Metric_Number_Of_Stacks*_xlfn.XLOOKUP(Metric_Layers,CrateData[Layer],CrateData[Surface Area (m2)]))*((B198-IF(B199=\"\",0,B199))/100))*Metric_Stone_Void_Percentage)","v":""},"","",{"$f":"IF(B198=\"\",\"\",SUM(J198:$J$563))","v":""},"",{"$nulls":9},"",null,{"v":-0.6960000000000012,"d":"-0.70"},"","",null,"",{"$f":"IF($AU$21=\"INVERT\",Y198,IF(AC197>=$Z$12,\"\",IF(Y197=\"\",\"\",INDEX($Y$18:$Y$227,$AB$17-ROWS($Y$18:$Y197)))))","v":""},"","","",{"$nulls":26},{"$f":"IF($AU$21=\"INVERT\",Y198,IF(AC197>=$Z$12,\"\",IF(Y197=\"\",\"\",INDEX($Y$18:$Y$227,$AB$17-ROWS($Y$18:$Y197)))))","v":""},"",{"$f":"IF(AE197=\"\",\"\",\n    IF($AU$21=\"TYP\",\n       IF(Z197=\"\",\"\", INDEX($Z$18:$Z$227, $AB$17-ROWS($Z$18:$Z197))),\n       IF($AU$21=\"INVERT\",Z198, \"\")\n    )\n)","v":""},"",null,{"$f":"IF(BL197>=$Z$12,\"\",IF(Y197=\"\",\"\",INDEX($Y$18:$Y$227,$AB$17-ROWS($Y$18:$Y197))))","v":""},{"$f":"IF(#REF!=\"\",\"\",#REF!/43560)","v":{"$error":"#REF!"}},{"$f":"#REF!","v":{"$error":"#REF!"}}]
["","",{"$f":"IF(B199=\"\",\"\",IFERROR(_xlfn.XLOOKUP(ROUND(B199,1),MetricIncrementalData[System Increment],_xlfn.XLOOKUP('Metric Incremental Crate'!$R$3,MetricIncrementalData[#Headers],MetricIncrementalData[]),,1),0))","v":""},"",{"$f":"IF(B199=\"\",\"\",IFERROR(_xlfn.XLOOKUP(ROUND(B199,1),MetricIncrementalData[System Increment],_xlfn.XLOOKUP(Metric_Incremental_Data_Target_Column,MetricIncrementalData[#Headers],MetricIncrementalData[]),,1),0))","v":""},{"$f":"IF(B199=\"\",\"\",IF(B200=\"\",((((B199-0)/100)*Metric_Module_Square_Foot_Area)-'Cumulative Volumes Metric'!E199)*Metric_Stone_Void_Percentage,((((B199-B200)/100)*Metric_Module_Square_Foot_Area)-'Cumulative Volumes Metric'!E199)*Metric_Stone_Void_Percentage))","v":""},"",{"$f":"IF(B199=\"\",\"\",((Metric_System_Area_Input-Metric_Number_Of_Stacks*_xlfn.XLOOKUP(Metric_Layers,CrateData[Layer],CrateData[Surface Area (m2)]))*((B199-IF(B200=\"\",0,B200))/100))*Metric_Stone_Void_Percentage)","v":""},"","",{"$f":"IF(B199=\"\",\"\",SUM(J199:$J$563))","v":""},"",{"$nulls":9},"",null,{"v":-0.7060000000000012,"d":"-0.71"},"","",null,"",{"$f":"IF($AU$21=\"INVERT\",Y199,IF(AC198>=$Z$12,\"\",IF(Y198=\"\",\"\",INDEX($Y$18:$Y$227,$AB$17-ROWS($Y$18:$Y198)))))","v":""},"","","",{"$nulls":26},{"$f":"IF($AU$21=\"INVERT\",Y199,IF(AC198>=$Z$12,\"\",IF(Y198=\"\",\"\",INDEX($Y$18:$Y$227,$AB$17-ROWS($Y$18:$Y198)))))","v":""},"",{"$f":"IF(AE198=\"\",\"\",\n    IF($AU$21=\"TYP\",\n       IF(Z198=\"\",\"\", INDEX($Z$18:$Z$227, $AB$17-ROWS($Z$18:$Z198))),\n       IF($AU$21=\"INVERT\",Z199, \"\")\n    )\n)","v":""},"",null,{"$f":"IF(BL198>=$Z$12,\"\",IF(Y198=\"\",\"\",INDEX($Y$18:$Y$227,$AB$17-ROWS($Y$18:$Y198))))","v":""},{"$f":"IF(#REF!=\"\",\"\",#REF!/43560)","v":{"$error":"#REF!"}},{"$f":"#REF!","v":{"$error":"#REF!"}}]
["","",{"$f":"IF(B200=\"\",\"\",IFERROR(_xlfn.XLOOKUP(ROUND(B200,1),MetricIncrementalData[System Increment],_xlfn.XLOOKUP('Metric Incremental Crate'!$R$3,MetricIncrementalData[#Headers],MetricIncrementalData[]),,1),0))","v":""},"",{"$f":"IF(B200=\"\",\"\",IFERROR(_xlfn.XLOOKUP(ROUND(B200,1),MetricIncrementalData[System Increment],_xlfn.XLOOKUP(Metric_Incremental_Data_Target_Column,MetricIncrementalData[#Headers],MetricIncrementalData[]),,1),0))","v":""},{"$f":"IF(B200=\"\",\"\",IF(B201=\"\",((((B200-0)/100)*Metric_Module_Square_Foot_Area)-'Cumulative Volumes Metric'!E200)*Metric_Stone_Void_Percentage,((((B200-B201)/100)*Metric_Module_Square_Foot_Area)-'Cumulative Volumes Metric'!E200)*Metric_Stone_Void_Percentage))","v":""},"",{"$f":"IF(B200=\"\",\"\",((Metric_System_Area_Input-Metric_Number_Of_Stacks*_xlfn.XLOOKUP(Metric_Layers,CrateData[Layer],CrateData[Surface Area (m2)]))*((B200-IF(B201=\"\",0,B201))/100))*Metric_Stone_Void_Percentage)","v":""},"","",{"$f":"IF(B200=\"\",\"\",SUM(J200:$J$563))","v":""},"",{"$nulls":9},"",null,{"v":-0.7160000000000012,"d":"-0.72"},"","",null,{"$f":"IF(Y200=\"\",\"\",1)","v":""},{"$f":"IF($AU$21=\"INVERT\",Y200,IF(AC199>=$Z$12,\"\",IF(Y199=\"\",\"\",INDEX($Y$18:$Y$227,$AB$17-ROWS($Y$18:$Y199)))))","v":""},"","","",{"$nulls":26},{"$f":"IF($AU$21=\"INVERT\",Y200,IF(AC199>=$Z$12,\"\",IF(Y199=\"\",\"\",INDEX($Y$18:$Y$227,$AB$17-ROWS($Y$18:$Y199)))))","v":""},"",{"$f":"IF(AE199=\"\",\"\",\n    IF($AU$21=\"TYP\",\n       IF(Z199=\"\",\"\", INDEX($Z$18:$Z$227, $AB$17-ROWS($Z$18:$Z199))),\n       IF($AU$21=\"INVERT\",Z200, \"\")\n    )\n)","v":""},"",null,{"$f":"IF(BL199>=$Z$12,\"\",IF(Y199=\"\",\"\",INDEX($Y$18:$Y$227,$AB$17-ROWS($Y$18:$Y199))))","v":""},{"$f":"IF(#REF!=\"\",\"\",#REF!/43560)","v":{"$error":"#REF!"}},{"$f":"#REF!","v":{"$error":"#REF!"}}]
["","",{"$f":"IF(B201=\"\",\"\",IFERROR(_xlfn.XLOOKUP(ROUND(B201,1),MetricIncrementalData[System Increment],_xlfn.XLOOKUP('Metric Incremental Crate'!$R$3,MetricIncrementalData[#Headers],MetricIncrementalData[]),,1),0))","v":""},"",{"$f":"IF(B201=\"\",\"\",IFERROR(_xlfn.XLOOKUP(ROUND(B201,1),MetricIncrementalData[System Increment],_xlfn.XLOOKUP(Metric_Incremental_Data_Target_Column,MetricIncrementalData[#Headers],MetricIncrementalData[]),,1),0))","v":""},{"$f":"IF(B201=\"\",\"\",IF(B202=\"\",((((B201-0)/100)*Metric_Module_Square_Foot_Area)-'Cumulative Volumes Metric'!E201)*Metric_Stone_Void_Percentage,((((B201-B202)/100)*Metric_Module_Square_Foot_Area)-'Cumulative Volumes Metric'!E201)*Metric_Stone_Void_Percentage))","v":""},"",{"$f":"IF(B201=\"\",\"\",((Metric_System_Area_Input-Metric_Number_Of_Stacks*_xlfn.XLOOKUP(Metric_Layers,CrateData[Layer],CrateData[Surface Area (m2)]))*((B201-IF(B202=\"\",0,B202))/100))*Metric_Stone_Void_Percentage)","v":""},"","",{"$f":"IF(B201=\"\",\"\",SUM(J201:$J$563))","v":""},"",{"$nulls":9},"",null,{"v":-0.7260000000000012,"d":"-0.73"},"","",null,{"$f":"IF(Y201=\"\",\"\",1)","v":""},{"$f":"IF($AU$21=\"INVERT\",Y201,IF(AC200>=$Z$12,\"\",IF(Y200=\"\",\"\",INDEX($Y$18:$Y$227,$AB$17-ROWS($Y$18:$Y200)))))","v":""},"","","",{"$nulls":26},{"$f":"IF($AU$21=\"INVERT\",Y201,IF(AC200>=$Z$12,\"\",IF(Y200=\"\",\"\",INDEX($Y$18:$Y$227,$AB$17-ROWS($Y$18:$Y200)))))","v":""},"",{"$f":"IF(AE200=\"\",\"\",\n    IF($AU$21=\"TYP\",\n       IF(Z200=\"\",\"\", INDEX($Z$18:$Z$227, $AB$17-ROWS($Z$18:$Z200))),\n       IF($AU$21=\"INVERT\",Z201, \"\")\n    )\n)","v":""},"",null,{"$f":"IF(BL200>=$Z$12,\"\",IF(Y200=\"\",\"\",INDEX($Y$18:$Y$227,$AB$17-ROWS($Y$18:$Y200))))","v":""},{"$f":"IF(#REF!=\"\",\"\",#REF!/43560)","v":{"$error":"#REF!"}},{"$f":"#REF!","v":{"$error":"#REF!"}}]
["","",{"$f":"IF(B202=\"\",\"\",IFERROR(_xlfn.XLOOKUP(ROUND(B202,1),MetricIncrementalData[System Increment],_xlfn.XLOOKUP('Metric Incremental Crate'!$R$3,MetricIncrementalData[#Headers],MetricIncrementalData[]),,1),0))","v":""},"",{"$f":"IF(B202=\"\",\"\",IFERROR(_xlfn.XLOOKUP(ROUND(B202,1),MetricIncrementalData[System Increment],_xlfn.XLOOKUP(Metric_Incremental_Data_Target_Column,MetricIncrementalData[#Headers],MetricIncrementalData[]),,1),0))","v":""},{"$f":"IF(B202=\"\",\"\",IF(B203=\"\",((((B202-0)/100)*Metric_Module_Square_Foot_Area)-'Cumulative Volumes Metric'!E202)*Metric_Stone_Void_Percentage,((((B202-B203)/100)*Metric_Module_Square_Foot_Area)-'Cumulative Volumes Metric'!E202)*Metric_Stone_Void_Percentage))","v":""},"",{"$f":"IF(B202=\"\",\"\",((Metric_System_Area_Input-Metric_Number_Of_Stacks*_xlfn.XLOOKUP(Metric_Layers,CrateData[Layer],CrateData[Surface Area (m2)]))*((B202-IF(B203=\"\",0,B203))/100))*Metric_Stone_Void_Percentage)","v":""},"","",{"$f":"IF(B202=\"\",\"\",SUM(J202:$J$563))","v":""},"",{"$nulls":9},"",null,{"v":-0.7360000000000012,"d":"-0.74"},"","",null,"",{"$f":"IF($AU$21=\"INVERT\",Y202,IF(AC201>=$Z$12,\"\",IF(Y201=\"\",\"\",INDEX($Y$18:$Y$227,$AB$17-ROWS($Y$18:$Y201)))))","v":""},"","","",{"$nulls":26},{"$f":"IF($AU$21=\"INVERT\",Y202,IF(AC201>=$Z$12,\"\",IF(Y201=\"\",\"\",INDEX($Y$18:$Y$227,$AB$17-ROWS($Y$18:$Y201)))))","v":""},"",{"$f":"IF(AE201=\"\",\"\",\n    IF($AU$21=\"TYP\",\n       IF(Z201=\"\",\"\", INDEX($Z$18:$Z$227, $AB$17-ROWS($Z$18:$Z201))),\n       IF($AU$21=\"INVERT\",Z202, \"\")\n    )\n)","v":""},"",null,{"$f":"IF(BL201>=$Z$12,\"\",IF(Y201=\"\",\"\",INDEX($Y$18:$Y$227,$AB$17-ROWS($Y$18:$Y201))))","v":""},{"$f":"IF(#REF!=\"\",\"\",#REF!/43560)","v":{"$error":"#REF!"}},{"$f":"#REF!","v":{"$error":"#REF!"}}]
["","",{"$f":"IF(B203=\"\",\"\",IFERROR(_xlfn.XLOOKUP(ROUND(B203,1),MetricIncrementalData[System Increment],_xlfn.XLOOKUP('Metric Incremental Crate'!$R$3,MetricIncrementalData[#Headers],MetricIncrementalData[]),,1),0))","v":""},"",{"$f":"IF(B203=\"\",\"\",IFERROR(_xlfn.XLOOKUP(ROUND(B203,1),MetricIncrementalData[System Increment],_xlfn.XLOOKUP(Metric_Incremental_Data_Target_Column,MetricIncrementalData[#Headers],MetricIncrementalData[]),,1),0))","v":""},{"$f":"IF(B203=\"\",\"\",IF(B204=\"\",((((B203-0)/100)*Metric_Module_Square_Foot_Area)-'Cumulative Volumes Metric'!E203)*Metric_Stone_Void_Percentage,((((B203-B204)/100)*Metric_Module_Square_Foot_Area)-'Cumulative Volumes Metric'!E203)*Metric_Stone_Void_Percentage))","v":""},"",{"$f":"IF(B203=\"\",\"\",((Metric_System_Area_Input-Metric_Number_Of_Stacks*_xlfn.XLOOKUP(Metric_Layers,CrateData[Layer],CrateData[Surface Area (m2)]))*((B203-IF(B204=\"\",0,B204))/100))*Metric_Stone_Void_Percentage)","v":""},"","",{"$f":"IF(B203=\"\",\"\",SUM(J203:$J$563))","v":""},"",{"$nulls":9},"",null,{"v":-0.7460000000000012,"d":"-0.75"},"","",null,"",{"$f":"IF($AU$21=\"INVERT\",Y203,IF(AC202>=$Z$12,\"\",IF(Y202=\"\",\"\",INDEX($Y$18:$Y$227,$AB$17-ROWS($Y$18:$Y202)))))","v":""},"","","",{"$nulls":26},{"$f":"IF($AU$21=\"INVERT\",Y203,IF(AC202>=$Z$12,\"\",IF(Y202=\"\",\"\",INDEX($Y$18:$Y$227,$AB$17-ROWS($Y$18:$Y202)))))","v":""},"",{"$f":"IF(AE202=\"\",\"\",\n    IF($AU$21=\"TYP\",\n       IF(Z202=\"\",\"\", INDEX($Z$18:$Z$227, $AB$17-ROWS($Z$18:$Z202))),\n       IF($AU$21=\"INVERT\",Z203, \"\")\n    )\n)","v":""},"",null,{"$f":"IF(BL202>=$Z$12,\"\",IF(Y202=\"\",\"\",INDEX($Y$18:$Y$227,$AB$17-ROWS($Y$18:$Y202))))","v":""},{"$f":"IF(#REF!=\"\",\"\",#REF!/43560)","v":{"$error":"#REF!"}},{"$f":"#REF!","v":{"$error":"#REF!"}}]
["","",{"$f":"IF(B204=\"\",\"\",IFERROR(_xlfn.XLOOKUP(ROUND(B204,1),MetricIncrementalData[System Increment],_xlfn.XLOOKUP('Metric Incremental Crate'!$R$3,MetricIncrementalData[#Headers],MetricIncrementalData[]),,1),0))","v":""},"",{"$f":"IF(B204=\"\",\"\",IFERROR(_xlfn.XLOOKUP(ROUND(B204,1),MetricIncrementalData[System Increment],_xlfn.XLOOKUP(Metric_Incremental_Data_Target_Column,MetricIncrementalData[#Headers],MetricIncrementalData[]),,1),0))","v":""},{"$f":"IF(B204=\"\",\"\",IF(B205=\"\",((((B204-0)/100)*Metric_Module_Square_Foot_Area)-'Cumulative Volumes Metric'!E204)*Metric_Stone_Void_Percentage,((((B204-B205)/100)*Metric_Module_Square_Foot_Area)-'Cumulative Volumes Metric'!E204)*Metric_Stone_Void_Percentage))","v":""},"",{"$f":"IF(B204=\"\",\"\",((Metric_System_Area_Input-Metric_Number_Of_Stacks*_xlfn.XLOOKUP(Metric_Layers,CrateData[Layer],CrateData[Surface Area (m2)]))*((B204-IF(B205=\"\",0,B205))/100))*Metric_Stone_Void_Percentage)","v":""},"","",{"$f":"IF(B204=\"\",\"\",SUM(J204:$J$563))","v":""},"",{"$nulls":9},"",null,{"v":-0.7560000000000012,"d":"-0.76"},"","",null,"",{"$f":"IF($AU$21=\"INVERT\",Y204,IF(AC203>=$Z$12,\"\",IF(Y203=\"\",\"\",INDEX($Y$18:$Y$227,$AB$17-ROWS($Y$18:$Y203)))))","v":""},"","","",{"$nulls":26},{"$f":"IF($AU$21=\"INVERT\",Y204,IF(AC203>=$Z$12,\"\",IF(Y203=\"\",\"\",INDEX($Y$18:$Y$227,$AB$17-ROWS($Y$18:$Y203)))))","v":""},"",{"$f":"IF(AE203=\"\",\"\",\n    IF($AU$21=\"TYP\",\n       IF(Z203=\"\",\"\", INDEX($Z$18:$Z$227, $AB$17-ROWS($Z$18:$Z203))),\n       IF($AU$21=\"INVERT\",Z204, \"\")\n    )\n)","v":""},"",null,{"$f":"IF(BL203>=$Z$12,\"\",IF(Y203=\"\",\"\",INDEX($Y$18:$Y$227,$AB$17-ROWS($Y$18:$Y203))))","v":""},{"$f":"IF(#REF!=\"\",\"\",#REF!/43560)","v":{"$error":"#REF!"}},{"$f":"#REF!","v":{"$error":"#REF!"}}]
["","",{"$f":"IF(B205=\"\",\"\",IFERROR(_xlfn.XLOOKUP(ROUND(B205,1),MetricIncrementalData[System Increment],_xlfn.XLOOKUP('Metric Incremental Crate'!$R$3,MetricIncrementalData[#Headers],MetricIncrementalData[]),,1),0))","v":""},"",{"$f":"IF(B205=\"\",\"\",IFERROR(_xlfn.XLOOKUP(ROUND(B205,1),MetricIncrementalData[System Increment],_xlfn.XLOOKUP(Metric_Incremental_Data_Target_Column,MetricIncrementalData[#Headers],MetricIncrementalData[]),,1),0))","v":""},{"$f":"IF(B205=\"\",\"\",IF(B206=\"\",((((B205-0)/100)*Metric_Module_Square_Foot_Area)-'Cumulative Volumes Metric'!E205)*Metric_Stone_Void_Percentage,((((B205-B206)/100)*Metric_Module_Square_Foot_Area)-'Cumulative Volumes Metric'!E205)*Metric_Stone_Void_Percentage))","v":""},"",{"$f":"IF(B205=\"\",\"\",((Metric_System_Area_Input-Metric_Number_Of_Stacks*_xlfn.XLOOKUP(Metric_Layers,CrateData[Layer],CrateData[Surface Area (m2)]))*((B205-IF(B206=\"\",0,B206))/100))*Metric_Stone_Void_Percentage)","v":""},"","",{"$f":"IF(B205=\"\",\"\",SUM(J205:$J$563))","v":""},"",{"$nulls":9},"",null,{"v":-0.7660000000000012,"d":"-0.77"},"","",null,"",{"$f":"IF($AU$21=\"INVERT\",Y205,IF(AC204>=$Z$12,\"\",IF(Y204=\"\",\"\",INDEX($Y$18:$Y$227,$AB$17-ROWS($Y$18:$Y204)))))","v":""},"","","",{"$nulls":26},{"$f":"IF($AU$21=\"INVERT\",Y205,IF(AC204>=$Z$12,\"\",IF(Y204=\"\",\"\",INDEX($Y$18:$Y$227,$AB$17-ROWS($Y$18:$Y204)))))","v":""},"",{"$f":"IF(AE204=\"\",\"\",\n    IF($AU$21=\"TYP\",\n       IF(Z204=\"\",\"\", INDEX($Z$18:$Z$227, $AB$17-ROWS($Z$18:$Z204))),\n       IF($AU$21=\"INVERT\",Z205, \"\")\n    )\n)","v":""},"",null,{"$f":"IF(BL204>=$Z$12,\"\",IF(Y204=\"\",\"\",INDEX($Y$18:$Y$227,$AB$17-ROWS($Y$18:$Y204))))","v":""},{"$f":"IF(#REF!=\"\",\"\",#REF!/43560)","v":{"$error":"#REF!"}},{"$f":"#REF!","v":{"$error":"#REF!"}}]
["","",{"$f":"IF(B206=\"\",\"\",IFERROR(_xlfn.XLOOKUP(ROUND(B206,1),MetricIncrementalData[System Increment],_xlfn.XLOOKUP('Metric Incremental Crate'!$R$3,MetricIncrementalData[#Headers],MetricIncrementalData[]),,1),0))","v":""},"",{"$f":"IF(B206=\"\",\"\",IFERROR(_xlfn.XLOOKUP(ROUND(B206,1),MetricIncrementalData[System Increment],_xlfn.XLOOKUP(Metric_Incremental_Data_Target_Column,MetricIncrementalData[#Headers],MetricIncrementalData[]),,1),0))","v":""},{"$f":"IF(B206=\"\",\"\",IF(B207=\"\",((((B206-0)/100)*Metric_Module_Square_Foot_Area)-'Cumulative Volumes Metric'!E206)*Metric_Stone_Void_Percentage,((((B206-B207)/100)*Metric_Module_Square_Foot_Area)-'Cumulative Volumes Metric'!E206)*Metric_Stone_Void_Percentage))","v":""},"",{"$f":"IF(B206=\"\",\"\",((Metric_System_Area_Input-Metric_Number_Of_Stacks*_xlfn.XLOOKUP(Metric_Layers,CrateData[Layer],CrateData[Surface Area (m2)]))*((B206-IF(B207=\"\",0,B207))/100))*Metric_Stone_Void_Percentage)","v":""},"","",{"$f":"IF(B206=\"\",\"\",SUM(J206:$J$563))","v":""},"",{"$nulls":9},"",null,{"v":-0.7760000000000012,"d":"-0.78"},"","",null,"",{"$f":"IF($AU$21=\"INVERT\",Y206,IF(AC205>=$Z$12,\"\",IF(Y205=\"\",\"\",INDEX($Y$18:$Y$227,$AB$17-ROWS($Y$18:$Y205)))))","v":""},"","","",{"$nulls":26},{"$f":"IF($AU$21=\"INVERT\",Y206,IF(AC205>=$Z$12,\"\",IF(Y205=\"\",\"\",INDEX($Y$18:$Y$227,$AB$17-ROWS($Y$18:$Y205)))))","v":""},"",{"$f":"IF(AE205=\"\",\"\",\n    IF($AU$21=\"TYP\",\n       IF(Z205=\"\",\"\", INDEX($Z$18:$Z$227, $AB$17-ROWS($Z$18:$Z205))),\n       IF($AU$21=\"INVERT\",Z206, \"\")\n    )\n)","v":""},"",null,{"$f":"IF(BL205>=$Z$12,\"\",IF(Y205=\"\",\"\",INDEX($Y$18:$Y$227,$AB$17-ROWS($Y$18:$Y205))))","v":""},{"$f":"IF(#REF!=\"\",\"\",#REF!/43560)","v":{"$error":"#REF!"}},{"$f":"#REF!","v":{"$error":"#REF!"}}]
["","",{"$f":"IF(B207=\"\",\"\",IFERROR(_xlfn.XLOOKUP(ROUND(B207,1),MetricIncrementalData[System Increment],_xlfn.XLOOKUP('Metric Incremental Crate'!$R$3,MetricIncrementalData[#Headers],MetricIncrementalData[]),,1),0))","v":""},"",{"$f":"IF(B207=\"\",\"\",IFERROR(_xlfn.XLOOKUP(ROUND(B207,1),MetricIncrementalData[System Increment],_xlfn.XLOOKUP(Metric_Incremental_Data_Target_Column,MetricIncrementalData[#Headers],MetricIncrementalData[]),,1),0))","v":""},{"$f":"IF(B207=\"\",\"\",IF(B208=\"\",((((B207-0)/100)*Metric_Module_Square_Foot_Area)-'Cumulative Volumes Metric'!E207)*Metric_Stone_Void_Percentage,((((B207-B208)/100)*Metric_Module_Square_Foot_Area)-'Cumulative Volumes Metric'!E207)*Metric_Stone_Void_Percentage))","v":""},"",{"$f":"IF(B207=\"\",\"\",((Metric_System_Area_Input-Metric_Number_Of_Stacks*_xlfn.XLOOKUP(Metric_Layers,CrateData[Layer],CrateData[Surface Area (m2)]))*((B207-IF(B208=\"\",0,B208))/100))*Metric_Stone_Void_Percentage)","v":""},"","",{"$f":"IF(B207=\"\",\"\",SUM(J207:$J$563))","v":""},"",{"$nulls":9},"",null,{"v":-0.7860000000000013,"d":"-0.79"},"","",null,"",{"$f":"IF($AU$21=\"INVERT\",Y207,IF(AC206>=$Z$12,\"\",IF(Y206=\"\",\"\",INDEX($Y$18:$Y$227,$AB$17-ROWS($Y$18:$Y206)))))","v":""},"","","",{"$nulls":26},{"$f":"IF($AU$21=\"INVERT\",Y207,IF(AC206>=$Z$12,\"\",IF(Y206=\"\",\"\",INDEX($Y$18:$Y$227,$AB$17-ROWS($Y$18:$Y206)))))","v":""},"",{"$f":"IF(AE206=\"\",\"\",\n    IF($AU$21=\"TYP\",\n       IF(Z206=\"\",\"\", INDEX($Z$18:$Z$227, $AB$17-ROWS($Z$18:$Z206))),\n       IF($AU$21=\"INVERT\",Z207, \"\")\n    )\n)","v":""},"",null,{"$f":"IF(BL206>=$Z$12,\"\",IF(Y206=\"\",\"\",INDEX($Y$18:$Y$227,$AB$17-ROWS($Y$18:$Y206))))","v":""},{"$f":"IF(#REF!=\"\",\"\",#REF!/43560)","v":{"$error":"#REF!"}},{"$f":"#REF!","v":{"$error":"#REF!"}}]
[{"$f":"IF(B210<>\"\",A207+1,\"\")","v":""},"",{"$f":"IF(B208=\"\",\"\",IFERROR(_xlfn.XLOOKUP(ROUND(B208,1),MetricIncrementalData[System Increment],_xlfn.XLOOKUP('Metric Incremental Crate'!$R$3,MetricIncrementalData[#Headers],MetricIncrementalData[]),,1),0))","v":""},"",{"$f":"IF(B208=\"\",\"\",IFERROR(_xlfn.XLOOKUP(ROUND(B208,1),MetricIncrementalData[System Increment],_xlfn.XLOOKUP(Metric_Incremental_Data_Target_Column,MetricIncrementalData[#Headers],MetricIncrementalData[]),,1),0))","v":""},{"$f":"IF(B208=\"\",\"\",IF(B209=\"\",((((B208-0)/100)*Metric_Module_Square_Foot_Area)-'Cumulative Volumes Metric'!E208)*Metric_Stone_Void_Percentage,((((B208-B209)/100)*Metric_Module_Square_Foot_Area)-'Cumulative Volumes Metric'!E208)*Metric_Stone_Void_Percentage))","v":""},"",{"$f":"IF(B208=\"\",\"\",((Metric_System_Area_Input-Metric_Number_Of_Stacks*_xlfn.XLOOKUP(Metric_Layers,CrateData[Layer],CrateData[Surface Area (m2)]))*((B208-IF(B209=\"\",0,B209))/100))*Metric_Stone_Void_Percentage)","v":""},"","",{"$f":"IF(B208=\"\",\"\",SUM(J208:$J$563))","v":""},"",{"$nulls":9},"",null,{"v":-0.7960000000000013,"d":"-0.80"},"","",null,"",{"$f":"IF($AU$21=\"INVERT\",Y208,IF(AC207>=$Z$12,\"\",IF(Y207=\"\",\"\",INDEX($Y$18:$Y$227,$AB$17-ROWS($Y$18:$Y207)))))","v":""},"","","",{"$nulls":26},{"$f":"IF($AU$21=\"INVERT\",Y208,IF(AC207>=$Z$12,\"\",IF(Y207=\"\",\"\",INDEX($Y$18:$Y$227,$AB$17-ROWS($Y$18:$Y207)))))","v":""},"",{"$f":"IF(AE207=\"\",\"\",\n    IF($AU$21=\"TYP\",\n       IF(Z207=\"\",\"\", INDEX($Z$18:$Z$227, $AB$17-ROWS($Z$18:$Z207))),\n       IF($AU$21=\"INVERT\",Z208, \"\")\n    )\n)","v":""},"",null,{"$f":"IF(BL207>=$Z$12,\"\",IF(Y207=\"\",\"\",INDEX($Y$18:$Y$227,$AB$17-ROWS($Y$18:$Y207))))","v":""},{"$f":"IF(#REF!=\"\",\"\",#REF!/43560)","v":{"$error":"#REF!"}},{"$f":"#REF!","v":{"$error":"#REF!"}}]
["","",{"$f":"IF(B209=\"\",\"\",IFERROR(_xlfn.XLOOKUP(ROUND(B209,1),MetricIncrementalData[System Increment],_xlfn.XLOOKUP('Metric Incremental Crate'!$R$3,MetricIncrementalData[#Headers],MetricIncrementalData[]),,1),0))","v":""},"",{"$f":"IF(B209=\"\",\"\",IFERROR(_xlfn.XLOOKUP(ROUND(B209,1),MetricIncrementalData[System Increment],_xlfn.XLOOKUP(Metric_Incremental_Data_Target_Column,MetricIncrementalData[#Headers],MetricIncrementalData[]),,1),0))","v":""},{"$f":"IF(B209=\"\",\"\",IF(B210=\"\",((((B209-0)/100)*Metric_Module_Square_Foot_Area)-'Cumulative Volumes Metric'!E209)*Metric_Stone_Void_Percentage,((((B209-B210)/100)*Metric_Module_Square_Foot_Area)-'Cumulative Volumes Metric'!E209)*Metric_Stone_Void_Percentage))","v":""},"",{"$f":"IF(B209=\"\",\"\",((Metric_System_Area_Input-Metric_Number_Of_Stacks*_xlfn.XLOOKUP(Metric_Layers,CrateData[Layer],CrateData[Surface Area (m2)]))*((B209-IF(B210=\"\",0,B210))/100))*Metric_Stone_Void_Percentage)","v":""},"","",{"$f":"IF(B209=\"\",\"\",SUM(J209:$J$563))","v":""},"",{"$nulls":9},"",null,{"v":-0.8060000000000013,"d":"-0.81"},"","",null,"",{"$f":"IF($AU$21=\"INVERT\",Y209,IF(AC208>=$Z$12,\"\",IF(Y208=\"\",\"\",INDEX($Y$18:$Y$227,$AB$17-ROWS($Y$18:$Y208)))))","v":""},"","","",{"$nulls":26},{"$f":"IF($AU$21=\"INVERT\",Y209,IF(AC208>=$Z$12,\"\",IF(Y208=\"\",\"\",INDEX($Y$18:$Y$227,$AB$17-ROWS($Y$18:$Y208)))))","v":""},"",{"$f":"IF(AE208=\"\",\"\",\n    IF($AU$21=\"TYP\",\n       IF(Z208=\"\",\"\", INDEX($Z$18:$Z$227, $AB$17-ROWS($Z$18:$Z208))),\n       IF($AU$21=\"INVERT\",Z209, \"\")\n    )\n)","v":""},"",null,{"$f":"IF(BL208>=$Z$12,\"\",IF(Y208=\"\",\"\",INDEX($Y$18:$Y$227,$AB$17-ROWS($Y$18:$Y208))))","v":""},{"$f":"IF(#REF!=\"\",\"\",#REF!/43560)","v":{"$error":"#REF!"}},{"$f":"#REF!","v":{"$error":"#REF!"}}]
["","",{"$f":"IF(B210=\"\",\"\",IFERROR(_xlfn.XLOOKUP(ROUND(B210,1),MetricIncrementalData[System Increment],_xlfn.XLOOKUP('Metric Incremental Crate'!$R$3,MetricIncrementalData[#Headers],MetricIncrementalData[]),,1),0))","v":""},{"$f":"IFERROR(C210*Metric_Number_Of_Stacks,\"\")","v":""},{"$f":"IF(B210=\"\",\"\",IFERROR(_xlfn.XLOOKUP(ROUND(B210,1),MetricIncrementalData[System Increment],_xlfn.XLOOKUP(Metric_Incremental_Data_Target_Column,MetricIncrementalData[#Headers],MetricIncrementalData[]),,1),0))","v":""},{"$f":"IF(B210=\"\",\"\",IF(B211=\"\",((((B210-0)/100)*Metric_Module_Square_Foot_Area)-'Cumulative Volumes Metric'!E210)*Metric_Stone_Void_Percentage,((((B210-B211)/100)*Metric_Module_Square_Foot_Area)-'Cumulative Volumes Metric'!E210)*Metric_Stone_Void_Percentage))","v":""},{"$f":"IFERROR(F210*Metric_Number_Of_Stacks,\"\")","v":""},{"$f":"IF(B210=\"\",\"\",((Metric_System_Area_Input-Metric_Number_Of_Stacks*_xlfn.XLOOKUP(Metric_Layers,CrateData[Layer],CrateData[Surface Area (m2)]))*((B210-IF(B211=\"\",0,B211))/100))*Metric_Stone_Void_Percentage)","v":""},{"$f":"IFERROR(IF($AW$17, H210+G210, G210), \"\")","v":""},"",{"$f":"IF(B210=\"\",\"\",SUM(J210:$J$563))","v":""},"",{"$nulls":9},{"$f":"IF(L211=\"\",IF(L210=\"\",\"\",$I$11),L210)","v":""},null,{"v":-0.8160000000000013,"d":"-0.82"},"","",null,"",{"$f":"IF($AU$21=\"INVERT\",Y210,IF(AC209>=$Z$12,\"\",IF(Y209=\"\",\"\",INDEX($Y$18:$Y$227,$AB$17-ROWS($Y$18:$Y209)))))","v":""},"","",{"$f":"IF($AU$17=TRUE, BJ210, IF($AU$23=TRUE, \"\", \"\"))","v":""},{"$nulls":26},{"$f":"IF($AU$21=\"INVERT\",Y210,IF(AC209>=$Z$12,\"\",IF(Y209=\"\",\"\",INDEX($Y$18:$Y$227,$AB$17-ROWS($Y$18:$Y209)))))","v":""},{"$f":"IF(AC210=\"\",\"\",$I$11+AC210)","v":""},{"$f":"IF(AE209=\"\",\"\",\n    IF($AU$21=\"TYP\",\n       IF(Z209=\"\",\"\", INDEX($Z$18:$Z$227, $AB$17-ROWS($Z$18:$Z209))),\n       IF($AU$21=\"INVERT\",Z210, \"\")\n    )\n)","v":""},"",null,{"$f":"IF(BL209>=$Z$12,\"\",IF(Y209=\"\",\"\",INDEX($Y$18:$Y$227,$AB$17-ROWS($Y$18:$Y209))))","v":""},{"$f":"IF(#REF!=\"\",\"\",#REF!/43560)","v":{"$error":"#REF!"}},{"$f":"#REF!","v":{"$error":"#REF!"}}]
["","",{"$f":"IF(B211=\"\",\"\",IFERROR(_xlfn.XLOOKUP(ROUND(B211,1),MetricIncrementalData[System Increment],_xlfn.XLOOKUP('Metric Incremental Crate'!$R$3,MetricIncrementalData[#Headers],MetricIncrementalData[]),,1),0))","v":""},"",{"$f":"IF(B211=\"\",\"\",IFERROR(_xlfn.XLOOKUP(ROUND(B211,1),MetricIncrementalData[System Increment],_xlfn.XLOOKUP(Metric_Incremental_Data_Target_Column,MetricIncrementalData[#Headers],MetricIncrementalData[]),,1),0))","v":""},{"$f":"IF(B211=\"\",\"\",IF(B212=\"\",((((B211-0)/100)*Metric_Module_Square_Foot_Area)-'Cumulative Volumes Metric'!E211)*Metric_Stone_Void_Percentage,((((B211-B212)/100)*Metric_Module_Square_Foot_Area)-'Cumulative Volumes Metric'!E211)*Metric_Stone_Void_Percentage))","v":""},"",{"$f":"IF(B211=\"\",\"\",((Metric_System_Area_Input-Metric_Number_Of_Stacks*_xlfn.XLOOKUP(Metric_Layers,CrateData[Layer],CrateData[Surface Area (m2)]))*((B211-IF(B212=\"\",0,B212))/100))*Metric_Stone_Void_Percentage)","v":""},"","",{"$f":"IF(B211=\"\",\"\",SUM(J211:$J$563))","v":""},"",{"$nulls":9},"",null,{"v":-0.8260000000000013,"d":"-0.83"},{"$f":"IF(AND(B211=\"\",B210=1),0,IF(B211=\"\",\"\",IF(OR(X211=0,X211>0),X211,\"\")))","v":""},{"$f":"IF(Y211=\"\",\"\",IF(Y211=0,K210/$AB$11,IF(ISNUMBER(V212),(K211-K212)/(L211-L212),Z210)))","v":""},null,"",{"$f":"IF($AU$21=\"INVERT\",Y211,IF(AC210>=$Z$12,\"\",IF(Y210=\"\",\"\",INDEX($Y$18:$Y$227,$AB$17-ROWS($Y$18:$Y210)))))","v":""},{"$f":"IF($AN$17=TRUE, BH211, IF($AN$23=TRUE, BM211, \"\"))","v":""},{"$f":"IF($AU$17=TRUE, BI211, IF($AU$23=TRUE, BN211, \"\"))","v":""},"",{"$nulls":26},{"$f":"IF($AU$21=\"INVERT\",Y211,IF(AC210>=$Z$12,\"\",IF(Y210=\"\",\"\",INDEX($Y$18:$Y$227,$AB$17-ROWS($Y$18:$Y210)))))","v":""},"",{"$f":"IF(AE210=\"\",\"\",\n    IF($AU$21=\"TYP\",\n       IF(Z210=\"\",\"\", INDEX($Z$18:$Z$227, $AB$17-ROWS($Z$18:$Z210))),\n       IF($AU$21=\"INVERT\",Z211, \"\")\n    )\n)","v":""},{"$f":"IF(AE211=\"\",\"\",AE211/10000)","v":""},null,{"$f":"IF(BL210>=$Z$12,\"\",IF(Y210=\"\",\"\",INDEX($Y$18:$Y$227,$AB$17-ROWS($Y$18:$Y210))))","v":""},{"$f":"IF(#REF!=\"\",\"\",#REF!/43560)","v":{"$error":"#REF!"}},{"$f":"#REF!","v":{"$error":"#REF!"}}]
["","",{"$f":"IF(B212=\"\",\"\",IFERROR(_xlfn.XLOOKUP(ROUND(B212,1),MetricIncrementalData[System Increment],_xlfn.XLOOKUP('Metric Incremental Crate'!$R$3,MetricIncrementalData[#Headers],MetricIncrementalData[]),,1),0))","v":""},"",{"$f":"IF(B212=\"\",\"\",IFERROR(_xlfn.XLOOKUP(ROUND(B212,1),MetricIncrementalData[System Increment],_xlfn.XLOOKUP(Metric_Incremental_Data_Target_Column,MetricIncrementalData[#Headers],MetricIncrementalData[]),,1),0))","v":""},{"$f":"IF(B212=\"\",\"\",IF(B213=\"\",((((B212-0)/100)*Metric_Module_Square_Foot_Area)-'Cumulative Volumes Metric'!E212)*Metric_Stone_Void_Percentage,((((B212-B213)/100)*Metric_Module_Square_Foot_Area)-'Cumulative Volumes Metric'!E212)*Metric_Stone_Void_Percentage))","v":""},"",{"$f":"IF(B212=\"\",\"\",((Metric_System_Area_Input-Metric_Number_Of_Stacks*_xlfn.XLOOKUP(Metric_Layers,CrateData[Layer],CrateData[Surface Area (m2)]))*((B212-IF(B213=\"\",0,B213))/100))*Metric_Stone_Void_Percentage)","v":""},"","",{"$f":"IF(B212=\"\",\"\",SUM(J212:$J$563))","v":""},"",{"$nulls":9},"",null,{"$f":"X211-($AB$11)","v":{"v":-0.8360000000000013,"d":"-0.84"}},"","",null,"",{"$f":"IF($AU$21=\"INVERT\",Y212,IF(AC211>=$Z$12,\"\",IF(Y211=\"\",\"\",INDEX($Y$18:$Y$227,$AB$17-ROWS($Y$18:$Y211)))))","v":""},"","","",{"$nulls":26},{"$f":"IF($AU$21=\"INVERT\",Y212,IF(AC211>=$Z$12,\"\",IF(Y211=\"\",\"\",INDEX($Y$18:$Y$227,$AB$17-ROWS($Y$18:$Y211)))))","v":""},"",{"$f":"IF(AE211=\"\",\"\",\n    IF($AU$21=\"TYP\",\n       IF(Z211=\"\",\"\", INDEX($Z$18:$Z$227, $AB$17-ROWS($Z$18:$Z211))),\n       IF($AU$21=\"INVERT\",Z212, \"\")\n    )\n)","v":""},"",null,{"$f":"IF(BL211>=$Z$12,\"\",IF(Y211=\"\",\"\",INDEX($Y$18:$Y$227,$AB$17-ROWS($Y$18:$Y211))))","v":""},{"$f":"IF(#REF!=\"\",\"\",#REF!/43560)","v":{"$error":"#REF!"}},{"$f":"#REF!","v":{"$error":"#REF!"}}]
["","",{"$f":"IF(B213=\"\",\"\",IFERROR(_xlfn.XLOOKUP(ROUND(B213,1),MetricIncrementalData[System Increment],_xlfn.XLOOKUP('Metric Incremental Crate'!$R$3,MetricIncrementalData[#Headers],MetricIncrementalData[]),,1),0))","v":""},"",{"$f":"IF(B213=\"\",\"\",IFERROR(_xlfn.XLOOKUP(ROUND(B213,1),MetricIncrementalData[System Increment],_xlfn.XLOOKUP(Metric_Incremental_Data_Target_Column,MetricIncrementalData[#Headers],MetricIncrementalData[]),,1),0))","v":""},{"$f":"IF(B213=\"\",\"\",IF(B214=\"\",((((B213-0)/100)*Metric_Module_Square_Foot_Area)-'Cumulative Volumes Metric'!E213)*Metric_Stone_Void_Percentage,((((B213-B214)/100)*Metric_Module_Square_Foot_Area)-'Cumulative Volumes Metric'!E213)*Metric_Stone_Void_Percentage))","v":""},"",{"$f":"IF(B213=\"\",\"\",((Metric_System_Area_Input-Metric_Number_Of_Stacks*_xlfn.XLOOKUP(Metric_Layers,CrateData[Layer],CrateData[Surface Area (m2)]))*((B213-IF(B214=\"\",0,B214))/100))*Metric_Stone_Void_Percentage)","v":""},"","",{"$f":"IF(B213=\"\",\"\",SUM(J213:$J$563))","v":""},"",{"$nulls":9},"",null,{"v":-0.8460000000000013,"d":"-0.85"},"","",null,"",{"$f":"IF($AU$21=\"INVERT\",Y213,IF(AC212>=$Z$12,\"\",IF(Y212=\"\",\"\",INDEX($Y$18:$Y$227,$AB$17-ROWS($Y$18:$Y212)))))","v":""},"","","",{"$nulls":26},{"$f":"IF($AU$21=\"INVERT\",Y213,IF(AC212>=$Z$12,\"\",IF(Y212=\"\",\"\",INDEX($Y$18:$Y$227,$AB$17-ROWS($Y$18:$Y212)))))","v":""},"",{"$f":"IF(AE212=\"\",\"\",\n    IF($AU$21=\"TYP\",\n       IF(Z212=\"\",\"\", INDEX($Z$18:$Z$227, $AB$17-ROWS($Z$18:$Z212))),\n       IF($AU$21=\"INVERT\",Z213, \"\")\n    )\n)","v":""},"",null,{"$f":"IF(BL212>=$Z$12,\"\",IF(Y212=\"\",\"\",INDEX($Y$18:$Y$227,$AB$17-ROWS($Y$18:$Y212))))","v":""},{"$f":"IF(#REF!=\"\",\"\",#REF!/43560)","v":{"$error":"#REF!"}},{"$f":"#REF!","v":{"$error":"#REF!"}}]
["",{"$f":"IFERROR(IF(B213-1<1,\"\",B213-1),\"\")","v":""},{"$f":"IF(B214=\"\",\"\",IFERROR(_xlfn.XLOOKUP(ROUND(B214,1),MetricIncrementalData[System Increment],_xlfn.XLOOKUP('Metric Incremental Crate'!$R$3,MetricIncrementalData[#Headers],MetricIncrementalData[]),,1),0))","v":""},"",{"$f":"IF(B214=\"\",\"\",IFERROR(_xlfn.XLOOKUP(ROUND(B214,1),MetricIncrementalData[System Increment],_xlfn.XLOOKUP(Metric_Incremental_Data_Target_Column,MetricIncrementalData[#Headers],MetricIncrementalData[]),,1),0))","v":""},{"$f":"IF(B214=\"\",\"\",IF(B215=\"\",((((B214-0)/100)*Metric_Module_Square_Foot_Area)-'Cumulative Volumes Metric'!E214)*Metric_Stone_Void_Percentage,((((B214-B215)/100)*Metric_Module_Square_Foot_Area)-'Cumulative Volumes Metric'!E214)*Metric_Stone_Void_Percentage))","v":""},"",{"$f":"IF(B214=\"\",\"\",((Metric_System_Area_Input-Metric_Number_Of_Stacks*_xlfn.XLOOKUP(Metric_Layers,CrateData[Layer],CrateData[Surface Area (m2)]))*((B214-IF(B215=\"\",0,B215))/100))*Metric_Stone_Void_Percentage)","v":""},"",{"$f":"IFERROR(I214+D214,\"\")","v":""},{"$f":"IF(B214=\"\",\"\",SUM(J214:$J$563))","v":""},{"$f":"IFERROR($I$11+B214/100,\"\")","v":""},{"$nulls":9},"",null,{"v":-0.8560000000000013,"d":"-0.86"},"","",null,"",{"$f":"IF($AU$21=\"INVERT\",Y214,IF(AC213>=$Z$12,\"\",IF(Y213=\"\",\"\",INDEX($Y$18:$Y$227,$AB$17-ROWS($Y$18:$Y213)))))","v":""},"","","",{"$nulls":26},{"$f":"IF($AU$21=\"INVERT\",Y214,IF(AC213>=$Z$12,\"\",IF(Y213=\"\",\"\",INDEX($Y$18:$Y$227,$AB$17-ROWS($Y$18:$Y213)))))","v":""},"",{"$f":"IF(AE213=\"\",\"\",\n    IF($AU$21=\"TYP\",\n       IF(Z213=\"\",\"\", INDEX($Z$18:$Z$227, $AB$17-ROWS($Z$18:$Z213))),\n       IF($AU$21=\"INVERT\",Z214, \"\")\n    )\n)","v":""},"",null,{"$f":"IF(BL213>=$Z$12,\"\",IF(Y213=\"\",\"\",INDEX($Y$18:$Y$227,$AB$17-ROWS($Y$18:$Y213))))","v":""},{"$f":"IF(#REF!=\"\",\"\",#REF!/43560)","v":{"$error":"#REF!"}},{"$f":"#REF!","v":{"$error":"#REF!"}}]
["","",{"$f":"IF(B215=\"\",\"\",IFERROR(_xlfn.XLOOKUP(ROUND(B215,1),MetricIncrementalData[System Increment],_xlfn.XLOOKUP('Metric Incremental Crate'!$R$3,MetricIncrementalData[#Headers],MetricIncrementalData[]),,1),0))","v":""},"",{"$f":"IF(B215=\"\",\"\",IFERROR(_xlfn.XLOOKUP(ROUND(B215,1),MetricIncrementalData[System Increment],_xlfn.XLOOKUP(Metric_Incremental_Data_Target_Column,MetricIncrementalData[#Headers],MetricIncrementalData[]),,1),0))","v":""},{"$f":"IF(B215=\"\",\"\",IF(B216=\"\",((((B215-0)/100)*Metric_Module_Square_Foot_Area)-'Cumulative Volumes Metric'!E215)*Metric_Stone_Void_Percentage,((((B215-B216)/100)*Metric_Module_Square_Foot_Area)-'Cumulative Volumes Metric'!E215)*Metric_Stone_Void_Percentage))","v":""},"",{"$f":"IF(B215=\"\",\"\",((Metric_System_Area_Input-Metric_Number_Of_Stacks*_xlfn.XLOOKUP(Metric_Layers,CrateData[Layer],CrateData[Surface Area (m2)]))*((B215-IF(B216=\"\",0,B216))/100))*Metric_Stone_Void_Percentage)","v":""},"","",{"$f":"IF(B215=\"\",\"\",SUM(J215:$J$563))","v":""},"",{"$nulls":9},"",null,{"v":-0.8660000000000013,"d":"-0.87"},"","",null,"",{"$f":"IF($AU$21=\"INVERT\",Y215,IF(AC214>=$Z$12,\"\",IF(Y214=\"\",\"\",INDEX($Y$18:$Y$227,$AB$17-ROWS($Y$18:$Y214)))))","v":""},"","","",{"$nulls":26},{"$f":"IF($AU$21=\"INVERT\",Y215,IF(AC214>=$Z$12,\"\",IF(Y214=\"\",\"\",INDEX($Y$18:$Y$227,$AB$17-ROWS($Y$18:$Y214)))))","v":""},"",{"$f":"IF(AE214=\"\",\"\",\n    IF($AU$21=\"TYP\",\n       IF(Z214=\"\",\"\", INDEX($Z$18:$Z$227, $AB$17-ROWS($Z$18:$Z214))),\n       IF($AU$21=\"INVERT\",Z215, \"\")\n    )\n)","v":""},"",null,{"$f":"IF(BL214>=$Z$12,\"\",IF(Y214=\"\",\"\",INDEX($Y$18:$Y$227,$AB$17-ROWS($Y$18:$Y214))))","v":""},{"$f":"IF(#REF!=\"\",\"\",#REF!/43560)","v":{"$error":"#REF!"}},{"$f":"#REF!","v":{"$error":"#REF!"}}]
["","",{"$f":"IF(B216=\"\",\"\",IFERROR(_xlfn.XLOOKUP(ROUND(B216,1),MetricIncrementalData[System Increment],_xlfn.XLOOKUP('Metric Incremental Crate'!$R$3,MetricIncrementalData[#Headers],MetricIncrementalData[]),,1),0))","v":""},"",{"$f":"IF(B216=\"\",\"\",IFERROR(_xlfn.XLOOKUP(ROUND(B216,1),MetricIncrementalData[System Increment],_xlfn.XLOOKUP(Metric_Incremental_Data_Target_Column,MetricIncrementalData[#Headers],MetricIncrementalData[]),,1),0))","v":""},{"$f":"IF(B216=\"\",\"\",IF(B217=\"\",((((B216-0)/100)*Metric_Module_Square_Foot_Area)-'Cumulative Volumes Metric'!E216)*Metric_Stone_Void_Percentage,((((B216-B217)/100)*Metric_Module_Square_Foot_Area)-'Cumulative Volumes Metric'!E216)*Metric_Stone_Void_Percentage))","v":""},"",{"$f":"IF(B216=\"\",\"\",((Metric_System_Area_Input-Metric_Number_Of_Stacks*_xlfn.XLOOKUP(Metric_Layers,CrateData[Layer],CrateData[Surface Area (m2)]))*((B216-IF(B217=\"\",0,B217))/100))*Metric_Stone_Void_Percentage)","v":""},"","",{"$f":"IF(B216=\"\",\"\",SUM(J216:$J$563))","v":""},"",{"$nulls":9},"",null,{"v":-0.8760000000000013,"d":"-0.88"},"","",null,"",{"$f":"IF($AU$21=\"INVERT\",Y216,IF(AC215>=$Z$12,\"\",IF(Y215=\"\",\"\",INDEX($Y$18:$Y$227,$AB$17-ROWS($Y$18:$Y215)))))","v":""},"","","",{"$nulls":26},{"$f":"IF($AU$21=\"INVERT\",Y216,IF(AC215>=$Z$12,\"\",IF(Y215=\"\",\"\",INDEX($Y$18:$Y$227,$AB$17-ROWS($Y$18:$Y215)))))","v":""},"",{"$f":"IF(AE215=\"\",\"\",\n    IF($AU$21=\"TYP\",\n       IF(Z215=\"\",\"\", INDEX($Z$18:$Z$227, $AB$17-ROWS($Z$18:$Z215))),\n       IF($AU$21=\"INVERT\",Z216, \"\")\n    )\n)","v":""},"",null,{"$f":"IF(BL215>=$Z$12,\"\",IF(Y215=\"\",\"\",INDEX($Y$18:$Y$227,$AB$17-ROWS($Y$18:$Y215))))","v":""},{"$f":"IF(#REF!=\"\",\"\",#REF!/43560)","v":{"$error":"#REF!"}},{"$f":"#REF!","v":{"$error":"#REF!"}}]
["","",{"$f":"IF(B217=\"\",\"\",IFERROR(_xlfn.XLOOKUP(ROUND(B217,1),MetricIncrementalData[System Increment],_xlfn.XLOOKUP('Metric Incremental Crate'!$R$3,MetricIncrementalData[#Headers],MetricIncrementalData[]),,1),0))","v":""},"",{"$f":"IF(B217=\"\",\"\",IFERROR(_xlfn.XLOOKUP(ROUND(B217,1),MetricIncrementalData[System Increment],_xlfn.XLOOKUP(Metric_Incremental_Data_Target_Column,MetricIncrementalData[#Headers],MetricIncrementalData[]),,1),0))","v":""},{"$f":"IF(B217=\"\",\"\",IF(B218=\"\",((((B217-0)/100)*Metric_Module_Square_Foot_Area)-'Cumulative Volumes Metric'!E217)*Metric_Stone_Void_Percentage,((((B217-B218)/100)*Metric_Module_Square_Foot_Area)-'Cumulative Volumes Metric'!E217)*Metric_Stone_Void_Percentage))","v":""},"",{"$f":"IF(B217=\"\",\"\",((Metric_System_Area_Input-Metric_Number_Of_Stacks*_xlfn.XLOOKUP(Metric_Layers,CrateData[Layer],CrateData[Surface Area (m2)]))*((B217-IF(B218=\"\",0,B218))/100))*Metric_Stone_Void_Percentage)","v":""},"","",{"$f":"IF(B217=\"\",\"\",SUM(J217:$J$563))","v":""},"",{"$nulls":9},"",null,{"v":-0.8860000000000013,"d":"-0.89"},"","",null,"",{"$f":"IF($AU$21=\"INVERT\",Y217,IF(AC216>=$Z$12,\"\",IF(Y216=\"\",\"\",INDEX($Y$18:$Y$227,$AB$17-ROWS($Y$18:$Y216)))))","v":""},"","","",{"$nulls":26},{"$f":"IF($AU$21=\"INVERT\",Y217,IF(AC216>=$Z$12,\"\",IF(Y216=\"\",\"\",INDEX($Y$18:$Y$227,$AB$17-ROWS($Y$18:$Y216)))))","v":""},"",{"$f":"IF(AE216=\"\",\"\",\n    IF($AU$21=\"TYP\",\n       IF(Z216=\"\",\"\", INDEX($Z$18:$Z$227, $AB$17-ROWS($Z$18:$Z216))),\n       IF($AU$21=\"INVERT\",Z217, \"\")\n    )\n)","v":""},"",null,{"$f":"IF(BL216>=$Z$12,\"\",IF(Y216=\"\",\"\",INDEX($Y$18:$Y$227,$AB$17-ROWS($Y$18:$Y216))))","v":""},{"$f":"IF(#REF!=\"\",\"\",#REF!/43560)","v":{"$error":"#REF!"}},{"$f":"#REF!","v":{"$error":"#REF!"}}]
["","",{"$f":"IF(B218=\"\",\"\",IFERROR(_xlfn.XLOOKUP(ROUND(B218,1),MetricIncrementalData[System Increment],_xlfn.XLOOKUP('Metric Incremental Crate'!$R$3,MetricIncrementalData[#Headers],MetricIncrementalData[]),,1),0))","v":""},"",{"$f":"IF(B218=\"\",\"\",IFERROR(_xlfn.XLOOKUP(ROUND(B218,1),MetricIncrementalData[System Increment],_xlfn.XLOOKUP(Metric_Incremental_Data_Target_Column,MetricIncrementalData[#Headers],MetricIncrementalData[]),,1),0))","v":""},{"$f":"IF(B218=\"\",\"\",IF(B219=\"\",((((B218-0)/100)*Metric_Module_Square_Foot_Area)-'Cumulative Volumes Metric'!E218)*Metric_Stone_Void_Percentage,((((B218-B219)/100)*Metric_Module_Square_Foot_Area)-'Cumulative Volumes Metric'!E218)*Metric_Stone_Void_Percentage))","v":""},"",{"$f":"IF(B218=\"\",\"\",((Metric_System_Area_Input-Metric_Number_Of_Stacks*_xlfn.XLOOKUP(Metric_Layers,CrateData[Layer],CrateData[Surface Area (m2)]))*((B218-IF(B219=\"\",0,B219))/100))*Metric_Stone_Void_Percentage)","v":""},"","",{"$f":"IF(B218=\"\",\"\",SUM(J218:$J$563))","v":""},"",{"$nulls":9},"",null,{"v":-0.8960000000000014,"d":"-0.90"},"","",null,"",{"$f":"IF($AU$21=\"INVERT\",Y218,IF(AC217>=$Z$12,\"\",IF(Y217=\"\",\"\",INDEX($Y$18:$Y$227,$AB$17-ROWS($Y$18:$Y217)))))","v":""},"","","",{"$nulls":26},{"$f":"IF($AU$21=\"INVERT\",Y218,IF(AC217>=$Z$12,\"\",IF(Y217=\"\",\"\",INDEX($Y$18:$Y$227,$AB$17-ROWS($Y$18:$Y217)))))","v":""},"",{"$f":"IF(AE217=\"\",\"\",\n    IF($AU$21=\"TYP\",\n       IF(Z217=\"\",\"\", INDEX($Z$18:$Z$227, $AB$17-ROWS($Z$18:$Z217))),\n       IF($AU$21=\"INVERT\",Z218, \"\")\n    )\n)","v":""},"",null,{"$f":"IF(BL217>=$Z$12,\"\",IF(Y217=\"\",\"\",INDEX($Y$18:$Y$227,$AB$17-ROWS($Y$18:$Y217))))","v":""},{"$f":"IF(#REF!=\"\",\"\",#REF!/43560)","v":{"$error":"#REF!"}},{"$f":"#REF!","v":{"$error":"#REF!"}}]
["","",{"$f":"IF(B219=\"\",\"\",IFERROR(_xlfn.XLOOKUP(ROUND(B219,1),MetricIncrementalData[System Increment],_xlfn.XLOOKUP('Metric Incremental Crate'!$R$3,MetricIncrementalData[#Headers],MetricIncrementalData[]),,1),0))","v":""},"",{"$f":"IF(B219=\"\",\"\",IFERROR(_xlfn.XLOOKUP(ROUND(B219,1),MetricIncrementalData[System Increment],_xlfn.XLOOKUP(Metric_Incremental_Data_Target_Column,MetricIncrementalData[#Headers],MetricIncrementalData[]),,1),0))","v":""},{"$f":"IF(B219=\"\",\"\",IF(B220=\"\",((((B219-0)/100)*Metric_Module_Square_Foot_Area)-'Cumulative Volumes Metric'!E219)*Metric_Stone_Void_Percentage,((((B219-B220)/100)*Metric_Module_Square_Foot_Area)-'Cumulative Volumes Metric'!E219)*Metric_Stone_Void_Percentage))","v":""},"",{"$f":"IF(B219=\"\",\"\",((Metric_System_Area_Input-Metric_Number_Of_Stacks*_xlfn.XLOOKUP(Metric_Layers,CrateData[Layer],CrateData[Surface Area (m2)]))*((B219-IF(B220=\"\",0,B220))/100))*Metric_Stone_Void_Percentage)","v":""},"","",{"$f":"IF(B219=\"\",\"\",SUM(J219:$J$563))","v":""},"",{"$nulls":9},"",null,{"v":-0.9060000000000014,"d":"-0.91"},"","",null,"",{"$f":"IF($AU$21=\"INVERT\",Y219,IF(AC218>=$Z$12,\"\",IF(Y218=\"\",\"\",INDEX($Y$18:$Y$227,$AB$17-ROWS($Y$18:$Y218)))))","v":""},"","","",{"$nulls":26},{"$f":"IF($AU$21=\"INVERT\",Y219,IF(AC218>=$Z$12,\"\",IF(Y218=\"\",\"\",INDEX($Y$18:$Y$227,$AB$17-ROWS($Y$18:$Y218)))))","v":""},"",{"$f":"IF(AE218=\"\",\"\",\n    IF($AU$21=\"TYP\",\n       IF(Z218=\"\",\"\", INDEX($Z$18:$Z$227, $AB$17-ROWS($Z$18:$Z218))),\n       IF($AU$21=\"INVERT\",Z219, \"\")\n    )\n)","v":""},"",null,{"$f":"IF(BL218>=$Z$12,\"\",IF(Y218=\"\",\"\",INDEX($Y$18:$Y$227,$AB$17-ROWS($Y$18:$Y218))))","v":""},{"$f":"IF(#REF!=\"\",\"\",#REF!/43560)","v":{"$error":"#REF!"}},{"$f":"#REF!","v":{"$error":"#REF!"}}]
["","",{"$f":"IF(B220=\"\",\"\",IFERROR(_xlfn.XLOOKUP(ROUND(B220,1),MetricIncrementalData[System Increment],_xlfn.XLOOKUP('Metric Incremental Crate'!$R$3,MetricIncrementalData[#Headers],MetricIncrementalData[]),,1),0))","v":""},"",{"$f":"IF(B220=\"\",\"\",IFERROR(_xlfn.XLOOKUP(ROUND(B220,1),MetricIncrementalData[System Increment],_xlfn.XLOOKUP(Metric_Incremental_Data_Target_Column,MetricIncrementalData[#Headers],MetricIncrementalData[]),,1),0))","v":""},{"$f":"IF(B220=\"\",\"\",IF(B221=\"\",((((B220-0)/100)*Metric_Module_Square_Foot_Area)-'Cumulative Volumes Metric'!E220)*Metric_Stone_Void_Percentage,((((B220-B221)/100)*Metric_Module_Square_Foot_Area)-'Cumulative Volumes Metric'!E220)*Metric_Stone_Void_Percentage))","v":""},"",{"$f":"IF(B220=\"\",\"\",((Metric_System_Area_Input-Metric_Number_Of_Stacks*_xlfn.XLOOKUP(Metric_Layers,CrateData[Layer],CrateData[Surface Area (m2)]))*((B220-IF(B221=\"\",0,B221))/100))*Metric_Stone_Void_Percentage)","v":""},"","",{"$f":"IF(B220=\"\",\"\",SUM(J220:$J$563))","v":""},"",{"$nulls":9},"",null,{"v":-0.9160000000000014,"d":"-0.92"},"","",null,"",{"$f":"IF($AU$21=\"INVERT\",Y220,IF(AC219>=$Z$12,\"\",IF(Y219=\"\",\"\",INDEX($Y$18:$Y$227,$AB$17-ROWS($Y$18:$Y219)))))","v":""},"","","",{"$nulls":26},{"$f":"IF($AU$21=\"INVERT\",Y220,IF(AC219>=$Z$12,\"\",IF(Y219=\"\",\"\",INDEX($Y$18:$Y$227,$AB$17-ROWS($Y$18:$Y219)))))","v":""},"",{"$f":"IF(AE219=\"\",\"\",\n    IF($AU$21=\"TYP\",\n       IF(Z219=\"\",\"\", INDEX($Z$18:$Z$227, $AB$17-ROWS($Z$18:$Z219))),\n       IF($AU$21=\"INVERT\",Z220, \"\")\n    )\n)","v":""},"",null,{"$f":"IF(BL219>=$Z$12,\"\",IF(Y219=\"\",\"\",INDEX($Y$18:$Y$227,$AB$17-ROWS($Y$18:$Y219))))","v":""},{"$f":"IF(#REF!=\"\",\"\",#REF!/43560)","v":{"$error":"#REF!"}},{"$f":"#REF!","v":{"$error":"#REF!"}}]
["","",{"$f":"IF(B221=\"\",\"\",IFERROR(_xlfn.XLOOKUP(ROUND(B221,1),MetricIncrementalData[System Increment],_xlfn.XLOOKUP('Metric Incremental Crate'!$R$3,MetricIncrementalData[#Headers],MetricIncrementalData[]),,1),0))","v":""},"",{"$f":"IF(B221=\"\",\"\",IFERROR(_xlfn.XLOOKUP(ROUND(B221,1),MetricIncrementalData[System Increment],_xlfn.XLOOKUP(Metric_Incremental_Data_Target_Column,MetricIncrementalData[#Headers],MetricIncrementalData[]),,1),0))","v":""},{"$f":"IF(B221=\"\",\"\",IF(B222=\"\",((((B221-0)/100)*Metric_Module_Square_Foot_Area)-'Cumulative Volumes Metric'!E221)*Metric_Stone_Void_Percentage,((((B221-B222)/100)*Metric_Module_Square_Foot_Area)-'Cumulative Volumes Metric'!E221)*Metric_Stone_Void_Percentage))","v":""},"",{"$f":"IF(B221=\"\",\"\",((Metric_System_Area_Input-Metric_Number_Of_Stacks*_xlfn.XLOOKUP(Metric_Layers,CrateData[Layer],CrateData[Surface Area (m2)]))*((B221-IF(B222=\"\",0,B222))/100))*Metric_Stone_Void_Percentage)","v":""},"","",{"$f":"IF(B221=\"\",\"\",SUM(J221:$J$563))","v":""},"",{"$nulls":9},"",null,{"v":-0.9260000000000014,"d":"-0.93"},"","",null,"",{"$f":"IF($AU$21=\"INVERT\",Y221,IF(AC220>=$Z$12,\"\",IF(Y220=\"\",\"\",INDEX($Y$18:$Y$227,$AB$17-ROWS($Y$18:$Y220)))))","v":""},"","","",{"$nulls":26},{"$f":"IF($AU$21=\"INVERT\",Y221,IF(AC220>=$Z$12,\"\",IF(Y220=\"\",\"\",INDEX($Y$18:$Y$227,$AB$17-ROWS($Y$18:$Y220)))))","v":""},"",{"$f":"IF(AE220=\"\",\"\",\n    IF($AU$21=\"TYP\",\n       IF(Z220=\"\",\"\", INDEX($Z$18:$Z$227, $AB$17-ROWS($Z$18:$Z220))),\n       IF($AU$21=\"INVERT\",Z221, \"\")\n    )\n)","v":""},"",null,{"$f":"IF(BL220>=$Z$12,\"\",IF(Y220=\"\",\"\",INDEX($Y$18:$Y$227,$AB$17-ROWS($Y$18:$Y220))))","v":""},{"$f":"IF(#REF!=\"\",\"\",#REF!/43560)","v":{"$error":"#REF!"}},{"$f":"#REF!","v":{"$error":"#REF!"}}]
["","",{"$f":"IF(B222=\"\",\"\",IFERROR(_xlfn.XLOOKUP(ROUND(B222,1),MetricIncrementalData[System Increment],_xlfn.XLOOKUP('Metric Incremental Crate'!$R$3,MetricIncrementalData[#Headers],MetricIncrementalData[]),,1),0))","v":""},"",{"$f":"IF(B222=\"\",\"\",IFERROR(_xlfn.XLOOKUP(ROUND(B222,1),MetricIncrementalData[System Increment],_xlfn.XLOOKUP(Metric_Incremental_Data_Target_Column,MetricIncrementalData[#Headers],MetricIncrementalData[]),,1),0))","v":""},{"$f":"IF(B222=\"\",\"\",IF(B223=\"\",((((B222-0)/100)*Metric_Module_Square_Foot_Area)-'Cumulative Volumes Metric'!E222)*Metric_Stone_Void_Percentage,((((B222-B223)/100)*Metric_Module_Square_Foot_Area)-'Cumulative Volumes Metric'!E222)*Metric_Stone_Void_Percentage))","v":""},"",{"$f":"IF(B222=\"\",\"\",((Metric_System_Area_Input-Metric_Number_Of_Stacks*_xlfn.XLOOKUP(Metric_Layers,CrateData[Layer],CrateData[Surface Area (m2)]))*((B222-IF(B223=\"\",0,B223))/100))*Metric_Stone_Void_Percentage)","v":""},"","",{"$f":"IF(B222=\"\",\"\",SUM(J222:$J$563))","v":""},"",{"$nulls":9},"",null,{"v":-0.9360000000000014,"d":"-0.94"},"","",null,"",{"$f":"IF($AU$21=\"INVERT\",Y222,IF(AC221>=$Z$12,\"\",IF(Y221=\"\",\"\",INDEX($Y$18:$Y$227,$AB$17-ROWS($Y$18:$Y221)))))","v":""},"","","",{"$nulls":26},{"$f":"IF($AU$21=\"INVERT\",Y222,IF(AC221>=$Z$12,\"\",IF(Y221=\"\",\"\",INDEX($Y$18:$Y$227,$AB$17-ROWS($Y$18:$Y221)))))","v":""},"",{"$f":"IF(AE221=\"\",\"\",\n    IF($AU$21=\"TYP\",\n       IF(Z221=\"\",\"\", INDEX($Z$18:$Z$227, $AB$17-ROWS($Z$18:$Z221))),\n       IF($AU$21=\"INVERT\",Z222, \"\")\n    )\n)","v":""},"",null,{"$f":"IF(BL221>=$Z$12,\"\",IF(Y221=\"\",\"\",INDEX($Y$18:$Y$227,$AB$17-ROWS($Y$18:$Y221))))","v":""},{"$f":"IF(#REF!=\"\",\"\",#REF!/43560)","v":{"$error":"#REF!"}},{"$f":"#REF!","v":{"$error":"#REF!"}}]
["","",{"$f":"IF(B223=\"\",\"\",IFERROR(_xlfn.XLOOKUP(ROUND(B223,1),MetricIncrementalData[System Increment],_xlfn.XLOOKUP('Metric Incremental Crate'!$R$3,MetricIncrementalData[#Headers],MetricIncrementalData[]),,1),0))","v":""},"",{"$f":"IF(B223=\"\",\"\",IFERROR(_xlfn.XLOOKUP(ROUND(B223,1),MetricIncrementalData[System Increment],_xlfn.XLOOKUP(Metric_Incremental_Data_Target_Column,MetricIncrementalData[#Headers],MetricIncrementalData[]),,1),0))","v":""},{"$f":"IF(B223=\"\",\"\",IF(B224=\"\",((((B223-0)/100)*Metric_Module_Square_Foot_Area)-'Cumulative Volumes Metric'!E223)*Metric_Stone_Void_Percentage,((((B223-B224)/100)*Metric_Module_Square_Foot_Area)-'Cumulative Volumes Metric'!E223)*Metric_Stone_Void_Percentage))","v":""},"",{"$f":"IF(B223=\"\",\"\",((Metric_System_Area_Input-Metric_Number_Of_Stacks*_xlfn.XLOOKUP(Metric_Layers,CrateData[Layer],CrateData[Surface Area (m2)]))*((B223-IF(B224=\"\",0,B224))/100))*Metric_Stone_Void_Percentage)","v":""},"","",{"$f":"IF(B223=\"\",\"\",SUM(J223:$J$563))","v":""},"",{"$nulls":9},"",null,{"v":-0.9460000000000014,"d":"-0.95"},"","",null,"",{"$f":"IF($AU$21=\"INVERT\",Y223,IF(AC222>=$Z$12,\"\",IF(Y222=\"\",\"\",INDEX($Y$18:$Y$227,$AB$17-ROWS($Y$18:$Y222)))))","v":""},"","","",{"$nulls":26},{"$f":"IF($AU$21=\"INVERT\",Y223,IF(AC222>=$Z$12,\"\",IF(Y222=\"\",\"\",INDEX($Y$18:$Y$227,$AB$17-ROWS($Y$18:$Y222)))))","v":""},"",{"$f":"IF(AE222=\"\",\"\",\n    IF($AU$21=\"TYP\",\n       IF(Z222=\"\",\"\", INDEX($Z$18:$Z$227, $AB$17-ROWS($Z$18:$Z222))),\n       IF($AU$21=\"INVERT\",Z223, \"\")\n    )\n)","v":""},"",null,{"$f":"IF(BL222>=$Z$12,\"\",IF(Y222=\"\",\"\",INDEX($Y$18:$Y$227,$AB$17-ROWS($Y$18:$Y222))))","v":""},{"$f":"IF(#REF!=\"\",\"\",#REF!/43560)","v":{"$error":"#REF!"}},{"$f":"#REF!","v":{"$error":"#REF!"}}]
["","",{"$f":"IF(B224=\"\",\"\",IFERROR(_xlfn.XLOOKUP(ROUND(B224,1),MetricIncrementalData[System Increment],_xlfn.XLOOKUP('Metric Incremental Crate'!$R$3,MetricIncrementalData[#Headers],MetricIncrementalData[]),,1),0))","v":""},"",{"$f":"IF(B224=\"\",\"\",IFERROR(_xlfn.XLOOKUP(ROUND(B224,1),MetricIncrementalData[System Increment],_xlfn.XLOOKUP(Metric_Incremental_Data_Target_Column,MetricIncrementalData[#Headers],MetricIncrementalData[]),,1),0))","v":""},{"$f":"IF(B224=\"\",\"\",IF(B225=\"\",((((B224-0)/100)*Metric_Module_Square_Foot_Area)-'Cumulative Volumes Metric'!E224)*Metric_Stone_Void_Percentage,((((B224-B225)/100)*Metric_Module_Square_Foot_Area)-'Cumulative Volumes Metric'!E224)*Metric_Stone_Void_Percentage))","v":""},"",{"$f":"IF(B224=\"\",\"\",((Metric_System_Area_Input-Metric_Number_Of_Stacks*_xlfn.XLOOKUP(Metric_Layers,CrateData[Layer],CrateData[Surface Area (m2)]))*((B224-IF(B225=\"\",0,B225))/100))*Metric_Stone_Void_Percentage)","v":""},"","",{"$f":"IF(B224=\"\",\"\",SUM(J224:$J$563))","v":""},"",{"$nulls":9},"",null,{"v":-0.9560000000000014,"d":"-0.96"},"","",null,"",{"$f":"IF($AU$21=\"INVERT\",Y224,IF(AC223>=$Z$12,\"\",IF(Y223=\"\",\"\",INDEX($Y$18:$Y$227,$AB$17-ROWS($Y$18:$Y223)))))","v":""},"","","",{"$nulls":26},{"$f":"IF($AU$21=\"INVERT\",Y224,IF(AC223>=$Z$12,\"\",IF(Y223=\"\",\"\",INDEX($Y$18:$Y$227,$AB$17-ROWS($Y$18:$Y223)))))","v":""},"",{"$f":"IF(AE223=\"\",\"\",\n    IF($AU$21=\"TYP\",\n       IF(Z223=\"\",\"\", INDEX($Z$18:$Z$227, $AB$17-ROWS($Z$18:$Z223))),\n       IF($AU$21=\"INVERT\",Z224, \"\")\n    )\n)","v":""},"",null,{"$f":"IF(BL223>=$Z$12,\"\",IF(Y223=\"\",\"\",INDEX($Y$18:$Y$227,$AB$17-ROWS($Y$18:$Y223))))","v":""},{"$f":"IF(#REF!=\"\",\"\",#REF!/43560)","v":{"$error":"#REF!"}},{"$f":"#REF!","v":{"$error":"#REF!"}}]
["","",{"$f":"IF(B225=\"\",\"\",IFERROR(_xlfn.XLOOKUP(ROUND(B225,1),MetricIncrementalData[System Increment],_xlfn.XLOOKUP('Metric Incremental Crate'!$R$3,MetricIncrementalData[#Headers],MetricIncrementalData[]),,1),0))","v":""},"",{"$f":"IF(B225=\"\",\"\",IFERROR(_xlfn.XLOOKUP(ROUND(B225,1),MetricIncrementalData[System Increment],_xlfn.XLOOKUP(Metric_Incremental_Data_Target_Column,MetricIncrementalData[#Headers],MetricIncrementalData[]),,1),0))","v":""},{"$f":"IF(B225=\"\",\"\",IF(B226=\"\",((((B225-0)/100)*Metric_Module_Square_Foot_Area)-'Cumulative Volumes Metric'!E225)*Metric_Stone_Void_Percentage,((((B225-B226)/100)*Metric_Module_Square_Foot_Area)-'Cumulative Volumes Metric'!E225)*Metric_Stone_Void_Percentage))","v":""},"",{"$f":"IF(B225=\"\",\"\",((Metric_System_Area_Input-Metric_Number_Of_Stacks*_xlfn.XLOOKUP(Metric_Layers,CrateData[Layer],CrateData[Surface Area (m2)]))*((B225-IF(B226=\"\",0,B226))/100))*Metric_Stone_Void_Percentage)","v":""},"","",{"$f":"IF(B225=\"\",\"\",SUM(J225:$J$563))","v":""},"",{"$nulls":9},"",null,{"v":-0.9660000000000014,"d":"-0.97"},"","",null,"",{"$f":"IF($AU$21=\"INVERT\",Y225,IF(AC224>=$Z$12,\"\",IF(Y224=\"\",\"\",INDEX($Y$18:$Y$227,$AB$17-ROWS($Y$18:$Y224)))))","v":""},"","","",{"$nulls":26},{"$f":"IF($AU$21=\"INVERT\",Y225,IF(AC224>=$Z$12,\"\",IF(Y224=\"\",\"\",INDEX($Y$18:$Y$227,$AB$17-ROWS($Y$18:$Y224)))))","v":""},"",{"$f":"IF(AE224=\"\",\"\",\n    IF($AU$21=\"TYP\",\n       IF(Z224=\"\",\"\", INDEX($Z$18:$Z$227, $AB$17-ROWS($Z$18:$Z224))),\n       IF($AU$21=\"INVERT\",Z225, \"\")\n    )\n)","v":""},"",null,{"$f":"IF(BL224>=$Z$12,\"\",IF(Y224=\"\",\"\",INDEX($Y$18:$Y$227,$AB$17-ROWS($Y$18:$Y224))))","v":""},{"$f":"IF(#REF!=\"\",\"\",#REF!/43560)","v":{"$error":"#REF!"}},{"$f":"#REF!","v":{"$error":"#REF!"}}]
["","",{"$f":"IF(B226=\"\",\"\",IFERROR(_xlfn.XLOOKUP(ROUND(B226,1),MetricIncrementalData[System Increment],_xlfn.XLOOKUP('Metric Incremental Crate'!$R$3,MetricIncrementalData[#Headers],MetricIncrementalData[]),,1),0))","v":""},"",{"$f":"IF(B226=\"\",\"\",IFERROR(_xlfn.XLOOKUP(ROUND(B226,1),MetricIncrementalData[System Increment],_xlfn.XLOOKUP(Metric_Incremental_Data_Target_Column,MetricIncrementalData[#Headers],MetricIncrementalData[]),,1),0))","v":""},{"$f":"IF(B226=\"\",\"\",IF(B227=\"\",((((B226-0)/100)*Metric_Module_Square_Foot_Area)-'Cumulative Volumes Metric'!E226)*Metric_Stone_Void_Percentage,((((B226-B227)/100)*Metric_Module_Square_Foot_Area)-'Cumulative Volumes Metric'!E226)*Metric_Stone_Void_Percentage))","v":""},"",{"$f":"IF(B226=\"\",\"\",((Metric_System_Area_Input-Metric_Number_Of_Stacks*_xlfn.XLOOKUP(Metric_Layers,CrateData[Layer],CrateData[Surface Area (m2)]))*((B226-IF(B227=\"\",0,B227))/100))*Metric_Stone_Void_Percentage)","v":""},"","",{"$f":"IF(B226=\"\",\"\",SUM(J226:$J$563))","v":""},"",{"$nulls":9},"",null,{"v":-0.9760000000000014,"d":"-0.98"},"","",null,"",{"$f":"IF($AU$21=\"INVERT\",Y226,IF(AC225>=$Z$12,\"\",IF(Y225=\"\",\"\",INDEX($Y$18:$Y$227,$AB$17-ROWS($Y$18:$Y225)))))","v":""},"","","",{"$nulls":26},{"$f":"IF($AU$21=\"INVERT\",Y226,IF(AC225>=$Z$12,\"\",IF(Y225=\"\",\"\",INDEX($Y$18:$Y$227,$AB$17-ROWS($Y$18:$Y225)))))","v":""},"",{"$f":"IF(AE225=\"\",\"\",\n    IF($AU$21=\"TYP\",\n       IF(Z225=\"\",\"\", INDEX($Z$18:$Z$227, $AB$17-ROWS($Z$18:$Z225))),\n       IF($AU$21=\"INVERT\",Z226, \"\")\n    )\n)","v":""},"",null,{"$f":"IF(BL225>=$Z$12,\"\",IF(Y225=\"\",\"\",INDEX($Y$18:$Y$227,$AB$17-ROWS($Y$18:$Y225))))","v":""},{"$f":"IF(#REF!=\"\",\"\",#REF!/43560)","v":{"$error":"#REF!"}},{"$f":"#REF!","v":{"$error":"#REF!"}}]
["","",{"$f":"IF(B227=\"\",\"\",IFERROR(_xlfn.XLOOKUP(ROUND(B227,1),MetricIncrementalData[System Increment],_xlfn.XLOOKUP('Metric Incremental Crate'!$R$3,MetricIncrementalData[#Headers],MetricIncrementalData[]),,1),0))","v":""},"",{"$f":"IF(B227=\"\",\"\",IFERROR(_xlfn.XLOOKUP(ROUND(B227,1),MetricIncrementalData[System Increment],_xlfn.XLOOKUP(Metric_Incremental_Data_Target_Column,MetricIncrementalData[#Headers],MetricIncrementalData[]),,1),0))","v":""},{"$f":"IF(B227=\"\",\"\",IF(B228=\"\",((((B227-0)/100)*Metric_Module_Square_Foot_Area)-'Cumulative Volumes Metric'!E227)*Metric_Stone_Void_Percentage,((((B227-B228)/100)*Metric_Module_Square_Foot_Area)-'Cumulative Volumes Metric'!E227)*Metric_Stone_Void_Percentage))","v":""},"",{"$f":"IF(B227=\"\",\"\",((Metric_System_Area_Input-Metric_Number_Of_Stacks*_xlfn.XLOOKUP(Metric_Layers,CrateData[Layer],CrateData[Surface Area (m2)]))*((B227-IF(B228=\"\",0,B228))/100))*Metric_Stone_Void_Percentage)","v":""},"","",{"$f":"IF(B227=\"\",\"\",SUM(J227:$J$563))","v":""},"",{"$nulls":9},"",null,{"v":-0.9860000000000014,"d":"-0.99"},"","",null,"",{"$f":"IF($AU$21=\"INVERT\",Y227,IF(AC226>=$Z$12,\"\",IF(Y226=\"\",\"\",INDEX($Y$18:$Y$227,$AB$17-ROWS($Y$18:$Y226)))))","v":""},"","","",{"$nulls":26},{"$f":"IF($AU$21=\"INVERT\",Y227,IF(AC226>=$Z$12,\"\",IF(Y226=\"\",\"\",INDEX($Y$18:$Y$227,$AB$17-ROWS($Y$18:$Y226)))))","v":""},"",{"$f":"IF(AE226=\"\",\"\",\n    IF($AU$21=\"TYP\",\n       IF(Z226=\"\",\"\", INDEX($Z$18:$Z$227, $AB$17-ROWS($Z$18:$Z226))),\n       IF($AU$21=\"INVERT\",Z227, \"\")\n    )\n)","v":""},"",null,{"$f":"IF(BL226>=$Z$12,\"\",IF(Y226=\"\",\"\",INDEX($Y$18:$Y$227,$AB$17-ROWS($Y$18:$Y226))))","v":""},{"$f":"IF(#REF!=\"\",\"\",#REF!/43560)","v":{"$error":"#REF!"}},{"$f":"#REF!","v":{"$error":"#REF!"}}]
["","",{"$f":"IF(B228=\"\",\"\",IFERROR(_xlfn.XLOOKUP(ROUND(B228,1),MetricIncrementalData[System Increment],_xlfn.XLOOKUP('Metric Incremental Crate'!$R$3,MetricIncrementalData[#Headers],MetricIncrementalData[]),,1),0))","v":""},"",{"$f":"IF(B228=\"\",\"\",IFERROR(_xlfn.XLOOKUP(ROUND(B228,1),MetricIncrementalData[System Increment],_xlfn.XLOOKUP(Metric_Incremental_Data_Target_Column,MetricIncrementalData[#Headers],MetricIncrementalData[]),,1),0))","v":""},{"$f":"IF(B228=\"\",\"\",IF(B229=\"\",((((B228-0)/100)*Metric_Module_Square_Foot_Area)-'Cumulative Volumes Metric'!E228)*Metric_Stone_Void_Percentage,((((B228-B229)/100)*Metric_Module_Square_Foot_Area)-'Cumulative Volumes Metric'!E228)*Metric_Stone_Void_Percentage))","v":""},"",{"$f":"IF(B228=\"\",\"\",((Metric_System_Area_Input-Metric_Number_Of_Stacks*_xlfn.XLOOKUP(Metric_Layers,CrateData[Layer],CrateData[Surface Area (m2)]))*((B228-IF(B229=\"\",0,B229))/100))*Metric_Stone_Void_Percentage)","v":""},"","",{"$f":"IF(B228=\"\",\"\",SUM(J228:$J$563))","v":""},"",{"$nulls":46},{"$f":"IF($AU$21=\"INVERT\",Y228,IF(AC227>=$Z$12,\"\",IF(Y227=\"\",\"\",INDEX($Y$18:$Y$227,$AB$17-ROWS($Y$18:$Y227)))))","v":""},null,null,"",null,{"$f":"IF(BL227>=$Z$12,\"\",IF(Y227=\"\",\"\",INDEX($Y$18:$Y$227,$AB$17-ROWS($Y$18:$Y227))))","v":""},{"$f":"IF(#REF!=\"\",\"\",#REF!/43560)","v":{"$error":"#REF!"}},{"$f":"#REF!","v":{"$error":"#REF!"}}]
["","",{"$f":"IF(B229=\"\",\"\",IFERROR(_xlfn.XLOOKUP(ROUND(B229,1),MetricIncrementalData[System Increment],_xlfn.XLOOKUP('Metric Incremental Crate'!$R$3,MetricIncrementalData[#Headers],MetricIncrementalData[]),,1),0))","v":""},"",{"$f":"IF(B229=\"\",\"\",IFERROR(_xlfn.XLOOKUP(ROUND(B229,1),MetricIncrementalData[System Increment],_xlfn.XLOOKUP(Metric_Incremental_Data_Target_Column,MetricIncrementalData[#Headers],MetricIncrementalData[]),,1),0))","v":""},{"$f":"IF(B229=\"\",\"\",IF(B230=\"\",((((B229-0)/100)*Metric_Module_Square_Foot_Area)-'Cumulative Volumes Metric'!E229)*Metric_Stone_Void_Percentage,((((B229-B230)/100)*Metric_Module_Square_Foot_Area)-'Cumulative Volumes Metric'!E229)*Metric_Stone_Void_Percentage))","v":""},"",{"$f":"IF(B229=\"\",\"\",((Metric_System_Area_Input-Metric_Number_Of_Stacks*_xlfn.XLOOKUP(Metric_Layers,CrateData[Layer],CrateData[Surface Area (m2)]))*((B229-IF(B230=\"\",0,B230))/100))*Metric_Stone_Void_Percentage)","v":""},"","",{"$f":"IF(B229=\"\",\"\",SUM(J229:$J$563))","v":""},"",{"$nulls":46},{"$f":"IF($AU$21=\"INVERT\",Y229,IF(AC228>=$Z$12,\"\",IF(Y228=\"\",\"\",INDEX($Y$18:$Y$227,$AB$17-ROWS($Y$18:$Y228)))))","v":""},null,null,"",null,{"$f":"IF(BL228>=$Z$12,\"\",IF(Y228=\"\",\"\",INDEX($Y$18:$Y$227,$AB$17-ROWS($Y$18:$Y228))))","v":""},{"$f":"IF(#REF!=\"\",\"\",#REF!/43560)","v":{"$error":"#REF!"}},{"$f":"#REF!","v":{"$error":"#REF!"}}]
["","",{"$f":"IF(B230=\"\",\"\",IFERROR(_xlfn.XLOOKUP(ROUND(B230,1),MetricIncrementalData[System Increment],_xlfn.XLOOKUP('Metric Incremental Crate'!$R$3,MetricIncrementalData[#Headers],MetricIncrementalData[]),,1),0))","v":""},"",{"$f":"IF(B230=\"\",\"\",IFERROR(_xlfn.XLOOKUP(ROUND(B230,1),MetricIncrementalData[System Increment],_xlfn.XLOOKUP(Metric_Incremental_Data_Target_Column,MetricIncrementalData[#Headers],MetricIncrementalData[]),,1),0))","v":""},{"$f":"IF(B230=\"\",\"\",IF(B231=\"\",((((B230-0)/100)*Metric_Module_Square_Foot_Area)-'Cumulative Volumes Metric'!E230)*Metric_Stone_Void_Percentage,((((B230-B231)/100)*Metric_Module_Square_Foot_Area)-'Cumulative Volumes Metric'!E230)*Metric_Stone_Void_Percentage))","v":""},"",{"$f":"IF(B230=\"\",\"\",((Metric_System_Area_Input-Metric_Number_Of_Stacks*_xlfn.XLOOKUP(Metric_Layers,CrateData[Layer],CrateData[Surface Area (m2)]))*((B230-IF(B231=\"\",0,B231))/100))*Metric_Stone_Void_Percentage)","v":""},"","",{"$f":"IF(B230=\"\",\"\",SUM(J230:$J$563))","v":""},"",{"$nulls":46},{"$f":"IF($AU$21=\"INVERT\",Y230,IF(AC229>=$Z$12,\"\",IF(Y229=\"\",\"\",INDEX($Y$18:$Y$227,$AB$17-ROWS($Y$18:$Y229)))))","v":""},null,null,"",null,{"$f":"IF(BL229>=$Z$12,\"\",IF(Y229=\"\",\"\",INDEX($Y$18:$Y$227,$AB$17-ROWS($Y$18:$Y229))))","v":""},{"$f":"IF(#REF!=\"\",\"\",#REF!/43560)","v":{"$error":"#REF!"}},{"$f":"#REF!","v":{"$error":"#REF!"}}]
["","",{"$f":"IF(B231=\"\",\"\",IFERROR(_xlfn.XLOOKUP(ROUND(B231,1),MetricIncrementalData[System Increment],_xlfn.XLOOKUP('Metric Incremental Crate'!$R$3,MetricIncrementalData[#Headers],MetricIncrementalData[]),,1),0))","v":""},"",{"$f":"IF(B231=\"\",\"\",IFERROR(_xlfn.XLOOKUP(ROUND(B231,1),MetricIncrementalData[System Increment],_xlfn.XLOOKUP(Metric_Incremental_Data_Target_Column,MetricIncrementalData[#Headers],MetricIncrementalData[]),,1),0))","v":""},{"$f":"IF(B231=\"\",\"\",IF(B232=\"\",((((B231-0)/100)*Metric_Module_Square_Foot_Area)-'Cumulative Volumes Metric'!E231)*Metric_Stone_Void_Percentage,((((B231-B232)/100)*Metric_Module_Square_Foot_Area)-'Cumulative Volumes Metric'!E231)*Metric_Stone_Void_Percentage))","v":""},"",{"$f":"IF(B231=\"\",\"\",((Metric_System_Area_Input-Metric_Number_Of_Stacks*_xlfn.XLOOKUP(Metric_Layers,CrateData[Layer],CrateData[Surface Area (m2)]))*((B231-IF(B232=\"\",0,B232))/100))*Metric_Stone_Void_Percentage)","v":""},"","",{"$f":"IF(B231=\"\",\"\",SUM(J231:$J$563))","v":""},"",{"$nulls":46},{"$f":"IF($AU$21=\"INVERT\",Y231,IF(AC230>=$Z$12,\"\",IF(Y230=\"\",\"\",INDEX($Y$18:$Y$227,$AB$17-ROWS($Y$18:$Y230)))))","v":""},null,null,"",null,{"$f":"IF(BL230>=$Z$12,\"\",IF(Y230=\"\",\"\",INDEX($Y$18:$Y$227,$AB$17-ROWS($Y$18:$Y230))))","v":""},{"$f":"IF(#REF!=\"\",\"\",#REF!/43560)","v":{"$error":"#REF!"}},{"$f":"#REF!","v":{"$error":"#REF!"}}]
["","",{"$f":"IF(B232=\"\",\"\",IFERROR(_xlfn.XLOOKUP(ROUND(B232,1),MetricIncrementalData[System Increment],_xlfn.XLOOKUP('Metric Incremental Crate'!$R$3,MetricIncrementalData[#Headers],MetricIncrementalData[]),,1),0))","v":""},"",{"$f":"IF(B232=\"\",\"\",IFERROR(_xlfn.XLOOKUP(ROUND(B232,1),MetricIncrementalData[System Increment],_xlfn.XLOOKUP(Metric_Incremental_Data_Target_Column,MetricIncrementalData[#Headers],MetricIncrementalData[]),,1),0))","v":""},{"$f":"IF(B232=\"\",\"\",IF(B233=\"\",((((B232-0)/100)*Metric_Module_Square_Foot_Area)-'Cumulative Volumes Metric'!E232)*Metric_Stone_Void_Percentage,((((B232-B233)/100)*Metric_Module_Square_Foot_Area)-'Cumulative Volumes Metric'!E232)*Metric_Stone_Void_Percentage))","v":""},"",{"$f":"IF(B232=\"\",\"\",((Metric_System_Area_Input-Metric_Number_Of_Stacks*_xlfn.XLOOKUP(Metric_Layers,CrateData[Layer],CrateData[Surface Area (m2)]))*((B232-IF(B233=\"\",0,B233))/100))*Metric_Stone_Void_Percentage)","v":""},"","",{"$f":"IF(B232=\"\",\"\",SUM(J232:$J$563))","v":""},"",{"$nulls":46},{"$f":"IF($AU$21=\"INVERT\",Y232,IF(AC231>=$Z$12,\"\",IF(Y231=\"\",\"\",INDEX($Y$18:$Y$227,$AB$17-ROWS($Y$18:$Y231)))))","v":""},null,null,"",null,{"$f":"IF(BL231>=$Z$12,\"\",IF(Y231=\"\",\"\",INDEX($Y$18:$Y$227,$AB$17-ROWS($Y$18:$Y231))))","v":""},{"$f":"IF(#REF!=\"\",\"\",#REF!/43560)","v":{"$error":"#REF!"}},{"$f":"#REF!","v":{"$error":"#REF!"}}]
["","",{"$f":"IF(B233=\"\",\"\",IFERROR(_xlfn.XLOOKUP(ROUND(B233,1),MetricIncrementalData[System Increment],_xlfn.XLOOKUP('Metric Incremental Crate'!$R$3,MetricIncrementalData[#Headers],MetricIncrementalData[]),,1),0))","v":""},"",{"$f":"IF(B233=\"\",\"\",IFERROR(_xlfn.XLOOKUP(ROUND(B233,1),MetricIncrementalData[System Increment],_xlfn.XLOOKUP(Metric_Incremental_Data_Target_Column,MetricIncrementalData[#Headers],MetricIncrementalData[]),,1),0))","v":""},{"$f":"IF(B233=\"\",\"\",IF(B234=\"\",((((B233-0)/100)*Metric_Module_Square_Foot_Area)-'Cumulative Volumes Metric'!E233)*Metric_Stone_Void_Percentage,((((B233-B234)/100)*Metric_Module_Square_Foot_Area)-'Cumulative Volumes Metric'!E233)*Metric_Stone_Void_Percentage))","v":""},"",{"$f":"IF(B233=\"\",\"\",((Metric_System_Area_Input-Metric_Number_Of_Stacks*_xlfn.XLOOKUP(Metric_Layers,CrateData[Layer],CrateData[Surface Area (m2)]))*((B233-IF(B234=\"\",0,B234))/100))*Metric_Stone_Void_Percentage)","v":""},"","",{"$f":"IF(B233=\"\",\"\",SUM(J233:$J$563))","v":""},"",{"$nulls":46},{"$f":"IF($AU$21=\"INVERT\",Y233,IF(AC232>=$Z$12,\"\",IF(Y232=\"\",\"\",INDEX($Y$18:$Y$227,$AB$17-ROWS($Y$18:$Y232)))))","v":""},null,null,"",null,{"$f":"IF(BL232>=$Z$12,\"\",IF(Y232=\"\",\"\",INDEX($Y$18:$Y$227,$AB$17-ROWS($Y$18:$Y232))))","v":""},{"$f":"IF(#REF!=\"\",\"\",#REF!/43560)","v":{"$error":"#REF!"}},{"$f":"#REF!","v":{"$error":"#REF!"}}]
["","",{"$f":"IF(B234=\"\",\"\",IFERROR(_xlfn.XLOOKUP(ROUND(B234,1),MetricIncrementalData[System Increment],_xlfn.XLOOKUP('Metric Incremental Crate'!$R$3,MetricIncrementalData[#Headers],MetricIncrementalData[]),,1),0))","v":""},"",{"$f":"IF(B234=\"\",\"\",IFERROR(_xlfn.XLOOKUP(ROUND(B234,1),MetricIncrementalData[System Increment],_xlfn.XLOOKUP(Metric_Incremental_Data_Target_Column,MetricIncrementalData[#Headers],MetricIncrementalData[]),,1),0))","v":""},{"$f":"IF(B234=\"\",\"\",IF(B235=\"\",((((B234-0)/100)*Metric_Module_Square_Foot_Area)-'Cumulative Volumes Metric'!E234)*Metric_Stone_Void_Percentage,((((B234-B235)/100)*Metric_Module_Square_Foot_Area)-'Cumulative Volumes Metric'!E234)*Metric_Stone_Void_Percentage))","v":""},"",{"$f":"IF(B234=\"\",\"\",((Metric_System_Area_Input-Metric_Number_Of_Stacks*_xlfn.XLOOKUP(Metric_Layers,CrateData[Layer],CrateData[Surface Area (m2)]))*((B234-IF(B235=\"\",0,B235))/100))*Metric_Stone_Void_Percentage)","v":""},"","",{"$f":"IF(B234=\"\",\"\",SUM(J234:$J$563))","v":""},"",{"$nulls":46},{"$f":"IF($AU$21=\"INVERT\",Y234,IF(AC233>=$Z$12,\"\",IF(Y233=\"\",\"\",INDEX($Y$18:$Y$227,$AB$17-ROWS($Y$18:$Y233)))))","v":""},null,null,"",null,{"$f":"IF(BL233>=$Z$12,\"\",IF(Y233=\"\",\"\",INDEX($Y$18:$Y$227,$AB$17-ROWS($Y$18:$Y233))))","v":""},{"$f":"IF(#REF!=\"\",\"\",#REF!/43560)","v":{"$error":"#REF!"}},{"$f":"#REF!","v":{"$error":"#REF!"}}]
["","",{"$f":"IF(B235=\"\",\"\",IFERROR(_xlfn.XLOOKUP(ROUND(B235,1),MetricIncrementalData[System Increment],_xlfn.XLOOKUP('Metric Incremental Crate'!$R$3,MetricIncrementalData[#Headers],MetricIncrementalData[]),,1),0))","v":""},"",{"$f":"IF(B235=\"\",\"\",IFERROR(_xlfn.XLOOKUP(ROUND(B235,1),MetricIncrementalData[System Increment],_xlfn.XLOOKUP(Metric_Incremental_Data_Target_Column,MetricIncrementalData[#Headers],MetricIncrementalData[]),,1),0))","v":""},{"$f":"IF(B235=\"\",\"\",IF(B236=\"\",((((B235-0)/100)*Metric_Module_Square_Foot_Area)-'Cumulative Volumes Metric'!E235)*Metric_Stone_Void_Percentage,((((B235-B236)/100)*Metric_Module_Square_Foot_Area)-'Cumulative Volumes Metric'!E235)*Metric_Stone_Void_Percentage))","v":""},"",{"$f":"IF(B235=\"\",\"\",((Metric_System_Area_Input-Metric_Number_Of_Stacks*_xlfn.XLOOKUP(Metric_Layers,CrateData[Layer],CrateData[Surface Area (m2)]))*((B235-IF(B236=\"\",0,B236))/100))*Metric_Stone_Void_Percentage)","v":""},"","",{"$f":"IF(B235=\"\",\"\",SUM(J235:$J$563))","v":""},"",{"$nulls":46},{"$f":"IF($AU$21=\"INVERT\",Y235,IF(AC234>=$Z$12,\"\",IF(Y234=\"\",\"\",INDEX($Y$18:$Y$227,$AB$17-ROWS($Y$18:$Y234)))))","v":""},null,null,"",null,{"$f":"IF(BL234>=$Z$12,\"\",IF(Y234=\"\",\"\",INDEX($Y$18:$Y$227,$AB$17-ROWS($Y$18:$Y234))))","v":""},{"$f":"IF(#REF!=\"\",\"\",#REF!/43560)","v":{"$error":"#REF!"}},{"$f":"#REF!","v":{"$error":"#REF!"}}]
["","",{"$f":"IF(B236=\"\",\"\",IFERROR(_xlfn.XLOOKUP(ROUND(B236,1),MetricIncrementalData[System Increment],_xlfn.XLOOKUP('Metric Incremental Crate'!$R$3,MetricIncrementalData[#Headers],MetricIncrementalData[]),,1),0))","v":""},"",{"$f":"IF(B236=\"\",\"\",IFERROR(_xlfn.XLOOKUP(ROUND(B236,1),MetricIncrementalData[System Increment],_xlfn.XLOOKUP(Metric_Incremental_Data_Target_Column,MetricIncrementalData[#Headers],MetricIncrementalData[]),,1),0))","v":""},{"$f":"IF(B236=\"\",\"\",IF(B237=\"\",((((B236-0)/100)*Metric_Module_Square_Foot_Area)-'Cumulative Volumes Metric'!E236)*Metric_Stone_Void_Percentage,((((B236-B237)/100)*Metric_Module_Square_Foot_Area)-'Cumulative Volumes Metric'!E236)*Metric_Stone_Void_Percentage))","v":""},"",{"$f":"IF(B236=\"\",\"\",((Metric_System_Area_Input-Metric_Number_Of_Stacks*_xlfn.XLOOKUP(Metric_Layers,CrateData[Layer],CrateData[Surface Area (m2)]))*((B236-IF(B237=\"\",0,B237))/100))*Metric_Stone_Void_Percentage)","v":""},"","",{"$f":"IF(B236=\"\",\"\",SUM(J236:$J$563))","v":""},"",{"$nulls":46},{"$f":"IF($AU$21=\"INVERT\",Y236,IF(AC235>=$Z$12,\"\",IF(Y235=\"\",\"\",INDEX($Y$18:$Y$227,$AB$17-ROWS($Y$18:$Y235)))))","v":""},null,null,"",null,{"$f":"IF(BL235>=$Z$12,\"\",IF(Y235=\"\",\"\",INDEX($Y$18:$Y$227,$AB$17-ROWS($Y$18:$Y235))))","v":""},{"$f":"IF(#REF!=\"\",\"\",#REF!/43560)","v":{"$error":"#REF!"}},{"$f":"#REF!","v":{"$error":"#REF!"}}]
["","",{"$f":"IF(B237=\"\",\"\",IFERROR(_xlfn.XLOOKUP(ROUND(B237,1),MetricIncrementalData[System Increment],_xlfn.XLOOKUP('Metric Incremental Crate'!$R$3,MetricIncrementalData[#Headers],MetricIncrementalData[]),,1),0))","v":""},"",{"$f":"IF(B237=\"\",\"\",IFERROR(_xlfn.XLOOKUP(ROUND(B237,1),MetricIncrementalData[System Increment],_xlfn.XLOOKUP(Metric_Incremental_Data_Target_Column,MetricIncrementalData[#Headers],MetricIncrementalData[]),,1),0))","v":""},{"$f":"IF(B237=\"\",\"\",IF(B238=\"\",((((B237-0)/100)*Metric_Module_Square_Foot_Area)-'Cumulative Volumes Metric'!E237)*Metric_Stone_Void_Percentage,((((B237-B238)/100)*Metric_Module_Square_Foot_Area)-'Cumulative Volumes Metric'!E237)*Metric_Stone_Void_Percentage))","v":""},"",{"$f":"IF(B237=\"\",\"\",((Metric_System_Area_Input-Metric_Number_Of_Stacks*_xlfn.XLOOKUP(Metric_Layers,CrateData[Layer],CrateData[Surface Area (m2)]))*((B237-IF(B238=\"\",0,B238))/100))*Metric_Stone_Void_Percentage)","v":""},"","",{"$f":"IF(B237=\"\",\"\",SUM(J237:$J$563))","v":""},"",{"$nulls":46},{"$f":"IF($AU$21=\"INVERT\",Y237,IF(AC236>=$Z$12,\"\",IF(Y236=\"\",\"\",INDEX($Y$18:$Y$227,$AB$17-ROWS($Y$18:$Y236)))))","v":""},null,null,"",null,{"$f":"IF(BL236>=$Z$12,\"\",IF(Y236=\"\",\"\",INDEX($Y$18:$Y$227,$AB$17-ROWS($Y$18:$Y236))))","v":""},{"$f":"IF(#REF!=\"\",\"\",#REF!/43560)","v":{"$error":"#REF!"}},{"$f":"#REF!","v":{"$error":"#REF!"}}]
["","",{"$f":"IF(B238=\"\",\"\",IFERROR(_xlfn.XLOOKUP(ROUND(B238,1),MetricIncrementalData[System Increment],_xlfn.XLOOKUP('Metric Incremental Crate'!$R$3,MetricIncrementalData[#Headers],MetricIncrementalData[]),,1),0))","v":""},"",{"$f":"IF(B238=\"\",\"\",IFERROR(_xlfn.XLOOKUP(ROUND(B238,1),MetricIncrementalData[System Increment],_xlfn.XLOOKUP(Metric_Incremental_Data_Target_Column,MetricIncrementalData[#Headers],MetricIncrementalData[]),,1),0))","v":""},{"$f":"IF(B238=\"\",\"\",IF(B239=\"\",((((B238-0)/100)*Metric_Module_Square_Foot_Area)-'Cumulative Volumes Metric'!E238)*Metric_Stone_Void_Percentage,((((B238-B239)/100)*Metric_Module_Square_Foot_Area)-'Cumulative Volumes Metric'!E238)*Metric_Stone_Void_Percentage))","v":""},"",{"$f":"IF(B238=\"\",\"\",((Metric_System_Area_Input-Metric_Number_Of_Stacks*_xlfn.XLOOKUP(Metric_Layers,CrateData[Layer],CrateData[Surface Area (m2)]))*((B238-IF(B239=\"\",0,B239))/100))*Metric_Stone_Void_Percentage)","v":""},"","",{"$f":"IF(B238=\"\",\"\",SUM(J238:$J$563))","v":""},"",{"$nulls":46},{"$f":"IF($AU$21=\"INVERT\",Y238,IF(AC237>=$Z$12,\"\",IF(Y237=\"\",\"\",INDEX($Y$18:$Y$227,$AB$17-ROWS($Y$18:$Y237)))))","v":""},null,null,"",null,{"$f":"IF(BL237>=$Z$12,\"\",IF(Y237=\"\",\"\",INDEX($Y$18:$Y$227,$AB$17-ROWS($Y$18:$Y237))))","v":""},{"$f":"IF(#REF!=\"\",\"\",#REF!/43560)","v":{"$error":"#REF!"}},{"$f":"#REF!","v":{"$error":"#REF!"}}]
["","",{"$f":"IF(B239=\"\",\"\",IFERROR(_xlfn.XLOOKUP(ROUND(B239,1),MetricIncrementalData[System Increment],_xlfn.XLOOKUP('Metric Incremental Crate'!$R$3,MetricIncrementalData[#Headers],MetricIncrementalData[]),,1),0))","v":""},"",{"$f":"IF(B239=\"\",\"\",IFERROR(_xlfn.XLOOKUP(ROUND(B239,1),MetricIncrementalData[System Increment],_xlfn.XLOOKUP(Metric_Incremental_Data_Target_Column,MetricIncrementalData[#Headers],MetricIncrementalData[]),,1),0))","v":""},{"$f":"IF(B239=\"\",\"\",IF(B240=\"\",((((B239-0)/100)*Metric_Module_Square_Foot_Area)-'Cumulative Volumes Metric'!E239)*Metric_Stone_Void_Percentage,((((B239-B240)/100)*Metric_Module_Square_Foot_Area)-'Cumulative Volumes Metric'!E239)*Metric_Stone_Void_Percentage))","v":""},"",{"$f":"IF(B239=\"\",\"\",((Metric_System_Area_Input-Metric_Number_Of_Stacks*_xlfn.XLOOKUP(Metric_Layers,CrateData[Layer],CrateData[Surface Area (m2)]))*((B239-IF(B240=\"\",0,B240))/100))*Metric_Stone_Void_Percentage)","v":""},"","",{"$f":"IF(B239=\"\",\"\",SUM(J239:$J$563))","v":""},"",{"$nulls":46},{"$f":"IF($AU$21=\"INVERT\",Y239,IF(AC238>=$Z$12,\"\",IF(Y238=\"\",\"\",INDEX($Y$18:$Y$227,$AB$17-ROWS($Y$18:$Y238)))))","v":""},null,null,"",null,{"$f":"IF(BL238>=$Z$12,\"\",IF(Y238=\"\",\"\",INDEX($Y$18:$Y$227,$AB$17-ROWS($Y$18:$Y238))))","v":""},{"$f":"IF(#REF!=\"\",\"\",#REF!/43560)","v":{"$error":"#REF!"}},{"$f":"#REF!","v":{"$error":"#REF!"}}]
["","",{"$f":"IF(B240=\"\",\"\",IFERROR(_xlfn.XLOOKUP(ROUND(B240,1),MetricIncrementalData[System Increment],_xlfn.XLOOKUP('Metric Incremental Crate'!$R$3,MetricIncrementalData[#Headers],MetricIncrementalData[]),,1),0))","v":""},"",{"$f":"IF(B240=\"\",\"\",IFERROR(_xlfn.XLOOKUP(ROUND(B240,1),MetricIncrementalData[System Increment],_xlfn.XLOOKUP(Metric_Incremental_Data_Target_Column,MetricIncrementalData[#Headers],MetricIncrementalData[]),,1),0))","v":""},{"$f":"IF(B240=\"\",\"\",IF(B241=\"\",((((B240-0)/100)*Metric_Module_Square_Foot_Area)-'Cumulative Volumes Metric'!E240)*Metric_Stone_Void_Percentage,((((B240-B241)/100)*Metric_Module_Square_Foot_Area)-'Cumulative Volumes Metric'!E240)*Metric_Stone_Void_Percentage))","v":""},"",{"$f":"IF(B240=\"\",\"\",((Metric_System_Area_Input-Metric_Number_Of_Stacks*_xlfn.XLOOKUP(Metric_Layers,CrateData[Layer],CrateData[Surface Area (m2)]))*((B240-IF(B241=\"\",0,B241))/100))*Metric_Stone_Void_Percentage)","v":""},"","",{"$f":"IF(B240=\"\",\"\",SUM(J240:$J$563))","v":""},"",{"$nulls":46},{"$f":"IF($AU$21=\"INVERT\",Y240,IF(AC239>=$Z$12,\"\",IF(Y239=\"\",\"\",INDEX($Y$18:$Y$227,$AB$17-ROWS($Y$18:$Y239)))))","v":""},null,null,"",null,{"$f":"IF(BL239>=$Z$12,\"\",IF(Y239=\"\",\"\",INDEX($Y$18:$Y$227,$AB$17-ROWS($Y$18:$Y239))))","v":""},{"$f":"IF(#REF!=\"\",\"\",#REF!/43560)","v":{"$error":"#REF!"}},{"$f":"#REF!","v":{"$error":"#REF!"}}]
["","",{"$f":"IF(B241=\"\",\"\",IFERROR(_xlfn.XLOOKUP(ROUND(B241,1),MetricIncrementalData[System Increment],_xlfn.XLOOKUP('Metric Incremental Crate'!$R$3,MetricIncrementalData[#Headers],MetricIncrementalData[]),,1),0))","v":""},"",{"$f":"IF(B241=\"\",\"\",IFERROR(_xlfn.XLOOKUP(ROUND(B241,1),MetricIncrementalData[System Increment],_xlfn.XLOOKUP(Metric_Incremental_Data_Target_Column,MetricIncrementalData[#Headers],MetricIncrementalData[]),,1),0))","v":""},{"$f":"IF(B241=\"\",\"\",IF(B242=\"\",((((B241-0)/100)*Metric_Module_Square_Foot_Area)-'Cumulative Volumes Metric'!E241)*Metric_Stone_Void_Percentage,((((B241-B242)/100)*Metric_Module_Square_Foot_Area)-'Cumulative Volumes Metric'!E241)*Metric_Stone_Void_Percentage))","v":""},"",{"$f":"IF(B241=\"\",\"\",((Metric_System_Area_Input-Metric_Number_Of_Stacks*_xlfn.XLOOKUP(Metric_Layers,CrateData[Layer],CrateData[Surface Area (m2)]))*((B241-IF(B242=\"\",0,B242))/100))*Metric_Stone_Void_Percentage)","v":""},"","",{"$f":"IF(B241=\"\",\"\",SUM(J241:$J$563))","v":""},"",{"$nulls":46},{"$f":"IF($AU$21=\"INVERT\",Y241,IF(AC240>=$Z$12,\"\",IF(Y240=\"\",\"\",INDEX($Y$18:$Y$227,$AB$17-ROWS($Y$18:$Y240)))))","v":""},null,null,"",null,{"$f":"IF(BL240>=$Z$12,\"\",IF(Y240=\"\",\"\",INDEX($Y$18:$Y$227,$AB$17-ROWS($Y$18:$Y240))))","v":""},{"$f":"IF(#REF!=\"\",\"\",#REF!/43560)","v":{"$error":"#REF!"}},{"$f":"#REF!","v":{"$error":"#REF!"}}]
["","",{"$f":"IF(B242=\"\",\"\",IFERROR(_xlfn.XLOOKUP(ROUND(B242,1),MetricIncrementalData[System Increment],_xlfn.XLOOKUP('Metric Incremental Crate'!$R$3,MetricIncrementalData[#Headers],MetricIncrementalData[]),,1),0))","v":""},"",{"$f":"IF(B242=\"\",\"\",IFERROR(_xlfn.XLOOKUP(ROUND(B242,1),MetricIncrementalData[System Increment],_xlfn.XLOOKUP(Metric_Incremental_Data_Target_Column,MetricIncrementalData[#Headers],MetricIncrementalData[]),,1),0))","v":""},{"$f":"IF(B242=\"\",\"\",IF(B243=\"\",((((B242-0)/100)*Metric_Module_Square_Foot_Area)-'Cumulative Volumes Metric'!E242)*Metric_Stone_Void_Percentage,((((B242-B243)/100)*Metric_Module_Square_Foot_Area)-'Cumulative Volumes Metric'!E242)*Metric_Stone_Void_Percentage))","v":""},"",{"$f":"IF(B242=\"\",\"\",((Metric_System_Area_Input-Metric_Number_Of_Stacks*_xlfn.XLOOKUP(Metric_Layers,CrateData[Layer],CrateData[Surface Area (m2)]))*((B242-IF(B243=\"\",0,B243))/100))*Metric_Stone_Void_Percentage)","v":""},"","",{"$f":"IF(B242=\"\",\"\",SUM(J242:$J$563))","v":""},"",{"$nulls":46},{"$f":"IF($AU$21=\"INVERT\",Y242,IF(AC241>=$Z$12,\"\",IF(Y241=\"\",\"\",INDEX($Y$18:$Y$227,$AB$17-ROWS($Y$18:$Y241)))))","v":""},null,null,"",null,{"$f":"IF(BL241>=$Z$12,\"\",IF(Y241=\"\",\"\",INDEX($Y$18:$Y$227,$AB$17-ROWS($Y$18:$Y241))))","v":""},{"$f":"IF(#REF!=\"\",\"\",#REF!/43560)","v":{"$error":"#REF!"}},{"$f":"#REF!","v":{"$error":"#REF!"}}]
["","",{"$f":"IF(B243=\"\",\"\",IFERROR(_xlfn.XLOOKUP(ROUND(B243,1),MetricIncrementalData[System Increment],_xlfn.XLOOKUP('Metric Incremental Crate'!$R$3,MetricIncrementalData[#Headers],MetricIncrementalData[]),,1),0))","v":""},"",{"$f":"IF(B243=\"\",\"\",IFERROR(_xlfn.XLOOKUP(ROUND(B243,1),MetricIncrementalData[System Increment],_xlfn.XLOOKUP(Metric_Incremental_Data_Target_Column,MetricIncrementalData[#Headers],MetricIncrementalData[]),,1),0))","v":""},{"$f":"IF(B243=\"\",\"\",IF(B244=\"\",((((B243-0)/100)*Metric_Module_Square_Foot_Area)-'Cumulative Volumes Metric'!E243)*Metric_Stone_Void_Percentage,((((B243-B244)/100)*Metric_Module_Square_Foot_Area)-'Cumulative Volumes Metric'!E243)*Metric_Stone_Void_Percentage))","v":""},"",{"$f":"IF(B243=\"\",\"\",((Metric_System_Area_Input-Metric_Number_Of_Stacks*_xlfn.XLOOKUP(Metric_Layers,CrateData[Layer],CrateData[Surface Area (m2)]))*((B243-IF(B244=\"\",0,B244))/100))*Metric_Stone_Void_Percentage)","v":""},"","",{"$f":"IF(B243=\"\",\"\",SUM(J243:$J$563))","v":""},"",{"$nulls":46},{"$f":"IF($AU$21=\"INVERT\",Y243,IF(AC242>=$Z$12,\"\",IF(Y242=\"\",\"\",INDEX($Y$18:$Y$227,$AB$17-ROWS($Y$18:$Y242)))))","v":""},null,null,"",null,{"$f":"IF(BL242>=$Z$12,\"\",IF(Y242=\"\",\"\",INDEX($Y$18:$Y$227,$AB$17-ROWS($Y$18:$Y242))))","v":""},{"$f":"IF(#REF!=\"\",\"\",#REF!/43560)","v":{"$error":"#REF!"}},{"$f":"#REF!","v":{"$error":"#REF!"}}]
["","",{"$f":"IF(B244=\"\",\"\",IFERROR(_xlfn.XLOOKUP(ROUND(B244,1),MetricIncrementalData[System Increment],_xlfn.XLOOKUP('Metric Incremental Crate'!$R$3,MetricIncrementalData[#Headers],MetricIncrementalData[]),,1),0))","v":""},"",{"$f":"IF(B244=\"\",\"\",IFERROR(_xlfn.XLOOKUP(ROUND(B244,1),MetricIncrementalData[System Increment],_xlfn.XLOOKUP(Metric_Incremental_Data_Target_Column,MetricIncrementalData[#Headers],MetricIncrementalData[]),,1),0))","v":""},{"$f":"IF(B244=\"\",\"\",IF(B245=\"\",((((B244-0)/100)*Metric_Module_Square_Foot_Area)-'Cumulative Volumes Metric'!E244)*Metric_Stone_Void_Percentage,((((B244-B245)/100)*Metric_Module_Square_Foot_Area)-'Cumulative Volumes Metric'!E244)*Metric_Stone_Void_Percentage))","v":""},"",{"$f":"IF(B244=\"\",\"\",((Metric_System_Area_Input-Metric_Number_Of_Stacks*_xlfn.XLOOKUP(Metric_Layers,CrateData[Layer],CrateData[Surface Area (m2)]))*((B244-IF(B245=\"\",0,B245))/100))*Metric_Stone_Void_Percentage)","v":""},"","",{"$f":"IF(B244=\"\",\"\",SUM(J244:$J$563))","v":""},"",{"$nulls":46},{"$f":"IF($AU$21=\"INVERT\",Y244,IF(AC243>=$Z$12,\"\",IF(Y243=\"\",\"\",INDEX($Y$18:$Y$227,$AB$17-ROWS($Y$18:$Y243)))))","v":""},null,null,"",null,{"$f":"IF(BL243>=$Z$12,\"\",IF(Y243=\"\",\"\",INDEX($Y$18:$Y$227,$AB$17-ROWS($Y$18:$Y243))))","v":""},{"$f":"IF(#REF!=\"\",\"\",#REF!/43560)","v":{"$error":"#REF!"}},{"$f":"#REF!","v":{"$error":"#REF!"}}]
["","",{"$f":"IF(B245=\"\",\"\",IFERROR(_xlfn.XLOOKUP(ROUND(B245,1),MetricIncrementalData[System Increment],_xlfn.XLOOKUP('Metric Incremental Crate'!$R$3,MetricIncrementalData[#Headers],MetricIncrementalData[]),,1),0))","v":""},"",{"$f":"IF(B245=\"\",\"\",IFERROR(_xlfn.XLOOKUP(ROUND(B245,1),MetricIncrementalData[System Increment],_xlfn.XLOOKUP(Metric_Incremental_Data_Target_Column,MetricIncrementalData[#Headers],MetricIncrementalData[]),,1),0))","v":""},{"$f":"IF(B245=\"\",\"\",IF(B246=\"\",((((B245-0)/100)*Metric_Module_Square_Foot_Area)-'Cumulative Volumes Metric'!E245)*Metric_Stone_Void_Percentage,((((B245-B246)/100)*Metric_Module_Square_Foot_Area)-'Cumulative Volumes Metric'!E245)*Metric_Stone_Void_Percentage))","v":""},"",{"$f":"IF(B245=\"\",\"\",((Metric_System_Area_Input-Metric_Number_Of_Stacks*_xlfn.XLOOKUP(Metric_Layers,CrateData[Layer],CrateData[Surface Area (m2)]))*((B245-IF(B246=\"\",0,B246))/100))*Metric_Stone_Void_Percentage)","v":""},"","",{"$f":"IF(B245=\"\",\"\",SUM(J245:$J$563))","v":""},"",{"$nulls":46},{"$f":"IF($AU$21=\"INVERT\",Y245,IF(AC244>=$Z$12,\"\",IF(Y244=\"\",\"\",INDEX($Y$18:$Y$227,$AB$17-ROWS($Y$18:$Y244)))))","v":""},null,null,"",null,{"$f":"IF(BL244>=$Z$12,\"\",IF(Y244=\"\",\"\",INDEX($Y$18:$Y$227,$AB$17-ROWS($Y$18:$Y244))))","v":""},{"$f":"IF(#REF!=\"\",\"\",#REF!/43560)","v":{"$error":"#REF!"}},{"$f":"#REF!","v":{"$error":"#REF!"}}]
["","",{"$f":"IF(B246=\"\",\"\",IFERROR(_xlfn.XLOOKUP(ROUND(B246,1),MetricIncrementalData[System Increment],_xlfn.XLOOKUP('Metric Incremental Crate'!$R$3,MetricIncrementalData[#Headers],MetricIncrementalData[]),,1),0))","v":""},"",{"$f":"IF(B246=\"\",\"\",IFERROR(_xlfn.XLOOKUP(ROUND(B246,1),MetricIncrementalData[System Increment],_xlfn.XLOOKUP(Metric_Incremental_Data_Target_Column,MetricIncrementalData[#Headers],MetricIncrementalData[]),,1),0))","v":""},{"$f":"IF(B246=\"\",\"\",IF(B247=\"\",((((B246-0)/100)*Metric_Module_Square_Foot_Area)-'Cumulative Volumes Metric'!E246)*Metric_Stone_Void_Percentage,((((B246-B247)/100)*Metric_Module_Square_Foot_Area)-'Cumulative Volumes Metric'!E246)*Metric_Stone_Void_Percentage))","v":""},"",{"$f":"IF(B246=\"\",\"\",((Metric_System_Area_Input-Metric_Number_Of_Stacks*_xlfn.XLOOKUP(Metric_Layers,CrateData[Layer],CrateData[Surface Area (m2)]))*((B246-IF(B247=\"\",0,B247))/100))*Metric_Stone_Void_Percentage)","v":""},"","",{"$f":"IF(B246=\"\",\"\",SUM(J246:$J$563))","v":""},"",{"$nulls":46},{"$f":"IF($AU$21=\"INVERT\",Y246,IF(AC245>=$Z$12,\"\",IF(Y245=\"\",\"\",INDEX($Y$18:$Y$227,$AB$17-ROWS($Y$18:$Y245)))))","v":""},null,null,"",null,{"$f":"IF(BL245>=$Z$12,\"\",IF(Y245=\"\",\"\",INDEX($Y$18:$Y$227,$AB$17-ROWS($Y$18:$Y245))))","v":""},{"$f":"IF(#REF!=\"\",\"\",#REF!/43560)","v":{"$error":"#REF!"}},{"$f":"#REF!","v":{"$error":"#REF!"}}]
["","",{"$f":"IF(B247=\"\",\"\",IFERROR(_xlfn.XLOOKUP(ROUND(B247,1),MetricIncrementalData[System Increment],_xlfn.XLOOKUP('Metric Incremental Crate'!$R$3,MetricIncrementalData[#Headers],MetricIncrementalData[]),,1),0))","v":""},"",{"$f":"IF(B247=\"\",\"\",IFERROR(_xlfn.XLOOKUP(ROUND(B247,1),MetricIncrementalData[System Increment],_xlfn.XLOOKUP(Metric_Incremental_Data_Target_Column,MetricIncrementalData[#Headers],MetricIncrementalData[]),,1),0))","v":""},{"$f":"IF(B247=\"\",\"\",IF(B248=\"\",((((B247-0)/100)*Metric_Module_Square_Foot_Area)-'Cumulative Volumes Metric'!E247)*Metric_Stone_Void_Percentage,((((B247-B248)/100)*Metric_Module_Square_Foot_Area)-'Cumulative Volumes Metric'!E247)*Metric_Stone_Void_Percentage))","v":""},"",{"$f":"IF(B247=\"\",\"\",((Metric_System_Area_Input-Metric_Number_Of_Stacks*_xlfn.XLOOKUP(Metric_Layers,CrateData[Layer],CrateData[Surface Area (m2)]))*((B247-IF(B248=\"\",0,B248))/100))*Metric_Stone_Void_Percentage)","v":""},"","",{"$f":"IF(B247=\"\",\"\",SUM(J247:$J$563))","v":""},"",{"$nulls":46},{"$f":"IF($AU$21=\"INVERT\",Y247,IF(AC246>=$Z$12,\"\",IF(Y246=\"\",\"\",INDEX($Y$18:$Y$227,$AB$17-ROWS($Y$18:$Y246)))))","v":""},null,null,"",null,{"$f":"IF(BL246>=$Z$12,\"\",IF(Y246=\"\",\"\",INDEX($Y$18:$Y$227,$AB$17-ROWS($Y$18:$Y246))))","v":""},{"$f":"IF(#REF!=\"\",\"\",#REF!/43560)","v":{"$error":"#REF!"}},{"$f":"#REF!","v":{"$error":"#REF!"}}]
["","",{"$f":"IF(B248=\"\",\"\",IFERROR(_xlfn.XLOOKUP(ROUND(B248,1),MetricIncrementalData[System Increment],_xlfn.XLOOKUP('Metric Incremental Crate'!$R$3,MetricIncrementalData[#Headers],MetricIncrementalData[]),,1),0))","v":""},"",{"$f":"IF(B248=\"\",\"\",IFERROR(_xlfn.XLOOKUP(ROUND(B248,1),MetricIncrementalData[System Increment],_xlfn.XLOOKUP(Metric_Incremental_Data_Target_Column,MetricIncrementalData[#Headers],MetricIncrementalData[]),,1),0))","v":""},{"$f":"IF(B248=\"\",\"\",IF(B249=\"\",((((B248-0)/100)*Metric_Module_Square_Foot_Area)-'Cumulative Volumes Metric'!E248)*Metric_Stone_Void_Percentage,((((B248-B249)/100)*Metric_Module_Square_Foot_Area)-'Cumulative Volumes Metric'!E248)*Metric_Stone_Void_Percentage))","v":""},"",{"$f":"IF(B248=\"\",\"\",((Metric_System_Area_Input-Metric_Number_Of_Stacks*_xlfn.XLOOKUP(Metric_Layers,CrateData[Layer],CrateData[Surface Area (m2)]))*((B248-IF(B249=\"\",0,B249))/100))*Metric_Stone_Void_Percentage)","v":""},"","",{"$f":"IF(B248=\"\",\"\",SUM(J248:$J$563))","v":""},"",{"$nulls":46},{"$f":"IF($AU$21=\"INVERT\",Y248,IF(AC247>=$Z$12,\"\",IF(Y247=\"\",\"\",INDEX($Y$18:$Y$227,$AB$17-ROWS($Y$18:$Y247)))))","v":""},null,null,"",null,{"$f":"IF(BL247>=$Z$12,\"\",IF(Y247=\"\",\"\",INDEX($Y$18:$Y$227,$AB$17-ROWS($Y$18:$Y247))))","v":""},{"$f":"IF(#REF!=\"\",\"\",#REF!/43560)","v":{"$error":"#REF!"}},{"$f":"#REF!","v":{"$error":"#REF!"}}]
["","",{"$f":"IF(B249=\"\",\"\",IFERROR(_xlfn.XLOOKUP(ROUND(B249,1),MetricIncrementalData[System Increment],_xlfn.XLOOKUP('Metric Incremental Crate'!$R$3,MetricIncrementalData[#Headers],MetricIncrementalData[]),,1),0))","v":""},"",{"$f":"IF(B249=\"\",\"\",IFERROR(_xlfn.XLOOKUP(ROUND(B249,1),MetricIncrementalData[System Increment],_xlfn.XLOOKUP(Metric_Incremental_Data_Target_Column,MetricIncrementalData[#Headers],MetricIncrementalData[]),,1),0))","v":""},{"$f":"IF(B249=\"\",\"\",IF(B250=\"\",((((B249-0)/100)*Metric_Module_Square_Foot_Area)-'Cumulative Volumes Metric'!E249)*Metric_Stone_Void_Percentage,((((B249-B250)/100)*Metric_Module_Square_Foot_Area)-'Cumulative Volumes Metric'!E249)*Metric_Stone_Void_Percentage))","v":""},"",{"$f":"IF(B249=\"\",\"\",((Metric_System_Area_Input-Metric_Number_Of_Stacks*_xlfn.XLOOKUP(Metric_Layers,CrateData[Layer],CrateData[Surface Area (m2)]))*((B249-IF(B250=\"\",0,B250))/100))*Metric_Stone_Void_Percentage)","v":""},"","",{"$f":"IF(B249=\"\",\"\",SUM(J249:$J$563))","v":""},"",{"$nulls":46},{"$f":"IF($AU$21=\"INVERT\",Y249,IF(AC248>=$Z$12,\"\",IF(Y248=\"\",\"\",INDEX($Y$18:$Y$227,$AB$17-ROWS($Y$18:$Y248)))))","v":""},null,null,"",null,{"$f":"IF(BL248>=$Z$12,\"\",IF(Y248=\"\",\"\",INDEX($Y$18:$Y$227,$AB$17-ROWS($Y$18:$Y248))))","v":""},{"$f":"IF(#REF!=\"\",\"\",#REF!/43560)","v":{"$error":"#REF!"}},{"$f":"#REF!","v":{"$error":"#REF!"}}]
["","",{"$f":"IF(B250=\"\",\"\",IFERROR(_xlfn.XLOOKUP(ROUND(B250,1),MetricIncrementalData[System Increment],_xlfn.XLOOKUP('Metric Incremental Crate'!$R$3,MetricIncrementalData[#Headers],MetricIncrementalData[]),,1),0))","v":""},"",{"$f":"IF(B250=\"\",\"\",IFERROR(_xlfn.XLOOKUP(ROUND(B250,1),MetricIncrementalData[System Increment],_xlfn.XLOOKUP(Metric_Incremental_Data_Target_Column,MetricIncrementalData[#Headers],MetricIncrementalData[]),,1),0))","v":""},{"$f":"IF(B250=\"\",\"\",IF(B251=\"\",((((B250-0)/100)*Metric_Module_Square_Foot_Area)-'Cumulative Volumes Metric'!E250)*Metric_Stone_Void_Percentage,((((B250-B251)/100)*Metric_Module_Square_Foot_Area)-'Cumulative Volumes Metric'!E250)*Metric_Stone_Void_Percentage))","v":""},"",{"$f":"IF(B250=\"\",\"\",((Metric_System_Area_Input-Metric_Number_Of_Stacks*_xlfn.XLOOKUP(Metric_Layers,CrateData[Layer],CrateData[Surface Area (m2)]))*((B250-IF(B251=\"\",0,B251))/100))*Metric_Stone_Void_Percentage)","v":""},"","",{"$f":"IF(B250=\"\",\"\",SUM(J250:$J$563))","v":""},"",{"$nulls":46},{"$f":"IF($AU$21=\"INVERT\",Y250,IF(AC249>=$Z$12,\"\",IF(Y249=\"\",\"\",INDEX($Y$18:$Y$227,$AB$17-ROWS($Y$18:$Y249)))))","v":""},null,null,"",null,{"$f":"IF(BL249>=$Z$12,\"\",IF(Y249=\"\",\"\",INDEX($Y$18:$Y$227,$AB$17-ROWS($Y$18:$Y249))))","v":""},{"$f":"IF(#REF!=\"\",\"\",#REF!/43560)","v":{"$error":"#REF!"}},{"$f":"#REF!","v":{"$error":"#REF!"}}]
["","",{"$f":"IF(B251=\"\",\"\",IFERROR(_xlfn.XLOOKUP(ROUND(B251,1),MetricIncrementalData[System Increment],_xlfn.XLOOKUP('Metric Incremental Crate'!$R$3,MetricIncrementalData[#Headers],MetricIncrementalData[]),,1),0))","v":""},"",{"$f":"IF(B251=\"\",\"\",IFERROR(_xlfn.XLOOKUP(ROUND(B251,1),MetricIncrementalData[System Increment],_xlfn.XLOOKUP(Metric_Incremental_Data_Target_Column,MetricIncrementalData[#Headers],MetricIncrementalData[]),,1),0))","v":""},{"$f":"IF(B251=\"\",\"\",IF(B252=\"\",((((B251-0)/100)*Metric_Module_Square_Foot_Area)-'Cumulative Volumes Metric'!E251)*Metric_Stone_Void_Percentage,((((B251-B252)/100)*Metric_Module_Square_Foot_Area)-'Cumulative Volumes Metric'!E251)*Metric_Stone_Void_Percentage))","v":""},"",{"$f":"IF(B251=\"\",\"\",((Metric_System_Area_Input-Metric_Number_Of_Stacks*_xlfn.XLOOKUP(Metric_Layers,CrateData[Layer],CrateData[Surface Area (m2)]))*((B251-IF(B252=\"\",0,B252))/100))*Metric_Stone_Void_Percentage)","v":""},"","",{"$f":"IF(B251=\"\",\"\",SUM(J251:$J$563))","v":""},"",{"$nulls":46},{"$f":"IF($AU$21=\"INVERT\",Y251,IF(AC250>=$Z$12,\"\",IF(Y250=\"\",\"\",INDEX($Y$18:$Y$227,$AB$17-ROWS($Y$18:$Y250)))))","v":""},null,null,"",null,{"$f":"IF(BL250>=$Z$12,\"\",IF(Y250=\"\",\"\",INDEX($Y$18:$Y$227,$AB$17-ROWS($Y$18:$Y250))))","v":""},{"$f":"IF(#REF!=\"\",\"\",#REF!/43560)","v":{"$error":"#REF!"}},{"$f":"#REF!","v":{"$error":"#REF!"}}]
["","",{"$f":"IF(B252=\"\",\"\",IFERROR(_xlfn.XLOOKUP(ROUND(B252,1),MetricIncrementalData[System Increment],_xlfn.XLOOKUP('Metric Incremental Crate'!$R$3,MetricIncrementalData[#Headers],MetricIncrementalData[]),,1),0))","v":""},"",{"$f":"IF(B252=\"\",\"\",IFERROR(_xlfn.XLOOKUP(ROUND(B252,1),MetricIncrementalData[System Increment],_xlfn.XLOOKUP(Metric_Incremental_Data_Target_Column,MetricIncrementalData[#Headers],MetricIncrementalData[]),,1),0))","v":""},{"$f":"IF(B252=\"\",\"\",IF(B253=\"\",((((B252-0)/100)*Metric_Module_Square_Foot_Area)-'Cumulative Volumes Metric'!E252)*Metric_Stone_Void_Percentage,((((B252-B253)/100)*Metric_Module_Square_Foot_Area)-'Cumulative Volumes Metric'!E252)*Metric_Stone_Void_Percentage))","v":""},"",{"$f":"IF(B252=\"\",\"\",((Metric_System_Area_Input-Metric_Number_Of_Stacks*_xlfn.XLOOKUP(Metric_Layers,CrateData[Layer],CrateData[Surface Area (m2)]))*((B252-IF(B253=\"\",0,B253))/100))*Metric_Stone_Void_Percentage)","v":""},"","",{"$f":"IF(B252=\"\",\"\",SUM(J252:$J$563))","v":""},"",{"$nulls":46},{"$f":"IF($AU$21=\"INVERT\",Y252,IF(AC251>=$Z$12,\"\",IF(Y251=\"\",\"\",INDEX($Y$18:$Y$227,$AB$17-ROWS($Y$18:$Y251)))))","v":""},null,null,"",null,{"$f":"IF(BL251>=$Z$12,\"\",IF(Y251=\"\",\"\",INDEX($Y$18:$Y$227,$AB$17-ROWS($Y$18:$Y251))))","v":""},{"$f":"IF(#REF!=\"\",\"\",#REF!/43560)","v":{"$error":"#REF!"}},{"$f":"#REF!","v":{"$error":"#REF!"}}]
["","",{"$f":"IF(B253=\"\",\"\",IFERROR(_xlfn.XLOOKUP(ROUND(B253,1),MetricIncrementalData[System Increment],_xlfn.XLOOKUP('Metric Incremental Crate'!$R$3,MetricIncrementalData[#Headers],MetricIncrementalData[]),,1),0))","v":""},"",{"$f":"IF(B253=\"\",\"\",IFERROR(_xlfn.XLOOKUP(ROUND(B253,1),MetricIncrementalData[System Increment],_xlfn.XLOOKUP(Metric_Incremental_Data_Target_Column,MetricIncrementalData[#Headers],MetricIncrementalData[]),,1),0))","v":""},{"$f":"IF(B253=\"\",\"\",IF(B254=\"\",((((B253-0)/100)*Metric_Module_Square_Foot_Area)-'Cumulative Volumes Metric'!E253)*Metric_Stone_Void_Percentage,((((B253-B254)/100)*Metric_Module_Square_Foot_Area)-'Cumulative Volumes Metric'!E253)*Metric_Stone_Void_Percentage))","v":""},"",{"$f":"IF(B253=\"\",\"\",((Metric_System_Area_Input-Metric_Number_Of_Stacks*_xlfn.XLOOKUP(Metric_Layers,CrateData[Layer],CrateData[Surface Area (m2)]))*((B253-IF(B254=\"\",0,B254))/100))*Metric_Stone_Void_Percentage)","v":""},"","",{"$f":"IF(B253=\"\",\"\",SUM(J253:$J$563))","v":""},"",{"$nulls":46},{"$f":"IF($AU$21=\"INVERT\",Y253,IF(AC252>=$Z$12,\"\",IF(Y252=\"\",\"\",INDEX($Y$18:$Y$227,$AB$17-ROWS($Y$18:$Y252)))))","v":""},null,null,"",null,{"$f":"IF(BL252>=$Z$12,\"\",IF(Y252=\"\",\"\",INDEX($Y$18:$Y$227,$AB$17-ROWS($Y$18:$Y252))))","v":""},{"$f":"IF(#REF!=\"\",\"\",#REF!/43560)","v":{"$error":"#REF!"}},{"$f":"#REF!","v":{"$error":"#REF!"}}]
["","",{"$f":"IF(B254=\"\",\"\",IFERROR(_xlfn.XLOOKUP(ROUND(B254,1),MetricIncrementalData[System Increment],_xlfn.XLOOKUP('Metric Incremental Crate'!$R$3,MetricIncrementalData[#Headers],MetricIncrementalData[]),,1),0))","v":""},"",{"$f":"IF(B254=\"\",\"\",IFERROR(_xlfn.XLOOKUP(ROUND(B254,1),MetricIncrementalData[System Increment],_xlfn.XLOOKUP(Metric_Incremental_Data_Target_Column,MetricIncrementalData[#Headers],MetricIncrementalData[]),,1),0))","v":""},{"$f":"IF(B254=\"\",\"\",IF(B255=\"\",((((B254-0)/100)*Metric_Module_Square_Foot_Area)-'Cumulative Volumes Metric'!E254)*Metric_Stone_Void_Percentage,((((B254-B255)/100)*Metric_Module_Square_Foot_Area)-'Cumulative Volumes Metric'!E254)*Metric_Stone_Void_Percentage))","v":""},"",{"$f":"IF(B254=\"\",\"\",((Metric_System_Area_Input-Metric_Number_Of_Stacks*_xlfn.XLOOKUP(Metric_Layers,CrateData[Layer],CrateData[Surface Area (m2)]))*((B254-IF(B255=\"\",0,B255))/100))*Metric_Stone_Void_Percentage)","v":""},"","",{"$f":"IF(B254=\"\",\"\",SUM(J254:$J$563))","v":""},"",{"$nulls":46},{"$f":"IF($AU$21=\"INVERT\",Y254,IF(AC253>=$Z$12,\"\",IF(Y253=\"\",\"\",INDEX($Y$18:$Y$227,$AB$17-ROWS($Y$18:$Y253)))))","v":""},null,null,"",null,{"$f":"IF(BL253>=$Z$12,\"\",IF(Y253=\"\",\"\",INDEX($Y$18:$Y$227,$AB$17-ROWS($Y$18:$Y253))))","v":""},{"$f":"IF(#REF!=\"\",\"\",#REF!/43560)","v":{"$error":"#REF!"}},{"$f":"#REF!","v":{"$error":"#REF!"}}]
["","",{"$f":"IF(B255=\"\",\"\",IFERROR(_xlfn.XLOOKUP(ROUND(B255,1),MetricIncrementalData[System Increment],_xlfn.XLOOKUP('Metric Incremental Crate'!$R$3,MetricIncrementalData[#Headers],MetricIncrementalData[]),,1),0))","v":""},"",{"$f":"IF(B255=\"\",\"\",IFERROR(_xlfn.XLOOKUP(ROUND(B255,1),MetricIncrementalData[System Increment],_xlfn.XLOOKUP(Metric_Incremental_Data_Target_Column,MetricIncrementalData[#Headers],MetricIncrementalData[]),,1),0))","v":""},{"$f":"IF(B255=\"\",\"\",IF(B256=\"\",((((B255-0)/100)*Metric_Module_Square_Foot_Area)-'Cumulative Volumes Metric'!E255)*Metric_Stone_Void_Percentage,((((B255-B256)/100)*Metric_Module_Square_Foot_Area)-'Cumulative Volumes Metric'!E255)*Metric_Stone_Void_Percentage))","v":""},"",{"$f":"IF(B255=\"\",\"\",((Metric_System_Area_Input-Metric_Number_Of_Stacks*_xlfn.XLOOKUP(Metric_Layers,CrateData[Layer],CrateData[Surface Area (m2)]))*((B255-IF(B256=\"\",0,B256))/100))*Metric_Stone_Void_Percentage)","v":""},"","",{"$f":"IF(B255=\"\",\"\",SUM(J255:$J$563))","v":""},"",{"$nulls":46},{"$f":"IF($AU$21=\"INVERT\",Y255,IF(AC254>=$Z$12,\"\",IF(Y254=\"\",\"\",INDEX($Y$18:$Y$227,$AB$17-ROWS($Y$18:$Y254)))))","v":""},null,null,"",null,{"$f":"IF(BL254>=$Z$12,\"\",IF(Y254=\"\",\"\",INDEX($Y$18:$Y$227,$AB$17-ROWS($Y$18:$Y254))))","v":""},{"$f":"IF(#REF!=\"\",\"\",#REF!/43560)","v":{"$error":"#REF!"}},{"$f":"#REF!","v":{"$error":"#REF!"}}]
["","",{"$f":"IF(B256=\"\",\"\",IFERROR(_xlfn.XLOOKUP(ROUND(B256,1),MetricIncrementalData[System Increment],_xlfn.XLOOKUP('Metric Incremental Crate'!$R$3,MetricIncrementalData[#Headers],MetricIncrementalData[]),,1),0))","v":""},"",{"$f":"IF(B256=\"\",\"\",IFERROR(_xlfn.XLOOKUP(ROUND(B256,1),MetricIncrementalData[System Increment],_xlfn.XLOOKUP(Metric_Incremental_Data_Target_Column,MetricIncrementalData[#Headers],MetricIncrementalData[]),,1),0))","v":""},{"$f":"IF(B256=\"\",\"\",IF(B257=\"\",((((B256-0)/100)*Metric_Module_Square_Foot_Area)-'Cumulative Volumes Metric'!E256)*Metric_Stone_Void_Percentage,((((B256-B257)/100)*Metric_Module_Square_Foot_Area)-'Cumulative Volumes Metric'!E256)*Metric_Stone_Void_Percentage))","v":""},"",{"$f":"IF(B256=\"\",\"\",((Metric_System_Area_Input-Metric_Number_Of_Stacks*_xlfn.XLOOKUP(Metric_Layers,CrateData[Layer],CrateData[Surface Area (m2)]))*((B256-IF(B257=\"\",0,B257))/100))*Metric_Stone_Void_Percentage)","v":""},"","",{"$f":"IF(B256=\"\",\"\",SUM(J256:$J$563))","v":""},"",{"$nulls":46},{"$f":"IF($AU$21=\"INVERT\",Y256,IF(AC255>=$Z$12,\"\",IF(Y255=\"\",\"\",INDEX($Y$18:$Y$227,$AB$17-ROWS($Y$18:$Y255)))))","v":""},null,null,"",null,{"$f":"IF(BL255>=$Z$12,\"\",IF(Y255=\"\",\"\",INDEX($Y$18:$Y$227,$AB$17-ROWS($Y$18:$Y255))))","v":""},{"$f":"IF(#REF!=\"\",\"\",#REF!/43560)","v":{"$error":"#REF!"}},{"$f":"#REF!","v":{"$error":"#REF!"}}]
["","",{"$f":"IF(B257=\"\",\"\",IFERROR(_xlfn.XLOOKUP(ROUND(B257,1),MetricIncrementalData[System Increment],_xlfn.XLOOKUP('Metric Incremental Crate'!$R$3,MetricIncrementalData[#Headers],MetricIncrementalData[]),,1),0))","v":""},"",{"$f":"IF(B257=\"\",\"\",IFERROR(_xlfn.XLOOKUP(ROUND(B257,1),MetricIncrementalData[System Increment],_xlfn.XLOOKUP(Metric_Incremental_Data_Target_Column,MetricIncrementalData[#Headers],MetricIncrementalData[]),,1),0))","v":""},{"$f":"IF(B257=\"\",\"\",IF(B258=\"\",((((B257-0)/100)*Metric_Module_Square_Foot_Area)-'Cumulative Volumes Metric'!E257)*Metric_Stone_Void_Percentage,((((B257-B258)/100)*Metric_Module_Square_Foot_Area)-'Cumulative Volumes Metric'!E257)*Metric_Stone_Void_Percentage))","v":""},"",{"$f":"IF(B257=\"\",\"\",((Metric_System_Area_Input-Metric_Number_Of_Stacks*_xlfn.XLOOKUP(Metric_Layers,CrateData[Layer],CrateData[Surface Area (m2)]))*((B257-IF(B258=\"\",0,B258))/100))*Metric_Stone_Void_Percentage)","v":""},"","",{"$f":"IF(B257=\"\",\"\",SUM(J257:$J$563))","v":""},"",{"$nulls":46},{"$f":"IF($AU$21=\"INVERT\",Y257,IF(AC256>=$Z$12,\"\",IF(Y256=\"\",\"\",INDEX($Y$18:$Y$227,$AB$17-ROWS($Y$18:$Y256)))))","v":""},null,null,"",null,{"$f":"IF(BL256>=$Z$12,\"\",IF(Y256=\"\",\"\",INDEX($Y$18:$Y$227,$AB$17-ROWS($Y$18:$Y256))))","v":""},{"$f":"IF(#REF!=\"\",\"\",#REF!/43560)","v":{"$error":"#REF!"}},{"$f":"#REF!","v":{"$error":"#REF!"}}]
["","",{"$f":"IF(B258=\"\",\"\",IFERROR(_xlfn.XLOOKUP(ROUND(B258,1),MetricIncrementalData[System Increment],_xlfn.XLOOKUP('Metric Incremental Crate'!$R$3,MetricIncrementalData[#Headers],MetricIncrementalData[]),,1),0))","v":""},"",{"$f":"IF(B258=\"\",\"\",IFERROR(_xlfn.XLOOKUP(ROUND(B258,1),MetricIncrementalData[System Increment],_xlfn.XLOOKUP(Metric_Incremental_Data_Target_Column,MetricIncrementalData[#Headers],MetricIncrementalData[]),,1),0))","v":""},{"$f":"IF(B258=\"\",\"\",IF(B259=\"\",((((B258-0)/100)*Metric_Module_Square_Foot_Area)-'Cumulative Volumes Metric'!E258)*Metric_Stone_Void_Percentage,((((B258-B259)/100)*Metric_Module_Square_Foot_Area)-'Cumulative Volumes Metric'!E258)*Metric_Stone_Void_Percentage))","v":""},"",{"$f":"IF(B258=\"\",\"\",((Metric_System_Area_Input-Metric_Number_Of_Stacks*_xlfn.XLOOKUP(Metric_Layers,CrateData[Layer],CrateData[Surface Area (m2)]))*((B258-IF(B259=\"\",0,B259))/100))*Metric_Stone_Void_Percentage)","v":""},"","",{"$f":"IF(B258=\"\",\"\",SUM(J258:$J$563))","v":""},"",{"$nulls":46},{"$f":"IF($AU$21=\"INVERT\",Y258,IF(AC257>=$Z$12,\"\",IF(Y257=\"\",\"\",INDEX($Y$18:$Y$227,$AB$17-ROWS($Y$18:$Y257)))))","v":""},null,null,"",null,{"$f":"IF(BL257>=$Z$12,\"\",IF(Y257=\"\",\"\",INDEX($Y$18:$Y$227,$AB$17-ROWS($Y$18:$Y257))))","v":""},{"$f":"IF(#REF!=\"\",\"\",#REF!/43560)","v":{"$error":"#REF!"}},{"$f":"#REF!","v":{"$error":"#REF!"}}]
["","",{"$f":"IF(B259=\"\",\"\",IFERROR(_xlfn.XLOOKUP(ROUND(B259,1),MetricIncrementalData[System Increment],_xlfn.XLOOKUP('Metric Incremental Crate'!$R$3,MetricIncrementalData[#Headers],MetricIncrementalData[]),,1),0))","v":""},"",{"$f":"IF(B259=\"\",\"\",IFERROR(_xlfn.XLOOKUP(ROUND(B259,1),MetricIncrementalData[System Increment],_xlfn.XLOOKUP(Metric_Incremental_Data_Target_Column,MetricIncrementalData[#Headers],MetricIncrementalData[]),,1),0))","v":""},{"$f":"IF(B259=\"\",\"\",IF(B260=\"\",((((B259-0)/100)*Metric_Module_Square_Foot_Area)-'Cumulative Volumes Metric'!E259)*Metric_Stone_Void_Percentage,((((B259-B260)/100)*Metric_Module_Square_Foot_Area)-'Cumulative Volumes Metric'!E259)*Metric_Stone_Void_Percentage))","v":""},"",{"$f":"IF(B259=\"\",\"\",((Metric_System_Area_Input-Metric_Number_Of_Stacks*_xlfn.XLOOKUP(Metric_Layers,CrateData[Layer],CrateData[Surface Area (m2)]))*((B259-IF(B260=\"\",0,B260))/100))*Metric_Stone_Void_Percentage)","v":""},"","",{"$f":"IF(B259=\"\",\"\",SUM(J259:$J$563))","v":""},"",{"$nulls":46},{"$f":"IF($AU$21=\"INVERT\",Y259,IF(AC258>=$Z$12,\"\",IF(Y258=\"\",\"\",INDEX($Y$18:$Y$227,$AB$17-ROWS($Y$18:$Y258)))))","v":""},null,null,"",null,{"$f":"IF(BL258>=$Z$12,\"\",IF(Y258=\"\",\"\",INDEX($Y$18:$Y$227,$AB$17-ROWS($Y$18:$Y258))))","v":""},{"$f":"IF(#REF!=\"\",\"\",#REF!/43560)","v":{"$error":"#REF!"}},{"$f":"#REF!","v":{"$error":"#REF!"}}]
["","",{"$f":"IF(B260=\"\",\"\",IFERROR(_xlfn.XLOOKUP(ROUND(B260,1),MetricIncrementalData[System Increment],_xlfn.XLOOKUP('Metric Incremental Crate'!$R$3,MetricIncrementalData[#Headers],MetricIncrementalData[]),,1),0))","v":""},"",{"$f":"IF(B260=\"\",\"\",IFERROR(_xlfn.XLOOKUP(ROUND(B260,1),MetricIncrementalData[System Increment],_xlfn.XLOOKUP(Metric_Incremental_Data_Target_Column,MetricIncrementalData[#Headers],MetricIncrementalData[]),,1),0))","v":""},{"$f":"IF(B260=\"\",\"\",IF(B261=\"\",((((B260-0)/100)*Metric_Module_Square_Foot_Area)-'Cumulative Volumes Metric'!E260)*Metric_Stone_Void_Percentage,((((B260-B261)/100)*Metric_Module_Square_Foot_Area)-'Cumulative Volumes Metric'!E260)*Metric_Stone_Void_Percentage))","v":""},"",{"$f":"IF(B260=\"\",\"\",((Metric_System_Area_Input-Metric_Number_Of_Stacks*_xlfn.XLOOKUP(Metric_Layers,CrateData[Layer],CrateData[Surface Area (m2)]))*((B260-IF(B261=\"\",0,B261))/100))*Metric_Stone_Void_Percentage)","v":""},"","",{"$f":"IF(B260=\"\",\"\",SUM(J260:$J$563))","v":""},"",{"$nulls":46},{"$f":"IF($AU$21=\"INVERT\",Y260,IF(AC259>=$Z$12,\"\",IF(Y259=\"\",\"\",INDEX($Y$18:$Y$227,$AB$17-ROWS($Y$18:$Y259)))))","v":""},null,null,"",null,{"$f":"IF(BL259>=$Z$12,\"\",IF(Y259=\"\",\"\",INDEX($Y$18:$Y$227,$AB$17-ROWS($Y$18:$Y259))))","v":""},{"$f":"IF(#REF!=\"\",\"\",#REF!/43560)","v":{"$error":"#REF!"}},{"$f":"#REF!","v":{"$error":"#REF!"}}]
["","",{"$f":"IF(B261=\"\",\"\",IFERROR(_xlfn.XLOOKUP(ROUND(B261,1),MetricIncrementalData[System Increment],_xlfn.XLOOKUP('Metric Incremental Crate'!$R$3,MetricIncrementalData[#Headers],MetricIncrementalData[]),,1),0))","v":""},"",{"$f":"IF(B261=\"\",\"\",IFERROR(_xlfn.XLOOKUP(ROUND(B261,1),MetricIncrementalData[System Increment],_xlfn.XLOOKUP(Metric_Incremental_Data_Target_Column,MetricIncrementalData[#Headers],MetricIncrementalData[]),,1),0))","v":""},{"$f":"IF(B261=\"\",\"\",IF(B262=\"\",((((B261-0)/100)*Metric_Module_Square_Foot_Area)-'Cumulative Volumes Metric'!E261)*Metric_Stone_Void_Percentage,((((B261-B262)/100)*Metric_Module_Square_Foot_Area)-'Cumulative Volumes Metric'!E261)*Metric_Stone_Void_Percentage))","v":""},"",{"$f":"IF(B261=\"\",\"\",((Metric_System_Area_Input-Metric_Number_Of_Stacks*_xlfn.XLOOKUP(Metric_Layers,CrateData[Layer],CrateData[Surface Area (m2)]))*((B261-IF(B262=\"\",0,B262))/100))*Metric_Stone_Void_Percentage)","v":""},"","",{"$f":"IF(B261=\"\",\"\",SUM(J261:$J$563))","v":""},"",{"$nulls":46},{"$f":"IF($AU$21=\"INVERT\",Y261,IF(AC260>=$Z$12,\"\",IF(Y260=\"\",\"\",INDEX($Y$18:$Y$227,$AB$17-ROWS($Y$18:$Y260)))))","v":""},null,null,"",null,{"$f":"IF(BL260>=$Z$12,\"\",IF(Y260=\"\",\"\",INDEX($Y$18:$Y$227,$AB$17-ROWS($Y$18:$Y260))))","v":""},{"$f":"IF(#REF!=\"\",\"\",#REF!/43560)","v":{"$error":"#REF!"}},{"$f":"#REF!","v":{"$error":"#REF!"}}]
["","",{"$f":"IF(B262=\"\",\"\",IFERROR(_xlfn.XLOOKUP(ROUND(B262,1),MetricIncrementalData[System Increment],_xlfn.XLOOKUP('Metric Incremental Crate'!$R$3,MetricIncrementalData[#Headers],MetricIncrementalData[]),,1),0))","v":""},"",{"$f":"IF(B262=\"\",\"\",IFERROR(_xlfn.XLOOKUP(ROUND(B262,1),MetricIncrementalData[System Increment],_xlfn.XLOOKUP(Metric_Incremental_Data_Target_Column,MetricIncrementalData[#Headers],MetricIncrementalData[]),,1),0))","v":""},{"$f":"IF(B262=\"\",\"\",IF(B263=\"\",((((B262-0)/100)*Metric_Module_Square_Foot_Area)-'Cumulative Volumes Metric'!E262)*Metric_Stone_Void_Percentage,((((B262-B263)/100)*Metric_Module_Square_Foot_Area)-'Cumulative Volumes Metric'!E262)*Metric_Stone_Void_Percentage))","v":""},"",{"$f":"IF(B262=\"\",\"\",((Metric_System_Area_Input-Metric_Number_Of_Stacks*_xlfn.XLOOKUP(Metric_Layers,CrateData[Layer],CrateData[Surface Area (m2)]))*((B262-IF(B263=\"\",0,B263))/100))*Metric_Stone_Void_Percentage)","v":""},"","",{"$f":"IF(B262=\"\",\"\",SUM(J262:$J$563))","v":""},"",{"$nulls":46},{"$f":"IF($AU$21=\"INVERT\",Y262,IF(AC261>=$Z$12,\"\",IF(Y261=\"\",\"\",INDEX($Y$18:$Y$227,$AB$17-ROWS($Y$18:$Y261)))))","v":""},null,null,"",null,{"$f":"IF(BL261>=$Z$12,\"\",IF(Y261=\"\",\"\",INDEX($Y$18:$Y$227,$AB$17-ROWS($Y$18:$Y261))))","v":""},{"$f":"IF(#REF!=\"\",\"\",#REF!/43560)","v":{"$error":"#REF!"}},{"$f":"#REF!","v":{"$error":"#REF!"}}]
["","",{"$f":"IF(B263=\"\",\"\",IFERROR(_xlfn.XLOOKUP(ROUND(B263,1),MetricIncrementalData[System Increment],_xlfn.XLOOKUP('Metric Incremental Crate'!$R$3,MetricIncrementalData[#Headers],MetricIncrementalData[]),,1),0))","v":""},"",{"$f":"IF(B263=\"\",\"\",IFERROR(_xlfn.XLOOKUP(ROUND(B263,1),MetricIncrementalData[System Increment],_xlfn.XLOOKUP(Metric_Incremental_Data_Target_Column,MetricIncrementalData[#Headers],MetricIncrementalData[]),,1),0))","v":""},{"$f":"IF(B263=\"\",\"\",IF(B264=\"\",((((B263-0)/100)*Metric_Module_Square_Foot_Area)-'Cumulative Volumes Metric'!E263)*Metric_Stone_Void_Percentage,((((B263-B264)/100)*Metric_Module_Square_Foot_Area)-'Cumulative Volumes Metric'!E263)*Metric_Stone_Void_Percentage))","v":""},"",{"$f":"IF(B263=\"\",\"\",((Metric_System_Area_Input-Metric_Number_Of_Stacks*_xlfn.XLOOKUP(Metric_Layers,CrateData[Layer],CrateData[Surface Area (m2)]))*((B263-IF(B264=\"\",0,B264))/100))*Metric_Stone_Void_Percentage)","v":""},"","",{"$f":"IF(B263=\"\",\"\",SUM(J263:$J$563))","v":""},"",{"$nulls":46},{"$f":"IF($AU$21=\"INVERT\",Y263,IF(AC262>=$Z$12,\"\",IF(Y262=\"\",\"\",INDEX($Y$18:$Y$227,$AB$17-ROWS($Y$18:$Y262)))))","v":""},null,null,"",null,{"$f":"IF(BL262>=$Z$12,\"\",IF(Y262=\"\",\"\",INDEX($Y$18:$Y$227,$AB$17-ROWS($Y$18:$Y262))))","v":""},{"$f":"IF(#REF!=\"\",\"\",#REF!/43560)","v":{"$error":"#REF!"}},{"$f":"#REF!","v":{"$error":"#REF!"}}]
["","",{"$f":"IF(B264=\"\",\"\",IFERROR(_xlfn.XLOOKUP(ROUND(B264,1),MetricIncrementalData[System Increment],_xlfn.XLOOKUP('Metric Incremental Crate'!$R$3,MetricIncrementalData[#Headers],MetricIncrementalData[]),,1),0))","v":""},"",{"$f":"IF(B264=\"\",\"\",IFERROR(_xlfn.XLOOKUP(ROUND(B264,1),MetricIncrementalData[System Increment],_xlfn.XLOOKUP(Metric_Incremental_Data_Target_Column,MetricIncrementalData[#Headers],MetricIncrementalData[]),,1),0))","v":""},{"$f":"IF(B264=\"\",\"\",IF(B265=\"\",((((B264-0)/100)*Metric_Module_Square_Foot_Area)-'Cumulative Volumes Metric'!E264)*Metric_Stone_Void_Percentage,((((B264-B265)/100)*Metric_Module_Square_Foot_Area)-'Cumulative Volumes Metric'!E264)*Metric_Stone_Void_Percentage))","v":""},"",{"$f":"IF(B264=\"\",\"\",((Metric_System_Area_Input-Metric_Number_Of_Stacks*_xlfn.XLOOKUP(Metric_Layers,CrateData[Layer],CrateData[Surface Area (m2)]))*((B264-IF(B265=\"\",0,B265))/100))*Metric_Stone_Void_Percentage)","v":""},"","",{"$f":"IF(B264=\"\",\"\",SUM(J264:$J$563))","v":""},"",{"$nulls":46},{"$f":"IF($AU$21=\"INVERT\",Y264,IF(AC263>=$Z$12,\"\",IF(Y263=\"\",\"\",INDEX($Y$18:$Y$227,$AB$17-ROWS($Y$18:$Y263)))))","v":""},null,null,"",null,{"$f":"IF(BL263>=$Z$12,\"\",IF(Y263=\"\",\"\",INDEX($Y$18:$Y$227,$AB$17-ROWS($Y$18:$Y263))))","v":""},{"$f":"IF(#REF!=\"\",\"\",#REF!/43560)","v":{"$error":"#REF!"}},{"$f":"#REF!","v":{"$error":"#REF!"}}]
["","",{"$f":"IF(B265=\"\",\"\",IFERROR(_xlfn.XLOOKUP(ROUND(B265,1),MetricIncrementalData[System Increment],_xlfn.XLOOKUP('Metric Incremental Crate'!$R$3,MetricIncrementalData[#Headers],MetricIncrementalData[]),,1),0))","v":""},"",{"$f":"IF(B265=\"\",\"\",IFERROR(_xlfn.XLOOKUP(ROUND(B265,1),MetricIncrementalData[System Increment],_xlfn.XLOOKUP(Metric_Incremental_Data_Target_Column,MetricIncrementalData[#Headers],MetricIncrementalData[]),,1),0))","v":""},{"$f":"IF(B265=\"\",\"\",IF(B266=\"\",((((B265-0)/100)*Metric_Module_Square_Foot_Area)-'Cumulative Volumes Metric'!E265)*Metric_Stone_Void_Percentage,((((B265-B266)/100)*Metric_Module_Square_Foot_Area)-'Cumulative Volumes Metric'!E265)*Metric_Stone_Void_Percentage))","v":""},"",{"$f":"IF(B265=\"\",\"\",((Metric_System_Area_Input-Metric_Number_Of_Stacks*_xlfn.XLOOKUP(Metric_Layers,CrateData[Layer],CrateData[Surface Area (m2)]))*((B265-IF(B266=\"\",0,B266))/100))*Metric_Stone_Void_Percentage)","v":""},"","",{"$f":"IF(B265=\"\",\"\",SUM(J265:$J$563))","v":""},"",{"$nulls":46},{"$f":"IF($AU$21=\"INVERT\",Y265,IF(AC264>=$Z$12,\"\",IF(Y264=\"\",\"\",INDEX($Y$18:$Y$227,$AB$17-ROWS($Y$18:$Y264)))))","v":""},null,null,"",null,{"$f":"IF(BL264>=$Z$12,\"\",IF(Y264=\"\",\"\",INDEX($Y$18:$Y$227,$AB$17-ROWS($Y$18:$Y264))))","v":""},{"$f":"IF(#REF!=\"\",\"\",#REF!/43560)","v":{"$error":"#REF!"}},{"$f":"#REF!","v":{"$error":"#REF!"}}]
["","",{"$f":"IF(B266=\"\",\"\",IFERROR(_xlfn.XLOOKUP(ROUND(B266,1),MetricIncrementalData[System Increment],_xlfn.XLOOKUP('Metric Incremental Crate'!$R$3,MetricIncrementalData[#Headers],MetricIncrementalData[]),,1),0))","v":""},"",{"$f":"IF(B266=\"\",\"\",IFERROR(_xlfn.XLOOKUP(ROUND(B266,1),MetricIncrementalData[System Increment],_xlfn.XLOOKUP(Metric_Incremental_Data_Target_Column,MetricIncrementalData[#Headers],MetricIncrementalData[]),,1),0))","v":""},{"$f":"IF(B266=\"\",\"\",IF(B267=\"\",((((B266-0)/100)*Metric_Module_Square_Foot_Area)-'Cumulative Volumes Metric'!E266)*Metric_Stone_Void_Percentage,((((B266-B267)/100)*Metric_Module_Square_Foot_Area)-'Cumulative Volumes Metric'!E266)*Metric_Stone_Void_Percentage))","v":""},"",{"$f":"IF(B266=\"\",\"\",((Metric_System_Area_Input-Metric_Number_Of_Stacks*_xlfn.XLOOKUP(Metric_Layers,CrateData[Layer],CrateData[Surface Area (m2)]))*((B266-IF(B267=\"\",0,B267))/100))*Metric_Stone_Void_Percentage)","v":""},"","",{"$f":"IF(B266=\"\",\"\",SUM(J266:$J$563))","v":""},"",{"$nulls":46},{"$f":"IF($AU$21=\"INVERT\",Y266,IF(AC265>=$Z$12,\"\",IF(Y265=\"\",\"\",INDEX($Y$18:$Y$227,$AB$17-ROWS($Y$18:$Y265)))))","v":""},null,null,"",null,{"$f":"IF(BL265>=$Z$12,\"\",IF(Y265=\"\",\"\",INDEX($Y$18:$Y$227,$AB$17-ROWS($Y$18:$Y265))))","v":""},{"$f":"IF(#REF!=\"\",\"\",#REF!/43560)","v":{"$error":"#REF!"}},{"$f":"#REF!","v":{"$error":"#REF!"}}]
["","",{"$f":"IF(B267=\"\",\"\",IFERROR(_xlfn.XLOOKUP(ROUND(B267,1),MetricIncrementalData[System Increment],_xlfn.XLOOKUP('Metric Incremental Crate'!$R$3,MetricIncrementalData[#Headers],MetricIncrementalData[]),,1),0))","v":""},"",{"$f":"IF(B267=\"\",\"\",IFERROR(_xlfn.XLOOKUP(ROUND(B267,1),MetricIncrementalData[System Increment],_xlfn.XLOOKUP(Metric_Incremental_Data_Target_Column,MetricIncrementalData[#Headers],MetricIncrementalData[]),,1),0))","v":""},{"$f":"IF(B267=\"\",\"\",IF(B268=\"\",((((B267-0)/100)*Metric_Module_Square_Foot_Area)-'Cumulative Volumes Metric'!E267)*Metric_Stone_Void_Percentage,((((B267-B268)/100)*Metric_Module_Square_Foot_Area)-'Cumulative Volumes Metric'!E267)*Metric_Stone_Void_Percentage))","v":""},"",{"$f":"IF(B267=\"\",\"\",((Metric_System_Area_Input-Metric_Number_Of_Stacks*_xlfn.XLOOKUP(Metric_Layers,CrateData[Layer],CrateData[Surface Area (m2)]))*((B267-IF(B268=\"\",0,B268))/100))*Metric_Stone_Void_Percentage)","v":""},"","",{"$f":"IF(B267=\"\",\"\",SUM(J267:$J$563))","v":""},"",{"$nulls":46},{"$f":"IF($AU$21=\"INVERT\",Y267,IF(AC266>=$Z$12,\"\",IF(Y266=\"\",\"\",INDEX($Y$18:$Y$227,$AB$17-ROWS($Y$18:$Y266)))))","v":""},null,null,"",null,{"$f":"IF(BL266>=$Z$12,\"\",IF(Y266=\"\",\"\",INDEX($Y$18:$Y$227,$AB$17-ROWS($Y$18:$Y266))))","v":""},{"$f":"IF(#REF!=\"\",\"\",#REF!/43560)","v":{"$error":"#REF!"}},{"$f":"#REF!","v":{"$error":"#REF!"}}]
["","",{"$f":"IF(B268=\"\",\"\",IFERROR(_xlfn.XLOOKUP(ROUND(B268,1),MetricIncrementalData[System Increment],_xlfn.XLOOKUP('Metric Incremental Crate'!$R$3,MetricIncrementalData[#Headers],MetricIncrementalData[]),,1),0))","v":""},"",{"$f":"IF(B268=\"\",\"\",IFERROR(_xlfn.XLOOKUP(ROUND(B268,1),MetricIncrementalData[System Increment],_xlfn.XLOOKUP(Metric_Incremental_Data_Target_Column,MetricIncrementalData[#Headers],MetricIncrementalData[]),,1),0))","v":""},{"$f":"IF(B268=\"\",\"\",IF(B269=\"\",((((B268-0)/100)*Metric_Module_Square_Foot_Area)-'Cumulative Volumes Metric'!E268)*Metric_Stone_Void_Percentage,((((B268-B269)/100)*Metric_Module_Square_Foot_Area)-'Cumulative Volumes Metric'!E268)*Metric_Stone_Void_Percentage))","v":""},"",{"$f":"IF(B268=\"\",\"\",((Metric_System_Area_Input-Metric_Number_Of_Stacks*_xlfn.XLOOKUP(Metric_Layers,CrateData[Layer],CrateData[Surface Area (m2)]))*((B268-IF(B269=\"\",0,B269))/100))*Metric_Stone_Void_Percentage)","v":""},"","",{"$f":"IF(B268=\"\",\"\",SUM(J268:$J$563))","v":""},"",{"$nulls":52},{"$f":"IF(#REF!=\"\",\"\",#REF!/43560)","v":{"$error":"#REF!"}}]
["","",{"$f":"IF(B269=\"\",\"\",IFERROR(_xlfn.XLOOKUP(ROUND(B269,1),MetricIncrementalData[System Increment],_xlfn.XLOOKUP('Metric Incremental Crate'!$R$3,MetricIncrementalData[#Headers],MetricIncrementalData[]),,1),0))","v":""},"",{"$f":"IF(B269=\"\",\"\",IFERROR(_xlfn.XLOOKUP(ROUND(B269,1),MetricIncrementalData[System Increment],_xlfn.XLOOKUP(Metric_Incremental_Data_Target_Column,MetricIncrementalData[#Headers],MetricIncrementalData[]),,1),0))","v":""},{"$f":"IF(B269=\"\",\"\",IF(B270=\"\",((((B269-0)/100)*Metric_Module_Square_Foot_Area)-'Cumulative Volumes Metric'!E269)*Metric_Stone_Void_Percentage,((((B269-B270)/100)*Metric_Module_Square_Foot_Area)-'Cumulative Volumes Metric'!E269)*Metric_Stone_Void_Percentage))","v":""},"",{"$f":"IF(B269=\"\",\"\",((Metric_System_Area_Input-Metric_Number_Of_Stacks*_xlfn.XLOOKUP(Metric_Layers,CrateData[Layer],CrateData[Surface Area (m2)]))*((B269-IF(B270=\"\",0,B270))/100))*Metric_Stone_Void_Percentage)","v":""},"","",{"$f":"IF(B269=\"\",\"\",SUM(J269:$J$563))","v":""},"",{"$nulls":52},{"$f":"IF(#REF!=\"\",\"\",#REF!/43560)","v":{"$error":"#REF!"}}]
["","",{"$f":"IF(B270=\"\",\"\",IFERROR(_xlfn.XLOOKUP(ROUND(B270,1),MetricIncrementalData[System Increment],_xlfn.XLOOKUP('Metric Incremental Crate'!$R$3,MetricIncrementalData[#Headers],MetricIncrementalData[]),,1),0))","v":""},"",{"$f":"IF(B270=\"\",\"\",IFERROR(_xlfn.XLOOKUP(ROUND(B270,1),MetricIncrementalData[System Increment],_xlfn.XLOOKUP(Metric_Incremental_Data_Target_Column,MetricIncrementalData[#Headers],MetricIncrementalData[]),,1),0))","v":""},{"$f":"IF(B270=\"\",\"\",IF(B271=\"\",((((B270-0)/100)*Metric_Module_Square_Foot_Area)-'Cumulative Volumes Metric'!E270)*Metric_Stone_Void_Percentage,((((B270-B271)/100)*Metric_Module_Square_Foot_Area)-'Cumulative Volumes Metric'!E270)*Metric_Stone_Void_Percentage))","v":""},"",{"$f":"IF(B270=\"\",\"\",((Metric_System_Area_Input-Metric_Number_Of_Stacks*_xlfn.XLOOKUP(Metric_Layers,CrateData[Layer],CrateData[Surface Area (m2)]))*((B270-IF(B271=\"\",0,B271))/100))*Metric_Stone_Void_Percentage)","v":""},"","",{"$f":"IF(B270=\"\",\"\",SUM(J270:$J$563))","v":""},"",{"$nulls":52},{"$f":"IF(#REF!=\"\",\"\",#REF!/43560)","v":{"$error":"#REF!"}}]
["","",{"$f":"IF(B271=\"\",\"\",IFERROR(_xlfn.XLOOKUP(ROUND(B271,1),MetricIncrementalData[System Increment],_xlfn.XLOOKUP('Metric Incremental Crate'!$R$3,MetricIncrementalData[#Headers],MetricIncrementalData[]),,1),0))","v":""},"",{"$f":"IF(B271=\"\",\"\",IFERROR(_xlfn.XLOOKUP(ROUND(B271,1),MetricIncrementalData[System Increment],_xlfn.XLOOKUP(Metric_Incremental_Data_Target_Column,MetricIncrementalData[#Headers],MetricIncrementalData[]),,1),0))","v":""},{"$f":"IF(B271=\"\",\"\",IF(B272=\"\",((((B271-0)/100)*Metric_Module_Square_Foot_Area)-'Cumulative Volumes Metric'!E271)*Metric_Stone_Void_Percentage,((((B271-B272)/100)*Metric_Module_Square_Foot_Area)-'Cumulative Volumes Metric'!E271)*Metric_Stone_Void_Percentage))","v":""},"",{"$f":"IF(B271=\"\",\"\",((Metric_System_Area_Input-Metric_Number_Of_Stacks*_xlfn.XLOOKUP(Metric_Layers,CrateData[Layer],CrateData[Surface Area (m2)]))*((B271-IF(B272=\"\",0,B272))/100))*Metric_Stone_Void_Percentage)","v":""},"","",{"$f":"IF(B271=\"\",\"\",SUM(J271:$J$563))","v":""},""]
[{"$f":"IF(B274<>\"\",A271+1,\"\")","v":""},"",{"$f":"IF(B272=\"\",\"\",IFERROR(_xlfn.XLOOKUP(ROUND(B272,1),MetricIncrementalData[System Increment],_xlfn.XLOOKUP('Metric Incremental Crate'!$R$3,MetricIncrementalData[#Headers],MetricIncrementalData[]),,1),0))","v":""},"",{"$f":"IF(B272=\"\",\"\",IFERROR(_xlfn.XLOOKUP(ROUND(B272,1),MetricIncrementalData[System Increment],_xlfn.XLOOKUP(Metric_Incremental_Data_Target_Column,MetricIncrementalData[#Headers],MetricIncrementalData[]),,1),0))","v":""},{"$f":"IF(B272=\"\",\"\",IF(B273=\"\",((((B272-0)/100)*Metric_Module_Square_Foot_Area)-'Cumulative Volumes Metric'!E272)*Metric_Stone_Void_Percentage,((((B272-B273)/100)*Metric_Module_Square_Foot_Area)-'Cumulative Volumes Metric'!E272)*Metric_Stone_Void_Percentage))","v":""},"",{"$f":"IF(B272=\"\",\"\",((Metric_System_Area_Input-Metric_Number_Of_Stacks*_xlfn.XLOOKUP(Metric_Layers,CrateData[Layer],CrateData[Surface Area (m2)]))*((B272-IF(B273=\"\",0,B273))/100))*Metric_Stone_Void_Percentage)","v":""},"","",{"$f":"IF(B272=\"\",\"\",SUM(J272:$J$563))","v":""},""]
["","",{"$f":"IF(B273=\"\",\"\",IFERROR(_xlfn.XLOOKUP(ROUND(B273,1),MetricIncrementalData[System Increment],_xlfn.XLOOKUP('Metric Incremental Crate'!$R$3,MetricIncrementalData[#Headers],MetricIncrementalData[]),,1),0))","v":""},"",{"$f":"IF(B273=\"\",\"\",IFERROR(_xlfn.XLOOKUP(ROUND(B273,1),MetricIncrementalData[System Increment],_xlfn.XLOOKUP(Metric_Incremental_Data_Target_Column,MetricIncrementalData[#Headers],MetricIncrementalData[]),,1),0))","v":""},{"$f":"IF(B273=\"\",\"\",IF(B274=\"\",((((B273-0)/100)*Metric_Module_Square_Foot_Area)-'Cumulative Volumes Metric'!E273)*Metric_Stone_Void_Percentage,((((B273-B274)/100)*Metric_Module_Square_Foot_Area)-'Cumulative Volumes Metric'!E273)*Metric_Stone_Void_Percentage))","v":""},"",{"$f":"IF(B273=\"\",\"\",((Metric_System_Area_Input-Metric_Number_Of_Stacks*_xlfn.XLOOKUP(Metric_Layers,CrateData[Layer],CrateData[Surface Area (m2)]))*((B273-IF(B274=\"\",0,B274))/100))*Metric_Stone_Void_Percentage)","v":""},"","",{"$f":"IF(B273=\"\",\"\",SUM(J273:$J$563))","v":""},""]
["","",{"$f":"IF(B274=\"\",\"\",IFERROR(_xlfn.XLOOKUP(ROUND(B274,1),MetricIncrementalData[System Increment],_xlfn.XLOOKUP('Metric Incremental Crate'!$R$3,MetricIncrementalData[#Headers],MetricIncrementalData[]),,1),0))","v":""},{"$f":"IFERROR(C274*Metric_Number_Of_Stacks,\"\")","v":""},{"$f":"IF(B274=\"\",\"\",IFERROR(_xlfn.XLOOKUP(ROUND(B274,1),MetricIncrementalData[System Increment],_xlfn.XLOOKUP(Metric_Incremental_Data_Target_Column,MetricIncrementalData[#Headers],MetricIncrementalData[]),,1),0))","v":""},{"$f":"IF(B274=\"\",\"\",IF(B275=\"\",((((B274-0)/100)*Metric_Module_Square_Foot_Area)-'Cumulative Volumes Metric'!E274)*Metric_Stone_Void_Percentage,((((B274-B275)/100)*Metric_Module_Square_Foot_Area)-'Cumulative Volumes Metric'!E274)*Metric_Stone_Void_Percentage))","v":""},{"$f":"IFERROR(F274*Metric_Number_Of_Stacks,\"\")","v":""},{"$f":"IF(B274=\"\",\"\",((Metric_System_Area_Input-Metric_Number_Of_Stacks*_xlfn.XLOOKUP(Metric_Layers,CrateData[Layer],CrateData[Surface Area (m2)]))*((B274-IF(B275=\"\",0,B275))/100))*Metric_Stone_Void_Percentage)","v":""},{"$f":"IFERROR(IF($AW$17, H274+G274, G274), \"\")","v":""},"",{"$f":"IF(B274=\"\",\"\",SUM(J274:$J$563))","v":""},""]
["","",{"$f":"IF(B275=\"\",\"\",IFERROR(_xlfn.XLOOKUP(ROUND(B275,1),MetricIncrementalData[System Increment],_xlfn.XLOOKUP('Metric Incremental Crate'!$R$3,MetricIncrementalData[#Headers],MetricIncrementalData[]),,1),0))","v":""},"",{"$f":"IF(B275=\"\",\"\",IFERROR(_xlfn.XLOOKUP(ROUND(B275,1),MetricIncrementalData[System Increment],_xlfn.XLOOKUP(Metric_Incremental_Data_Target_Column,MetricIncrementalData[#Headers],MetricIncrementalData[]),,1),0))","v":""},{"$f":"IF(B275=\"\",\"\",IF(B276=\"\",((((B275-0)/100)*Metric_Module_Square_Foot_Area)-'Cumulative Volumes Metric'!E275)*Metric_Stone_Void_Percentage,((((B275-B276)/100)*Metric_Module_Square_Foot_Area)-'Cumulative Volumes Metric'!E275)*Metric_Stone_Void_Percentage))","v":""},"",{"$f":"IF(B275=\"\",\"\",((Metric_System_Area_Input-Metric_Number_Of_Stacks*_xlfn.XLOOKUP(Metric_Layers,CrateData[Layer],CrateData[Surface Area (m2)]))*((B275-IF(B276=\"\",0,B276))/100))*Metric_Stone_Void_Percentage)","v":""},{"$f":"IFERROR(IF($AW$17, H275+G275, G275), \"\")","v":""},"",{"$f":"IF(B275=\"\",\"\",SUM(J275:$J$563))","v":""},""]
["","",{"$f":"IF(B276=\"\",\"\",IFERROR(_xlfn.XLOOKUP(ROUND(B276,1),MetricIncrementalData[System Increment],_xlfn.XLOOKUP('Metric Incremental Crate'!$R$3,MetricIncrementalData[#Headers],MetricIncrementalData[]),,1),0))","v":""},"",{"$f":"IF(B276=\"\",\"\",IFERROR(_xlfn.XLOOKUP(ROUND(B276,1),MetricIncrementalData[System Increment],_xlfn.XLOOKUP(Metric_Incremental_Data_Target_Column,MetricIncrementalData[#Headers],MetricIncrementalData[]),,1),0))","v":""},{"$f":"IF(B276=\"\",\"\",IF(B277=\"\",((((B276-0)/100)*Metric_Module_Square_Foot_Area)-'Cumulative Volumes Metric'!E276)*Metric_Stone_Void_Percentage,((((B276-B277)/100)*Metric_Module_Square_Foot_Area)-'Cumulative Volumes Metric'!E276)*Metric_Stone_Void_Percentage))","v":""},"",{"$f":"IF(B276=\"\",\"\",((Metric_System_Area_Input-Metric_Number_Of_Stacks*_xlfn.XLOOKUP(Metric_Layers,CrateData[Layer],CrateData[Surface Area (m2)]))*((B276-IF(B277=\"\",0,B277))/100))*Metric_Stone_Void_Percentage)","v":""},"","",{"$f":"IF(B276=\"\",\"\",SUM(J276:$J$563))","v":""},""]
["","",{"$f":"IF(B277=\"\",\"\",IFERROR(_xlfn.XLOOKUP(ROUND(B277,1),MetricIncrementalData[System Increment],_xlfn.XLOOKUP('Metric Incremental Crate'!$R$3,MetricIncrementalData[#Headers],MetricIncrementalData[]),,1),0))","v":""},"",{"$f":"IF(B277=\"\",\"\",IFERROR(_xlfn.XLOOKUP(ROUND(B277,1),MetricIncrementalData[System Increment],_xlfn.XLOOKUP(Metric_Incremental_Data_Target_Column,MetricIncrementalData[#Headers],MetricIncrementalData[]),,1),0))","v":""},{"$f":"IF(B277=\"\",\"\",IF(B278=\"\",((((B277-0)/100)*Metric_Module_Square_Foot_Area)-'Cumulative Volumes Metric'!E277)*Metric_Stone_Void_Percentage,((((B277-B278)/100)*Metric_Module_Square_Foot_Area)-'Cumulative Volumes Metric'!E277)*Metric_Stone_Void_Percentage))","v":""},"",{"$f":"IF(B277=\"\",\"\",((Metric_System_Area_Input-Metric_Number_Of_Stacks*_xlfn.XLOOKUP(Metric_Layers,CrateData[Layer],CrateData[Surface Area (m2)]))*((B277-IF(B278=\"\",0,B278))/100))*Metric_Stone_Void_Percentage)","v":""},"","",{"$f":"IF(B277=\"\",\"\",SUM(J277:$J$563))","v":""},""]
["",{"$f":"IFERROR(IF(B277-1<1,\"\",B277-1),\"\")","v":""},{"$f":"IF(B278=\"\",\"\",IFERROR(_xlfn.XLOOKUP(ROUND(B278,1),MetricIncrementalData[System Increment],_xlfn.XLOOKUP('Metric Incremental Crate'!$R$3,MetricIncrementalData[#Headers],MetricIncrementalData[]),,1),0))","v":""},"",{"$f":"IF(B278=\"\",\"\",IFERROR(_xlfn.XLOOKUP(ROUND(B278,1),MetricIncrementalData[System Increment],_xlfn.XLOOKUP(Metric_Incremental_Data_Target_Column,MetricIncrementalData[#Headers],MetricIncrementalData[]),,1),0))","v":""},{"$f":"IF(B278=\"\",\"\",IF(B279=\"\",((((B278-0)/100)*Metric_Module_Square_Foot_Area)-'Cumulative Volumes Metric'!E278)*Metric_Stone_Void_Percentage,((((B278-B279)/100)*Metric_Module_Square_Foot_Area)-'Cumulative Volumes Metric'!E278)*Metric_Stone_Void_Percentage))","v":""},"",{"$f":"IF(B278=\"\",\"\",((Metric_System_Area_Input-Metric_Number_Of_Stacks*_xlfn.XLOOKUP(Metric_Layers,CrateData[Layer],CrateData[Surface Area (m2)]))*((B278-IF(B279=\"\",0,B279))/100))*Metric_Stone_Void_Percentage)","v":""},"",{"$f":"IFERROR(I278+D278,\"\")","v":""},{"$f":"IF(B278=\"\",\"\",SUM(J278:$J$563))","v":""},{"$f":"IFERROR($I$11+B278/100,\"\")","v":""}]
["","",{"$f":"IF(B279=\"\",\"\",IFERROR(_xlfn.XLOOKUP(ROUND(B279,1),MetricIncrementalData[System Increment],_xlfn.XLOOKUP('Metric Incremental Crate'!$R$3,MetricIncrementalData[#Headers],MetricIncrementalData[]),,1),0))","v":""},"",{"$f":"IF(B279=\"\",\"\",IFERROR(_xlfn.XLOOKUP(ROUND(B279,1),MetricIncrementalData[System Increment],_xlfn.XLOOKUP(Metric_Incremental_Data_Target_Column,MetricIncrementalData[#Headers],MetricIncrementalData[]),,1),0))","v":""},{"$f":"IF(B279=\"\",\"\",IF(B280=\"\",((((B279-0)/100)*Metric_Module_Square_Foot_Area)-'Cumulative Volumes Metric'!E279)*Metric_Stone_Void_Percentage,((((B279-B280)/100)*Metric_Module_Square_Foot_Area)-'Cumulative Volumes Metric'!E279)*Metric_Stone_Void_Percentage))","v":""},"",{"$f":"IF(B279=\"\",\"\",((Metric_System_Area_Input-Metric_Number_Of_Stacks*_xlfn.XLOOKUP(Metric_Layers,CrateData[Layer],CrateData[Surface Area (m2)]))*((B279-IF(B280=\"\",0,B280))/100))*Metric_Stone_Void_Percentage)","v":""},"","",{"$f":"IF(B279=\"\",\"\",SUM(J279:$J$563))","v":""},""]
["","",{"$f":"IF(B280=\"\",\"\",IFERROR(_xlfn.XLOOKUP(ROUND(B280,1),MetricIncrementalData[System Increment],_xlfn.XLOOKUP('Metric Incremental Crate'!$R$3,MetricIncrementalData[#Headers],MetricIncrementalData[]),,1),0))","v":""},"",{"$f":"IF(B280=\"\",\"\",IFERROR(_xlfn.XLOOKUP(ROUND(B280,1),MetricIncrementalData[System Increment],_xlfn.XLOOKUP(Metric_Incremental_Data_Target_Column,MetricIncrementalData[#Headers],MetricIncrementalData[]),,1),0))","v":""},{"$f":"IF(B280=\"\",\"\",IF(B281=\"\",((((B280-0)/100)*Metric_Module_Square_Foot_Area)-'Cumulative Volumes Metric'!E280)*Metric_Stone_Void_Percentage,((((B280-B281)/100)*Metric_Module_Square_Foot_Area)-'Cumulative Volumes Metric'!E280)*Metric_Stone_Void_Percentage))","v":""},"",{"$f":"IF(B280=\"\",\"\",((Metric_System_Area_Input-Metric_Number_Of_Stacks*_xlfn.XLOOKUP(Metric_Layers,CrateData[Layer],CrateData[Surface Area (m2)]))*((B280-IF(B281=\"\",0,B281))/100))*Metric_Stone_Void_Percentage)","v":""},"","",{"$f":"IF(B280=\"\",\"\",SUM(J280:$J$563))","v":""},""]
["","",{"$f":"IF(B281=\"\",\"\",IFERROR(_xlfn.XLOOKUP(ROUND(B281,1),MetricIncrementalData[System Increment],_xlfn.XLOOKUP('Metric Incremental Crate'!$R$3,MetricIncrementalData[#Headers],MetricIncrementalData[]),,1),0))","v":""},"",{"$f":"IF(B281=\"\",\"\",IFERROR(_xlfn.XLOOKUP(ROUND(B281,1),MetricIncrementalData[System Increment],_xlfn.XLOOKUP(Metric_Incremental_Data_Target_Column,MetricIncrementalData[#Headers],MetricIncrementalData[]),,1),0))","v":""},{"$f":"IF(B281=\"\",\"\",IF(B282=\"\",((((B281-0)/100)*Metric_Module_Square_Foot_Area)-'Cumulative Volumes Metric'!E281)*Metric_Stone_Void_Percentage,((((B281-B282)/100)*Metric_Module_Square_Foot_Area)-'Cumulative Volumes Metric'!E281)*Metric_Stone_Void_Percentage))","v":""},"",{"$f":"IF(B281=\"\",\"\",((Metric_System_Area_Input-Metric_Number_Of_Stacks*_xlfn.XLOOKUP(Metric_Layers,CrateData[Layer],CrateData[Surface Area (m2)]))*((B281-IF(B282=\"\",0,B282))/100))*Metric_Stone_Void_Percentage)","v":""},"","",{"$f":"IF(B281=\"\",\"\",SUM(J281:$J$563))","v":""},""]
["","",{"$f":"IF(B282=\"\",\"\",IFERROR(_xlfn.XLOOKUP(ROUND(B282,1),MetricIncrementalData[System Increment],_xlfn.XLOOKUP('Metric Incremental Crate'!$R$3,MetricIncrementalData[#Headers],MetricIncrementalData[]),,1),0))","v":""},"",{"$f":"IF(B282=\"\",\"\",IFERROR(_xlfn.XLOOKUP(ROUND(B282,1),MetricIncrementalData[System Increment],_xlfn.XLOOKUP(Metric_Incremental_Data_Target_Column,MetricIncrementalData[#Headers],MetricIncrementalData[]),,1),0))","v":""},{"$f":"IF(B282=\"\",\"\",IF(B283=\"\",((((B282-0)/100)*Metric_Module_Square_Foot_Area)-'Cumulative Volumes Metric'!E282)*Metric_Stone_Void_Percentage,((((B282-B283)/100)*Metric_Module_Square_Foot_Area)-'Cumulative Volumes Metric'!E282)*Metric_Stone_Void_Percentage))","v":""},"",{"$f":"IF(B282=\"\",\"\",((Metric_System_Area_Input-Metric_Number_Of_Stacks*_xlfn.XLOOKUP(Metric_Layers,CrateData[Layer],CrateData[Surface Area (m2)]))*((B282-IF(B283=\"\",0,B283))/100))*Metric_Stone_Void_Percentage)","v":""},"","",{"$f":"IF(B282=\"\",\"\",SUM(J282:$J$563))","v":""},""]
["","",{"$f":"IF(B283=\"\",\"\",IFERROR(_xlfn.XLOOKUP(ROUND(B283,1),MetricIncrementalData[System Increment],_xlfn.XLOOKUP('Metric Incremental Crate'!$R$3,MetricIncrementalData[#Headers],MetricIncrementalData[]),,1),0))","v":""},"",{"$f":"IF(B283=\"\",\"\",IFERROR(_xlfn.XLOOKUP(ROUND(B283,1),MetricIncrementalData[System Increment],_xlfn.XLOOKUP(Metric_Incremental_Data_Target_Column,MetricIncrementalData[#Headers],MetricIncrementalData[]),,1),0))","v":""},{"$f":"IF(B283=\"\",\"\",IF(B284=\"\",((((B283-0)/100)*Metric_Module_Square_Foot_Area)-'Cumulative Volumes Metric'!E283)*Metric_Stone_Void_Percentage,((((B283-B284)/100)*Metric_Module_Square_Foot_Area)-'Cumulative Volumes Metric'!E283)*Metric_Stone_Void_Percentage))","v":""},"",{"$f":"IF(B283=\"\",\"\",((Metric_System_Area_Input-Metric_Number_Of_Stacks*_xlfn.XLOOKUP(Metric_Layers,CrateData[Layer],CrateData[Surface Area (m2)]))*((B283-IF(B284=\"\",0,B284))/100))*Metric_Stone_Void_Percentage)","v":""},"","",{"$f":"IF(B283=\"\",\"\",SUM(J283:$J$563))","v":""},""]
["","",{"$f":"IF(B284=\"\",\"\",IFERROR(_xlfn.XLOOKUP(ROUND(B284,1),MetricIncrementalData[System Increment],_xlfn.XLOOKUP('Metric Incremental Crate'!$R$3,MetricIncrementalData[#Headers],MetricIncrementalData[]),,1),0))","v":""},"",{"$f":"IF(B284=\"\",\"\",IFERROR(_xlfn.XLOOKUP(ROUND(B284,1),MetricIncrementalData[System Increment],_xlfn.XLOOKUP(Metric_Incremental_Data_Target_Column,MetricIncrementalData[#Headers],MetricIncrementalData[]),,1),0))","v":""},{"$f":"IF(B284=\"\",\"\",IF(B285=\"\",((((B284-0)/100)*Metric_Module_Square_Foot_Area)-'Cumulative Volumes Metric'!E284)*Metric_Stone_Void_Percentage,((((B284-B285)/100)*Metric_Module_Square_Foot_Area)-'Cumulative Volumes Metric'!E284)*Metric_Stone_Void_Percentage))","v":""},"",{"$f":"IF(B284=\"\",\"\",((Metric_System_Area_Input-Metric_Number_Of_Stacks*_xlfn.XLOOKUP(Metric_Layers,CrateData[Layer],CrateData[Surface Area (m2)]))*((B284-IF(B285=\"\",0,B285))/100))*Metric_Stone_Void_Percentage)","v":""},"","",{"$f":"IF(B284=\"\",\"\",SUM(J284:$J$563))","v":""},""]
["","",{"$f":"IF(B285=\"\",\"\",IFERROR(_xlfn.XLOOKUP(ROUND(B285,1),MetricIncrementalData[System Increment],_xlfn.XLOOKUP('Metric Incremental Crate'!$R$3,MetricIncrementalData[#Headers],MetricIncrementalData[]),,1),0))","v":""},"",{"$f":"IF(B285=\"\",\"\",IFERROR(_xlfn.XLOOKUP(ROUND(B285,1),MetricIncrementalData[System Increment],_xlfn.XLOOKUP(Metric_Incremental_Data_Target_Column,MetricIncrementalData[#Headers],MetricIncrementalData[]),,1),0))","v":""},{"$f":"IF(B285=\"\",\"\",IF(B286=\"\",((((B285-0)/100)*Metric_Module_Square_Foot_Area)-'Cumulative Volumes Metric'!E285)*Metric_Stone_Void_Percentage,((((B285-B286)/100)*Metric_Module_Square_Foot_Area)-'Cumulative Volumes Metric'!E285)*Metric_Stone_Void_Percentage))","v":""},"",{"$f":"IF(B285=\"\",\"\",((Metric_System_Area_Input-Metric_Number_Of_Stacks*_xlfn.XLOOKUP(Metric_Layers,CrateData[Layer],CrateData[Surface Area (m2)]))*((B285-IF(B286=\"\",0,B286))/100))*Metric_Stone_Void_Percentage)","v":""},"","",{"$f":"IF(B285=\"\",\"\",SUM(J285:$J$563))","v":""},""]
["","",{"$f":"IF(B286=\"\",\"\",IFERROR(_xlfn.XLOOKUP(ROUND(B286,1),MetricIncrementalData[System Increment],_xlfn.XLOOKUP('Metric Incremental Crate'!$R$3,MetricIncrementalData[#Headers],MetricIncrementalData[]),,1),0))","v":""},"",{"$f":"IF(B286=\"\",\"\",IFERROR(_xlfn.XLOOKUP(ROUND(B286,1),MetricIncrementalData[System Increment],_xlfn.XLOOKUP(Metric_Incremental_Data_Target_Column,MetricIncrementalData[#Headers],MetricIncrementalData[]),,1),0))","v":""},{"$f":"IF(B286=\"\",\"\",IF(B287=\"\",((((B286-0)/100)*Metric_Module_Square_Foot_Area)-'Cumulative Volumes Metric'!E286)*Metric_Stone_Void_Percentage,((((B286-B287)/100)*Metric_Module_Square_Foot_Area)-'Cumulative Volumes Metric'!E286)*Metric_Stone_Void_Percentage))","v":""},"",{"$f":"IF(B286=\"\",\"\",((Metric_System_Area_Input-Metric_Number_Of_Stacks*_xlfn.XLOOKUP(Metric_Layers,CrateData[Layer],CrateData[Surface Area (m2)]))*((B286-IF(B287=\"\",0,B287))/100))*Metric_Stone_Void_Percentage)","v":""},"","",{"$f":"IF(B286=\"\",\"\",SUM(J286:$J$563))","v":""},""]
["","",{"$f":"IF(B287=\"\",\"\",IFERROR(_xlfn.XLOOKUP(ROUND(B287,1),MetricIncrementalData[System Increment],_xlfn.XLOOKUP('Metric Incremental Crate'!$R$3,MetricIncrementalData[#Headers],MetricIncrementalData[]),,1),0))","v":""},"",{"$f":"IF(B287=\"\",\"\",IFERROR(_xlfn.XLOOKUP(ROUND(B287,1),MetricIncrementalData[System Increment],_xlfn.XLOOKUP(Metric_Incremental_Data_Target_Column,MetricIncrementalData[#Headers],MetricIncrementalData[]),,1),0))","v":""},{"$f":"IF(B287=\"\",\"\",IF(B288=\"\",((((B287-0)/100)*Metric_Module_Square_Foot_Area)-'Cumulative Volumes Metric'!E287)*Metric_Stone_Void_Percentage,((((B287-B288)/100)*Metric_Module_Square_Foot_Area)-'Cumulative Volumes Metric'!E287)*Metric_Stone_Void_Percentage))","v":""},"",{"$f":"IF(B287=\"\",\"\",((Metric_System_Area_Input-Metric_Number_Of_Stacks*_xlfn.XLOOKUP(Metric_Layers,CrateData[Layer],CrateData[Surface Area (m2)]))*((B287-IF(B288=\"\",0,B288))/100))*Metric_Stone_Void_Percentage)","v":""},"","",{"$f":"IF(B287=\"\",\"\",SUM(J287:$J$563))","v":""},""]
["","",{"$f":"IF(B288=\"\",\"\",IFERROR(_xlfn.XLOOKUP(ROUND(B288,1),MetricIncrementalData[System Increment],_xlfn.XLOOKUP('Metric Incremental Crate'!$R$3,MetricIncrementalData[#Headers],MetricIncrementalData[]),,1),0))","v":""},"",{"$f":"IF(B288=\"\",\"\",IFERROR(_xlfn.XLOOKUP(ROUND(B288,1),MetricIncrementalData[System Increment],_xlfn.XLOOKUP(Metric_Incremental_Data_Target_Column,MetricIncrementalData[#Headers],MetricIncrementalData[]),,1),0))","v":""},{"$f":"IF(B288=\"\",\"\",IF(B289=\"\",((((B288-0)/100)*Metric_Module_Square_Foot_Area)-'Cumulative Volumes Metric'!E288)*Metric_Stone_Void_Percentage,((((B288-B289)/100)*Metric_Module_Square_Foot_Area)-'Cumulative Volumes Metric'!E288)*Metric_Stone_Void_Percentage))","v":""},"",{"$f":"IF(B288=\"\",\"\",((Metric_System_Area_Input-Metric_Number_Of_Stacks*_xlfn.XLOOKUP(Metric_Layers,CrateData[Layer],CrateData[Surface Area (m2)]))*((B288-IF(B289=\"\",0,B289))/100))*Metric_Stone_Void_Percentage)","v":""},"","",{"$f":"IF(B288=\"\",\"\",SUM(J288:$J$563))","v":""},""]
["","",{"$f":"IF(B289=\"\",\"\",IFERROR(_xlfn.XLOOKUP(ROUND(B289,1),MetricIncrementalData[System Increment],_xlfn.XLOOKUP('Metric Incremental Crate'!$R$3,MetricIncrementalData[#Headers],MetricIncrementalData[]),,1),0))","v":""},"",{"$f":"IF(B289=\"\",\"\",IFERROR(_xlfn.XLOOKUP(ROUND(B289,1),MetricIncrementalData[System Increment],_xlfn.XLOOKUP(Metric_Incremental_Data_Target_Column,MetricIncrementalData[#Headers],MetricIncrementalData[]),,1),0))","v":""},{"$f":"IF(B289=\"\",\"\",IF(B290=\"\",((((B289-0)/100)*Metric_Module_Square_Foot_Area)-'Cumulative Volumes Metric'!E289)*Metric_Stone_Void_Percentage,((((B289-B290)/100)*Metric_Module_Square_Foot_Area)-'Cumulative Volumes Metric'!E289)*Metric_Stone_Void_Percentage))","v":""},"",{"$f":"IF(B289=\"\",\"\",((Metric_System_Area_Input-Metric_Number_Of_Stacks*_xlfn.XLOOKUP(Metric_Layers,CrateData[Layer],CrateData[Surface Area (m2)]))*((B289-IF(B290=\"\",0,B290))/100))*Metric_Stone_Void_Percentage)","v":""},"","",{"$f":"IF(B289=\"\",\"\",SUM(J289:$J$563))","v":""},""]
["","",{"$f":"IF(B290=\"\",\"\",IFERROR(_xlfn.XLOOKUP(ROUND(B290,1),MetricIncrementalData[System Increment],_xlfn.XLOOKUP('Metric Incremental Crate'!$R$3,MetricIncrementalData[#Headers],MetricIncrementalData[]),,1),0))","v":""},"",{"$f":"IF(B290=\"\",\"\",IFERROR(_xlfn.XLOOKUP(ROUND(B290,1),MetricIncrementalData[System Increment],_xlfn.XLOOKUP(Metric_Incremental_Data_Target_Column,MetricIncrementalData[#Headers],MetricIncrementalData[]),,1),0))","v":""},{"$f":"IF(B290=\"\",\"\",IF(B291=\"\",((((B290-0)/100)*Metric_Module_Square_Foot_Area)-'Cumulative Volumes Metric'!E290)*Metric_Stone_Void_Percentage,((((B290-B291)/100)*Metric_Module_Square_Foot_Area)-'Cumulative Volumes Metric'!E290)*Metric_Stone_Void_Percentage))","v":""},"",{"$f":"IF(B290=\"\",\"\",((Metric_System_Area_Input-Metric_Number_Of_Stacks*_xlfn.XLOOKUP(Metric_Layers,CrateData[Layer],CrateData[Surface Area (m2)]))*((B290-IF(B291=\"\",0,B291))/100))*Metric_Stone_Void_Percentage)","v":""},"","",{"$f":"IF(B290=\"\",\"\",SUM(J290:$J$563))","v":""},""]
["","",{"$f":"IF(B291=\"\",\"\",IFERROR(_xlfn.XLOOKUP(ROUND(B291,1),MetricIncrementalData[System Increment],_xlfn.XLOOKUP('Metric Incremental Crate'!$R$3,MetricIncrementalData[#Headers],MetricIncrementalData[]),,1),0))","v":""},"",{"$f":"IF(B291=\"\",\"\",IFERROR(_xlfn.XLOOKUP(ROUND(B291,1),MetricIncrementalData[System Increment],_xlfn.XLOOKUP(Metric_Incremental_Data_Target_Column,MetricIncrementalData[#Headers],MetricIncrementalData[]),,1),0))","v":""},{"$f":"IF(B291=\"\",\"\",IF(B292=\"\",((((B291-0)/100)*Metric_Module_Square_Foot_Area)-'Cumulative Volumes Metric'!E291)*Metric_Stone_Void_Percentage,((((B291-B292)/100)*Metric_Module_Square_Foot_Area)-'Cumulative Volumes Metric'!E291)*Metric_Stone_Void_Percentage))","v":""},"",{"$f":"IF(B291=\"\",\"\",((Metric_System_Area_Input-Metric_Number_Of_Stacks*_xlfn.XLOOKUP(Metric_Layers,CrateData[Layer],CrateData[Surface Area (m2)]))*((B291-IF(B292=\"\",0,B292))/100))*Metric_Stone_Void_Percentage)","v":""},"","",{"$f":"IF(B291=\"\",\"\",SUM(J291:$J$563))","v":""},""]
["","",{"$f":"IF(B292=\"\",\"\",IFERROR(_xlfn.XLOOKUP(ROUND(B292,1),MetricIncrementalData[System Increment],_xlfn.XLOOKUP('Metric Incremental Crate'!$R$3,MetricIncrementalData[#Headers],MetricIncrementalData[]),,1),0))","v":""},"",{"$f":"IF(B292=\"\",\"\",IFERROR(_xlfn.XLOOKUP(ROUND(B292,1),MetricIncrementalData[System Increment],_xlfn.XLOOKUP(Metric_Incremental_Data_Target_Column,MetricIncrementalData[#Headers],MetricIncrementalData[]),,1),0))","v":""},{"$f":"IF(B292=\"\",\"\",IF(B293=\"\",((((B292-0)/100)*Metric_Module_Square_Foot_Area)-'Cumulative Volumes Metric'!E292)*Metric_Stone_Void_Percentage,((((B292-B293)/100)*Metric_Module_Square_Foot_Area)-'Cumulative Volumes Metric'!E292)*Metric_Stone_Void_Percentage))","v":""},"",{"$f":"IF(B292=\"\",\"\",((Metric_System_Area_Input-Metric_Number_Of_Stacks*_xlfn.XLOOKUP(Metric_Layers,CrateData[Layer],CrateData[Surface Area (m2)]))*((B292-IF(B293=\"\",0,B293))/100))*Metric_Stone_Void_Percentage)","v":""},"","",{"$f":"IF(B292=\"\",\"\",SUM(J292:$J$563))","v":""},""]
["","",{"$f":"IF(B293=\"\",\"\",IFERROR(_xlfn.XLOOKUP(ROUND(B293,1),MetricIncrementalData[System Increment],_xlfn.XLOOKUP('Metric Incremental Crate'!$R$3,MetricIncrementalData[#Headers],MetricIncrementalData[]),,1),0))","v":""},"",{"$f":"IF(B293=\"\",\"\",IFERROR(_xlfn.XLOOKUP(ROUND(B293,1),MetricIncrementalData[System Increment],_xlfn.XLOOKUP(Metric_Incremental_Data_Target_Column,MetricIncrementalData[#Headers],MetricIncrementalData[]),,1),0))","v":""},{"$f":"IF(B293=\"\",\"\",IF(B294=\"\",((((B293-0)/100)*Metric_Module_Square_Foot_Area)-'Cumulative Volumes Metric'!E293)*Metric_Stone_Void_Percentage,((((B293-B294)/100)*Metric_Module_Square_Foot_Area)-'Cumulative Volumes Metric'!E293)*Metric_Stone_Void_Percentage))","v":""},"",{"$f":"IF(B293=\"\",\"\",((Metric_System_Area_Input-Metric_Number_Of_Stacks*_xlfn.XLOOKUP(Metric_Layers,CrateData[Layer],CrateData[Surface Area (m2)]))*((B293-IF(B294=\"\",0,B294))/100))*Metric_Stone_Void_Percentage)","v":""},"","",{"$f":"IF(B293=\"\",\"\",SUM(J293:$J$563))","v":""},""]
["","",{"$f":"IF(B294=\"\",\"\",IFERROR(_xlfn.XLOOKUP(ROUND(B294,1),MetricIncrementalData[System Increment],_xlfn.XLOOKUP('Metric Incremental Crate'!$R$3,MetricIncrementalData[#Headers],MetricIncrementalData[]),,1),0))","v":""},"",{"$f":"IF(B294=\"\",\"\",IFERROR(_xlfn.XLOOKUP(ROUND(B294,1),MetricIncrementalData[System Increment],_xlfn.XLOOKUP(Metric_Incremental_Data_Target_Column,MetricIncrementalData[#Headers],MetricIncrementalData[]),,1),0))","v":""},{"$f":"IF(B294=\"\",\"\",IF(B295=\"\",((((B294-0)/100)*Metric_Module_Square_Foot_Area)-'Cumulative Volumes Metric'!E294)*Metric_Stone_Void_Percentage,((((B294-B295)/100)*Metric_Module_Square_Foot_Area)-'Cumulative Volumes Metric'!E294)*Metric_Stone_Void_Percentage))","v":""},"",{"$f":"IF(B294=\"\",\"\",((Metric_System_Area_Input-Metric_Number_Of_Stacks*_xlfn.XLOOKUP(Metric_Layers,CrateData[Layer],CrateData[Surface Area (m2)]))*((B294-IF(B295=\"\",0,B295))/100))*Metric_Stone_Void_Percentage)","v":""},"","",{"$f":"IF(B294=\"\",\"\",SUM(J294:$J$563))","v":""},""]
["","",{"$f":"IF(B295=\"\",\"\",IFERROR(_xlfn.XLOOKUP(ROUND(B295,1),MetricIncrementalData[System Increment],_xlfn.XLOOKUP('Metric Incremental Crate'!$R$3,MetricIncrementalData[#Headers],MetricIncrementalData[]),,1),0))","v":""},"",{"$f":"IF(B295=\"\",\"\",IFERROR(_xlfn.XLOOKUP(ROUND(B295,1),MetricIncrementalData[System Increment],_xlfn.XLOOKUP(Metric_Incremental_Data_Target_Column,MetricIncrementalData[#Headers],MetricIncrementalData[]),,1),0))","v":""},{"$f":"IF(B295=\"\",\"\",IF(B296=\"\",((((B295-0)/100)*Metric_Module_Square_Foot_Area)-'Cumulative Volumes Metric'!E295)*Metric_Stone_Void_Percentage,((((B295-B296)/100)*Metric_Module_Square_Foot_Area)-'Cumulative Volumes Metric'!E295)*Metric_Stone_Void_Percentage))","v":""},"",{"$f":"IF(B295=\"\",\"\",((Metric_System_Area_Input-Metric_Number_Of_Stacks*_xlfn.XLOOKUP(Metric_Layers,CrateData[Layer],CrateData[Surface Area (m2)]))*((B295-IF(B296=\"\",0,B296))/100))*Metric_Stone_Void_Percentage)","v":""},"","",{"$f":"IF(B295=\"\",\"\",SUM(J295:$J$563))","v":""},""]
["","",{"$f":"IF(B296=\"\",\"\",IFERROR(_xlfn.XLOOKUP(ROUND(B296,1),MetricIncrementalData[System Increment],_xlfn.XLOOKUP('Metric Incremental Crate'!$R$3,MetricIncrementalData[#Headers],MetricIncrementalData[]),,1),0))","v":""},"",{"$f":"IF(B296=\"\",\"\",IFERROR(_xlfn.XLOOKUP(ROUND(B296,1),MetricIncrementalData[System Increment],_xlfn.XLOOKUP(Metric_Incremental_Data_Target_Column,MetricIncrementalData[#Headers],MetricIncrementalData[]),,1),0))","v":""},{"$f":"IF(B296=\"\",\"\",IF(B297=\"\",((((B296-0)/100)*Metric_Module_Square_Foot_Area)-'Cumulative Volumes Metric'!E296)*Metric_Stone_Void_Percentage,((((B296-B297)/100)*Metric_Module_Square_Foot_Area)-'Cumulative Volumes Metric'!E296)*Metric_Stone_Void_Percentage))","v":""},"",{"$f":"IF(B296=\"\",\"\",((Metric_System_Area_Input-Metric_Number_Of_Stacks*_xlfn.XLOOKUP(Metric_Layers,CrateData[Layer],CrateData[Surface Area (m2)]))*((B296-IF(B297=\"\",0,B297))/100))*Metric_Stone_Void_Percentage)","v":""},"","",{"$f":"IF(B296=\"\",\"\",SUM(J296:$J$563))","v":""},""]
["","",{"$f":"IF(B297=\"\",\"\",IFERROR(_xlfn.XLOOKUP(ROUND(B297,1),MetricIncrementalData[System Increment],_xlfn.XLOOKUP('Metric Incremental Crate'!$R$3,MetricIncrementalData[#Headers],MetricIncrementalData[]),,1),0))","v":""},"",{"$f":"IF(B297=\"\",\"\",IFERROR(_xlfn.XLOOKUP(ROUND(B297,1),MetricIncrementalData[System Increment],_xlfn.XLOOKUP(Metric_Incremental_Data_Target_Column,MetricIncrementalData[#Headers],MetricIncrementalData[]),,1),0))","v":""},{"$f":"IF(B297=\"\",\"\",IF(B298=\"\",((((B297-0)/100)*Metric_Module_Square_Foot_Area)-'Cumulative Volumes Metric'!E297)*Metric_Stone_Void_Percentage,((((B297-B298)/100)*Metric_Module_Square_Foot_Area)-'Cumulative Volumes Metric'!E297)*Metric_Stone_Void_Percentage))","v":""},"",{"$f":"IF(B297=\"\",\"\",((Metric_System_Area_Input-Metric_Number_Of_Stacks*_xlfn.XLOOKUP(Metric_Layers,CrateData[Layer],CrateData[Surface Area (m2)]))*((B297-IF(B298=\"\",0,B298))/100))*Metric_Stone_Void_Percentage)","v":""},"","",{"$f":"IF(B297=\"\",\"\",SUM(J297:$J$563))","v":""},""]
["","",{"$f":"IF(B298=\"\",\"\",IFERROR(_xlfn.XLOOKUP(ROUND(B298,1),MetricIncrementalData[System Increment],_xlfn.XLOOKUP('Metric Incremental Crate'!$R$3,MetricIncrementalData[#Headers],MetricIncrementalData[]),,1),0))","v":""},"",{"$f":"IF(B298=\"\",\"\",IFERROR(_xlfn.XLOOKUP(ROUND(B298,1),MetricIncrementalData[System Increment],_xlfn.XLOOKUP(Metric_Incremental_Data_Target_Column,MetricIncrementalData[#Headers],MetricIncrementalData[]),,1),0))","v":""},{"$f":"IF(B298=\"\",\"\",IF(B299=\"\",((((B298-0)/100)*Metric_Module_Square_Foot_Area)-'Cumulative Volumes Metric'!E298)*Metric_Stone_Void_Percentage,((((B298-B299)/100)*Metric_Module_Square_Foot_Area)-'Cumulative Volumes Metric'!E298)*Metric_Stone_Void_Percentage))","v":""},"",{"$f":"IF(B298=\"\",\"\",((Metric_System_Area_Input-Metric_Number_Of_Stacks*_xlfn.XLOOKUP(Metric_Layers,CrateData[Layer],CrateData[Surface Area (m2)]))*((B298-IF(B299=\"\",0,B299))/100))*Metric_Stone_Void_Percentage)","v":""},"","",{"$f":"IF(B298=\"\",\"\",SUM(J298:$J$563))","v":""},""]
["","",{"$f":"IF(B299=\"\",\"\",IFERROR(_xlfn.XLOOKUP(ROUND(B299,1),MetricIncrementalData[System Increment],_xlfn.XLOOKUP('Metric Incremental Crate'!$R$3,MetricIncrementalData[#Headers],MetricIncrementalData[]),,1),0))","v":""},"",{"$f":"IF(B299=\"\",\"\",IFERROR(_xlfn.XLOOKUP(ROUND(B299,1),MetricIncrementalData[System Increment],_xlfn.XLOOKUP(Metric_Incremental_Data_Target_Column,MetricIncrementalData[#Headers],MetricIncrementalData[]),,1),0))","v":""},{"$f":"IF(B299=\"\",\"\",IF(B300=\"\",((((B299-0)/100)*Metric_Module_Square_Foot_Area)-'Cumulative Volumes Metric'!E299)*Metric_Stone_Void_Percentage,((((B299-B300)/100)*Metric_Module_Square_Foot_Area)-'Cumulative Volumes Metric'!E299)*Metric_Stone_Void_Percentage))","v":""},"",{"$f":"IF(B299=\"\",\"\",((Metric_System_Area_Input-Metric_Number_Of_Stacks*_xlfn.XLOOKUP(Metric_Layers,CrateData[Layer],CrateData[Surface Area (m2)]))*((B299-IF(B300=\"\",0,B300))/100))*Metric_Stone_Void_Percentage)","v":""},"","",{"$f":"IF(B299=\"\",\"\",SUM(J299:$J$563))","v":""},""]
["","",{"$f":"IF(B300=\"\",\"\",IFERROR(_xlfn.XLOOKUP(ROUND(B300,1),MetricIncrementalData[System Increment],_xlfn.XLOOKUP('Metric Incremental Crate'!$R$3,MetricIncrementalData[#Headers],MetricIncrementalData[]),,1),0))","v":""},"",{"$f":"IF(B300=\"\",\"\",IFERROR(_xlfn.XLOOKUP(ROUND(B300,1),MetricIncrementalData[System Increment],_xlfn.XLOOKUP(Metric_Incremental_Data_Target_Column,MetricIncrementalData[#Headers],MetricIncrementalData[]),,1),0))","v":""},{"$f":"IF(B300=\"\",\"\",IF(B301=\"\",((((B300-0)/100)*Metric_Module_Square_Foot_Area)-'Cumulative Volumes Metric'!E300)*Metric_Stone_Void_Percentage,((((B300-B301)/100)*Metric_Module_Square_Foot_Area)-'Cumulative Volumes Metric'!E300)*Metric_Stone_Void_Percentage))","v":""},"",{"$f":"IF(B300=\"\",\"\",((Metric_System_Area_Input-Metric_Number_Of_Stacks*_xlfn.XLOOKUP(Metric_Layers,CrateData[Layer],CrateData[Surface Area (m2)]))*((B300-IF(B301=\"\",0,B301))/100))*Metric_Stone_Void_Percentage)","v":""},"","",{"$f":"IF(B300=\"\",\"\",SUM(J300:$J$563))","v":""},""]
["","",{"$f":"IF(B301=\"\",\"\",IFERROR(_xlfn.XLOOKUP(ROUND(B301,1),MetricIncrementalData[System Increment],_xlfn.XLOOKUP('Metric Incremental Crate'!$R$3,MetricIncrementalData[#Headers],MetricIncrementalData[]),,1),0))","v":""},"",{"$f":"IF(B301=\"\",\"\",IFERROR(_xlfn.XLOOKUP(ROUND(B301,1),MetricIncrementalData[System Increment],_xlfn.XLOOKUP(Metric_Incremental_Data_Target_Column,MetricIncrementalData[#Headers],MetricIncrementalData[]),,1),0))","v":""},{"$f":"IF(B301=\"\",\"\",IF(B302=\"\",((((B301-0)/100)*Metric_Module_Square_Foot_Area)-'Cumulative Volumes Metric'!E301)*Metric_Stone_Void_Percentage,((((B301-B302)/100)*Metric_Module_Square_Foot_Area)-'Cumulative Volumes Metric'!E301)*Metric_Stone_Void_Percentage))","v":""},"",{"$f":"IF(B301=\"\",\"\",((Metric_System_Area_Input-Metric_Number_Of_Stacks*_xlfn.XLOOKUP(Metric_Layers,CrateData[Layer],CrateData[Surface Area (m2)]))*((B301-IF(B302=\"\",0,B302))/100))*Metric_Stone_Void_Percentage)","v":""},"","",{"$f":"IF(B301=\"\",\"\",SUM(J301:$J$563))","v":""},""]
["","",{"$f":"IF(B302=\"\",\"\",IFERROR(_xlfn.XLOOKUP(ROUND(B302,1),MetricIncrementalData[System Increment],_xlfn.XLOOKUP('Metric Incremental Crate'!$R$3,MetricIncrementalData[#Headers],MetricIncrementalData[]),,1),0))","v":""},"",{"$f":"IF(B302=\"\",\"\",IFERROR(_xlfn.XLOOKUP(ROUND(B302,1),MetricIncrementalData[System Increment],_xlfn.XLOOKUP(Metric_Incremental_Data_Target_Column,MetricIncrementalData[#Headers],MetricIncrementalData[]),,1),0))","v":""},{"$f":"IF(B302=\"\",\"\",IF(B303=\"\",((((B302-0)/100)*Metric_Module_Square_Foot_Area)-'Cumulative Volumes Metric'!E302)*Metric_Stone_Void_Percentage,((((B302-B303)/100)*Metric_Module_Square_Foot_Area)-'Cumulative Volumes Metric'!E302)*Metric_Stone_Void_Percentage))","v":""},"",{"$f":"IF(B302=\"\",\"\",((Metric_System_Area_Input-Metric_Number_Of_Stacks*_xlfn.XLOOKUP(Metric_Layers,CrateData[Layer],CrateData[Surface Area (m2)]))*((B302-IF(B303=\"\",0,B303))/100))*Metric_Stone_Void_Percentage)","v":""},"","",{"$f":"IF(B302=\"\",\"\",SUM(J302:$J$563))","v":""},""]
["","",{"$f":"IF(B303=\"\",\"\",IFERROR(_xlfn.XLOOKUP(ROUND(B303,1),MetricIncrementalData[System Increment],_xlfn.XLOOKUP('Metric Incremental Crate'!$R$3,MetricIncrementalData[#Headers],MetricIncrementalData[]),,1),0))","v":""},"",{"$f":"IF(B303=\"\",\"\",IFERROR(_xlfn.XLOOKUP(ROUND(B303,1),MetricIncrementalData[System Increment],_xlfn.XLOOKUP(Metric_Incremental_Data_Target_Column,MetricIncrementalData[#Headers],MetricIncrementalData[]),,1),0))","v":""},{"$f":"IF(B303=\"\",\"\",IF(B304=\"\",((((B303-0)/100)*Metric_Module_Square_Foot_Area)-'Cumulative Volumes Metric'!E303)*Metric_Stone_Void_Percentage,((((B303-B304)/100)*Metric_Module_Square_Foot_Area)-'Cumulative Volumes Metric'!E303)*Metric_Stone_Void_Percentage))","v":""},"",{"$f":"IF(B303=\"\",\"\",((Metric_System_Area_Input-Metric_Number_Of_Stacks*_xlfn.XLOOKUP(Metric_Layers,CrateData[Layer],CrateData[Surface Area (m2)]))*((B303-IF(B304=\"\",0,B304))/100))*Metric_Stone_Void_Percentage)","v":""},"","",{"$f":"IF(B303=\"\",\"\",SUM(J303:$J$563))","v":""},""]
["","",{"$f":"IF(B304=\"\",\"\",IFERROR(_xlfn.XLOOKUP(ROUND(B304,1),MetricIncrementalData[System Increment],_xlfn.XLOOKUP('Metric Incremental Crate'!$R$3,MetricIncrementalData[#Headers],MetricIncrementalData[]),,1),0))","v":""},"",{"$f":"IF(B304=\"\",\"\",IFERROR(_xlfn.XLOOKUP(ROUND(B304,1),MetricIncrementalData[System Increment],_xlfn.XLOOKUP(Metric_Incremental_Data_Target_Column,MetricIncrementalData[#Headers],MetricIncrementalData[]),,1),0))","v":""},{"$f":"IF(B304=\"\",\"\",IF(B305=\"\",((((B304-0)/100)*Metric_Module_Square_Foot_Area)-'Cumulative Volumes Metric'!E304)*Metric_Stone_Void_Percentage,((((B304-B305)/100)*Metric_Module_Square_Foot_Area)-'Cumulative Volumes Metric'!E304)*Metric_Stone_Void_Percentage))","v":""},"",{"$f":"IF(B304=\"\",\"\",((Metric_System_Area_Input-Metric_Number_Of_Stacks*_xlfn.XLOOKUP(Metric_Layers,CrateData[Layer],CrateData[Surface Area (m2)]))*((B304-IF(B305=\"\",0,B305))/100))*Metric_Stone_Void_Percentage)","v":""},"","",{"$f":"IF(B304=\"\",\"\",SUM(J304:$J$563))","v":""},""]
["","",{"$f":"IF(B305=\"\",\"\",IFERROR(_xlfn.XLOOKUP(ROUND(B305,1),MetricIncrementalData[System Increment],_xlfn.XLOOKUP('Metric Incremental Crate'!$R$3,MetricIncrementalData[#Headers],MetricIncrementalData[]),,1),0))","v":""},"",{"$f":"IF(B305=\"\",\"\",IFERROR(_xlfn.XLOOKUP(ROUND(B305,1),MetricIncrementalData[System Increment],_xlfn.XLOOKUP(Metric_Incremental_Data_Target_Column,MetricIncrementalData[#Headers],MetricIncrementalData[]),,1),0))","v":""},{"$f":"IF(B305=\"\",\"\",IF(B306=\"\",((((B305-0)/100)*Metric_Module_Square_Foot_Area)-'Cumulative Volumes Metric'!E305)*Metric_Stone_Void_Percentage,((((B305-B306)/100)*Metric_Module_Square_Foot_Area)-'Cumulative Volumes Metric'!E305)*Metric_Stone_Void_Percentage))","v":""},"",{"$f":"IF(B305=\"\",\"\",((Metric_System_Area_Input-Metric_Number_Of_Stacks*_xlfn.XLOOKUP(Metric_Layers,CrateData[Layer],CrateData[Surface Area (m2)]))*((B305-IF(B306=\"\",0,B306))/100))*Metric_Stone_Void_Percentage)","v":""},"","",{"$f":"IF(B305=\"\",\"\",SUM(J305:$J$563))","v":""},""]
["","",{"$f":"IF(B306=\"\",\"\",IFERROR(_xlfn.XLOOKUP(ROUND(B306,1),MetricIncrementalData[System Increment],_xlfn.XLOOKUP('Metric Incremental Crate'!$R$3,MetricIncrementalData[#Headers],MetricIncrementalData[]),,1),0))","v":""},"",{"$f":"IF(B306=\"\",\"\",IFERROR(_xlfn.XLOOKUP(ROUND(B306,1),MetricIncrementalData[System Increment],_xlfn.XLOOKUP(Metric_Incremental_Data_Target_Column,MetricIncrementalData[#Headers],MetricIncrementalData[]),,1),0))","v":""},{"$f":"IF(B306=\"\",\"\",IF(B307=\"\",((((B306-0)/100)*Metric_Module_Square_Foot_Area)-'Cumulative Volumes Metric'!E306)*Metric_Stone_Void_Percentage,((((B306-B307)/100)*Metric_Module_Square_Foot_Area)-'Cumulative Volumes Metric'!E306)*Metric_Stone_Void_Percentage))","v":""},"",{"$f":"IF(B306=\"\",\"\",((Metric_System_Area_Input-Metric_Number_Of_Stacks*_xlfn.XLOOKUP(Metric_Layers,CrateData[Layer],CrateData[Surface Area (m2)]))*((B306-IF(B307=\"\",0,B307))/100))*Metric_Stone_Void_Percentage)","v":""},"","",{"$f":"IF(B306=\"\",\"\",SUM(J306:$J$563))","v":""},""]
["","",{"$f":"IF(B307=\"\",\"\",IFERROR(_xlfn.XLOOKUP(ROUND(B307,1),MetricIncrementalData[System Increment],_xlfn.XLOOKUP('Metric Incremental Crate'!$R$3,MetricIncrementalData[#Headers],MetricIncrementalData[]),,1),0))","v":""},"",{"$f":"IF(B307=\"\",\"\",IFERROR(_xlfn.XLOOKUP(ROUND(B307,1),MetricIncrementalData[System Increment],_xlfn.XLOOKUP(Metric_Incremental_Data_Target_Column,MetricIncrementalData[#Headers],MetricIncrementalData[]),,1),0))","v":""},{"$f":"IF(B307=\"\",\"\",IF(B308=\"\",((((B307-0)/100)*Metric_Module_Square_Foot_Area)-'Cumulative Volumes Metric'!E307)*Metric_Stone_Void_Percentage,((((B307-B308)/100)*Metric_Module_Square_Foot_Area)-'Cumulative Volumes Metric'!E307)*Metric_Stone_Void_Percentage))","v":""},"",{"$f":"IF(B307=\"\",\"\",((Metric_System_Area_Input-Metric_Number_Of_Stacks*_xlfn.XLOOKUP(Metric_Layers,CrateData[Layer],CrateData[Surface Area (m2)]))*((B307-IF(B308=\"\",0,B308))/100))*Metric_Stone_Void_Percentage)","v":""},"","",{"$f":"IF(B307=\"\",\"\",SUM(J307:$J$563))","v":""},""]
["","",{"$f":"IF(B308=\"\",\"\",IFERROR(_xlfn.XLOOKUP(ROUND(B308,1),MetricIncrementalData[System Increment],_xlfn.XLOOKUP('Metric Incremental Crate'!$R$3,MetricIncrementalData[#Headers],MetricIncrementalData[]),,1),0))","v":""},"",{"$f":"IF(B308=\"\",\"\",IFERROR(_xlfn.XLOOKUP(ROUND(B308,1),MetricIncrementalData[System Increment],_xlfn.XLOOKUP(Metric_Incremental_Data_Target_Column,MetricIncrementalData[#Headers],MetricIncrementalData[]),,1),0))","v":""},{"$f":"IF(B308=\"\",\"\",IF(B309=\"\",((((B308-0)/100)*Metric_Module_Square_Foot_Area)-'Cumulative Volumes Metric'!E308)*Metric_Stone_Void_Percentage,((((B308-B309)/100)*Metric_Module_Square_Foot_Area)-'Cumulative Volumes Metric'!E308)*Metric_Stone_Void_Percentage))","v":""},"",{"$f":"IF(B308=\"\",\"\",((Metric_System_Area_Input-Metric_Number_Of_Stacks*_xlfn.XLOOKUP(Metric_Layers,CrateData[Layer],CrateData[Surface Area (m2)]))*((B308-IF(B309=\"\",0,B309))/100))*Metric_Stone_Void_Percentage)","v":""},"","",{"$f":"IF(B308=\"\",\"\",SUM(J308:$J$563))","v":""},""]
["","",{"$f":"IF(B309=\"\",\"\",IFERROR(_xlfn.XLOOKUP(ROUND(B309,1),MetricIncrementalData[System Increment],_xlfn.XLOOKUP('Metric Incremental Crate'!$R$3,MetricIncrementalData[#Headers],MetricIncrementalData[]),,1),0))","v":""},"",{"$f":"IF(B309=\"\",\"\",IFERROR(_xlfn.XLOOKUP(ROUND(B309,1),MetricIncrementalData[System Increment],_xlfn.XLOOKUP(Metric_Incremental_Data_Target_Column,MetricIncrementalData[#Headers],MetricIncrementalData[]),,1),0))","v":""},{"$f":"IF(B309=\"\",\"\",IF(B310=\"\",((((B309-0)/100)*Metric_Module_Square_Foot_Area)-'Cumulative Volumes Metric'!E309)*Metric_Stone_Void_Percentage,((((B309-B310)/100)*Metric_Module_Square_Foot_Area)-'Cumulative Volumes Metric'!E309)*Metric_Stone_Void_Percentage))","v":""},"",{"$f":"IF(B309=\"\",\"\",((Metric_System_Area_Input-Metric_Number_Of_Stacks*_xlfn.XLOOKUP(Metric_Layers,CrateData[Layer],CrateData[Surface Area (m2)]))*((B309-IF(B310=\"\",0,B310))/100))*Metric_Stone_Void_Percentage)","v":""},"","",{"$f":"IF(B309=\"\",\"\",SUM(J309:$J$563))","v":""},""]
["","",{"$f":"IF(B310=\"\",\"\",IFERROR(_xlfn.XLOOKUP(ROUND(B310,1),MetricIncrementalData[System Increment],_xlfn.XLOOKUP('Metric Incremental Crate'!$R$3,MetricIncrementalData[#Headers],MetricIncrementalData[]),,1),0))","v":""},"",{"$f":"IF(B310=\"\",\"\",IFERROR(_xlfn.XLOOKUP(ROUND(B310,1),MetricIncrementalData[System Increment],_xlfn.XLOOKUP(Metric_Incremental_Data_Target_Column,MetricIncrementalData[#Headers],MetricIncrementalData[]),,1),0))","v":""},{"$f":"IF(B310=\"\",\"\",IF(B311=\"\",((((B310-0)/100)*Metric_Module_Square_Foot_Area)-'Cumulative Volumes Metric'!E310)*Metric_Stone_Void_Percentage,((((B310-B311)/100)*Metric_Module_Square_Foot_Area)-'Cumulative Volumes Metric'!E310)*Metric_Stone_Void_Percentage))","v":""},"",{"$f":"IF(B310=\"\",\"\",((Metric_System_Area_Input-Metric_Number_Of_Stacks*_xlfn.XLOOKUP(Metric_Layers,CrateData[Layer],CrateData[Surface Area (m2)]))*((B310-IF(B311=\"\",0,B311))/100))*Metric_Stone_Void_Percentage)","v":""},"","",{"$f":"IF(B310=\"\",\"\",SUM(J310:$J$563))","v":""},""]
["","",{"$f":"IF(B311=\"\",\"\",IFERROR(_xlfn.XLOOKUP(ROUND(B311,1),MetricIncrementalData[System Increment],_xlfn.XLOOKUP('Metric Incremental Crate'!$R$3,MetricIncrementalData[#Headers],MetricIncrementalData[]),,1),0))","v":""},"",{"$f":"IF(B311=\"\",\"\",IFERROR(_xlfn.XLOOKUP(ROUND(B311,1),MetricIncrementalData[System Increment],_xlfn.XLOOKUP(Metric_Incremental_Data_Target_Column,MetricIncrementalData[#Headers],MetricIncrementalData[]),,1),0))","v":""},{"$f":"IF(B311=\"\",\"\",IF(B312=\"\",((((B311-0)/100)*Metric_Module_Square_Foot_Area)-'Cumulative Volumes Metric'!E311)*Metric_Stone_Void_Percentage,((((B311-B312)/100)*Metric_Module_Square_Foot_Area)-'Cumulative Volumes Metric'!E311)*Metric_Stone_Void_Percentage))","v":""},"",{"$f":"IF(B311=\"\",\"\",((Metric_System_Area_Input-Metric_Number_Of_Stacks*_xlfn.XLOOKUP(Metric_Layers,CrateData[Layer],CrateData[Surface Area (m2)]))*((B311-IF(B312=\"\",0,B312))/100))*Metric_Stone_Void_Percentage)","v":""},"","",{"$f":"IF(B311=\"\",\"\",SUM(J311:$J$563))","v":""},""]
["","",{"$f":"IF(B312=\"\",\"\",IFERROR(_xlfn.XLOOKUP(ROUND(B312,1),MetricIncrementalData[System Increment],_xlfn.XLOOKUP('Metric Incremental Crate'!$R$3,MetricIncrementalData[#Headers],MetricIncrementalData[]),,1),0))","v":""},"",{"$f":"IF(B312=\"\",\"\",IFERROR(_xlfn.XLOOKUP(ROUND(B312,1),MetricIncrementalData[System Increment],_xlfn.XLOOKUP(Metric_Incremental_Data_Target_Column,MetricIncrementalData[#Headers],MetricIncrementalData[]),,1),0))","v":""},{"$f":"IF(B312=\"\",\"\",IF(B313=\"\",((((B312-0)/100)*Metric_Module_Square_Foot_Area)-'Cumulative Volumes Metric'!E312)*Metric_Stone_Void_Percentage,((((B312-B313)/100)*Metric_Module_Square_Foot_Area)-'Cumulative Volumes Metric'!E312)*Metric_Stone_Void_Percentage))","v":""},"",{"$f":"IF(B312=\"\",\"\",((Metric_System_Area_Input-Metric_Number_Of_Stacks*_xlfn.XLOOKUP(Metric_Layers,CrateData[Layer],CrateData[Surface Area (m2)]))*((B312-IF(B313=\"\",0,B313))/100))*Metric_Stone_Void_Percentage)","v":""},"","",{"$f":"IF(B312=\"\",\"\",SUM(J312:$J$563))","v":""},""]
["","",{"$f":"IF(B313=\"\",\"\",IFERROR(_xlfn.XLOOKUP(ROUND(B313,1),MetricIncrementalData[System Increment],_xlfn.XLOOKUP('Metric Incremental Crate'!$R$3,MetricIncrementalData[#Headers],MetricIncrementalData[]),,1),0))","v":""},"",{"$f":"IF(B313=\"\",\"\",IFERROR(_xlfn.XLOOKUP(ROUND(B313,1),MetricIncrementalData[System Increment],_xlfn.XLOOKUP(Metric_Incremental_Data_Target_Column,MetricIncrementalData[#Headers],MetricIncrementalData[]),,1),0))","v":""},{"$f":"IF(B313=\"\",\"\",IF(B314=\"\",((((B313-0)/100)*Metric_Module_Square_Foot_Area)-'Cumulative Volumes Metric'!E313)*Metric_Stone_Void_Percentage,((((B313-B314)/100)*Metric_Module_Square_Foot_Area)-'Cumulative Volumes Metric'!E313)*Metric_Stone_Void_Percentage))","v":""},"",{"$f":"IF(B313=\"\",\"\",((Metric_System_Area_Input-Metric_Number_Of_Stacks*_xlfn.XLOOKUP(Metric_Layers,CrateData[Layer],CrateData[Surface Area (m2)]))*((B313-IF(B314=\"\",0,B314))/100))*Metric_Stone_Void_Percentage)","v":""},"","",{"$f":"IF(B313=\"\",\"\",SUM(J313:$J$563))","v":""},""]
["","",{"$f":"IF(B314=\"\",\"\",IFERROR(_xlfn.XLOOKUP(ROUND(B314,1),MetricIncrementalData[System Increment],_xlfn.XLOOKUP('Metric Incremental Crate'!$R$3,MetricIncrementalData[#Headers],MetricIncrementalData[]),,1),0))","v":""},"",{"$f":"IF(B314=\"\",\"\",IFERROR(_xlfn.XLOOKUP(ROUND(B314,1),MetricIncrementalData[System Increment],_xlfn.XLOOKUP(Metric_Incremental_Data_Target_Column,MetricIncrementalData[#Headers],MetricIncrementalData[]),,1),0))","v":""},{"$f":"IF(B314=\"\",\"\",IF(B315=\"\",((((B314-0)/100)*Metric_Module_Square_Foot_Area)-'Cumulative Volumes Metric'!E314)*Metric_Stone_Void_Percentage,((((B314-B315)/100)*Metric_Module_Square_Foot_Area)-'Cumulative Volumes Metric'!E314)*Metric_Stone_Void_Percentage))","v":""},"",{"$f":"IF(B314=\"\",\"\",((Metric_System_Area_Input-Metric_Number_Of_Stacks*_xlfn.XLOOKUP(Metric_Layers,CrateData[Layer],CrateData[Surface Area (m2)]))*((B314-IF(B315=\"\",0,B315))/100))*Metric_Stone_Void_Percentage)","v":""},"","",{"$f":"IF(B314=\"\",\"\",SUM(J314:$J$563))","v":""},""]
["","",{"$f":"IF(B315=\"\",\"\",IFERROR(_xlfn.XLOOKUP(ROUND(B315,1),MetricIncrementalData[System Increment],_xlfn.XLOOKUP('Metric Incremental Crate'!$R$3,MetricIncrementalData[#Headers],MetricIncrementalData[]),,1),0))","v":""},"",{"$f":"IF(B315=\"\",\"\",IFERROR(_xlfn.XLOOKUP(ROUND(B315,1),MetricIncrementalData[System Increment],_xlfn.XLOOKUP(Metric_Incremental_Data_Target_Column,MetricIncrementalData[#Headers],MetricIncrementalData[]),,1),0))","v":""},{"$f":"IF(B315=\"\",\"\",IF(B316=\"\",((((B315-0)/100)*Metric_Module_Square_Foot_Area)-'Cumulative Volumes Metric'!E315)*Metric_Stone_Void_Percentage,((((B315-B316)/100)*Metric_Module_Square_Foot_Area)-'Cumulative Volumes Metric'!E315)*Metric_Stone_Void_Percentage))","v":""},"",{"$f":"IF(B315=\"\",\"\",((Metric_System_Area_Input-Metric_Number_Of_Stacks*_xlfn.XLOOKUP(Metric_Layers,CrateData[Layer],CrateData[Surface Area (m2)]))*((B315-IF(B316=\"\",0,B316))/100))*Metric_Stone_Void_Percentage)","v":""},"","",{"$f":"IF(B315=\"\",\"\",SUM(J315:$J$563))","v":""},""]
["","",{"$f":"IF(B316=\"\",\"\",IFERROR(_xlfn.XLOOKUP(ROUND(B316,1),MetricIncrementalData[System Increment],_xlfn.XLOOKUP('Metric Incremental Crate'!$R$3,MetricIncrementalData[#Headers],MetricIncrementalData[]),,1),0))","v":""},"",{"$f":"IF(B316=\"\",\"\",IFERROR(_xlfn.XLOOKUP(ROUND(B316,1),MetricIncrementalData[System Increment],_xlfn.XLOOKUP(Metric_Incremental_Data_Target_Column,MetricIncrementalData[#Headers],MetricIncrementalData[]),,1),0))","v":""},{"$f":"IF(B316=\"\",\"\",IF(B317=\"\",((((B316-0)/100)*Metric_Module_Square_Foot_Area)-'Cumulative Volumes Metric'!E316)*Metric_Stone_Void_Percentage,((((B316-B317)/100)*Metric_Module_Square_Foot_Area)-'Cumulative Volumes Metric'!E316)*Metric_Stone_Void_Percentage))","v":""},"",{"$f":"IF(B316=\"\",\"\",((Metric_System_Area_Input-Metric_Number_Of_Stacks*_xlfn.XLOOKUP(Metric_Layers,CrateData[Layer],CrateData[Surface Area (m2)]))*((B316-IF(B317=\"\",0,B317))/100))*Metric_Stone_Void_Percentage)","v":""},"","",{"$f":"IF(B316=\"\",\"\",SUM(J316:$J$563))","v":""},""]
["","",{"$f":"IF(B317=\"\",\"\",IFERROR(_xlfn.XLOOKUP(ROUND(B317,1),MetricIncrementalData[System Increment],_xlfn.XLOOKUP('Metric Incremental Crate'!$R$3,MetricIncrementalData[#Headers],MetricIncrementalData[]),,1),0))","v":""},"",{"$f":"IF(B317=\"\",\"\",IFERROR(_xlfn.XLOOKUP(ROUND(B317,1),MetricIncrementalData[System Increment],_xlfn.XLOOKUP(Metric_Incremental_Data_Target_Column,MetricIncrementalData[#Headers],MetricIncrementalData[]),,1),0))","v":""},{"$f":"IF(B317=\"\",\"\",IF(B318=\"\",((((B317-0)/100)*Metric_Module_Square_Foot_Area)-'Cumulative Volumes Metric'!E317)*Metric_Stone_Void_Percentage,((((B317-B318)/100)*Metric_Module_Square_Foot_Area)-'Cumulative Volumes Metric'!E317)*Metric_Stone_Void_Percentage))","v":""},"",{"$f":"IF(B317=\"\",\"\",((Metric_System_Area_Input-Metric_Number_Of_Stacks*_xlfn.XLOOKUP(Metric_Layers,CrateData[Layer],CrateData[Surface Area (m2)]))*((B317-IF(B318=\"\",0,B318))/100))*Metric_Stone_Void_Percentage)","v":""},"","",{"$f":"IF(B317=\"\",\"\",SUM(J317:$J$563))","v":""},""]
["","",{"$f":"IF(B318=\"\",\"\",IFERROR(_xlfn.XLOOKUP(ROUND(B318,1),MetricIncrementalData[System Increment],_xlfn.XLOOKUP('Metric Incremental Crate'!$R$3,MetricIncrementalData[#Headers],MetricIncrementalData[]),,1),0))","v":""},"",{"$f":"IF(B318=\"\",\"\",IFERROR(_xlfn.XLOOKUP(ROUND(B318,1),MetricIncrementalData[System Increment],_xlfn.XLOOKUP(Metric_Incremental_Data_Target_Column,MetricIncrementalData[#Headers],MetricIncrementalData[]),,1),0))","v":""},{"$f":"IF(B318=\"\",\"\",IF(B319=\"\",((((B318-0)/100)*Metric_Module_Square_Foot_Area)-'Cumulative Volumes Metric'!E318)*Metric_Stone_Void_Percentage,((((B318-B319)/100)*Metric_Module_Square_Foot_Area)-'Cumulative Volumes Metric'!E318)*Metric_Stone_Void_Percentage))","v":""},"",{"$f":"IF(B318=\"\",\"\",((Metric_System_Area_Input-Metric_Number_Of_Stacks*_xlfn.XLOOKUP(Metric_Layers,CrateData[Layer],CrateData[Surface Area (m2)]))*((B318-IF(B319=\"\",0,B319))/100))*Metric_Stone_Void_Percentage)","v":""},"","",{"$f":"IF(B318=\"\",\"\",SUM(J318:$J$563))","v":""},""]
["","",{"$f":"IF(B319=\"\",\"\",IFERROR(_xlfn.XLOOKUP(ROUND(B319,1),MetricIncrementalData[System Increment],_xlfn.XLOOKUP('Metric Incremental Crate'!$R$3,MetricIncrementalData[#Headers],MetricIncrementalData[]),,1),0))","v":""},"",{"$f":"IF(B319=\"\",\"\",IFERROR(_xlfn.XLOOKUP(ROUND(B319,1),MetricIncrementalData[System Increment],_xlfn.XLOOKUP(Metric_Incremental_Data_Target_Column,MetricIncrementalData[#Headers],MetricIncrementalData[]),,1),0))","v":""},{"$f":"IF(B319=\"\",\"\",IF(B320=\"\",((((B319-0)/100)*Metric_Module_Square_Foot_Area)-'Cumulative Volumes Metric'!E319)*Metric_Stone_Void_Percentage,((((B319-B320)/100)*Metric_Module_Square_Foot_Area)-'Cumulative Volumes Metric'!E319)*Metric_Stone_Void_Percentage))","v":""},"",{"$f":"IF(B319=\"\",\"\",((Metric_System_Area_Input-Metric_Number_Of_Stacks*_xlfn.XLOOKUP(Metric_Layers,CrateData[Layer],CrateData[Surface Area (m2)]))*((B319-IF(B320=\"\",0,B320))/100))*Metric_Stone_Void_Percentage)","v":""},"","",{"$f":"IF(B319=\"\",\"\",SUM(J319:$J$563))","v":""},""]
["","",{"$f":"IF(B320=\"\",\"\",IFERROR(_xlfn.XLOOKUP(ROUND(B320,1),MetricIncrementalData[System Increment],_xlfn.XLOOKUP('Metric Incremental Crate'!$R$3,MetricIncrementalData[#Headers],MetricIncrementalData[]),,1),0))","v":""},"",{"$f":"IF(B320=\"\",\"\",IFERROR(_xlfn.XLOOKUP(ROUND(B320,1),MetricIncrementalData[System Increment],_xlfn.XLOOKUP(Metric_Incremental_Data_Target_Column,MetricIncrementalData[#Headers],MetricIncrementalData[]),,1),0))","v":""},{"$f":"IF(B320=\"\",\"\",IF(B321=\"\",((((B320-0)/100)*Metric_Module_Square_Foot_Area)-'Cumulative Volumes Metric'!E320)*Metric_Stone_Void_Percentage,((((B320-B321)/100)*Metric_Module_Square_Foot_Area)-'Cumulative Volumes Metric'!E320)*Metric_Stone_Void_Percentage))","v":""},"",{"$f":"IF(B320=\"\",\"\",((Metric_System_Area_Input-Metric_Number_Of_Stacks*_xlfn.XLOOKUP(Metric_Layers,CrateData[Layer],CrateData[Surface Area (m2)]))*((B320-IF(B321=\"\",0,B321))/100))*Metric_Stone_Void_Percentage)","v":""},"","",{"$f":"IF(B320=\"\",\"\",SUM(J320:$J$563))","v":""},""]
["","",{"$f":"IF(B321=\"\",\"\",IFERROR(_xlfn.XLOOKUP(ROUND(B321,1),MetricIncrementalData[System Increment],_xlfn.XLOOKUP('Metric Incremental Crate'!$R$3,MetricIncrementalData[#Headers],MetricIncrementalData[]),,1),0))","v":""},"",{"$f":"IF(B321=\"\",\"\",IFERROR(_xlfn.XLOOKUP(ROUND(B321,1),MetricIncrementalData[System Increment],_xlfn.XLOOKUP(Metric_Incremental_Data_Target_Column,MetricIncrementalData[#Headers],MetricIncrementalData[]),,1),0))","v":""},{"$f":"IF(B321=\"\",\"\",IF(B322=\"\",((((B321-0)/100)*Metric_Module_Square_Foot_Area)-'Cumulative Volumes Metric'!E321)*Metric_Stone_Void_Percentage,((((B321-B322)/100)*Metric_Module_Square_Foot_Area)-'Cumulative Volumes Metric'!E321)*Metric_Stone_Void_Percentage))","v":""},"",{"$f":"IF(B321=\"\",\"\",((Metric_System_Area_Input-Metric_Number_Of_Stacks*_xlfn.XLOOKUP(Metric_Layers,CrateData[Layer],CrateData[Surface Area (m2)]))*((B321-IF(B322=\"\",0,B322))/100))*Metric_Stone_Void_Percentage)","v":""},"","",{"$f":"IF(B321=\"\",\"\",SUM(J321:$J$563))","v":""},""]
["","",{"$f":"IF(B322=\"\",\"\",IFERROR(_xlfn.XLOOKUP(ROUND(B322,1),MetricIncrementalData[System Increment],_xlfn.XLOOKUP('Metric Incremental Crate'!$R$3,MetricIncrementalData[#Headers],MetricIncrementalData[]),,1),0))","v":""},"",{"$f":"IF(B322=\"\",\"\",IFERROR(_xlfn.XLOOKUP(ROUND(B322,1),MetricIncrementalData[System Increment],_xlfn.XLOOKUP(Metric_Incremental_Data_Target_Column,MetricIncrementalData[#Headers],MetricIncrementalData[]),,1),0))","v":""},{"$f":"IF(B322=\"\",\"\",IF(B323=\"\",((((B322-0)/100)*Metric_Module_Square_Foot_Area)-'Cumulative Volumes Metric'!E322)*Metric_Stone_Void_Percentage,((((B322-B323)/100)*Metric_Module_Square_Foot_Area)-'Cumulative Volumes Metric'!E322)*Metric_Stone_Void_Percentage))","v":""},"",{"$f":"IF(B322=\"\",\"\",((Metric_System_Area_Input-Metric_Number_Of_Stacks*_xlfn.XLOOKUP(Metric_Layers,CrateData[Layer],CrateData[Surface Area (m2)]))*((B322-IF(B323=\"\",0,B323))/100))*Metric_Stone_Void_Percentage)","v":""},"","",{"$f":"IF(B322=\"\",\"\",SUM(J322:$J$563))","v":""},""]
["","",{"$f":"IF(B323=\"\",\"\",IFERROR(_xlfn.XLOOKUP(ROUND(B323,1),MetricIncrementalData[System Increment],_xlfn.XLOOKUP('Metric Incremental Crate'!$R$3,MetricIncrementalData[#Headers],MetricIncrementalData[]),,1),0))","v":""},"",{"$f":"IF(B323=\"\",\"\",IFERROR(_xlfn.XLOOKUP(ROUND(B323,1),MetricIncrementalData[System Increment],_xlfn.XLOOKUP(Metric_Incremental_Data_Target_Column,MetricIncrementalData[#Headers],MetricIncrementalData[]),,1),0))","v":""},{"$f":"IF(B323=\"\",\"\",IF(B324=\"\",((((B323-0)/100)*Metric_Module_Square_Foot_Area)-'Cumulative Volumes Metric'!E323)*Metric_Stone_Void_Percentage,((((B323-B324)/100)*Metric_Module_Square_Foot_Area)-'Cumulative Volumes Metric'!E323)*Metric_Stone_Void_Percentage))","v":""},"",{"$f":"IF(B323=\"\",\"\",((Metric_System_Area_Input-Metric_Number_Of_Stacks*_xlfn.XLOOKUP(Metric_Layers,CrateData[Layer],CrateData[Surface Area (m2)]))*((B323-IF(B324=\"\",0,B324))/100))*Metric_Stone_Void_Percentage)","v":""},"","",{"$f":"IF(B323=\"\",\"\",SUM(J323:$J$563))","v":""},""]
["","",{"$f":"IF(B324=\"\",\"\",IFERROR(_xlfn.XLOOKUP(ROUND(B324,1),MetricIncrementalData[System Increment],_xlfn.XLOOKUP('Metric Incremental Crate'!$R$3,MetricIncrementalData[#Headers],MetricIncrementalData[]),,1),0))","v":""},"",{"$f":"IF(B324=\"\",\"\",IFERROR(_xlfn.XLOOKUP(ROUND(B324,1),MetricIncrementalData[System Increment],_xlfn.XLOOKUP(Metric_Incremental_Data_Target_Column,MetricIncrementalData[#Headers],MetricIncrementalData[]),,1),0))","v":""},{"$f":"IF(B324=\"\",\"\",IF(B325=\"\",((((B324-0)/100)*Metric_Module_Square_Foot_Area)-'Cumulative Volumes Metric'!E324)*Metric_Stone_Void_Percentage,((((B324-B325)/100)*Metric_Module_Square_Foot_Area)-'Cumulative Volumes Metric'!E324)*Metric_Stone_Void_Percentage))","v":""},"",{"$f":"IF(B324=\"\",\"\",((Metric_System_Area_Input-Metric_Number_Of_Stacks*_xlfn.XLOOKUP(Metric_Layers,CrateData[Layer],CrateData[Surface Area (m2)]))*((B324-IF(B325=\"\",0,B325))/100))*Metric_Stone_Void_Percentage)","v":""},"","",{"$f":"IF(B324=\"\",\"\",SUM(J324:$J$563))","v":""},""]
["","",{"$f":"IF(B325=\"\",\"\",IFERROR(_xlfn.XLOOKUP(ROUND(B325,1),MetricIncrementalData[System Increment],_xlfn.XLOOKUP('Metric Incremental Crate'!$R$3,MetricIncrementalData[#Headers],MetricIncrementalData[]),,1),0))","v":""},"",{"$f":"IF(B325=\"\",\"\",IFERROR(_xlfn.XLOOKUP(ROUND(B325,1),MetricIncrementalData[System Increment],_xlfn.XLOOKUP(Metric_Incremental_Data_Target_Column,MetricIncrementalData[#Headers],MetricIncrementalData[]),,1),0))","v":""},{"$f":"IF(B325=\"\",\"\",IF(B326=\"\",((((B325-0)/100)*Metric_Module_Square_Foot_Area)-'Cumulative Volumes Metric'!E325)*Metric_Stone_Void_Percentage,((((B325-B326)/100)*Metric_Module_Square_Foot_Area)-'Cumulative Volumes Metric'!E325)*Metric_Stone_Void_Percentage))","v":""},"",{"$f":"IF(B325=\"\",\"\",((Metric_System_Area_Input-Metric_Number_Of_Stacks*_xlfn.XLOOKUP(Metric_Layers,CrateData[Layer],CrateData[Surface Area (m2)]))*((B325-IF(B326=\"\",0,B326))/100))*Metric_Stone_Void_Percentage)","v":""},"","",{"$f":"IF(B325=\"\",\"\",SUM(J325:$J$563))","v":""},""]
["","",{"$f":"IF(B326=\"\",\"\",IFERROR(_xlfn.XLOOKUP(ROUND(B326,1),MetricIncrementalData[System Increment],_xlfn.XLOOKUP('Metric Incremental Crate'!$R$3,MetricIncrementalData[#Headers],MetricIncrementalData[]),,1),0))","v":""},"",{"$f":"IF(B326=\"\",\"\",IFERROR(_xlfn.XLOOKUP(ROUND(B326,1),MetricIncrementalData[System Increment],_xlfn.XLOOKUP(Metric_Incremental_Data_Target_Column,MetricIncrementalData[#Headers],MetricIncrementalData[]),,1),0))","v":""},{"$f":"IF(B326=\"\",\"\",IF(B327=\"\",((((B326-0)/100)*Metric_Module_Square_Foot_Area)-'Cumulative Volumes Metric'!E326)*Metric_Stone_Void_Percentage,((((B326-B327)/100)*Metric_Module_Square_Foot_Area)-'Cumulative Volumes Metric'!E326)*Metric_Stone_Void_Percentage))","v":""},"",{"$f":"IF(B326=\"\",\"\",((Metric_System_Area_Input-Metric_Number_Of_Stacks*_xlfn.XLOOKUP(Metric_Layers,CrateData[Layer],CrateData[Surface Area (m2)]))*((B326-IF(B327=\"\",0,B327))/100))*Metric_Stone_Void_Percentage)","v":""},"","",{"$f":"IF(B326=\"\",\"\",SUM(J326:$J$563))","v":""},""]
["","",{"$f":"IF(B327=\"\",\"\",IFERROR(_xlfn.XLOOKUP(ROUND(B327,1),MetricIncrementalData[System Increment],_xlfn.XLOOKUP('Metric Incremental Crate'!$R$3,MetricIncrementalData[#Headers],MetricIncrementalData[]),,1),0))","v":""},"",{"$f":"IF(B327=\"\",\"\",IFERROR(_xlfn.XLOOKUP(ROUND(B327,1),MetricIncrementalData[System Increment],_xlfn.XLOOKUP(Metric_Incremental_Data_Target_Column,MetricIncrementalData[#Headers],MetricIncrementalData[]),,1),0))","v":""},{"$f":"IF(B327=\"\",\"\",IF(B328=\"\",((((B327-0)/100)*Metric_Module_Square_Foot_Area)-'Cumulative Volumes Metric'!E327)*Metric_Stone_Void_Percentage,((((B327-B328)/100)*Metric_Module_Square_Foot_Area)-'Cumulative Volumes Metric'!E327)*Metric_Stone_Void_Percentage))","v":""},"",{"$f":"IF(B327=\"\",\"\",((Metric_System_Area_Input-Metric_Number_Of_Stacks*_xlfn.XLOOKUP(Metric_Layers,CrateData[Layer],CrateData[Surface Area (m2)]))*((B327-IF(B328=\"\",0,B328))/100))*Metric_Stone_Void_Percentage)","v":""},"","",{"$f":"IF(B327=\"\",\"\",SUM(J327:$J$563))","v":""},""]
["","",{"$f":"IF(B328=\"\",\"\",IFERROR(_xlfn.XLOOKUP(ROUND(B328,1),MetricIncrementalData[System Increment],_xlfn.XLOOKUP('Metric Incremental Crate'!$R$3,MetricIncrementalData[#Headers],MetricIncrementalData[]),,1),0))","v":""},"",{"$f":"IF(B328=\"\",\"\",IFERROR(_xlfn.XLOOKUP(ROUND(B328,1),MetricIncrementalData[System Increment],_xlfn.XLOOKUP(Metric_Incremental_Data_Target_Column,MetricIncrementalData[#Headers],MetricIncrementalData[]),,1),0))","v":""},{"$f":"IF(B328=\"\",\"\",IF(B329=\"\",((((B328-0)/100)*Metric_Module_Square_Foot_Area)-'Cumulative Volumes Metric'!E328)*Metric_Stone_Void_Percentage,((((B328-B329)/100)*Metric_Module_Square_Foot_Area)-'Cumulative Volumes Metric'!E328)*Metric_Stone_Void_Percentage))","v":""},"",{"$f":"IF(B328=\"\",\"\",((Metric_System_Area_Input-Metric_Number_Of_Stacks*_xlfn.XLOOKUP(Metric_Layers,CrateData[Layer],CrateData[Surface Area (m2)]))*((B328-IF(B329=\"\",0,B329))/100))*Metric_Stone_Void_Percentage)","v":""},"","",{"$f":"IF(B328=\"\",\"\",SUM(J328:$J$563))","v":""},""]
["","",{"$f":"IF(B329=\"\",\"\",IFERROR(_xlfn.XLOOKUP(ROUND(B329,1),MetricIncrementalData[System Increment],_xlfn.XLOOKUP('Metric Incremental Crate'!$R$3,MetricIncrementalData[#Headers],MetricIncrementalData[]),,1),0))","v":""},"",{"$f":"IF(B329=\"\",\"\",IFERROR(_xlfn.XLOOKUP(ROUND(B329,1),MetricIncrementalData[System Increment],_xlfn.XLOOKUP(Metric_Incremental_Data_Target_Column,MetricIncrementalData[#Headers],MetricIncrementalData[]),,1),0))","v":""},{"$f":"IF(B329=\"\",\"\",IF(B330=\"\",((((B329-0)/100)*Metric_Module_Square_Foot_Area)-'Cumulative Volumes Metric'!E329)*Metric_Stone_Void_Percentage,((((B329-B330)/100)*Metric_Module_Square_Foot_Area)-'Cumulative Volumes Metric'!E329)*Metric_Stone_Void_Percentage))","v":""},"",{"$f":"IF(B329=\"\",\"\",((Metric_System_Area_Input-Metric_Number_Of_Stacks*_xlfn.XLOOKUP(Metric_Layers,CrateData[Layer],CrateData[Surface Area (m2)]))*((B329-IF(B330=\"\",0,B330))/100))*Metric_Stone_Void_Percentage)","v":""},"","",{"$f":"IF(B329=\"\",\"\",SUM(J329:$J$563))","v":""},""]
["","",{"$f":"IF(B330=\"\",\"\",IFERROR(_xlfn.XLOOKUP(ROUND(B330,1),MetricIncrementalData[System Increment],_xlfn.XLOOKUP('Metric Incremental Crate'!$R$3,MetricIncrementalData[#Headers],MetricIncrementalData[]),,1),0))","v":""},"",{"$f":"IF(B330=\"\",\"\",IFERROR(_xlfn.XLOOKUP(ROUND(B330,1),MetricIncrementalData[System Increment],_xlfn.XLOOKUP(Metric_Incremental_Data_Target_Column,MetricIncrementalData[#Headers],MetricIncrementalData[]),,1),0))","v":""},{"$f":"IF(B330=\"\",\"\",IF(B331=\"\",((((B330-0)/100)*Metric_Module_Square_Foot_Area)-'Cumulative Volumes Metric'!E330)*Metric_Stone_Void_Percentage,((((B330-B331)/100)*Metric_Module_Square_Foot_Area)-'Cumulative Volumes Metric'!E330)*Metric_Stone_Void_Percentage))","v":""},"",{"$f":"IF(B330=\"\",\"\",((Metric_System_Area_Input-Metric_Number_Of_Stacks*_xlfn.XLOOKUP(Metric_Layers,CrateData[Layer],CrateData[Surface Area (m2)]))*((B330-IF(B331=\"\",0,B331))/100))*Metric_Stone_Void_Percentage)","v":""},"","",{"$f":"IF(B330=\"\",\"\",SUM(J330:$J$563))","v":""},""]
["","",{"$f":"IF(B331=\"\",\"\",IFERROR(_xlfn.XLOOKUP(ROUND(B331,1),MetricIncrementalData[System Increment],_xlfn.XLOOKUP('Metric Incremental Crate'!$R$3,MetricIncrementalData[#Headers],MetricIncrementalData[]),,1),0))","v":""},"",{"$f":"IF(B331=\"\",\"\",IFERROR(_xlfn.XLOOKUP(ROUND(B331,1),MetricIncrementalData[System Increment],_xlfn.XLOOKUP(Metric_Incremental_Data_Target_Column,MetricIncrementalData[#Headers],MetricIncrementalData[]),,1),0))","v":""},{"$f":"IF(B331=\"\",\"\",IF(B332=\"\",((((B331-0)/100)*Metric_Module_Square_Foot_Area)-'Cumulative Volumes Metric'!E331)*Metric_Stone_Void_Percentage,((((B331-B332)/100)*Metric_Module_Square_Foot_Area)-'Cumulative Volumes Metric'!E331)*Metric_Stone_Void_Percentage))","v":""},"",{"$f":"IF(B331=\"\",\"\",((Metric_System_Area_Input-Metric_Number_Of_Stacks*_xlfn.XLOOKUP(Metric_Layers,CrateData[Layer],CrateData[Surface Area (m2)]))*((B331-IF(B332=\"\",0,B332))/100))*Metric_Stone_Void_Percentage)","v":""},"","",{"$f":"IF(B331=\"\",\"\",SUM(J331:$J$563))","v":""},""]
["","",{"$f":"IF(B332=\"\",\"\",IFERROR(_xlfn.XLOOKUP(ROUND(B332,1),MetricIncrementalData[System Increment],_xlfn.XLOOKUP('Metric Incremental Crate'!$R$3,MetricIncrementalData[#Headers],MetricIncrementalData[]),,1),0))","v":""},"",{"$f":"IF(B332=\"\",\"\",IFERROR(_xlfn.XLOOKUP(ROUND(B332,1),MetricIncrementalData[System Increment],_xlfn.XLOOKUP(Metric_Incremental_Data_Target_Column,MetricIncrementalData[#Headers],MetricIncrementalData[]),,1),0))","v":""},{"$f":"IF(B332=\"\",\"\",IF(B333=\"\",((((B332-0)/100)*Metric_Module_Square_Foot_Area)-'Cumulative Volumes Metric'!E332)*Metric_Stone_Void_Percentage,((((B332-B333)/100)*Metric_Module_Square_Foot_Area)-'Cumulative Volumes Metric'!E332)*Metric_Stone_Void_Percentage))","v":""},"",{"$f":"IF(B332=\"\",\"\",((Metric_System_Area_Input-Metric_Number_Of_Stacks*_xlfn.XLOOKUP(Metric_Layers,CrateData[Layer],CrateData[Surface Area (m2)]))*((B332-IF(B333=\"\",0,B333))/100))*Metric_Stone_Void_Percentage)","v":""},"","",{"$f":"IF(B332=\"\",\"\",SUM(J332:$J$563))","v":""},""]
["","",{"$f":"IF(B333=\"\",\"\",IFERROR(_xlfn.XLOOKUP(ROUND(B333,1),MetricIncrementalData[System Increment],_xlfn.XLOOKUP('Metric Incremental Crate'!$R$3,MetricIncrementalData[#Headers],MetricIncrementalData[]),,1),0))","v":""},"",{"$f":"IF(B333=\"\",\"\",IFERROR(_xlfn.XLOOKUP(ROUND(B333,1),MetricIncrementalData[System Increment],_xlfn.XLOOKUP(Metric_Incremental_Data_Target_Column,MetricIncrementalData[#Headers],MetricIncrementalData[]),,1),0))","v":""},{"$f":"IF(B333=\"\",\"\",IF(B334=\"\",((((B333-0)/100)*Metric_Module_Square_Foot_Area)-'Cumulative Volumes Metric'!E333)*Metric_Stone_Void_Percentage,((((B333-B334)/100)*Metric_Module_Square_Foot_Area)-'Cumulative Volumes Metric'!E333)*Metric_Stone_Void_Percentage))","v":""},"",{"$f":"IF(B333=\"\",\"\",((Metric_System_Area_Input-Metric_Number_Of_Stacks*_xlfn.XLOOKUP(Metric_Layers,CrateData[Layer],CrateData[Surface Area (m2)]))*((B333-IF(B334=\"\",0,B334))/100))*Metric_Stone_Void_Percentage)","v":""},"","",{"$f":"IF(B333=\"\",\"\",SUM(J333:$J$563))","v":""},""]
["","",{"$f":"IF(B334=\"\",\"\",IFERROR(_xlfn.XLOOKUP(ROUND(B334,1),MetricIncrementalData[System Increment],_xlfn.XLOOKUP('Metric Incremental Crate'!$R$3,MetricIncrementalData[#Headers],MetricIncrementalData[]),,1),0))","v":""},"",{"$f":"IF(B334=\"\",\"\",IFERROR(_xlfn.XLOOKUP(ROUND(B334,1),MetricIncrementalData[System Increment],_xlfn.XLOOKUP(Metric_Incremental_Data_Target_Column,MetricIncrementalData[#Headers],MetricIncrementalData[]),,1),0))","v":""},{"$f":"IF(B334=\"\",\"\",IF(B335=\"\",((((B334-0)/100)*Metric_Module_Square_Foot_Area)-'Cumulative Volumes Metric'!E334)*Metric_Stone_Void_Percentage,((((B334-B335)/100)*Metric_Module_Square_Foot_Area)-'Cumulative Volumes Metric'!E334)*Metric_Stone_Void_Percentage))","v":""},"",{"$f":"IF(B334=\"\",\"\",((Metric_System_Area_Input-Metric_Number_Of_Stacks*_xlfn.XLOOKUP(Metric_Layers,CrateData[Layer],CrateData[Surface Area (m2)]))*((B334-IF(B335=\"\",0,B335))/100))*Metric_Stone_Void_Percentage)","v":""},"","",{"$f":"IF(B334=\"\",\"\",SUM(J334:$J$563))","v":""},""]
["","",{"$f":"IF(B335=\"\",\"\",IFERROR(_xlfn.XLOOKUP(ROUND(B335,1),MetricIncrementalData[System Increment],_xlfn.XLOOKUP('Metric Incremental Crate'!$R$3,MetricIncrementalData[#Headers],MetricIncrementalData[]),,1),0))","v":""},"",{"$f":"IF(B335=\"\",\"\",IFERROR(_xlfn.XLOOKUP(ROUND(B335,1),MetricIncrementalData[System Increment],_xlfn.XLOOKUP(Metric_Incremental_Data_Target_Column,MetricIncrementalData[#Headers],MetricIncrementalData[]),,1),0))","v":""},{"$f":"IF(B335=\"\",\"\",IF(B336=\"\",((((B335-0)/100)*Metric_Module_Square_Foot_Area)-'Cumulative Volumes Metric'!E335)*Metric_Stone_Void_Percentage,((((B335-B336)/100)*Metric_Module_Square_Foot_Area)-'Cumulative Volumes Metric'!E335)*Metric_Stone_Void_Percentage))","v":""},"",{"$f":"IF(B335=\"\",\"\",((Metric_System_Area_Input-Metric_Number_Of_Stacks*_xlfn.XLOOKUP(Metric_Layers,CrateData[Layer],CrateData[Surface Area (m2)]))*((B335-IF(B336=\"\",0,B336))/100))*Metric_Stone_Void_Percentage)","v":""},"","",{"$f":"IF(B335=\"\",\"\",SUM(J335:$J$563))","v":""},""]
[{"$f":"IF(B338<>\"\",A335+1,\"\")","v":""},"",{"$f":"IF(B336=\"\",\"\",IFERROR(_xlfn.XLOOKUP(ROUND(B336,1),MetricIncrementalData[System Increment],_xlfn.XLOOKUP('Metric Incremental Crate'!$R$3,MetricIncrementalData[#Headers],MetricIncrementalData[]),,1),0))","v":""},"",{"$f":"IF(B336=\"\",\"\",IFERROR(_xlfn.XLOOKUP(ROUND(B336,1),MetricIncrementalData[System Increment],_xlfn.XLOOKUP(Metric_Incremental_Data_Target_Column,MetricIncrementalData[#Headers],MetricIncrementalData[]),,1),0))","v":""},{"$f":"IF(B336=\"\",\"\",IF(B337=\"\",((((B336-0)/100)*Metric_Module_Square_Foot_Area)-'Cumulative Volumes Metric'!E336)*Metric_Stone_Void_Percentage,((((B336-B337)/100)*Metric_Module_Square_Foot_Area)-'Cumulative Volumes Metric'!E336)*Metric_Stone_Void_Percentage))","v":""},"",{"$f":"IF(B336=\"\",\"\",((Metric_System_Area_Input-Metric_Number_Of_Stacks*_xlfn.XLOOKUP(Metric_Layers,CrateData[Layer],CrateData[Surface Area (m2)]))*((B336-IF(B337=\"\",0,B337))/100))*Metric_Stone_Void_Percentage)","v":""},"","",{"$f":"IF(B336=\"\",\"\",SUM(J336:$J$563))","v":""},""]
["","",{"$f":"IF(B337=\"\",\"\",IFERROR(_xlfn.XLOOKUP(ROUND(B337,1),MetricIncrementalData[System Increment],_xlfn.XLOOKUP('Metric Incremental Crate'!$R$3,MetricIncrementalData[#Headers],MetricIncrementalData[]),,1),0))","v":""},"",{"$f":"IF(B337=\"\",\"\",IFERROR(_xlfn.XLOOKUP(ROUND(B337,1),MetricIncrementalData[System Increment],_xlfn.XLOOKUP(Metric_Incremental_Data_Target_Column,MetricIncrementalData[#Headers],MetricIncrementalData[]),,1),0))","v":""},{"$f":"IF(B337=\"\",\"\",IF(B338=\"\",((((B337-0)/100)*Metric_Module_Square_Foot_Area)-'Cumulative Volumes Metric'!E337)*Metric_Stone_Void_Percentage,((((B337-B338)/100)*Metric_Module_Square_Foot_Area)-'Cumulative Volumes Metric'!E337)*Metric_Stone_Void_Percentage))","v":""},"",{"$f":"IF(B337=\"\",\"\",((Metric_System_Area_Input-Metric_Number_Of_Stacks*_xlfn.XLOOKUP(Metric_Layers,CrateData[Layer],CrateData[Surface Area (m2)]))*((B337-IF(B338=\"\",0,B338))/100))*Metric_Stone_Void_Percentage)","v":""},"","",{"$f":"IF(B337=\"\",\"\",SUM(J337:$J$563))","v":""},""]
["","",{"$f":"IF(B338=\"\",\"\",IFERROR(_xlfn.XLOOKUP(ROUND(B338,1),MetricIncrementalData[System Increment],_xlfn.XLOOKUP('Metric Incremental Crate'!$R$3,MetricIncrementalData[#Headers],MetricIncrementalData[]),,1),0))","v":""},{"$f":"IFERROR(C338*Metric_Number_Of_Stacks,\"\")","v":""},{"$f":"IF(B338=\"\",\"\",IFERROR(_xlfn.XLOOKUP(ROUND(B338,1),MetricIncrementalData[System Increment],_xlfn.XLOOKUP(Metric_Incremental_Data_Target_Column,MetricIncrementalData[#Headers],MetricIncrementalData[]),,1),0))","v":""},{"$f":"IF(B338=\"\",\"\",IF(B339=\"\",((((B338-0)/100)*Metric_Module_Square_Foot_Area)-'Cumulative Volumes Metric'!E338)*Metric_Stone_Void_Percentage,((((B338-B339)/100)*Metric_Module_Square_Foot_Area)-'Cumulative Volumes Metric'!E338)*Metric_Stone_Void_Percentage))","v":""},{"$f":"IFERROR(F338*Metric_Number_Of_Stacks,\"\")","v":""},{"$f":"IF(B338=\"\",\"\",((Metric_System_Area_Input-Metric_Number_Of_Stacks*_xlfn.XLOOKUP(Metric_Layers,CrateData[Layer],CrateData[Surface Area (m2)]))*((B338-IF(B339=\"\",0,B339))/100))*Metric_Stone_Void_Percentage)","v":""},"","",{"$f":"IF(B338=\"\",\"\",SUM(J338:$J$563))","v":""},""]
["","",{"$f":"IF(B339=\"\",\"\",IFERROR(_xlfn.XLOOKUP(ROUND(B339,1),MetricIncrementalData[System Increment],_xlfn.XLOOKUP('Metric Incremental Crate'!$R$3,MetricIncrementalData[#Headers],MetricIncrementalData[]),,1),0))","v":""},"",{"$f":"IF(B339=\"\",\"\",IFERROR(_xlfn.XLOOKUP(ROUND(B339,1),MetricIncrementalData[System Increment],_xlfn.XLOOKUP(Metric_Incremental_Data_Target_Column,MetricIncrementalData[#Headers],MetricIncrementalData[]),,1),0))","v":""},{"$f":"IF(B339=\"\",\"\",IF(B340=\"\",((((B339-0)/100)*Metric_Module_Square_Foot_Area)-'Cumulative Volumes Metric'!E339)*Metric_Stone_Void_Percentage,((((B339-B340)/100)*Metric_Module_Square_Foot_Area)-'Cumulative Volumes Metric'!E339)*Metric_Stone_Void_Percentage))","v":""},"",{"$f":"IF(B339=\"\",\"\",((Metric_System_Area_Input-Metric_Number_Of_Stacks*_xlfn.XLOOKUP(Metric_Layers,CrateData[Layer],CrateData[Surface Area (m2)]))*((B339-IF(B340=\"\",0,B340))/100))*Metric_Stone_Void_Percentage)","v":""},{"$f":"IFERROR(IF($AW$17, H339+G339, G339), \"\")","v":""},"",{"$f":"IF(B339=\"\",\"\",SUM(J339:$J$563))","v":""},""]
["","",{"$f":"IF(B340=\"\",\"\",IFERROR(_xlfn.XLOOKUP(ROUND(B340,1),MetricIncrementalData[System Increment],_xlfn.XLOOKUP('Metric Incremental Crate'!$R$3,MetricIncrementalData[#Headers],MetricIncrementalData[]),,1),0))","v":""},"",{"$f":"IF(B340=\"\",\"\",IFERROR(_xlfn.XLOOKUP(ROUND(B340,1),MetricIncrementalData[System Increment],_xlfn.XLOOKUP(Metric_Incremental_Data_Target_Column,MetricIncrementalData[#Headers],MetricIncrementalData[]),,1),0))","v":""},{"$f":"IF(B340=\"\",\"\",IF(B341=\"\",((((B340-0)/100)*Metric_Module_Square_Foot_Area)-'Cumulative Volumes Metric'!E340)*Metric_Stone_Void_Percentage,((((B340-B341)/100)*Metric_Module_Square_Foot_Area)-'Cumulative Volumes Metric'!E340)*Metric_Stone_Void_Percentage))","v":""},"",{"$f":"IF(B340=\"\",\"\",((Metric_System_Area_Input-Metric_Number_Of_Stacks*_xlfn.XLOOKUP(Metric_Layers,CrateData[Layer],CrateData[Surface Area (m2)]))*((B340-IF(B341=\"\",0,B341))/100))*Metric_Stone_Void_Percentage)","v":""},"","",{"$f":"IF(B340=\"\",\"\",SUM(J340:$J$563))","v":""},""]
["","",{"$f":"IF(B341=\"\",\"\",IFERROR(_xlfn.XLOOKUP(ROUND(B341,1),MetricIncrementalData[System Increment],_xlfn.XLOOKUP('Metric Incremental Crate'!$R$3,MetricIncrementalData[#Headers],MetricIncrementalData[]),,1),0))","v":""},"",{"$f":"IF(B341=\"\",\"\",IFERROR(_xlfn.XLOOKUP(ROUND(B341,1),MetricIncrementalData[System Increment],_xlfn.XLOOKUP(Metric_Incremental_Data_Target_Column,MetricIncrementalData[#Headers],MetricIncrementalData[]),,1),0))","v":""},{"$f":"IF(B341=\"\",\"\",IF(B342=\"\",((((B341-0)/100)*Metric_Module_Square_Foot_Area)-'Cumulative Volumes Metric'!E341)*Metric_Stone_Void_Percentage,((((B341-B342)/100)*Metric_Module_Square_Foot_Area)-'Cumulative Volumes Metric'!E341)*Metric_Stone_Void_Percentage))","v":""},"",{"$f":"IF(B341=\"\",\"\",((Metric_System_Area_Input-Metric_Number_Of_Stacks*_xlfn.XLOOKUP(Metric_Layers,CrateData[Layer],CrateData[Surface Area (m2)]))*((B341-IF(B342=\"\",0,B342))/100))*Metric_Stone_Void_Percentage)","v":""},"","",{"$f":"IF(B341=\"\",\"\",SUM(J341:$J$563))","v":""},""]
["",{"$f":"IFERROR(IF(B341-1<1,\"\",B341-1),\"\")","v":""},{"$f":"IF(B342=\"\",\"\",IFERROR(_xlfn.XLOOKUP(ROUND(B342,1),MetricIncrementalData[System Increment],_xlfn.XLOOKUP('Metric Incremental Crate'!$R$3,MetricIncrementalData[#Headers],MetricIncrementalData[]),,1),0))","v":""},"",{"$f":"IF(B342=\"\",\"\",IFERROR(_xlfn.XLOOKUP(ROUND(B342,1),MetricIncrementalData[System Increment],_xlfn.XLOOKUP(Metric_Incremental_Data_Target_Column,MetricIncrementalData[#Headers],MetricIncrementalData[]),,1),0))","v":""},{"$f":"IF(B342=\"\",\"\",IF(B343=\"\",((((B342-0)/100)*Metric_Module_Square_Foot_Area)-'Cumulative Volumes Metric'!E342)*Metric_Stone_Void_Percentage,((((B342-B343)/100)*Metric_Module_Square_Foot_Area)-'Cumulative Volumes Metric'!E342)*Metric_Stone_Void_Percentage))","v":""},"",{"$f":"IF(B342=\"\",\"\",((Metric_System_Area_Input-Metric_Number_Of_Stacks*_xlfn.XLOOKUP(Metric_Layers,CrateData[Layer],CrateData[Surface Area (m2)]))*((B342-IF(B343=\"\",0,B343))/100))*Metric_Stone_Void_Percentage)","v":""},"",{"$f":"IFERROR(I342+D342,\"\")","v":""},{"$f":"IF(B342=\"\",\"\",SUM(J342:$J$563))","v":""},{"$f":"IFERROR($I$11+B342/100,\"\")","v":""}]
["","",{"$f":"IF(B343=\"\",\"\",IFERROR(_xlfn.XLOOKUP(ROUND(B343,1),MetricIncrementalData[System Increment],_xlfn.XLOOKUP('Metric Incremental Crate'!$R$3,MetricIncrementalData[#Headers],MetricIncrementalData[]),,1),0))","v":""},"",{"$f":"IF(B343=\"\",\"\",IFERROR(_xlfn.XLOOKUP(ROUND(B343,1),MetricIncrementalData[System Increment],_xlfn.XLOOKUP(Metric_Incremental_Data_Target_Column,MetricIncrementalData[#Headers],MetricIncrementalData[]),,1),0))","v":""},{"$f":"IF(B343=\"\",\"\",IF(B344=\"\",((((B343-0)/100)*Metric_Module_Square_Foot_Area)-'Cumulative Volumes Metric'!E343)*Metric_Stone_Void_Percentage,((((B343-B344)/100)*Metric_Module_Square_Foot_Area)-'Cumulative Volumes Metric'!E343)*Metric_Stone_Void_Percentage))","v":""},"",{"$f":"IF(B343=\"\",\"\",((Metric_System_Area_Input-Metric_Number_Of_Stacks*_xlfn.XLOOKUP(Metric_Layers,CrateData[Layer],CrateData[Surface Area (m2)]))*((B343-IF(B344=\"\",0,B344))/100))*Metric_Stone_Void_Percentage)","v":""},"","",{"$f":"IF(B343=\"\",\"\",SUM(J343:$J$563))","v":""},""]
["","",{"$f":"IF(B344=\"\",\"\",IFERROR(_xlfn.XLOOKUP(ROUND(B344,1),MetricIncrementalData[System Increment],_xlfn.XLOOKUP('Metric Incremental Crate'!$R$3,MetricIncrementalData[#Headers],MetricIncrementalData[]),,1),0))","v":""},"",{"$f":"IF(B344=\"\",\"\",IFERROR(_xlfn.XLOOKUP(ROUND(B344,1),MetricIncrementalData[System Increment],_xlfn.XLOOKUP(Metric_Incremental_Data_Target_Column,MetricIncrementalData[#Headers],MetricIncrementalData[]),,1),0))","v":""},{"$f":"IF(B344=\"\",\"\",IF(B345=\"\",((((B344-0)/100)*Metric_Module_Square_Foot_Area)-'Cumulative Volumes Metric'!E344)*Metric_Stone_Void_Percentage,((((B344-B345)/100)*Metric_Module_Square_Foot_Area)-'Cumulative Volumes Metric'!E344)*Metric_Stone_Void_Percentage))","v":""},"",{"$f":"IF(B344=\"\",\"\",((Metric_System_Area_Input-Metric_Number_Of_Stacks*_xlfn.XLOOKUP(Metric_Layers,CrateData[Layer],CrateData[Surface Area (m2)]))*((B344-IF(B345=\"\",0,B345))/100))*Metric_Stone_Void_Percentage)","v":""},"","",{"$f":"IF(B344=\"\",\"\",SUM(J344:$J$563))","v":""},""]
["","",{"$f":"IF(B345=\"\",\"\",IFERROR(_xlfn.XLOOKUP(ROUND(B345,1),MetricIncrementalData[System Increment],_xlfn.XLOOKUP('Metric Incremental Crate'!$R$3,MetricIncrementalData[#Headers],MetricIncrementalData[]),,1),0))","v":""},"",{"$f":"IF(B345=\"\",\"\",IFERROR(_xlfn.XLOOKUP(ROUND(B345,1),MetricIncrementalData[System Increment],_xlfn.XLOOKUP(Metric_Incremental_Data_Target_Column,MetricIncrementalData[#Headers],MetricIncrementalData[]),,1),0))","v":""},{"$f":"IF(B345=\"\",\"\",IF(B346=\"\",((((B345-0)/100)*Metric_Module_Square_Foot_Area)-'Cumulative Volumes Metric'!E345)*Metric_Stone_Void_Percentage,((((B345-B346)/100)*Metric_Module_Square_Foot_Area)-'Cumulative Volumes Metric'!E345)*Metric_Stone_Void_Percentage))","v":""},"",{"$f":"IF(B345=\"\",\"\",((Metric_System_Area_Input-Metric_Number_Of_Stacks*_xlfn.XLOOKUP(Metric_Layers,CrateData[Layer],CrateData[Surface Area (m2)]))*((B345-IF(B346=\"\",0,B346))/100))*Metric_Stone_Void_Percentage)","v":""},"","",{"$f":"IF(B345=\"\",\"\",SUM(J345:$J$563))","v":""},""]
["","",{"$f":"IF(B346=\"\",\"\",IFERROR(_xlfn.XLOOKUP(ROUND(B346,1),MetricIncrementalData[System Increment],_xlfn.XLOOKUP('Metric Incremental Crate'!$R$3,MetricIncrementalData[#Headers],MetricIncrementalData[]),,1),0))","v":""},"",{"$f":"IF(B346=\"\",\"\",IFERROR(_xlfn.XLOOKUP(ROUND(B346,1),MetricIncrementalData[System Increment],_xlfn.XLOOKUP(Metric_Incremental_Data_Target_Column,MetricIncrementalData[#Headers],MetricIncrementalData[]),,1),0))","v":""},{"$f":"IF(B346=\"\",\"\",IF(B347=\"\",((((B346-0)/100)*Metric_Module_Square_Foot_Area)-'Cumulative Volumes Metric'!E346)*Metric_Stone_Void_Percentage,((((B346-B347)/100)*Metric_Module_Square_Foot_Area)-'Cumulative Volumes Metric'!E346)*Metric_Stone_Void_Percentage))","v":""},"",{"$f":"IF(B346=\"\",\"\",((Metric_System_Area_Input-Metric_Number_Of_Stacks*_xlfn.XLOOKUP(Metric_Layers,CrateData[Layer],CrateData[Surface Area (m2)]))*((B346-IF(B347=\"\",0,B347))/100))*Metric_Stone_Void_Percentage)","v":""},"","",{"$f":"IF(B346=\"\",\"\",SUM(J346:$J$563))","v":""},""]
["","",{"$f":"IF(B347=\"\",\"\",IFERROR(_xlfn.XLOOKUP(ROUND(B347,1),MetricIncrementalData[System Increment],_xlfn.XLOOKUP('Metric Incremental Crate'!$R$3,MetricIncrementalData[#Headers],MetricIncrementalData[]),,1),0))","v":""},"",{"$f":"IF(B347=\"\",\"\",IFERROR(_xlfn.XLOOKUP(ROUND(B347,1),MetricIncrementalData[System Increment],_xlfn.XLOOKUP(Metric_Incremental_Data_Target_Column,MetricIncrementalData[#Headers],MetricIncrementalData[]),,1),0))","v":""},{"$f":"IF(B347=\"\",\"\",IF(B348=\"\",((((B347-0)/100)*Metric_Module_Square_Foot_Area)-'Cumulative Volumes Metric'!E347)*Metric_Stone_Void_Percentage,((((B347-B348)/100)*Metric_Module_Square_Foot_Area)-'Cumulative Volumes Metric'!E347)*Metric_Stone_Void_Percentage))","v":""},"",{"$f":"IF(B347=\"\",\"\",((Metric_System_Area_Input-Metric_Number_Of_Stacks*_xlfn.XLOOKUP(Metric_Layers,CrateData[Layer],CrateData[Surface Area (m2)]))*((B347-IF(B348=\"\",0,B348))/100))*Metric_Stone_Void_Percentage)","v":""},"","",{"$f":"IF(B347=\"\",\"\",SUM(J347:$J$563))","v":""},""]
["","",{"$f":"IF(B348=\"\",\"\",IFERROR(_xlfn.XLOOKUP(ROUND(B348,1),MetricIncrementalData[System Increment],_xlfn.XLOOKUP('Metric Incremental Crate'!$R$3,MetricIncrementalData[#Headers],MetricIncrementalData[]),,1),0))","v":""},"",{"$f":"IF(B348=\"\",\"\",IFERROR(_xlfn.XLOOKUP(ROUND(B348,1),MetricIncrementalData[System Increment],_xlfn.XLOOKUP(Metric_Incremental_Data_Target_Column,MetricIncrementalData[#Headers],MetricIncrementalData[]),,1),0))","v":""},{"$f":"IF(B348=\"\",\"\",IF(B349=\"\",((((B348-0)/100)*Metric_Module_Square_Foot_Area)-'Cumulative Volumes Metric'!E348)*Metric_Stone_Void_Percentage,((((B348-B349)/100)*Metric_Module_Square_Foot_Area)-'Cumulative Volumes Metric'!E348)*Metric_Stone_Void_Percentage))","v":""},"",{"$f":"IF(B348=\"\",\"\",((Metric_System_Area_Input-Metric_Number_Of_Stacks*_xlfn.XLOOKUP(Metric_Layers,CrateData[Layer],CrateData[Surface Area (m2)]))*((B348-IF(B349=\"\",0,B349))/100))*Metric_Stone_Void_Percentage)","v":""},"","",{"$f":"IF(B348=\"\",\"\",SUM(J348:$J$563))","v":""},""]
["","",{"$f":"IF(B349=\"\",\"\",IFERROR(_xlfn.XLOOKUP(ROUND(B349,1),MetricIncrementalData[System Increment],_xlfn.XLOOKUP('Metric Incremental Crate'!$R$3,MetricIncrementalData[#Headers],MetricIncrementalData[]),,1),0))","v":""},"",{"$f":"IF(B349=\"\",\"\",IFERROR(_xlfn.XLOOKUP(ROUND(B349,1),MetricIncrementalData[System Increment],_xlfn.XLOOKUP(Metric_Incremental_Data_Target_Column,MetricIncrementalData[#Headers],MetricIncrementalData[]),,1),0))","v":""},{"$f":"IF(B349=\"\",\"\",IF(B350=\"\",((((B349-0)/100)*Metric_Module_Square_Foot_Area)-'Cumulative Volumes Metric'!E349)*Metric_Stone_Void_Percentage,((((B349-B350)/100)*Metric_Module_Square_Foot_Area)-'Cumulative Volumes Metric'!E349)*Metric_Stone_Void_Percentage))","v":""},"",{"$f":"IF(B349=\"\",\"\",((Metric_System_Area_Input-Metric_Number_Of_Stacks*_xlfn.XLOOKUP(Metric_Layers,CrateData[Layer],CrateData[Surface Area (m2)]))*((B349-IF(B350=\"\",0,B350))/100))*Metric_Stone_Void_Percentage)","v":""},"","",{"$f":"IF(B349=\"\",\"\",SUM(J349:$J$563))","v":""},""]
["","",{"$f":"IF(B350=\"\",\"\",IFERROR(_xlfn.XLOOKUP(ROUND(B350,1),MetricIncrementalData[System Increment],_xlfn.XLOOKUP('Metric Incremental Crate'!$R$3,MetricIncrementalData[#Headers],MetricIncrementalData[]),,1),0))","v":""},"",{"$f":"IF(B350=\"\",\"\",IFERROR(_xlfn.XLOOKUP(ROUND(B350,1),MetricIncrementalData[System Increment],_xlfn.XLOOKUP(Metric_Incremental_Data_Target_Column,MetricIncrementalData[#Headers],MetricIncrementalData[]),,1),0))","v":""},{"$f":"IF(B350=\"\",\"\",IF(B351=\"\",((((B350-0)/100)*Metric_Module_Square_Foot_Area)-'Cumulative Volumes Metric'!E350)*Metric_Stone_Void_Percentage,((((B350-B351)/100)*Metric_Module_Square_Foot_Area)-'Cumulative Volumes Metric'!E350)*Metric_Stone_Void_Percentage))","v":""},"",{"$f":"IF(B350=\"\",\"\",((Metric_System_Area_Input-Metric_Number_Of_Stacks*_xlfn.XLOOKUP(Metric_Layers,CrateData[Layer],CrateData[Surface Area (m2)]))*((B350-IF(B351=\"\",0,B351))/100))*Metric_Stone_Void_Percentage)","v":""},"","",{"$f":"IF(B350=\"\",\"\",SUM(J350:$J$563))","v":""},""]
["","",{"$f":"IF(B351=\"\",\"\",IFERROR(_xlfn.XLOOKUP(ROUND(B351,1),MetricIncrementalData[System Increment],_xlfn.XLOOKUP('Metric Incremental Crate'!$R$3,MetricIncrementalData[#Headers],MetricIncrementalData[]),,1),0))","v":""},"",{"$f":"IF(B351=\"\",\"\",IFERROR(_xlfn.XLOOKUP(ROUND(B351,1),MetricIncrementalData[System Increment],_xlfn.XLOOKUP(Metric_Incremental_Data_Target_Column,MetricIncrementalData[#Headers],MetricIncrementalData[]),,1),0))","v":""},{"$f":"IF(B351=\"\",\"\",IF(B352=\"\",((((B351-0)/100)*Metric_Module_Square_Foot_Area)-'Cumulative Volumes Metric'!E351)*Metric_Stone_Void_Percentage,((((B351-B352)/100)*Metric_Module_Square_Foot_Area)-'Cumulative Volumes Metric'!E351)*Metric_Stone_Void_Percentage))","v":""},"",{"$f":"IF(B351=\"\",\"\",((Metric_System_Area_Input-Metric_Number_Of_Stacks*_xlfn.XLOOKUP(Metric_Layers,CrateData[Layer],CrateData[Surface Area (m2)]))*((B351-IF(B352=\"\",0,B352))/100))*Metric_Stone_Void_Percentage)","v":""},"","",{"$f":"IF(B351=\"\",\"\",SUM(J351:$J$563))","v":""},""]
["","",{"$f":"IF(B352=\"\",\"\",IFERROR(_xlfn.XLOOKUP(ROUND(B352,1),MetricIncrementalData[System Increment],_xlfn.XLOOKUP('Metric Incremental Crate'!$R$3,MetricIncrementalData[#Headers],MetricIncrementalData[]),,1),0))","v":""},"",{"$f":"IF(B352=\"\",\"\",IFERROR(_xlfn.XLOOKUP(ROUND(B352,1),MetricIncrementalData[System Increment],_xlfn.XLOOKUP(Metric_Incremental_Data_Target_Column,MetricIncrementalData[#Headers],MetricIncrementalData[]),,1),0))","v":""},{"$f":"IF(B352=\"\",\"\",IF(B353=\"\",((((B352-0)/100)*Metric_Module_Square_Foot_Area)-'Cumulative Volumes Metric'!E352)*Metric_Stone_Void_Percentage,((((B352-B353)/100)*Metric_Module_Square_Foot_Area)-'Cumulative Volumes Metric'!E352)*Metric_Stone_Void_Percentage))","v":""},"",{"$f":"IF(B352=\"\",\"\",((Metric_System_Area_Input-Metric_Number_Of_Stacks*_xlfn.XLOOKUP(Metric_Layers,CrateData[Layer],CrateData[Surface Area (m2)]))*((B352-IF(B353=\"\",0,B353))/100))*Metric_Stone_Void_Percentage)","v":""},"","",{"$f":"IF(B352=\"\",\"\",SUM(J352:$J$563))","v":""},""]
["","",{"$f":"IF(B353=\"\",\"\",IFERROR(_xlfn.XLOOKUP(ROUND(B353,1),MetricIncrementalData[System Increment],_xlfn.XLOOKUP('Metric Incremental Crate'!$R$3,MetricIncrementalData[#Headers],MetricIncrementalData[]),,1),0))","v":""},"",{"$f":"IF(B353=\"\",\"\",IFERROR(_xlfn.XLOOKUP(ROUND(B353,1),MetricIncrementalData[System Increment],_xlfn.XLOOKUP(Metric_Incremental_Data_Target_Column,MetricIncrementalData[#Headers],MetricIncrementalData[]),,1),0))","v":""},{"$f":"IF(B353=\"\",\"\",IF(B354=\"\",((((B353-0)/100)*Metric_Module_Square_Foot_Area)-'Cumulative Volumes Metric'!E353)*Metric_Stone_Void_Percentage,((((B353-B354)/100)*Metric_Module_Square_Foot_Area)-'Cumulative Volumes Metric'!E353)*Metric_Stone_Void_Percentage))","v":""},"",{"$f":"IF(B353=\"\",\"\",((Metric_System_Area_Input-Metric_Number_Of_Stacks*_xlfn.XLOOKUP(Metric_Layers,CrateData[Layer],CrateData[Surface Area (m2)]))*((B353-IF(B354=\"\",0,B354))/100))*Metric_Stone_Void_Percentage)","v":""},"","",{"$f":"IF(B353=\"\",\"\",SUM(J353:$J$563))","v":""},""]
["","",{"$f":"IF(B354=\"\",\"\",IFERROR(_xlfn.XLOOKUP(ROUND(B354,1),MetricIncrementalData[System Increment],_xlfn.XLOOKUP('Metric Incremental Crate'!$R$3,MetricIncrementalData[#Headers],MetricIncrementalData[]),,1),0))","v":""},"",{"$f":"IF(B354=\"\",\"\",IFERROR(_xlfn.XLOOKUP(ROUND(B354,1),MetricIncrementalData[System Increment],_xlfn.XLOOKUP(Metric_Incremental_Data_Target_Column,MetricIncrementalData[#Headers],MetricIncrementalData[]),,1),0))","v":""},{"$f":"IF(B354=\"\",\"\",IF(B355=\"\",((((B354-0)/100)*Metric_Module_Square_Foot_Area)-'Cumulative Volumes Metric'!E354)*Metric_Stone_Void_Percentage,((((B354-B355)/100)*Metric_Module_Square_Foot_Area)-'Cumulative Volumes Metric'!E354)*Metric_Stone_Void_Percentage))","v":""},"",{"$f":"IF(B354=\"\",\"\",((Metric_System_Area_Input-Metric_Number_Of_Stacks*_xlfn.XLOOKUP(Metric_Layers,CrateData[Layer],CrateData[Surface Area (m2)]))*((B354-IF(B355=\"\",0,B355))/100))*Metric_Stone_Void_Percentage)","v":""},"","",{"$f":"IF(B354=\"\",\"\",SUM(J354:$J$563))","v":""},""]
["","",{"$f":"IF(B355=\"\",\"\",IFERROR(_xlfn.XLOOKUP(ROUND(B355,1),MetricIncrementalData[System Increment],_xlfn.XLOOKUP('Metric Incremental Crate'!$R$3,MetricIncrementalData[#Headers],MetricIncrementalData[]),,1),0))","v":""},"",{"$f":"IF(B355=\"\",\"\",IFERROR(_xlfn.XLOOKUP(ROUND(B355,1),MetricIncrementalData[System Increment],_xlfn.XLOOKUP(Metric_Incremental_Data_Target_Column,MetricIncrementalData[#Headers],MetricIncrementalData[]),,1),0))","v":""},{"$f":"IF(B355=\"\",\"\",IF(B356=\"\",((((B355-0)/100)*Metric_Module_Square_Foot_Area)-'Cumulative Volumes Metric'!E355)*Metric_Stone_Void_Percentage,((((B355-B356)/100)*Metric_Module_Square_Foot_Area)-'Cumulative Volumes Metric'!E355)*Metric_Stone_Void_Percentage))","v":""},"",{"$f":"IF(B355=\"\",\"\",((Metric_System_Area_Input-Metric_Number_Of_Stacks*_xlfn.XLOOKUP(Metric_Layers,CrateData[Layer],CrateData[Surface Area (m2)]))*((B355-IF(B356=\"\",0,B356))/100))*Metric_Stone_Void_Percentage)","v":""},"","",{"$f":"IF(B355=\"\",\"\",SUM(J355:$J$563))","v":""},""]
["","",{"$f":"IF(B356=\"\",\"\",IFERROR(_xlfn.XLOOKUP(ROUND(B356,1),MetricIncrementalData[System Increment],_xlfn.XLOOKUP('Metric Incremental Crate'!$R$3,MetricIncrementalData[#Headers],MetricIncrementalData[]),,1),0))","v":""},"",{"$f":"IF(B356=\"\",\"\",IFERROR(_xlfn.XLOOKUP(ROUND(B356,1),MetricIncrementalData[System Increment],_xlfn.XLOOKUP(Metric_Incremental_Data_Target_Column,MetricIncrementalData[#Headers],MetricIncrementalData[]),,1),0))","v":""},{"$f":"IF(B356=\"\",\"\",IF(B357=\"\",((((B356-0)/100)*Metric_Module_Square_Foot_Area)-'Cumulative Volumes Metric'!E356)*Metric_Stone_Void_Percentage,((((B356-B357)/100)*Metric_Module_Square_Foot_Area)-'Cumulative Volumes Metric'!E356)*Metric_Stone_Void_Percentage))","v":""},"",{"$f":"IF(B356=\"\",\"\",((Metric_System_Area_Input-Metric_Number_Of_Stacks*_xlfn.XLOOKUP(Metric_Layers,CrateData[Layer],CrateData[Surface Area (m2)]))*((B356-IF(B357=\"\",0,B357))/100))*Metric_Stone_Void_Percentage)","v":""},"","",{"$f":"IF(B356=\"\",\"\",SUM(J356:$J$563))","v":""},""]
["","",{"$f":"IF(B357=\"\",\"\",IFERROR(_xlfn.XLOOKUP(ROUND(B357,1),MetricIncrementalData[System Increment],_xlfn.XLOOKUP('Metric Incremental Crate'!$R$3,MetricIncrementalData[#Headers],MetricIncrementalData[]),,1),0))","v":""},"",{"$f":"IF(B357=\"\",\"\",IFERROR(_xlfn.XLOOKUP(ROUND(B357,1),MetricIncrementalData[System Increment],_xlfn.XLOOKUP(Metric_Incremental_Data_Target_Column,MetricIncrementalData[#Headers],MetricIncrementalData[]),,1),0))","v":""},{"$f":"IF(B357=\"\",\"\",IF(B358=\"\",((((B357-0)/100)*Metric_Module_Square_Foot_Area)-'Cumulative Volumes Metric'!E357)*Metric_Stone_Void_Percentage,((((B357-B358)/100)*Metric_Module_Square_Foot_Area)-'Cumulative Volumes Metric'!E357)*Metric_Stone_Void_Percentage))","v":""},"",{"$f":"IF(B357=\"\",\"\",((Metric_System_Area_Input-Metric_Number_Of_Stacks*_xlfn.XLOOKUP(Metric_Layers,CrateData[Layer],CrateData[Surface Area (m2)]))*((B357-IF(B358=\"\",0,B358))/100))*Metric_Stone_Void_Percentage)","v":""},"","",{"$f":"IF(B357=\"\",\"\",SUM(J357:$J$563))","v":""},""]
["","",{"$f":"IF(B358=\"\",\"\",IFERROR(_xlfn.XLOOKUP(ROUND(B358,1),MetricIncrementalData[System Increment],_xlfn.XLOOKUP('Metric Incremental Crate'!$R$3,MetricIncrementalData[#Headers],MetricIncrementalData[]),,1),0))","v":""},"",{"$f":"IF(B358=\"\",\"\",IFERROR(_xlfn.XLOOKUP(ROUND(B358,1),MetricIncrementalData[System Increment],_xlfn.XLOOKUP(Metric_Incremental_Data_Target_Column,MetricIncrementalData[#Headers],MetricIncrementalData[]),,1),0))","v":""},{"$f":"IF(B358=\"\",\"\",IF(B359=\"\",((((B358-0)/100)*Metric_Module_Square_Foot_Area)-'Cumulative Volumes Metric'!E358)*Metric_Stone_Void_Percentage,((((B358-B359)/100)*Metric_Module_Square_Foot_Area)-'Cumulative Volumes Metric'!E358)*Metric_Stone_Void_Percentage))","v":""},"",{"$f":"IF(B358=\"\",\"\",((Metric_System_Area_Input-Metric_Number_Of_Stacks*_xlfn.XLOOKUP(Metric_Layers,CrateData[Layer],CrateData[Surface Area (m2)]))*((B358-IF(B359=\"\",0,B359))/100))*Metric_Stone_Void_Percentage)","v":""},"","",{"$f":"IF(B358=\"\",\"\",SUM(J358:$J$563))","v":""},""]
["","",{"$f":"IF(B359=\"\",\"\",IFERROR(_xlfn.XLOOKUP(ROUND(B359,1),MetricIncrementalData[System Increment],_xlfn.XLOOKUP('Metric Incremental Crate'!$R$3,MetricIncrementalData[#Headers],MetricIncrementalData[]),,1),0))","v":""},"",{"$f":"IF(B359=\"\",\"\",IFERROR(_xlfn.XLOOKUP(ROUND(B359,1),MetricIncrementalData[System Increment],_xlfn.XLOOKUP(Metric_Incremental_Data_Target_Column,MetricIncrementalData[#Headers],MetricIncrementalData[]),,1),0))","v":""},{"$f":"IF(B359=\"\",\"\",IF(B360=\"\",((((B359-0)/100)*Metric_Module_Square_Foot_Area)-'Cumulative Volumes Metric'!E359)*Metric_Stone_Void_Percentage,((((B359-B360)/100)*Metric_Module_Square_Foot_Area)-'Cumulative Volumes Metric'!E359)*Metric_Stone_Void_Percentage))","v":""},"",{"$f":"IF(B359=\"\",\"\",((Metric_System_Area_Input-Metric_Number_Of_Stacks*_xlfn.XLOOKUP(Metric_Layers,CrateData[Layer],CrateData[Surface Area (m2)]))*((B359-IF(B360=\"\",0,B360))/100))*Metric_Stone_Void_Percentage)","v":""},"","",{"$f":"IF(B359=\"\",\"\",SUM(J359:$J$563))","v":""},""]
["","",{"$f":"IF(B360=\"\",\"\",IFERROR(_xlfn.XLOOKUP(ROUND(B360,1),MetricIncrementalData[System Increment],_xlfn.XLOOKUP('Metric Incremental Crate'!$R$3,MetricIncrementalData[#Headers],MetricIncrementalData[]),,1),0))","v":""},"",{"$f":"IF(B360=\"\",\"\",IFERROR(_xlfn.XLOOKUP(ROUND(B360,1),MetricIncrementalData[System Increment],_xlfn.XLOOKUP(Metric_Incremental_Data_Target_Column,MetricIncrementalData[#Headers],MetricIncrementalData[]),,1),0))","v":""},{"$f":"IF(B360=\"\",\"\",IF(B361=\"\",((((B360-0)/100)*Metric_Module_Square_Foot_Area)-'Cumulative Volumes Metric'!E360)*Metric_Stone_Void_Percentage,((((B360-B361)/100)*Metric_Module_Square_Foot_Area)-'Cumulative Volumes Metric'!E360)*Metric_Stone_Void_Percentage))","v":""},"",{"$f":"IF(B360=\"\",\"\",((Metric_System_Area_Input-Metric_Number_Of_Stacks*_xlfn.XLOOKUP(Metric_Layers,CrateData[Layer],CrateData[Surface Area (m2)]))*((B360-IF(B361=\"\",0,B361))/100))*Metric_Stone_Void_Percentage)","v":""},"","",{"$f":"IF(B360=\"\",\"\",SUM(J360:$J$563))","v":""},""]
["","",{"$f":"IF(B361=\"\",\"\",IFERROR(_xlfn.XLOOKUP(ROUND(B361,1),MetricIncrementalData[System Increment],_xlfn.XLOOKUP('Metric Incremental Crate'!$R$3,MetricIncrementalData[#Headers],MetricIncrementalData[]),,1),0))","v":""},"",{"$f":"IF(B361=\"\",\"\",IFERROR(_xlfn.XLOOKUP(ROUND(B361,1),MetricIncrementalData[System Increment],_xlfn.XLOOKUP(Metric_Incremental_Data_Target_Column,MetricIncrementalData[#Headers],MetricIncrementalData[]),,1),0))","v":""},{"$f":"IF(B361=\"\",\"\",IF(B362=\"\",((((B361-0)/100)*Metric_Module_Square_Foot_Area)-'Cumulative Volumes Metric'!E361)*Metric_Stone_Void_Percentage,((((B361-B362)/100)*Metric_Module_Square_Foot_Area)-'Cumulative Volumes Metric'!E361)*Metric_Stone_Void_Percentage))","v":""},"",{"$f":"IF(B361=\"\",\"\",((Metric_System_Area_Input-Metric_Number_Of_Stacks*_xlfn.XLOOKUP(Metric_Layers,CrateData[Layer],CrateData[Surface Area (m2)]))*((B361-IF(B362=\"\",0,B362))/100))*Metric_Stone_Void_Percentage)","v":""},"","",{"$f":"IF(B361=\"\",\"\",SUM(J361:$J$563))","v":""},""]
["","",{"$f":"IF(B362=\"\",\"\",IFERROR(_xlfn.XLOOKUP(ROUND(B362,1),MetricIncrementalData[System Increment],_xlfn.XLOOKUP('Metric Incremental Crate'!$R$3,MetricIncrementalData[#Headers],MetricIncrementalData[]),,1),0))","v":""},"",{"$f":"IF(B362=\"\",\"\",IFERROR(_xlfn.XLOOKUP(ROUND(B362,1),MetricIncrementalData[System Increment],_xlfn.XLOOKUP(Metric_Incremental_Data_Target_Column,MetricIncrementalData[#Headers],MetricIncrementalData[]),,1),0))","v":""},{"$f":"IF(B362=\"\",\"\",IF(B363=\"\",((((B362-0)/100)*Metric_Module_Square_Foot_Area)-'Cumulative Volumes Metric'!E362)*Metric_Stone_Void_Percentage,((((B362-B363)/100)*Metric_Module_Square_Foot_Area)-'Cumulative Volumes Metric'!E362)*Metric_Stone_Void_Percentage))","v":""},"",{"$f":"IF(B362=\"\",\"\",((Metric_System_Area_Input-Metric_Number_Of_Stacks*_xlfn.XLOOKUP(Metric_Layers,CrateData[Layer],CrateData[Surface Area (m2)]))*((B362-IF(B363=\"\",0,B363))/100))*Metric_Stone_Void_Percentage)","v":""},"","",{"$f":"IF(B362=\"\",\"\",SUM(J362:$J$563))","v":""},""]
["","",{"$f":"IF(B363=\"\",\"\",IFERROR(_xlfn.XLOOKUP(ROUND(B363,1),MetricIncrementalData[System Increment],_xlfn.XLOOKUP('Metric Incremental Crate'!$R$3,MetricIncrementalData[#Headers],MetricIncrementalData[]),,1),0))","v":""},"",{"$f":"IF(B363=\"\",\"\",IFERROR(_xlfn.XLOOKUP(ROUND(B363,1),MetricIncrementalData[System Increment],_xlfn.XLOOKUP(Metric_Incremental_Data_Target_Column,MetricIncrementalData[#Headers],MetricIncrementalData[]),,1),0))","v":""},{"$f":"IF(B363=\"\",\"\",IF(B364=\"\",((((B363-0)/100)*Metric_Module_Square_Foot_Area)-'Cumulative Volumes Metric'!E363)*Metric_Stone_Void_Percentage,((((B363-B364)/100)*Metric_Module_Square_Foot_Area)-'Cumulative Volumes Metric'!E363)*Metric_Stone_Void_Percentage))","v":""},"",{"$f":"IF(B363=\"\",\"\",((Metric_System_Area_Input-Metric_Number_Of_Stacks*_xlfn.XLOOKUP(Metric_Layers,CrateData[Layer],CrateData[Surface Area (m2)]))*((B363-IF(B364=\"\",0,B364))/100))*Metric_Stone_Void_Percentage)","v":""},"","",{"$f":"IF(B363=\"\",\"\",SUM(J363:$J$563))","v":""},""]
["","",{"$f":"IF(B364=\"\",\"\",IFERROR(_xlfn.XLOOKUP(ROUND(B364,1),MetricIncrementalData[System Increment],_xlfn.XLOOKUP('Metric Incremental Crate'!$R$3,MetricIncrementalData[#Headers],MetricIncrementalData[]),,1),0))","v":""},"",{"$f":"IF(B364=\"\",\"\",IFERROR(_xlfn.XLOOKUP(ROUND(B364,1),MetricIncrementalData[System Increment],_xlfn.XLOOKUP(Metric_Incremental_Data_Target_Column,MetricIncrementalData[#Headers],MetricIncrementalData[]),,1),0))","v":""},{"$f":"IF(B364=\"\",\"\",IF(B365=\"\",((((B364-0)/100)*Metric_Module_Square_Foot_Area)-'Cumulative Volumes Metric'!E364)*Metric_Stone_Void_Percentage,((((B364-B365)/100)*Metric_Module_Square_Foot_Area)-'Cumulative Volumes Metric'!E364)*Metric_Stone_Void_Percentage))","v":""},"",{"$f":"IF(B364=\"\",\"\",((Metric_System_Area_Input-Metric_Number_Of_Stacks*_xlfn.XLOOKUP(Metric_Layers,CrateData[Layer],CrateData[Surface Area (m2)]))*((B364-IF(B365=\"\",0,B365))/100))*Metric_Stone_Void_Percentage)","v":""},"","",{"$f":"IF(B364=\"\",\"\",SUM(J364:$J$563))","v":""},""]
["","",{"$f":"IF(B365=\"\",\"\",IFERROR(_xlfn.XLOOKUP(ROUND(B365,1),MetricIncrementalData[System Increment],_xlfn.XLOOKUP('Metric Incremental Crate'!$R$3,MetricIncrementalData[#Headers],MetricIncrementalData[]),,1),0))","v":""},"",{"$f":"IF(B365=\"\",\"\",IFERROR(_xlfn.XLOOKUP(ROUND(B365,1),MetricIncrementalData[System Increment],_xlfn.XLOOKUP(Metric_Incremental_Data_Target_Column,MetricIncrementalData[#Headers],MetricIncrementalData[]),,1),0))","v":""},{"$f":"IF(B365=\"\",\"\",IF(B366=\"\",((((B365-0)/100)*Metric_Module_Square_Foot_Area)-'Cumulative Volumes Metric'!E365)*Metric_Stone_Void_Percentage,((((B365-B366)/100)*Metric_Module_Square_Foot_Area)-'Cumulative Volumes Metric'!E365)*Metric_Stone_Void_Percentage))","v":""},"",{"$f":"IF(B365=\"\",\"\",((Metric_System_Area_Input-Metric_Number_Of_Stacks*_xlfn.XLOOKUP(Metric_Layers,CrateData[Layer],CrateData[Surface Area (m2)]))*((B365-IF(B366=\"\",0,B366))/100))*Metric_Stone_Void_Percentage)","v":""},"","",{"$f":"IF(B365=\"\",\"\",SUM(J365:$J$563))","v":""},""]
["","",{"$f":"IF(B366=\"\",\"\",IFERROR(_xlfn.XLOOKUP(ROUND(B366,1),MetricIncrementalData[System Increment],_xlfn.XLOOKUP('Metric Incremental Crate'!$R$3,MetricIncrementalData[#Headers],MetricIncrementalData[]),,1),0))","v":""},"",{"$f":"IF(B366=\"\",\"\",IFERROR(_xlfn.XLOOKUP(ROUND(B366,1),MetricIncrementalData[System Increment],_xlfn.XLOOKUP(Metric_Incremental_Data_Target_Column,MetricIncrementalData[#Headers],MetricIncrementalData[]),,1),0))","v":""},{"$f":"IF(B366=\"\",\"\",IF(B367=\"\",((((B366-0)/100)*Metric_Module_Square_Foot_Area)-'Cumulative Volumes Metric'!E366)*Metric_Stone_Void_Percentage,((((B366-B367)/100)*Metric_Module_Square_Foot_Area)-'Cumulative Volumes Metric'!E366)*Metric_Stone_Void_Percentage))","v":""},"",{"$f":"IF(B366=\"\",\"\",((Metric_System_Area_Input-Metric_Number_Of_Stacks*_xlfn.XLOOKUP(Metric_Layers,CrateData[Layer],CrateData[Surface Area (m2)]))*((B366-IF(B367=\"\",0,B367))/100))*Metric_Stone_Void_Percentage)","v":""},"","",{"$f":"IF(B366=\"\",\"\",SUM(J366:$J$563))","v":""},""]
["","",{"$f":"IF(B367=\"\",\"\",IFERROR(_xlfn.XLOOKUP(ROUND(B367,1),MetricIncrementalData[System Increment],_xlfn.XLOOKUP('Metric Incremental Crate'!$R$3,MetricIncrementalData[#Headers],MetricIncrementalData[]),,1),0))","v":""},"",{"$f":"IF(B367=\"\",\"\",IFERROR(_xlfn.XLOOKUP(ROUND(B367,1),MetricIncrementalData[System Increment],_xlfn.XLOOKUP(Metric_Incremental_Data_Target_Column,MetricIncrementalData[#Headers],MetricIncrementalData[]),,1),0))","v":""},{"$f":"IF(B367=\"\",\"\",IF(B368=\"\",((((B367-0)/100)*Metric_Module_Square_Foot_Area)-'Cumulative Volumes Metric'!E367)*Metric_Stone_Void_Percentage,((((B367-B368)/100)*Metric_Module_Square_Foot_Area)-'Cumulative Volumes Metric'!E367)*Metric_Stone_Void_Percentage))","v":""},"",{"$f":"IF(B367=\"\",\"\",((Metric_System_Area_Input-Metric_Number_Of_Stacks*_xlfn.XLOOKUP(Metric_Layers,CrateData[Layer],CrateData[Surface Area (m2)]))*((B367-IF(B368=\"\",0,B368))/100))*Metric_Stone_Void_Percentage)","v":""},"","",{"$f":"IF(B367=\"\",\"\",SUM(J367:$J$563))","v":""},""]
["","",{"$f":"IF(B368=\"\",\"\",IFERROR(_xlfn.XLOOKUP(ROUND(B368,1),MetricIncrementalData[System Increment],_xlfn.XLOOKUP('Metric Incremental Crate'!$R$3,MetricIncrementalData[#Headers],MetricIncrementalData[]),,1),0))","v":""},"",{"$f":"IF(B368=\"\",\"\",IFERROR(_xlfn.XLOOKUP(ROUND(B368,1),MetricIncrementalData[System Increment],_xlfn.XLOOKUP(Metric_Incremental_Data_Target_Column,MetricIncrementalData[#Headers],MetricIncrementalData[]),,1),0))","v":""},{"$f":"IF(B368=\"\",\"\",IF(B369=\"\",((((B368-0)/100)*Metric_Module_Square_Foot_Area)-'Cumulative Volumes Metric'!E368)*Metric_Stone_Void_Percentage,((((B368-B369)/100)*Metric_Module_Square_Foot_Area)-'Cumulative Volumes Metric'!E368)*Metric_Stone_Void_Percentage))","v":""},"",{"$f":"IF(B368=\"\",\"\",((Metric_System_Area_Input-Metric_Number_Of_Stacks*_xlfn.XLOOKUP(Metric_Layers,CrateData[Layer],CrateData[Surface Area (m2)]))*((B368-IF(B369=\"\",0,B369))/100))*Metric_Stone_Void_Percentage)","v":""},"","",{"$f":"IF(B368=\"\",\"\",SUM(J368:$J$563))","v":""},""]
["","",{"$f":"IF(B369=\"\",\"\",IFERROR(_xlfn.XLOOKUP(ROUND(B369,1),MetricIncrementalData[System Increment],_xlfn.XLOOKUP('Metric Incremental Crate'!$R$3,MetricIncrementalData[#Headers],MetricIncrementalData[]),,1),0))","v":""},"",{"$f":"IF(B369=\"\",\"\",IFERROR(_xlfn.XLOOKUP(ROUND(B369,1),MetricIncrementalData[System Increment],_xlfn.XLOOKUP(Metric_Incremental_Data_Target_Column,MetricIncrementalData[#Headers],MetricIncrementalData[]),,1),0))","v":""},{"$f":"IF(B369=\"\",\"\",IF(B370=\"\",((((B369-0)/100)*Metric_Module_Square_Foot_Area)-'Cumulative Volumes Metric'!E369)*Metric_Stone_Void_Percentage,((((B369-B370)/100)*Metric_Module_Square_Foot_Area)-'Cumulative Volumes Metric'!E369)*Metric_Stone_Void_Percentage))","v":""},"",{"$f":"IF(B369=\"\",\"\",((Metric_System_Area_Input-Metric_Number_Of_Stacks*_xlfn.XLOOKUP(Metric_Layers,CrateData[Layer],CrateData[Surface Area (m2)]))*((B369-IF(B370=\"\",0,B370))/100))*Metric_Stone_Void_Percentage)","v":""},"","",{"$f":"IF(B369=\"\",\"\",SUM(J369:$J$563))","v":""},""]
["","",{"$f":"IF(B370=\"\",\"\",IFERROR(_xlfn.XLOOKUP(ROUND(B370,1),MetricIncrementalData[System Increment],_xlfn.XLOOKUP('Metric Incremental Crate'!$R$3,MetricIncrementalData[#Headers],MetricIncrementalData[]),,1),0))","v":""},"",{"$f":"IF(B370=\"\",\"\",IFERROR(_xlfn.XLOOKUP(ROUND(B370,1),MetricIncrementalData[System Increment],_xlfn.XLOOKUP(Metric_Incremental_Data_Target_Column,MetricIncrementalData[#Headers],MetricIncrementalData[]),,1),0))","v":""},{"$f":"IF(B370=\"\",\"\",IF(B371=\"\",((((B370-0)/100)*Metric_Module_Square_Foot_Area)-'Cumulative Volumes Metric'!E370)*Metric_Stone_Void_Percentage,((((B370-B371)/100)*Metric_Module_Square_Foot_Area)-'Cumulative Volumes Metric'!E370)*Metric_Stone_Void_Percentage))","v":""},"",{"$f":"IF(B370=\"\",\"\",((Metric_System_Area_Input-Metric_Number_Of_Stacks*_xlfn.XLOOKUP(Metric_Layers,CrateData[Layer],CrateData[Surface Area (m2)]))*((B370-IF(B371=\"\",0,B371))/100))*Metric_Stone_Void_Percentage)","v":""},"","",{"$f":"IF(B370=\"\",\"\",SUM(J370:$J$563))","v":""},""]
["","",{"$f":"IF(B371=\"\",\"\",IFERROR(_xlfn.XLOOKUP(ROUND(B371,1),MetricIncrementalData[System Increment],_xlfn.XLOOKUP('Metric Incremental Crate'!$R$3,MetricIncrementalData[#Headers],MetricIncrementalData[]),,1),0))","v":""},"",{"$f":"IF(B371=\"\",\"\",IFERROR(_xlfn.XLOOKUP(ROUND(B371,1),MetricIncrementalData[System Increment],_xlfn.XLOOKUP(Metric_Incremental_Data_Target_Column,MetricIncrementalData[#Headers],MetricIncrementalData[]),,1),0))","v":""},{"$f":"IF(B371=\"\",\"\",IF(B372=\"\",((((B371-0)/100)*Metric_Module_Square_Foot_Area)-'Cumulative Volumes Metric'!E371)*Metric_Stone_Void_Percentage,((((B371-B372)/100)*Metric_Module_Square_Foot_Area)-'Cumulative Volumes Metric'!E371)*Metric_Stone_Void_Percentage))","v":""},"",{"$f":"IF(B371=\"\",\"\",((Metric_System_Area_Input-Metric_Number_Of_Stacks*_xlfn.XLOOKUP(Metric_Layers,CrateData[Layer],CrateData[Surface Area (m2)]))*((B371-IF(B372=\"\",0,B372))/100))*Metric_Stone_Void_Percentage)","v":""},"","",{"$f":"IF(B371=\"\",\"\",SUM(J371:$J$563))","v":""},""]
["","",{"$f":"IF(B372=\"\",\"\",IFERROR(_xlfn.XLOOKUP(ROUND(B372,1),MetricIncrementalData[System Increment],_xlfn.XLOOKUP('Metric Incremental Crate'!$R$3,MetricIncrementalData[#Headers],MetricIncrementalData[]),,1),0))","v":""},"",{"$f":"IF(B372=\"\",\"\",IFERROR(_xlfn.XLOOKUP(ROUND(B372,1),MetricIncrementalData[System Increment],_xlfn.XLOOKUP(Metric_Incremental_Data_Target_Column,MetricIncrementalData[#Headers],MetricIncrementalData[]),,1),0))","v":""},{"$f":"IF(B372=\"\",\"\",IF(B373=\"\",((((B372-0)/100)*Metric_Module_Square_Foot_Area)-'Cumulative Volumes Metric'!E372)*Metric_Stone_Void_Percentage,((((B372-B373)/100)*Metric_Module_Square_Foot_Area)-'Cumulative Volumes Metric'!E372)*Metric_Stone_Void_Percentage))","v":""},"",{"$f":"IF(B372=\"\",\"\",((Metric_System_Area_Input-Metric_Number_Of_Stacks*_xlfn.XLOOKUP(Metric_Layers,CrateData[Layer],CrateData[Surface Area (m2)]))*((B372-IF(B373=\"\",0,B373))/100))*Metric_Stone_Void_Percentage)","v":""},"","",{"$f":"IF(B372=\"\",\"\",SUM(J372:$J$563))","v":""},""]
["","",{"$f":"IF(B373=\"\",\"\",IFERROR(_xlfn.XLOOKUP(ROUND(B373,1),MetricIncrementalData[System Increment],_xlfn.XLOOKUP('Metric Incremental Crate'!$R$3,MetricIncrementalData[#Headers],MetricIncrementalData[]),,1),0))","v":""},"",{"$f":"IF(B373=\"\",\"\",IFERROR(_xlfn.XLOOKUP(ROUND(B373,1),MetricIncrementalData[System Increment],_xlfn.XLOOKUP(Metric_Incremental_Data_Target_Column,MetricIncrementalData[#Headers],MetricIncrementalData[]),,1),0))","v":""},{"$f":"IF(B373=\"\",\"\",IF(B374=\"\",((((B373-0)/100)*Metric_Module_Square_Foot_Area)-'Cumulative Volumes Metric'!E373)*Metric_Stone_Void_Percentage,((((B373-B374)/100)*Metric_Module_Square_Foot_Area)-'Cumulative Volumes Metric'!E373)*Metric_Stone_Void_Percentage))","v":""},"",{"$f":"IF(B373=\"\",\"\",((Metric_System_Area_Input-Metric_Number_Of_Stacks*_xlfn.XLOOKUP(Metric_Layers,CrateData[Layer],CrateData[Surface Area (m2)]))*((B373-IF(B374=\"\",0,B374))/100))*Metric_Stone_Void_Percentage)","v":""},"","",{"$f":"IF(B373=\"\",\"\",SUM(J373:$J$563))","v":""},""]
["","",{"$f":"IF(B374=\"\",\"\",IFERROR(_xlfn.XLOOKUP(ROUND(B374,1),MetricIncrementalData[System Increment],_xlfn.XLOOKUP('Metric Incremental Crate'!$R$3,MetricIncrementalData[#Headers],MetricIncrementalData[]),,1),0))","v":""},"",{"$f":"IF(B374=\"\",\"\",IFERROR(_xlfn.XLOOKUP(ROUND(B374,1),MetricIncrementalData[System Increment],_xlfn.XLOOKUP(Metric_Incremental_Data_Target_Column,MetricIncrementalData[#Headers],MetricIncrementalData[]),,1),0))","v":""},{"$f":"IF(B374=\"\",\"\",IF(B375=\"\",((((B374-0)/100)*Metric_Module_Square_Foot_Area)-'Cumulative Volumes Metric'!E374)*Metric_Stone_Void_Percentage,((((B374-B375)/100)*Metric_Module_Square_Foot_Area)-'Cumulative Volumes Metric'!E374)*Metric_Stone_Void_Percentage))","v":""},"",{"$f":"IF(B374=\"\",\"\",((Metric_System_Area_Input-Metric_Number_Of_Stacks*_xlfn.XLOOKUP(Metric_Layers,CrateData[Layer],CrateData[Surface Area (m2)]))*((B374-IF(B375=\"\",0,B375))/100))*Metric_Stone_Void_Percentage)","v":""},"","",{"$f":"IF(B374=\"\",\"\",SUM(J374:$J$563))","v":""},""]
["","",{"$f":"IF(B375=\"\",\"\",IFERROR(_xlfn.XLOOKUP(ROUND(B375,1),MetricIncrementalData[System Increment],_xlfn.XLOOKUP('Metric Incremental Crate'!$R$3,MetricIncrementalData[#Headers],MetricIncrementalData[]),,1),0))","v":""},"",{"$f":"IF(B375=\"\",\"\",IFERROR(_xlfn.XLOOKUP(ROUND(B375,1),MetricIncrementalData[System Increment],_xlfn.XLOOKUP(Metric_Incremental_Data_Target_Column,MetricIncrementalData[#Headers],MetricIncrementalData[]),,1),0))","v":""},{"$f":"IF(B375=\"\",\"\",IF(B376=\"\",((((B375-0)/100)*Metric_Module_Square_Foot_Area)-'Cumulative Volumes Metric'!E375)*Metric_Stone_Void_Percentage,((((B375-B376)/100)*Metric_Module_Square_Foot_Area)-'Cumulative Volumes Metric'!E375)*Metric_Stone_Void_Percentage))","v":""},"",{"$f":"IF(B375=\"\",\"\",((Metric_System_Area_Input-Metric_Number_Of_Stacks*_xlfn.XLOOKUP(Metric_Layers,CrateData[Layer],CrateData[Surface Area (m2)]))*((B375-IF(B376=\"\",0,B376))/100))*Metric_Stone_Void_Percentage)","v":""},"","",{"$f":"IF(B375=\"\",\"\",SUM(J375:$J$563))","v":""},""]
["","",{"$f":"IF(B376=\"\",\"\",IFERROR(_xlfn.XLOOKUP(ROUND(B376,1),MetricIncrementalData[System Increment],_xlfn.XLOOKUP('Metric Incremental Crate'!$R$3,MetricIncrementalData[#Headers],MetricIncrementalData[]),,1),0))","v":""},"",{"$f":"IF(B376=\"\",\"\",IFERROR(_xlfn.XLOOKUP(ROUND(B376,1),MetricIncrementalData[System Increment],_xlfn.XLOOKUP(Metric_Incremental_Data_Target_Column,MetricIncrementalData[#Headers],MetricIncrementalData[]),,1),0))","v":""},{"$f":"IF(B376=\"\",\"\",IF(B377=\"\",((((B376-0)/100)*Metric_Module_Square_Foot_Area)-'Cumulative Volumes Metric'!E376)*Metric_Stone_Void_Percentage,((((B376-B377)/100)*Metric_Module_Square_Foot_Area)-'Cumulative Volumes Metric'!E376)*Metric_Stone_Void_Percentage))","v":""},"",{"$f":"IF(B376=\"\",\"\",((Metric_System_Area_Input-Metric_Number_Of_Stacks*_xlfn.XLOOKUP(Metric_Layers,CrateData[Layer],CrateData[Surface Area (m2)]))*((B376-IF(B377=\"\",0,B377))/100))*Metric_Stone_Void_Percentage)","v":""},"","",{"$f":"IF(B376=\"\",\"\",SUM(J376:$J$563))","v":""},""]
["","",{"$f":"IF(B377=\"\",\"\",IFERROR(_xlfn.XLOOKUP(ROUND(B377,1),MetricIncrementalData[System Increment],_xlfn.XLOOKUP('Metric Incremental Crate'!$R$3,MetricIncrementalData[#Headers],MetricIncrementalData[]),,1),0))","v":""},"",{"$f":"IF(B377=\"\",\"\",IFERROR(_xlfn.XLOOKUP(ROUND(B377,1),MetricIncrementalData[System Increment],_xlfn.XLOOKUP(Metric_Incremental_Data_Target_Column,MetricIncrementalData[#Headers],MetricIncrementalData[]),,1),0))","v":""},{"$f":"IF(B377=\"\",\"\",IF(B378=\"\",((((B377-0)/100)*Metric_Module_Square_Foot_Area)-'Cumulative Volumes Metric'!E377)*Metric_Stone_Void_Percentage,((((B377-B378)/100)*Metric_Module_Square_Foot_Area)-'Cumulative Volumes Metric'!E377)*Metric_Stone_Void_Percentage))","v":""},"",{"$f":"IF(B377=\"\",\"\",((Metric_System_Area_Input-Metric_Number_Of_Stacks*_xlfn.XLOOKUP(Metric_Layers,CrateData[Layer],CrateData[Surface Area (m2)]))*((B377-IF(B378=\"\",0,B378))/100))*Metric_Stone_Void_Percentage)","v":""},"","",{"$f":"IF(B377=\"\",\"\",SUM(J377:$J$563))","v":""},""]
["","",{"$f":"IF(B378=\"\",\"\",IFERROR(_xlfn.XLOOKUP(ROUND(B378,1),MetricIncrementalData[System Increment],_xlfn.XLOOKUP('Metric Incremental Crate'!$R$3,MetricIncrementalData[#Headers],MetricIncrementalData[]),,1),0))","v":""},"",{"$f":"IF(B378=\"\",\"\",IFERROR(_xlfn.XLOOKUP(ROUND(B378,1),MetricIncrementalData[System Increment],_xlfn.XLOOKUP(Metric_Incremental_Data_Target_Column,MetricIncrementalData[#Headers],MetricIncrementalData[]),,1),0))","v":""},{"$f":"IF(B378=\"\",\"\",IF(B379=\"\",((((B378-0)/100)*Metric_Module_Square_Foot_Area)-'Cumulative Volumes Metric'!E378)*Metric_Stone_Void_Percentage,((((B378-B379)/100)*Metric_Module_Square_Foot_Area)-'Cumulative Volumes Metric'!E378)*Metric_Stone_Void_Percentage))","v":""},"",{"$f":"IF(B378=\"\",\"\",((Metric_System_Area_Input-Metric_Number_Of_Stacks*_xlfn.XLOOKUP(Metric_Layers,CrateData[Layer],CrateData[Surface Area (m2)]))*((B378-IF(B379=\"\",0,B379))/100))*Metric_Stone_Void_Percentage)","v":""},"","",{"$f":"IF(B378=\"\",\"\",SUM(J378:$J$563))","v":""},""]
["","",{"$f":"IF(B379=\"\",\"\",IFERROR(_xlfn.XLOOKUP(ROUND(B379,1),MetricIncrementalData[System Increment],_xlfn.XLOOKUP('Metric Incremental Crate'!$R$3,MetricIncrementalData[#Headers],MetricIncrementalData[]),,1),0))","v":""},"",{"$f":"IF(B379=\"\",\"\",IFERROR(_xlfn.XLOOKUP(ROUND(B379,1),MetricIncrementalData[System Increment],_xlfn.XLOOKUP(Metric_Incremental_Data_Target_Column,MetricIncrementalData[#Headers],MetricIncrementalData[]),,1),0))","v":""},{"$f":"IF(B379=\"\",\"\",IF(B380=\"\",((((B379-0)/100)*Metric_Module_Square_Foot_Area)-'Cumulative Volumes Metric'!E379)*Metric_Stone_Void_Percentage,((((B379-B380)/100)*Metric_Module_Square_Foot_Area)-'Cumulative Volumes Metric'!E379)*Metric_Stone_Void_Percentage))","v":""},"",{"$f":"IF(B379=\"\",\"\",((Metric_System_Area_Input-Metric_Number_Of_Stacks*_xlfn.XLOOKUP(Metric_Layers,CrateData[Layer],CrateData[Surface Area (m2)]))*((B379-IF(B380=\"\",0,B380))/100))*Metric_Stone_Void_Percentage)","v":""},"","",{"$f":"IF(B379=\"\",\"\",SUM(J379:$J$563))","v":""},""]
["","",{"$f":"IF(B380=\"\",\"\",IFERROR(_xlfn.XLOOKUP(ROUND(B380,1),MetricIncrementalData[System Increment],_xlfn.XLOOKUP('Metric Incremental Crate'!$R$3,MetricIncrementalData[#Headers],MetricIncrementalData[]),,1),0))","v":""},"",{"$f":"IF(B380=\"\",\"\",IFERROR(_xlfn.XLOOKUP(ROUND(B380,1),MetricIncrementalData[System Increment],_xlfn.XLOOKUP(Metric_Incremental_Data_Target_Column,MetricIncrementalData[#Headers],MetricIncrementalData[]),,1),0))","v":""},{"$f":"IF(B380=\"\",\"\",IF(B381=\"\",((((B380-0)/100)*Metric_Module_Square_Foot_Area)-'Cumulative Volumes Metric'!E380)*Metric_Stone_Void_Percentage,((((B380-B381)/100)*Metric_Module_Square_Foot_Area)-'Cumulative Volumes Metric'!E380)*Metric_Stone_Void_Percentage))","v":""},"",{"$f":"IF(B380=\"\",\"\",((Metric_System_Area_Input-Metric_Number_Of_Stacks*_xlfn.XLOOKUP(Metric_Layers,CrateData[Layer],CrateData[Surface Area (m2)]))*((B380-IF(B381=\"\",0,B381))/100))*Metric_Stone_Void_Percentage)","v":""},"","",{"$f":"IF(B380=\"\",\"\",SUM(J380:$J$563))","v":""},""]
["","",{"$f":"IF(B381=\"\",\"\",IFERROR(_xlfn.XLOOKUP(ROUND(B381,1),MetricIncrementalData[System Increment],_xlfn.XLOOKUP('Metric Incremental Crate'!$R$3,MetricIncrementalData[#Headers],MetricIncrementalData[]),,1),0))","v":""},"",{"$f":"IF(B381=\"\",\"\",IFERROR(_xlfn.XLOOKUP(ROUND(B381,1),MetricIncrementalData[System Increment],_xlfn.XLOOKUP(Metric_Incremental_Data_Target_Column,MetricIncrementalData[#Headers],MetricIncrementalData[]),,1),0))","v":""},{"$f":"IF(B381=\"\",\"\",IF(B382=\"\",((((B381-0)/100)*Metric_Module_Square_Foot_Area)-'Cumulative Volumes Metric'!E381)*Metric_Stone_Void_Percentage,((((B381-B382)/100)*Metric_Module_Square_Foot_Area)-'Cumulative Volumes Metric'!E381)*Metric_Stone_Void_Percentage))","v":""},"",{"$f":"IF(B381=\"\",\"\",((Metric_System_Area_Input-Metric_Number_Of_Stacks*_xlfn.XLOOKUP(Metric_Layers,CrateData[Layer],CrateData[Surface Area (m2)]))*((B381-IF(B382=\"\",0,B382))/100))*Metric_Stone_Void_Percentage)","v":""},"","",{"$f":"IF(B381=\"\",\"\",SUM(J381:$J$563))","v":""},""]
["","",{"$f":"IF(B382=\"\",\"\",IFERROR(_xlfn.XLOOKUP(ROUND(B382,1),MetricIncrementalData[System Increment],_xlfn.XLOOKUP('Metric Incremental Crate'!$R$3,MetricIncrementalData[#Headers],MetricIncrementalData[]),,1),0))","v":""},"",{"$f":"IF(B382=\"\",\"\",IFERROR(_xlfn.XLOOKUP(ROUND(B382,1),MetricIncrementalData[System Increment],_xlfn.XLOOKUP(Metric_Incremental_Data_Target_Column,MetricIncrementalData[#Headers],MetricIncrementalData[]),,1),0))","v":""},{"$f":"IF(B382=\"\",\"\",IF(B383=\"\",((((B382-0)/100)*Metric_Module_Square_Foot_Area)-'Cumulative Volumes Metric'!E382)*Metric_Stone_Void_Percentage,((((B382-B383)/100)*Metric_Module_Square_Foot_Area)-'Cumulative Volumes Metric'!E382)*Metric_Stone_Void_Percentage))","v":""},"",{"$f":"IF(B382=\"\",\"\",((Metric_System_Area_Input-Metric_Number_Of_Stacks*_xlfn.XLOOKUP(Metric_Layers,CrateData[Layer],CrateData[Surface Area (m2)]))*((B382-IF(B383=\"\",0,B383))/100))*Metric_Stone_Void_Percentage)","v":""},"","",{"$f":"IF(B382=\"\",\"\",SUM(J382:$J$563))","v":""},""]
["","",{"$f":"IF(B383=\"\",\"\",IFERROR(_xlfn.XLOOKUP(ROUND(B383,1),MetricIncrementalData[System Increment],_xlfn.XLOOKUP('Metric Incremental Crate'!$R$3,MetricIncrementalData[#Headers],MetricIncrementalData[]),,1),0))","v":""},"",{"$f":"IF(B383=\"\",\"\",IFERROR(_xlfn.XLOOKUP(ROUND(B383,1),MetricIncrementalData[System Increment],_xlfn.XLOOKUP(Metric_Incremental_Data_Target_Column,MetricIncrementalData[#Headers],MetricIncrementalData[]),,1),0))","v":""},{"$f":"IF(B383=\"\",\"\",IF(B384=\"\",((((B383-0)/100)*Metric_Module_Square_Foot_Area)-'Cumulative Volumes Metric'!E383)*Metric_Stone_Void_Percentage,((((B383-B384)/100)*Metric_Module_Square_Foot_Area)-'Cumulative Volumes Metric'!E383)*Metric_Stone_Void_Percentage))","v":""},"",{"$f":"IF(B383=\"\",\"\",((Metric_System_Area_Input-Metric_Number_Of_Stacks*_xlfn.XLOOKUP(Metric_Layers,CrateData[Layer],CrateData[Surface Area (m2)]))*((B383-IF(B384=\"\",0,B384))/100))*Metric_Stone_Void_Percentage)","v":""},"","",{"$f":"IF(B383=\"\",\"\",SUM(J383:$J$563))","v":""},""]
["","",{"$f":"IF(B384=\"\",\"\",IFERROR(_xlfn.XLOOKUP(ROUND(B384,1),MetricIncrementalData[System Increment],_xlfn.XLOOKUP('Metric Incremental Crate'!$R$3,MetricIncrementalData[#Headers],MetricIncrementalData[]),,1),0))","v":""},"",{"$f":"IF(B384=\"\",\"\",IFERROR(_xlfn.XLOOKUP(ROUND(B384,1),MetricIncrementalData[System Increment],_xlfn.XLOOKUP(Metric_Incremental_Data_Target_Column,MetricIncrementalData[#Headers],MetricIncrementalData[]),,1),0))","v":""},{"$f":"IF(B384=\"\",\"\",IF(B385=\"\",((((B384-0)/100)*Metric_Module_Square_Foot_Area)-'Cumulative Volumes Metric'!E384)*Metric_Stone_Void_Percentage,((((B384-B385)/100)*Metric_Module_Square_Foot_Area)-'Cumulative Volumes Metric'!E384)*Metric_Stone_Void_Percentage))","v":""},"",{"$f":"IF(B384=\"\",\"\",((Metric_System_Area_Input-Metric_Number_Of_Stacks*_xlfn.XLOOKUP(Metric_Layers,CrateData[Layer],CrateData[Surface Area (m2)]))*((B384-IF(B385=\"\",0,B385))/100))*Metric_Stone_Void_Percentage)","v":""},"","",{"$f":"IF(B384=\"\",\"\",SUM(J384:$J$563))","v":""},""]
["","",{"$f":"IF(B385=\"\",\"\",IFERROR(_xlfn.XLOOKUP(ROUND(B385,1),MetricIncrementalData[System Increment],_xlfn.XLOOKUP('Metric Incremental Crate'!$R$3,MetricIncrementalData[#Headers],MetricIncrementalData[]),,1),0))","v":""},"",{"$f":"IF(B385=\"\",\"\",IFERROR(_xlfn.XLOOKUP(ROUND(B385,1),MetricIncrementalData[System Increment],_xlfn.XLOOKUP(Metric_Incremental_Data_Target_Column,MetricIncrementalData[#Headers],MetricIncrementalData[]),,1),0))","v":""},{"$f":"IF(B385=\"\",\"\",IF(B386=\"\",((((B385-0)/100)*Metric_Module_Square_Foot_Area)-'Cumulative Volumes Metric'!E385)*Metric_Stone_Void_Percentage,((((B385-B386)/100)*Metric_Module_Square_Foot_Area)-'Cumulative Volumes Metric'!E385)*Metric_Stone_Void_Percentage))","v":""},"",{"$f":"IF(B385=\"\",\"\",((Metric_System_Area_Input-Metric_Number_Of_Stacks*_xlfn.XLOOKUP(Metric_Layers,CrateData[Layer],CrateData[Surface Area (m2)]))*((B385-IF(B386=\"\",0,B386))/100))*Metric_Stone_Void_Percentage)","v":""},"","",{"$f":"IF(B385=\"\",\"\",SUM(J385:$J$563))","v":""},""]
["","",{"$f":"IF(B386=\"\",\"\",IFERROR(_xlfn.XLOOKUP(ROUND(B386,1),MetricIncrementalData[System Increment],_xlfn.XLOOKUP('Metric Incremental Crate'!$R$3,MetricIncrementalData[#Headers],MetricIncrementalData[]),,1),0))","v":""},"",{"$f":"IF(B386=\"\",\"\",IFERROR(_xlfn.XLOOKUP(ROUND(B386,1),MetricIncrementalData[System Increment],_xlfn.XLOOKUP(Metric_Incremental_Data_Target_Column,MetricIncrementalData[#Headers],MetricIncrementalData[]),,1),0))","v":""},{"$f":"IF(B386=\"\",\"\",IF(B387=\"\",((((B386-0)/100)*Metric_Module_Square_Foot_Area)-'Cumulative Volumes Metric'!E386)*Metric_Stone_Void_Percentage,((((B386-B387)/100)*Metric_Module_Square_Foot_Area)-'Cumulative Volumes Metric'!E386)*Metric_Stone_Void_Percentage))","v":""},"",{"$f":"IF(B386=\"\",\"\",((Metric_System_Area_Input-Metric_Number_Of_Stacks*_xlfn.XLOOKUP(Metric_Layers,CrateData[Layer],CrateData[Surface Area (m2)]))*((B386-IF(B387=\"\",0,B387))/100))*Metric_Stone_Void_Percentage)","v":""},"","",{"$f":"IF(B386=\"\",\"\",SUM(J386:$J$563))","v":""},""]
["","",{"$f":"IF(B387=\"\",\"\",IFERROR(_xlfn.XLOOKUP(ROUND(B387,1),MetricIncrementalData[System Increment],_xlfn.XLOOKUP('Metric Incremental Crate'!$R$3,MetricIncrementalData[#Headers],MetricIncrementalData[]),,1),0))","v":""},"",{"$f":"IF(B387=\"\",\"\",IFERROR(_xlfn.XLOOKUP(ROUND(B387,1),MetricIncrementalData[System Increment],_xlfn.XLOOKUP(Metric_Incremental_Data_Target_Column,MetricIncrementalData[#Headers],MetricIncrementalData[]),,1),0))","v":""},{"$f":"IF(B387=\"\",\"\",IF(B388=\"\",((((B387-0)/100)*Metric_Module_Square_Foot_Area)-'Cumulative Volumes Metric'!E387)*Metric_Stone_Void_Percentage,((((B387-B388)/100)*Metric_Module_Square_Foot_Area)-'Cumulative Volumes Metric'!E387)*Metric_Stone_Void_Percentage))","v":""},"",{"$f":"IF(B387=\"\",\"\",((Metric_System_Area_Input-Metric_Number_Of_Stacks*_xlfn.XLOOKUP(Metric_Layers,CrateData[Layer],CrateData[Surface Area (m2)]))*((B387-IF(B388=\"\",0,B388))/100))*Metric_Stone_Void_Percentage)","v":""},"","",{"$f":"IF(B387=\"\",\"\",SUM(J387:$J$563))","v":""},""]
["","",{"$f":"IF(B388=\"\",\"\",IFERROR(_xlfn.XLOOKUP(ROUND(B388,1),MetricIncrementalData[System Increment],_xlfn.XLOOKUP('Metric Incremental Crate'!$R$3,MetricIncrementalData[#Headers],MetricIncrementalData[]),,1),0))","v":""},"",{"$f":"IF(B388=\"\",\"\",IFERROR(_xlfn.XLOOKUP(ROUND(B388,1),MetricIncrementalData[System Increment],_xlfn.XLOOKUP(Metric_Incremental_Data_Target_Column,MetricIncrementalData[#Headers],MetricIncrementalData[]),,1),0))","v":""},{"$f":"IF(B388=\"\",\"\",IF(B389=\"\",((((B388-0)/100)*Metric_Module_Square_Foot_Area)-'Cumulative Volumes Metric'!E388)*Metric_Stone_Void_Percentage,((((B388-B389)/100)*Metric_Module_Square_Foot_Area)-'Cumulative Volumes Metric'!E388)*Metric_Stone_Void_Percentage))","v":""},"",{"$f":"IF(B388=\"\",\"\",((Metric_System_Area_Input-Metric_Number_Of_Stacks*_xlfn.XLOOKUP(Metric_Layers,CrateData[Layer],CrateData[Surface Area (m2)]))*((B388-IF(B389=\"\",0,B389))/100))*Metric_Stone_Void_Percentage)","v":""},"","",{"$f":"IF(B388=\"\",\"\",SUM(J388:$J$563))","v":""},""]
["","",{"$f":"IF(B389=\"\",\"\",IFERROR(_xlfn.XLOOKUP(ROUND(B389,1),MetricIncrementalData[System Increment],_xlfn.XLOOKUP('Metric Incremental Crate'!$R$3,MetricIncrementalData[#Headers],MetricIncrementalData[]),,1),0))","v":""},"",{"$f":"IF(B389=\"\",\"\",IFERROR(_xlfn.XLOOKUP(ROUND(B389,1),MetricIncrementalData[System Increment],_xlfn.XLOOKUP(Metric_Incremental_Data_Target_Column,MetricIncrementalData[#Headers],MetricIncrementalData[]),,1),0))","v":""},{"$f":"IF(B389=\"\",\"\",IF(B390=\"\",((((B389-0)/100)*Metric_Module_Square_Foot_Area)-'Cumulative Volumes Metric'!E389)*Metric_Stone_Void_Percentage,((((B389-B390)/100)*Metric_Module_Square_Foot_Area)-'Cumulative Volumes Metric'!E389)*Metric_Stone_Void_Percentage))","v":""},"",{"$f":"IF(B389=\"\",\"\",((Metric_System_Area_Input-Metric_Number_Of_Stacks*_xlfn.XLOOKUP(Metric_Layers,CrateData[Layer],CrateData[Surface Area (m2)]))*((B389-IF(B390=\"\",0,B390))/100))*Metric_Stone_Void_Percentage)","v":""},"","",{"$f":"IF(B389=\"\",\"\",SUM(J389:$J$563))","v":""},""]
["","",{"$f":"IF(B390=\"\",\"\",IFERROR(_xlfn.XLOOKUP(ROUND(B390,1),MetricIncrementalData[System Increment],_xlfn.XLOOKUP('Metric Incremental Crate'!$R$3,MetricIncrementalData[#Headers],MetricIncrementalData[]),,1),0))","v":""},"",{"$f":"IF(B390=\"\",\"\",IFERROR(_xlfn.XLOOKUP(ROUND(B390,1),MetricIncrementalData[System Increment],_xlfn.XLOOKUP(Metric_Incremental_Data_Target_Column,MetricIncrementalData[#Headers],MetricIncrementalData[]),,1),0))","v":""},{"$f":"IF(B390=\"\",\"\",IF(B391=\"\",((((B390-0)/100)*Metric_Module_Square_Foot_Area)-'Cumulative Volumes Metric'!E390)*Metric_Stone_Void_Percentage,((((B390-B391)/100)*Metric_Module_Square_Foot_Area)-'Cumulative Volumes Metric'!E390)*Metric_Stone_Void_Percentage))","v":""},"",{"$f":"IF(B390=\"\",\"\",((Metric_System_Area_Input-Metric_Number_Of_Stacks*_xlfn.XLOOKUP(Metric_Layers,CrateData[Layer],CrateData[Surface Area (m2)]))*((B390-IF(B391=\"\",0,B391))/100))*Metric_Stone_Void_Percentage)","v":""},"","",{"$f":"IF(B390=\"\",\"\",SUM(J390:$J$563))","v":""},""]
["","",{"$f":"IF(B391=\"\",\"\",IFERROR(_xlfn.XLOOKUP(ROUND(B391,1),MetricIncrementalData[System Increment],_xlfn.XLOOKUP('Metric Incremental Crate'!$R$3,MetricIncrementalData[#Headers],MetricIncrementalData[]),,1),0))","v":""},"",{"$f":"IF(B391=\"\",\"\",IFERROR(_xlfn.XLOOKUP(ROUND(B391,1),MetricIncrementalData[System Increment],_xlfn.XLOOKUP(Metric_Incremental_Data_Target_Column,MetricIncrementalData[#Headers],MetricIncrementalData[]),,1),0))","v":""},{"$f":"IF(B391=\"\",\"\",IF(B392=\"\",((((B391-0)/100)*Metric_Module_Square_Foot_Area)-'Cumulative Volumes Metric'!E391)*Metric_Stone_Void_Percentage,((((B391-B392)/100)*Metric_Module_Square_Foot_Area)-'Cumulative Volumes Metric'!E391)*Metric_Stone_Void_Percentage))","v":""},"",{"$f":"IF(B391=\"\",\"\",((Metric_System_Area_Input-Metric_Number_Of_Stacks*_xlfn.XLOOKUP(Metric_Layers,CrateData[Layer],CrateData[Surface Area (m2)]))*((B391-IF(B392=\"\",0,B392))/100))*Metric_Stone_Void_Percentage)","v":""},"","",{"$f":"IF(B391=\"\",\"\",SUM(J391:$J$563))","v":""},""]
["","",{"$f":"IF(B392=\"\",\"\",IFERROR(_xlfn.XLOOKUP(ROUND(B392,1),MetricIncrementalData[System Increment],_xlfn.XLOOKUP('Metric Incremental Crate'!$R$3,MetricIncrementalData[#Headers],MetricIncrementalData[]),,1),0))","v":""},"",{"$f":"IF(B392=\"\",\"\",IFERROR(_xlfn.XLOOKUP(ROUND(B392,1),MetricIncrementalData[System Increment],_xlfn.XLOOKUP(Metric_Incremental_Data_Target_Column,MetricIncrementalData[#Headers],MetricIncrementalData[]),,1),0))","v":""},{"$f":"IF(B392=\"\",\"\",IF(B393=\"\",((((B392-0)/100)*Metric_Module_Square_Foot_Area)-'Cumulative Volumes Metric'!E392)*Metric_Stone_Void_Percentage,((((B392-B393)/100)*Metric_Module_Square_Foot_Area)-'Cumulative Volumes Metric'!E392)*Metric_Stone_Void_Percentage))","v":""},"",{"$f":"IF(B392=\"\",\"\",((Metric_System_Area_Input-Metric_Number_Of_Stacks*_xlfn.XLOOKUP(Metric_Layers,CrateData[Layer],CrateData[Surface Area (m2)]))*((B392-IF(B393=\"\",0,B393))/100))*Metric_Stone_Void_Percentage)","v":""},"","",{"$f":"IF(B392=\"\",\"\",SUM(J392:$J$563))","v":""},""]
["","",{"$f":"IF(B393=\"\",\"\",IFERROR(_xlfn.XLOOKUP(ROUND(B393,1),MetricIncrementalData[System Increment],_xlfn.XLOOKUP('Metric Incremental Crate'!$R$3,MetricIncrementalData[#Headers],MetricIncrementalData[]),,1),0))","v":""},"",{"$f":"IF(B393=\"\",\"\",IFERROR(_xlfn.XLOOKUP(ROUND(B393,1),MetricIncrementalData[System Increment],_xlfn.XLOOKUP(Metric_Incremental_Data_Target_Column,MetricIncrementalData[#Headers],MetricIncrementalData[]),,1),0))","v":""},{"$f":"IF(B393=\"\",\"\",IF(B394=\"\",((((B393-0)/100)*Metric_Module_Square_Foot_Area)-'Cumulative Volumes Metric'!E393)*Metric_Stone_Void_Percentage,((((B393-B394)/100)*Metric_Module_Square_Foot_Area)-'Cumulative Volumes Metric'!E393)*Metric_Stone_Void_Percentage))","v":""},"",{"$f":"IF(B393=\"\",\"\",((Metric_System_Area_Input-Metric_Number_Of_Stacks*_xlfn.XLOOKUP(Metric_Layers,CrateData[Layer],CrateData[Surface Area (m2)]))*((B393-IF(B394=\"\",0,B394))/100))*Metric_Stone_Void_Percentage)","v":""},"","",{"$f":"IF(B393=\"\",\"\",SUM(J393:$J$563))","v":""},""]
["","",{"$f":"IF(B394=\"\",\"\",IFERROR(_xlfn.XLOOKUP(ROUND(B394,1),MetricIncrementalData[System Increment],_xlfn.XLOOKUP('Metric Incremental Crate'!$R$3,MetricIncrementalData[#Headers],MetricIncrementalData[]),,1),0))","v":""},"",{"$f":"IF(B394=\"\",\"\",IFERROR(_xlfn.XLOOKUP(ROUND(B394,1),MetricIncrementalData[System Increment],_xlfn.XLOOKUP(Metric_Incremental_Data_Target_Column,MetricIncrementalData[#Headers],MetricIncrementalData[]),,1),0))","v":""},{"$f":"IF(B394=\"\",\"\",IF(B395=\"\",((((B394-0)/100)*Metric_Module_Square_Foot_Area)-'Cumulative Volumes Metric'!E394)*Metric_Stone_Void_Percentage,((((B394-B395)/100)*Metric_Module_Square_Foot_Area)-'Cumulative Volumes Metric'!E394)*Metric_Stone_Void_Percentage))","v":""},"",{"$f":"IF(B394=\"\",\"\",((Metric_System_Area_Input-Metric_Number_Of_Stacks*_xlfn.XLOOKUP(Metric_Layers,CrateData[Layer],CrateData[Surface Area (m2)]))*((B394-IF(B395=\"\",0,B395))/100))*Metric_Stone_Void_Percentage)","v":""},"","",{"$f":"IF(B394=\"\",\"\",SUM(J394:$J$563))","v":""},""]
["","",{"$f":"IF(B395=\"\",\"\",IFERROR(_xlfn.XLOOKUP(ROUND(B395,1),MetricIncrementalData[System Increment],_xlfn.XLOOKUP('Metric Incremental Crate'!$R$3,MetricIncrementalData[#Headers],MetricIncrementalData[]),,1),0))","v":""},"",{"$f":"IF(B395=\"\",\"\",IFERROR(_xlfn.XLOOKUP(ROUND(B395,1),MetricIncrementalData[System Increment],_xlfn.XLOOKUP(Metric_Incremental_Data_Target_Column,MetricIncrementalData[#Headers],MetricIncrementalData[]),,1),0))","v":""},{"$f":"IF(B395=\"\",\"\",IF(B396=\"\",((((B395-0)/100)*Metric_Module_Square_Foot_Area)-'Cumulative Volumes Metric'!E395)*Metric_Stone_Void_Percentage,((((B395-B396)/100)*Metric_Module_Square_Foot_Area)-'Cumulative Volumes Metric'!E395)*Metric_Stone_Void_Percentage))","v":""},"",{"$f":"IF(B395=\"\",\"\",((Metric_System_Area_Input-Metric_Number_Of_Stacks*_xlfn.XLOOKUP(Metric_Layers,CrateData[Layer],CrateData[Surface Area (m2)]))*((B395-IF(B396=\"\",0,B396))/100))*Metric_Stone_Void_Percentage)","v":""},"","",{"$f":"IF(B395=\"\",\"\",SUM(J395:$J$563))","v":""},""]
["","",{"$f":"IF(B396=\"\",\"\",IFERROR(_xlfn.XLOOKUP(ROUND(B396,1),MetricIncrementalData[System Increment],_xlfn.XLOOKUP('Metric Incremental Crate'!$R$3,MetricIncrementalData[#Headers],MetricIncrementalData[]),,1),0))","v":""},"",{"$f":"IF(B396=\"\",\"\",IFERROR(_xlfn.XLOOKUP(ROUND(B396,1),MetricIncrementalData[System Increment],_xlfn.XLOOKUP(Metric_Incremental_Data_Target_Column,MetricIncrementalData[#Headers],MetricIncrementalData[]),,1),0))","v":""},{"$f":"IF(B396=\"\",\"\",IF(B397=\"\",((((B396-0)/100)*Metric_Module_Square_Foot_Area)-'Cumulative Volumes Metric'!E396)*Metric_Stone_Void_Percentage,((((B396-B397)/100)*Metric_Module_Square_Foot_Area)-'Cumulative Volumes Metric'!E396)*Metric_Stone_Void_Percentage))","v":""},"",{"$f":"IF(B396=\"\",\"\",((Metric_System_Area_Input-Metric_Number_Of_Stacks*_xlfn.XLOOKUP(Metric_Layers,CrateData[Layer],CrateData[Surface Area (m2)]))*((B396-IF(B397=\"\",0,B397))/100))*Metric_Stone_Void_Percentage)","v":""},"","",{"$f":"IF(B396=\"\",\"\",SUM(J396:$J$563))","v":""},""]
["","",{"$f":"IF(B397=\"\",\"\",IFERROR(_xlfn.XLOOKUP(ROUND(B397,1),MetricIncrementalData[System Increment],_xlfn.XLOOKUP('Metric Incremental Crate'!$R$3,MetricIncrementalData[#Headers],MetricIncrementalData[]),,1),0))","v":""},"",{"$f":"IF(B397=\"\",\"\",IFERROR(_xlfn.XLOOKUP(ROUND(B397,1),MetricIncrementalData[System Increment],_xlfn.XLOOKUP(Metric_Incremental_Data_Target_Column,MetricIncrementalData[#Headers],MetricIncrementalData[]),,1),0))","v":""},{"$f":"IF(B397=\"\",\"\",IF(B398=\"\",((((B397-0)/100)*Metric_Module_Square_Foot_Area)-'Cumulative Volumes Metric'!E397)*Metric_Stone_Void_Percentage,((((B397-B398)/100)*Metric_Module_Square_Foot_Area)-'Cumulative Volumes Metric'!E397)*Metric_Stone_Void_Percentage))","v":""},"",{"$f":"IF(B397=\"\",\"\",((Metric_System_Area_Input-Metric_Number_Of_Stacks*_xlfn.XLOOKUP(Metric_Layers,CrateData[Layer],CrateData[Surface Area (m2)]))*((B397-IF(B398=\"\",0,B398))/100))*Metric_Stone_Void_Percentage)","v":""},"","",{"$f":"IF(B397=\"\",\"\",SUM(J397:$J$563))","v":""},""]
["","",{"$f":"IF(B398=\"\",\"\",IFERROR(_xlfn.XLOOKUP(ROUND(B398,1),MetricIncrementalData[System Increment],_xlfn.XLOOKUP('Metric Incremental Crate'!$R$3,MetricIncrementalData[#Headers],MetricIncrementalData[]),,1),0))","v":""},"",{"$f":"IF(B398=\"\",\"\",IFERROR(_xlfn.XLOOKUP(ROUND(B398,1),MetricIncrementalData[System Increment],_xlfn.XLOOKUP(Metric_Incremental_Data_Target_Column,MetricIncrementalData[#Headers],MetricIncrementalData[]),,1),0))","v":""},{"$f":"IF(B398=\"\",\"\",IF(B399=\"\",((((B398-0)/100)*Metric_Module_Square_Foot_Area)-'Cumulative Volumes Metric'!E398)*Metric_Stone_Void_Percentage,((((B398-B399)/100)*Metric_Module_Square_Foot_Area)-'Cumulative Volumes Metric'!E398)*Metric_Stone_Void_Percentage))","v":""},"",{"$f":"IF(B398=\"\",\"\",((Metric_System_Area_Input-Metric_Number_Of_Stacks*_xlfn.XLOOKUP(Metric_Layers,CrateData[Layer],CrateData[Surface Area (m2)]))*((B398-IF(B399=\"\",0,B399))/100))*Metric_Stone_Void_Percentage)","v":""},"","",{"$f":"IF(B398=\"\",\"\",SUM(J398:$J$563))","v":""},""]
["","",{"$f":"IF(B399=\"\",\"\",IFERROR(_xlfn.XLOOKUP(ROUND(B399,1),MetricIncrementalData[System Increment],_xlfn.XLOOKUP('Metric Incremental Crate'!$R$3,MetricIncrementalData[#Headers],MetricIncrementalData[]),,1),0))","v":""},"",{"$f":"IF(B399=\"\",\"\",IFERROR(_xlfn.XLOOKUP(ROUND(B399,1),MetricIncrementalData[System Increment],_xlfn.XLOOKUP(Metric_Incremental_Data_Target_Column,MetricIncrementalData[#Headers],MetricIncrementalData[]),,1),0))","v":""},{"$f":"IF(B399=\"\",\"\",IF(B400=\"\",((((B399-0)/100)*Metric_Module_Square_Foot_Area)-'Cumulative Volumes Metric'!E399)*Metric_Stone_Void_Percentage,((((B399-B400)/100)*Metric_Module_Square_Foot_Area)-'Cumulative Volumes Metric'!E399)*Metric_Stone_Void_Percentage))","v":""},"",{"$f":"IF(B399=\"\",\"\",((Metric_System_Area_Input-Metric_Number_Of_Stacks*_xlfn.XLOOKUP(Metric_Layers,CrateData[Layer],CrateData[Surface Area (m2)]))*((B399-IF(B400=\"\",0,B400))/100))*Metric_Stone_Void_Percentage)","v":""},"","",{"$f":"IF(B399=\"\",\"\",SUM(J399:$J$563))","v":""},""]
[{"$f":"IF(B402<>\"\",A399+1,\"\")","v":""},"",{"$f":"IF(B400=\"\",\"\",IFERROR(_xlfn.XLOOKUP(ROUND(B400,1),MetricIncrementalData[System Increment],_xlfn.XLOOKUP('Metric Incremental Crate'!$R$3,MetricIncrementalData[#Headers],MetricIncrementalData[]),,1),0))","v":""},"",{"$f":"IF(B400=\"\",\"\",IFERROR(_xlfn.XLOOKUP(ROUND(B400,1),MetricIncrementalData[System Increment],_xlfn.XLOOKUP(Metric_Incremental_Data_Target_Column,MetricIncrementalData[#Headers],MetricIncrementalData[]),,1),0))","v":""},{"$f":"IF(B400=\"\",\"\",IF(B401=\"\",((((B400-0)/100)*Metric_Module_Square_Foot_Area)-'Cumulative Volumes Metric'!E400)*Metric_Stone_Void_Percentage,((((B400-B401)/100)*Metric_Module_Square_Foot_Area)-'Cumulative Volumes Metric'!E400)*Metric_Stone_Void_Percentage))","v":""},"",{"$f":"IF(B400=\"\",\"\",((Metric_System_Area_Input-Metric_Number_Of_Stacks*_xlfn.XLOOKUP(Metric_Layers,CrateData[Layer],CrateData[Surface Area (m2)]))*((B400-IF(B401=\"\",0,B401))/100))*Metric_Stone_Void_Percentage)","v":""},"","",{"$f":"IF(B400=\"\",\"\",SUM(J400:$J$563))","v":""},""]
["","",{"$f":"IF(B401=\"\",\"\",IFERROR(_xlfn.XLOOKUP(ROUND(B401,1),MetricIncrementalData[System Increment],_xlfn.XLOOKUP('Metric Incremental Crate'!$R$3,MetricIncrementalData[#Headers],MetricIncrementalData[]),,1),0))","v":""},"",{"$f":"IF(B401=\"\",\"\",IFERROR(_xlfn.XLOOKUP(ROUND(B401,1),MetricIncrementalData[System Increment],_xlfn.XLOOKUP(Metric_Incremental_Data_Target_Column,MetricIncrementalData[#Headers],MetricIncrementalData[]),,1),0))","v":""},{"$f":"IF(B401=\"\",\"\",IF(B402=\"\",((((B401-0)/100)*Metric_Module_Square_Foot_Area)-'Cumulative Volumes Metric'!E401)*Metric_Stone_Void_Percentage,((((B401-B402)/100)*Metric_Module_Square_Foot_Area)-'Cumulative Volumes Metric'!E401)*Metric_Stone_Void_Percentage))","v":""},"",{"$f":"IF(B401=\"\",\"\",((Metric_System_Area_Input-Metric_Number_Of_Stacks*_xlfn.XLOOKUP(Metric_Layers,CrateData[Layer],CrateData[Surface Area (m2)]))*((B401-IF(B402=\"\",0,B402))/100))*Metric_Stone_Void_Percentage)","v":""},"","",{"$f":"IF(B401=\"\",\"\",SUM(J401:$J$563))","v":""},""]
["","",{"$f":"IF(B402=\"\",\"\",IFERROR(_xlfn.XLOOKUP(ROUND(B402,1),MetricIncrementalData[System Increment],_xlfn.XLOOKUP('Metric Incremental Crate'!$R$3,MetricIncrementalData[#Headers],MetricIncrementalData[]),,1),0))","v":""},{"$f":"IFERROR(C402*Metric_Number_Of_Stacks,\"\")","v":""},{"$f":"IF(B402=\"\",\"\",IFERROR(_xlfn.XLOOKUP(ROUND(B402,1),MetricIncrementalData[System Increment],_xlfn.XLOOKUP(Metric_Incremental_Data_Target_Column,MetricIncrementalData[#Headers],MetricIncrementalData[]),,1),0))","v":""},{"$f":"IF(B402=\"\",\"\",IF(B403=\"\",((((B402-0)/100)*Metric_Module_Square_Foot_Area)-'Cumulative Volumes Metric'!E402)*Metric_Stone_Void_Percentage,((((B402-B403)/100)*Metric_Module_Square_Foot_Area)-'Cumulative Volumes Metric'!E402)*Metric_Stone_Void_Percentage))","v":""},{"$f":"IFERROR(F402*Metric_Number_Of_Stacks,\"\")","v":""},{"$f":"IF(B402=\"\",\"\",((Metric_System_Area_Input-Metric_Number_Of_Stacks*_xlfn.XLOOKUP(Metric_Layers,CrateData[Layer],CrateData[Surface Area (m2)]))*((B402-IF(B403=\"\",0,B403))/100))*Metric_Stone_Void_Percentage)","v":""},"","",{"$f":"IF(B402=\"\",\"\",SUM(J402:$J$563))","v":""},""]
["","",{"$f":"IF(B403=\"\",\"\",IFERROR(_xlfn.XLOOKUP(ROUND(B403,1),MetricIncrementalData[System Increment],_xlfn.XLOOKUP('Metric Incremental Crate'!$R$3,MetricIncrementalData[#Headers],MetricIncrementalData[]),,1),0))","v":""},"",{"$f":"IF(B403=\"\",\"\",IFERROR(_xlfn.XLOOKUP(ROUND(B403,1),MetricIncrementalData[System Increment],_xlfn.XLOOKUP(Metric_Incremental_Data_Target_Column,MetricIncrementalData[#Headers],MetricIncrementalData[]),,1),0))","v":""},{"$f":"IF(B403=\"\",\"\",IF(B404=\"\",((((B403-0)/100)*Metric_Module_Square_Foot_Area)-'Cumulative Volumes Metric'!E403)*Metric_Stone_Void_Percentage,((((B403-B404)/100)*Metric_Module_Square_Foot_Area)-'Cumulative Volumes Metric'!E403)*Metric_Stone_Void_Percentage))","v":""},"",{"$f":"IF(B403=\"\",\"\",((Metric_System_Area_Input-Metric_Number_Of_Stacks*_xlfn.XLOOKUP(Metric_Layers,CrateData[Layer],CrateData[Surface Area (m2)]))*((B403-IF(B404=\"\",0,B404))/100))*Metric_Stone_Void_Percentage)","v":""},{"$f":"IFERROR(IF($AW$17, H403+G403, G403), \"\")","v":""},"",{"$f":"IF(B403=\"\",\"\",SUM(J403:$J$563))","v":""},""]
["","",{"$f":"IF(B404=\"\",\"\",IFERROR(_xlfn.XLOOKUP(ROUND(B404,1),MetricIncrementalData[System Increment],_xlfn.XLOOKUP('Metric Incremental Crate'!$R$3,MetricIncrementalData[#Headers],MetricIncrementalData[]),,1),0))","v":""},"",{"$f":"IF(B404=\"\",\"\",IFERROR(_xlfn.XLOOKUP(ROUND(B404,1),MetricIncrementalData[System Increment],_xlfn.XLOOKUP(Metric_Incremental_Data_Target_Column,MetricIncrementalData[#Headers],MetricIncrementalData[]),,1),0))","v":""},{"$f":"IF(B404=\"\",\"\",IF(B405=\"\",((((B404-0)/100)*Metric_Module_Square_Foot_Area)-'Cumulative Volumes Metric'!E404)*Metric_Stone_Void_Percentage,((((B404-B405)/100)*Metric_Module_Square_Foot_Area)-'Cumulative Volumes Metric'!E404)*Metric_Stone_Void_Percentage))","v":""},"",{"$f":"IF(B404=\"\",\"\",((Metric_System_Area_Input-Metric_Number_Of_Stacks*_xlfn.XLOOKUP(Metric_Layers,CrateData[Layer],CrateData[Surface Area (m2)]))*((B404-IF(B405=\"\",0,B405))/100))*Metric_Stone_Void_Percentage)","v":""},"","",{"$f":"IF(B404=\"\",\"\",SUM(J404:$J$563))","v":""},""]
["","",{"$f":"IF(B405=\"\",\"\",IFERROR(_xlfn.XLOOKUP(ROUND(B405,1),MetricIncrementalData[System Increment],_xlfn.XLOOKUP('Metric Incremental Crate'!$R$3,MetricIncrementalData[#Headers],MetricIncrementalData[]),,1),0))","v":""},"",{"$f":"IF(B405=\"\",\"\",IFERROR(_xlfn.XLOOKUP(ROUND(B405,1),MetricIncrementalData[System Increment],_xlfn.XLOOKUP(Metric_Incremental_Data_Target_Column,MetricIncrementalData[#Headers],MetricIncrementalData[]),,1),0))","v":""},{"$f":"IF(B405=\"\",\"\",IF(B406=\"\",((((B405-0)/100)*Metric_Module_Square_Foot_Area)-'Cumulative Volumes Metric'!E405)*Metric_Stone_Void_Percentage,((((B405-B406)/100)*Metric_Module_Square_Foot_Area)-'Cumulative Volumes Metric'!E405)*Metric_Stone_Void_Percentage))","v":""},"",{"$f":"IF(B405=\"\",\"\",((Metric_System_Area_Input-Metric_Number_Of_Stacks*_xlfn.XLOOKUP(Metric_Layers,CrateData[Layer],CrateData[Surface Area (m2)]))*((B405-IF(B406=\"\",0,B406))/100))*Metric_Stone_Void_Percentage)","v":""},"","",{"$f":"IF(B405=\"\",\"\",SUM(J405:$J$563))","v":""},""]
["",{"$f":"IFERROR(IF(B405-1<1,\"\",B405-1),\"\")","v":""},{"$f":"IF(B406=\"\",\"\",IFERROR(_xlfn.XLOOKUP(ROUND(B406,1),MetricIncrementalData[System Increment],_xlfn.XLOOKUP('Metric Incremental Crate'!$R$3,MetricIncrementalData[#Headers],MetricIncrementalData[]),,1),0))","v":""},"",{"$f":"IF(B406=\"\",\"\",IFERROR(_xlfn.XLOOKUP(ROUND(B406,1),MetricIncrementalData[System Increment],_xlfn.XLOOKUP(Metric_Incremental_Data_Target_Column,MetricIncrementalData[#Headers],MetricIncrementalData[]),,1),0))","v":""},{"$f":"IF(B406=\"\",\"\",IF(B407=\"\",((((B406-0)/100)*Metric_Module_Square_Foot_Area)-'Cumulative Volumes Metric'!E406)*Metric_Stone_Void_Percentage,((((B406-B407)/100)*Metric_Module_Square_Foot_Area)-'Cumulative Volumes Metric'!E406)*Metric_Stone_Void_Percentage))","v":""},"",{"$f":"IF(B406=\"\",\"\",((Metric_System_Area_Input-Metric_Number_Of_Stacks*_xlfn.XLOOKUP(Metric_Layers,CrateData[Layer],CrateData[Surface Area (m2)]))*((B406-IF(B407=\"\",0,B407))/100))*Metric_Stone_Void_Percentage)","v":""},"",{"$f":"IFERROR(I406+D406,\"\")","v":""},{"$f":"IF(B406=\"\",\"\",SUM(J406:$J$563))","v":""},{"$f":"IFERROR($I$11+B406/100,\"\")","v":""}]
["","",{"$f":"IF(B407=\"\",\"\",IFERROR(_xlfn.XLOOKUP(ROUND(B407,1),MetricIncrementalData[System Increment],_xlfn.XLOOKUP('Metric Incremental Crate'!$R$3,MetricIncrementalData[#Headers],MetricIncrementalData[]),,1),0))","v":""},"",{"$f":"IF(B407=\"\",\"\",IFERROR(_xlfn.XLOOKUP(ROUND(B407,1),MetricIncrementalData[System Increment],_xlfn.XLOOKUP(Metric_Incremental_Data_Target_Column,MetricIncrementalData[#Headers],MetricIncrementalData[]),,1),0))","v":""},{"$f":"IF(B407=\"\",\"\",IF(B408=\"\",((((B407-0)/100)*Metric_Module_Square_Foot_Area)-'Cumulative Volumes Metric'!E407)*Metric_Stone_Void_Percentage,((((B407-B408)/100)*Metric_Module_Square_Foot_Area)-'Cumulative Volumes Metric'!E407)*Metric_Stone_Void_Percentage))","v":""},"",{"$f":"IF(B407=\"\",\"\",((Metric_System_Area_Input-Metric_Number_Of_Stacks*_xlfn.XLOOKUP(Metric_Layers,CrateData[Layer],CrateData[Surface Area (m2)]))*((B407-IF(B408=\"\",0,B408))/100))*Metric_Stone_Void_Percentage)","v":""},"","",{"$f":"IF(B407=\"\",\"\",SUM(J407:$J$563))","v":""},""]
["","",{"$f":"IF(B408=\"\",\"\",IFERROR(_xlfn.XLOOKUP(ROUND(B408,1),MetricIncrementalData[System Increment],_xlfn.XLOOKUP('Metric Incremental Crate'!$R$3,MetricIncrementalData[#Headers],MetricIncrementalData[]),,1),0))","v":""},"",{"$f":"IF(B408=\"\",\"\",IFERROR(_xlfn.XLOOKUP(ROUND(B408,1),MetricIncrementalData[System Increment],_xlfn.XLOOKUP(Metric_Incremental_Data_Target_Column,MetricIncrementalData[#Headers],MetricIncrementalData[]),,1),0))","v":""},{"$f":"IF(B408=\"\",\"\",IF(B409=\"\",((((B408-0)/100)*Metric_Module_Square_Foot_Area)-'Cumulative Volumes Metric'!E408)*Metric_Stone_Void_Percentage,((((B408-B409)/100)*Metric_Module_Square_Foot_Area)-'Cumulative Volumes Metric'!E408)*Metric_Stone_Void_Percentage))","v":""},"",{"$f":"IF(B408=\"\",\"\",((Metric_System_Area_Input-Metric_Number_Of_Stacks*_xlfn.XLOOKUP(Metric_Layers,CrateData[Layer],CrateData[Surface Area (m2)]))*((B408-IF(B409=\"\",0,B409))/100))*Metric_Stone_Void_Percentage)","v":""},"","",{"$f":"IF(B408=\"\",\"\",SUM(J408:$J$563))","v":""},""]
["","",{"$f":"IF(B409=\"\",\"\",IFERROR(_xlfn.XLOOKUP(ROUND(B409,1),MetricIncrementalData[System Increment],_xlfn.XLOOKUP('Metric Incremental Crate'!$R$3,MetricIncrementalData[#Headers],MetricIncrementalData[]),,1),0))","v":""},"",{"$f":"IF(B409=\"\",\"\",IFERROR(_xlfn.XLOOKUP(ROUND(B409,1),MetricIncrementalData[System Increment],_xlfn.XLOOKUP(Metric_Incremental_Data_Target_Column,MetricIncrementalData[#Headers],MetricIncrementalData[]),,1),0))","v":""},{"$f":"IF(B409=\"\",\"\",IF(B410=\"\",((((B409-0)/100)*Metric_Module_Square_Foot_Area)-'Cumulative Volumes Metric'!E409)*Metric_Stone_Void_Percentage,((((B409-B410)/100)*Metric_Module_Square_Foot_Area)-'Cumulative Volumes Metric'!E409)*Metric_Stone_Void_Percentage))","v":""},"",{"$f":"IF(B409=\"\",\"\",((Metric_System_Area_Input-Metric_Number_Of_Stacks*_xlfn.XLOOKUP(Metric_Layers,CrateData[Layer],CrateData[Surface Area (m2)]))*((B409-IF(B410=\"\",0,B410))/100))*Metric_Stone_Void_Percentage)","v":""},"","",{"$f":"IF(B409=\"\",\"\",SUM(J409:$J$563))","v":""},""]
["","",{"$f":"IF(B410=\"\",\"\",IFERROR(_xlfn.XLOOKUP(ROUND(B410,1),MetricIncrementalData[System Increment],_xlfn.XLOOKUP('Metric Incremental Crate'!$R$3,MetricIncrementalData[#Headers],MetricIncrementalData[]),,1),0))","v":""},"",{"$f":"IF(B410=\"\",\"\",IFERROR(_xlfn.XLOOKUP(ROUND(B410,1),MetricIncrementalData[System Increment],_xlfn.XLOOKUP(Metric_Incremental_Data_Target_Column,MetricIncrementalData[#Headers],MetricIncrementalData[]),,1),0))","v":""},{"$f":"IF(B410=\"\",\"\",IF(B411=\"\",((((B410-0)/100)*Metric_Module_Square_Foot_Area)-'Cumulative Volumes Metric'!E410)*Metric_Stone_Void_Percentage,((((B410-B411)/100)*Metric_Module_Square_Foot_Area)-'Cumulative Volumes Metric'!E410)*Metric_Stone_Void_Percentage))","v":""},"",{"$f":"IF(B410=\"\",\"\",((Metric_System_Area_Input-Metric_Number_Of_Stacks*_xlfn.XLOOKUP(Metric_Layers,CrateData[Layer],CrateData[Surface Area (m2)]))*((B410-IF(B411=\"\",0,B411))/100))*Metric_Stone_Void_Percentage)","v":""},"","",{"$f":"IF(B410=\"\",\"\",SUM(J410:$J$563))","v":""},""]
["","",{"$f":"IF(B411=\"\",\"\",IFERROR(_xlfn.XLOOKUP(ROUND(B411,1),MetricIncrementalData[System Increment],_xlfn.XLOOKUP('Metric Incremental Crate'!$R$3,MetricIncrementalData[#Headers],MetricIncrementalData[]),,1),0))","v":""},"",{"$f":"IF(B411=\"\",\"\",IFERROR(_xlfn.XLOOKUP(ROUND(B411,1),MetricIncrementalData[System Increment],_xlfn.XLOOKUP(Metric_Incremental_Data_Target_Column,MetricIncrementalData[#Headers],MetricIncrementalData[]),,1),0))","v":""},{"$f":"IF(B411=\"\",\"\",IF(B412=\"\",((((B411-0)/100)*Metric_Module_Square_Foot_Area)-'Cumulative Volumes Metric'!E411)*Metric_Stone_Void_Percentage,((((B411-B412)/100)*Metric_Module_Square_Foot_Area)-'Cumulative Volumes Metric'!E411)*Metric_Stone_Void_Percentage))","v":""},"",{"$f":"IF(B411=\"\",\"\",((Metric_System_Area_Input-Metric_Number_Of_Stacks*_xlfn.XLOOKUP(Metric_Layers,CrateData[Layer],CrateData[Surface Area (m2)]))*((B411-IF(B412=\"\",0,B412))/100))*Metric_Stone_Void_Percentage)","v":""},"","",{"$f":"IF(B411=\"\",\"\",SUM(J411:$J$563))","v":""},""]
["","",{"$f":"IF(B412=\"\",\"\",IFERROR(_xlfn.XLOOKUP(ROUND(B412,1),MetricIncrementalData[System Increment],_xlfn.XLOOKUP('Metric Incremental Crate'!$R$3,MetricIncrementalData[#Headers],MetricIncrementalData[]),,1),0))","v":""},"",{"$f":"IF(B412=\"\",\"\",IFERROR(_xlfn.XLOOKUP(ROUND(B412,1),MetricIncrementalData[System Increment],_xlfn.XLOOKUP(Metric_Incremental_Data_Target_Column,MetricIncrementalData[#Headers],MetricIncrementalData[]),,1),0))","v":""},{"$f":"IF(B412=\"\",\"\",IF(B413=\"\",((((B412-0)/100)*Metric_Module_Square_Foot_Area)-'Cumulative Volumes Metric'!E412)*Metric_Stone_Void_Percentage,((((B412-B413)/100)*Metric_Module_Square_Foot_Area)-'Cumulative Volumes Metric'!E412)*Metric_Stone_Void_Percentage))","v":""},"",{"$f":"IF(B412=\"\",\"\",((Metric_System_Area_Input-Metric_Number_Of_Stacks*_xlfn.XLOOKUP(Metric_Layers,CrateData[Layer],CrateData[Surface Area (m2)]))*((B412-IF(B413=\"\",0,B413))/100))*Metric_Stone_Void_Percentage)","v":""},"","",{"$f":"IF(B412=\"\",\"\",SUM(J412:$J$563))","v":""},""]
["","",{"$f":"IF(B413=\"\",\"\",IFERROR(_xlfn.XLOOKUP(ROUND(B413,1),MetricIncrementalData[System Increment],_xlfn.XLOOKUP('Metric Incremental Crate'!$R$3,MetricIncrementalData[#Headers],MetricIncrementalData[]),,1),0))","v":""},"",{"$f":"IF(B413=\"\",\"\",IFERROR(_xlfn.XLOOKUP(ROUND(B413,1),MetricIncrementalData[System Increment],_xlfn.XLOOKUP(Metric_Incremental_Data_Target_Column,MetricIncrementalData[#Headers],MetricIncrementalData[]),,1),0))","v":""},{"$f":"IF(B413=\"\",\"\",IF(B414=\"\",((((B413-0)/100)*Metric_Module_Square_Foot_Area)-'Cumulative Volumes Metric'!E413)*Metric_Stone_Void_Percentage,((((B413-B414)/100)*Metric_Module_Square_Foot_Area)-'Cumulative Volumes Metric'!E413)*Metric_Stone_Void_Percentage))","v":""},"",{"$f":"IF(B413=\"\",\"\",((Metric_System_Area_Input-Metric_Number_Of_Stacks*_xlfn.XLOOKUP(Metric_Layers,CrateData[Layer],CrateData[Surface Area (m2)]))*((B413-IF(B414=\"\",0,B414))/100))*Metric_Stone_Void_Percentage)","v":""},"","",{"$f":"IF(B413=\"\",\"\",SUM(J413:$J$563))","v":""},""]
["","",{"$f":"IF(B414=\"\",\"\",IFERROR(_xlfn.XLOOKUP(ROUND(B414,1),MetricIncrementalData[System Increment],_xlfn.XLOOKUP('Metric Incremental Crate'!$R$3,MetricIncrementalData[#Headers],MetricIncrementalData[]),,1),0))","v":""},"",{"$f":"IF(B414=\"\",\"\",IFERROR(_xlfn.XLOOKUP(ROUND(B414,1),MetricIncrementalData[System Increment],_xlfn.XLOOKUP(Metric_Incremental_Data_Target_Column,MetricIncrementalData[#Headers],MetricIncrementalData[]),,1),0))","v":""},{"$f":"IF(B414=\"\",\"\",IF(B415=\"\",((((B414-0)/100)*Metric_Module_Square_Foot_Area)-'Cumulative Volumes Metric'!E414)*Metric_Stone_Void_Percentage,((((B414-B415)/100)*Metric_Module_Square_Foot_Area)-'Cumulative Volumes Metric'!E414)*Metric_Stone_Void_Percentage))","v":""},"",{"$f":"IF(B414=\"\",\"\",((Metric_System_Area_Input-Metric_Number_Of_Stacks*_xlfn.XLOOKUP(Metric_Layers,CrateData[Layer],CrateData[Surface Area (m2)]))*((B414-IF(B415=\"\",0,B415))/100))*Metric_Stone_Void_Percentage)","v":""},"","",{"$f":"IF(B414=\"\",\"\",SUM(J414:$J$563))","v":""},""]
["","",{"$f":"IF(B415=\"\",\"\",IFERROR(_xlfn.XLOOKUP(ROUND(B415,1),MetricIncrementalData[System Increment],_xlfn.XLOOKUP('Metric Incremental Crate'!$R$3,MetricIncrementalData[#Headers],MetricIncrementalData[]),,1),0))","v":""},"",{"$f":"IF(B415=\"\",\"\",IFERROR(_xlfn.XLOOKUP(ROUND(B415,1),MetricIncrementalData[System Increment],_xlfn.XLOOKUP(Metric_Incremental_Data_Target_Column,MetricIncrementalData[#Headers],MetricIncrementalData[]),,1),0))","v":""},{"$f":"IF(B415=\"\",\"\",IF(B416=\"\",((((B415-0)/100)*Metric_Module_Square_Foot_Area)-'Cumulative Volumes Metric'!E415)*Metric_Stone_Void_Percentage,((((B415-B416)/100)*Metric_Module_Square_Foot_Area)-'Cumulative Volumes Metric'!E415)*Metric_Stone_Void_Percentage))","v":""},"",{"$f":"IF(B415=\"\",\"\",((Metric_System_Area_Input-Metric_Number_Of_Stacks*_xlfn.XLOOKUP(Metric_Layers,CrateData[Layer],CrateData[Surface Area (m2)]))*((B415-IF(B416=\"\",0,B416))/100))*Metric_Stone_Void_Percentage)","v":""},"","",{"$f":"IF(B415=\"\",\"\",SUM(J415:$J$563))","v":""},""]
["","",{"$f":"IF(B416=\"\",\"\",IFERROR(_xlfn.XLOOKUP(ROUND(B416,1),MetricIncrementalData[System Increment],_xlfn.XLOOKUP('Metric Incremental Crate'!$R$3,MetricIncrementalData[#Headers],MetricIncrementalData[]),,1),0))","v":""},"",{"$f":"IF(B416=\"\",\"\",IFERROR(_xlfn.XLOOKUP(ROUND(B416,1),MetricIncrementalData[System Increment],_xlfn.XLOOKUP(Metric_Incremental_Data_Target_Column,MetricIncrementalData[#Headers],MetricIncrementalData[]),,1),0))","v":""},{"$f":"IF(B416=\"\",\"\",IF(B417=\"\",((((B416-0)/100)*Metric_Module_Square_Foot_Area)-'Cumulative Volumes Metric'!E416)*Metric_Stone_Void_Percentage,((((B416-B417)/100)*Metric_Module_Square_Foot_Area)-'Cumulative Volumes Metric'!E416)*Metric_Stone_Void_Percentage))","v":""},"",{"$f":"IF(B416=\"\",\"\",((Metric_System_Area_Input-Metric_Number_Of_Stacks*_xlfn.XLOOKUP(Metric_Layers,CrateData[Layer],CrateData[Surface Area (m2)]))*((B416-IF(B417=\"\",0,B417))/100))*Metric_Stone_Void_Percentage)","v":""},"","",{"$f":"IF(B416=\"\",\"\",SUM(J416:$J$563))","v":""},""]
["","",{"$f":"IF(B417=\"\",\"\",IFERROR(_xlfn.XLOOKUP(ROUND(B417,1),MetricIncrementalData[System Increment],_xlfn.XLOOKUP('Metric Incremental Crate'!$R$3,MetricIncrementalData[#Headers],MetricIncrementalData[]),,1),0))","v":""},"",{"$f":"IF(B417=\"\",\"\",IFERROR(_xlfn.XLOOKUP(ROUND(B417,1),MetricIncrementalData[System Increment],_xlfn.XLOOKUP(Metric_Incremental_Data_Target_Column,MetricIncrementalData[#Headers],MetricIncrementalData[]),,1),0))","v":""},{"$f":"IF(B417=\"\",\"\",IF(B418=\"\",((((B417-0)/100)*Metric_Module_Square_Foot_Area)-'Cumulative Volumes Metric'!E417)*Metric_Stone_Void_Percentage,((((B417-B418)/100)*Metric_Module_Square_Foot_Area)-'Cumulative Volumes Metric'!E417)*Metric_Stone_Void_Percentage))","v":""},"",{"$f":"IF(B417=\"\",\"\",((Metric_System_Area_Input-Metric_Number_Of_Stacks*_xlfn.XLOOKUP(Metric_Layers,CrateData[Layer],CrateData[Surface Area (m2)]))*((B417-IF(B418=\"\",0,B418))/100))*Metric_Stone_Void_Percentage)","v":""},"","",{"$f":"IF(B417=\"\",\"\",SUM(J417:$J$563))","v":""},""]
["","",{"$f":"IF(B418=\"\",\"\",IFERROR(_xlfn.XLOOKUP(ROUND(B418,1),MetricIncrementalData[System Increment],_xlfn.XLOOKUP('Metric Incremental Crate'!$R$3,MetricIncrementalData[#Headers],MetricIncrementalData[]),,1),0))","v":""},"",{"$f":"IF(B418=\"\",\"\",IFERROR(_xlfn.XLOOKUP(ROUND(B418,1),MetricIncrementalData[System Increment],_xlfn.XLOOKUP(Metric_Incremental_Data_Target_Column,MetricIncrementalData[#Headers],MetricIncrementalData[]),,1),0))","v":""},{"$f":"IF(B418=\"\",\"\",IF(B419=\"\",((((B418-0)/100)*Metric_Module_Square_Foot_Area)-'Cumulative Volumes Metric'!E418)*Metric_Stone_Void_Percentage,((((B418-B419)/100)*Metric_Module_Square_Foot_Area)-'Cumulative Volumes Metric'!E418)*Metric_Stone_Void_Percentage))","v":""},"",{"$f":"IF(B418=\"\",\"\",((Metric_System_Area_Input-Metric_Number_Of_Stacks*_xlfn.XLOOKUP(Metric_Layers,CrateData[Layer],CrateData[Surface Area (m2)]))*((B418-IF(B419=\"\",0,B419))/100))*Metric_Stone_Void_Percentage)","v":""},"","",{"$f":"IF(B418=\"\",\"\",SUM(J418:$J$563))","v":""},""]
["","",{"$f":"IF(B419=\"\",\"\",IFERROR(_xlfn.XLOOKUP(ROUND(B419,1),MetricIncrementalData[System Increment],_xlfn.XLOOKUP('Metric Incremental Crate'!$R$3,MetricIncrementalData[#Headers],MetricIncrementalData[]),,1),0))","v":""},"",{"$f":"IF(B419=\"\",\"\",IFERROR(_xlfn.XLOOKUP(ROUND(B419,1),MetricIncrementalData[System Increment],_xlfn.XLOOKUP(Metric_Incremental_Data_Target_Column,MetricIncrementalData[#Headers],MetricIncrementalData[]),,1),0))","v":""},{"$f":"IF(B419=\"\",\"\",IF(B420=\"\",((((B419-0)/100)*Metric_Module_Square_Foot_Area)-'Cumulative Volumes Metric'!E419)*Metric_Stone_Void_Percentage,((((B419-B420)/100)*Metric_Module_Square_Foot_Area)-'Cumulative Volumes Metric'!E419)*Metric_Stone_Void_Percentage))","v":""},"",{"$f":"IF(B419=\"\",\"\",((Metric_System_Area_Input-Metric_Number_Of_Stacks*_xlfn.XLOOKUP(Metric_Layers,CrateData[Layer],CrateData[Surface Area (m2)]))*((B419-IF(B420=\"\",0,B420))/100))*Metric_Stone_Void_Percentage)","v":""},"","",{"$f":"IF(B419=\"\",\"\",SUM(J419:$J$563))","v":""},""]
["","",{"$f":"IF(B420=\"\",\"\",IFERROR(_xlfn.XLOOKUP(ROUND(B420,1),MetricIncrementalData[System Increment],_xlfn.XLOOKUP('Metric Incremental Crate'!$R$3,MetricIncrementalData[#Headers],MetricIncrementalData[]),,1),0))","v":""},"",{"$f":"IF(B420=\"\",\"\",IFERROR(_xlfn.XLOOKUP(ROUND(B420,1),MetricIncrementalData[System Increment],_xlfn.XLOOKUP(Metric_Incremental_Data_Target_Column,MetricIncrementalData[#Headers],MetricIncrementalData[]),,1),0))","v":""},{"$f":"IF(B420=\"\",\"\",IF(B421=\"\",((((B420-0)/100)*Metric_Module_Square_Foot_Area)-'Cumulative Volumes Metric'!E420)*Metric_Stone_Void_Percentage,((((B420-B421)/100)*Metric_Module_Square_Foot_Area)-'Cumulative Volumes Metric'!E420)*Metric_Stone_Void_Percentage))","v":""},"",{"$f":"IF(B420=\"\",\"\",((Metric_System_Area_Input-Metric_Number_Of_Stacks*_xlfn.XLOOKUP(Metric_Layers,CrateData[Layer],CrateData[Surface Area (m2)]))*((B420-IF(B421=\"\",0,B421))/100))*Metric_Stone_Void_Percentage)","v":""},"","",{"$f":"IF(B420=\"\",\"\",SUM(J420:$J$563))","v":""},""]
["","",{"$f":"IF(B421=\"\",\"\",IFERROR(_xlfn.XLOOKUP(ROUND(B421,1),MetricIncrementalData[System Increment],_xlfn.XLOOKUP('Metric Incremental Crate'!$R$3,MetricIncrementalData[#Headers],MetricIncrementalData[]),,1),0))","v":""},"",{"$f":"IF(B421=\"\",\"\",IFERROR(_xlfn.XLOOKUP(ROUND(B421,1),MetricIncrementalData[System Increment],_xlfn.XLOOKUP(Metric_Incremental_Data_Target_Column,MetricIncrementalData[#Headers],MetricIncrementalData[]),,1),0))","v":""},{"$f":"IF(B421=\"\",\"\",IF(B422=\"\",((((B421-0)/100)*Metric_Module_Square_Foot_Area)-'Cumulative Volumes Metric'!E421)*Metric_Stone_Void_Percentage,((((B421-B422)/100)*Metric_Module_Square_Foot_Area)-'Cumulative Volumes Metric'!E421)*Metric_Stone_Void_Percentage))","v":""},"",{"$f":"IF(B421=\"\",\"\",((Metric_System_Area_Input-Metric_Number_Of_Stacks*_xlfn.XLOOKUP(Metric_Layers,CrateData[Layer],CrateData[Surface Area (m2)]))*((B421-IF(B422=\"\",0,B422))/100))*Metric_Stone_Void_Percentage)","v":""},"","",{"$f":"IF(B421=\"\",\"\",SUM(J421:$J$563))","v":""},""]
["","",{"$f":"IF(B422=\"\",\"\",IFERROR(_xlfn.XLOOKUP(ROUND(B422,1),MetricIncrementalData[System Increment],_xlfn.XLOOKUP('Metric Incremental Crate'!$R$3,MetricIncrementalData[#Headers],MetricIncrementalData[]),,1),0))","v":""},"",{"$f":"IF(B422=\"\",\"\",IFERROR(_xlfn.XLOOKUP(ROUND(B422,1),MetricIncrementalData[System Increment],_xlfn.XLOOKUP(Metric_Incremental_Data_Target_Column,MetricIncrementalData[#Headers],MetricIncrementalData[]),,1),0))","v":""},{"$f":"IF(B422=\"\",\"\",IF(B423=\"\",((((B422-0)/100)*Metric_Module_Square_Foot_Area)-'Cumulative Volumes Metric'!E422)*Metric_Stone_Void_Percentage,((((B422-B423)/100)*Metric_Module_Square_Foot_Area)-'Cumulative Volumes Metric'!E422)*Metric_Stone_Void_Percentage))","v":""},"",{"$f":"IF(B422=\"\",\"\",((Metric_System_Area_Input-Metric_Number_Of_Stacks*_xlfn.XLOOKUP(Metric_Layers,CrateData[Layer],CrateData[Surface Area (m2)]))*((B422-IF(B423=\"\",0,B423))/100))*Metric_Stone_Void_Percentage)","v":""},"","",{"$f":"IF(B422=\"\",\"\",SUM(J422:$J$563))","v":""},""]
["","",{"$f":"IF(B423=\"\",\"\",IFERROR(_xlfn.XLOOKUP(ROUND(B423,1),MetricIncrementalData[System Increment],_xlfn.XLOOKUP('Metric Incremental Crate'!$R$3,MetricIncrementalData[#Headers],MetricIncrementalData[]),,1),0))","v":""},"",{"$f":"IF(B423=\"\",\"\",IFERROR(_xlfn.XLOOKUP(ROUND(B423,1),MetricIncrementalData[System Increment],_xlfn.XLOOKUP(Metric_Incremental_Data_Target_Column,MetricIncrementalData[#Headers],MetricIncrementalData[]),,1),0))","v":""},{"$f":"IF(B423=\"\",\"\",IF(B424=\"\",((((B423-0)/100)*Metric_Module_Square_Foot_Area)-'Cumulative Volumes Metric'!E423)*Metric_Stone_Void_Percentage,((((B423-B424)/100)*Metric_Module_Square_Foot_Area)-'Cumulative Volumes Metric'!E423)*Metric_Stone_Void_Percentage))","v":""},"",{"$f":"IF(B423=\"\",\"\",((Metric_System_Area_Input-Metric_Number_Of_Stacks*_xlfn.XLOOKUP(Metric_Layers,CrateData[Layer],CrateData[Surface Area (m2)]))*((B423-IF(B424=\"\",0,B424))/100))*Metric_Stone_Void_Percentage)","v":""},"","",{"$f":"IF(B423=\"\",\"\",SUM(J423:$J$563))","v":""},""]
["","",{"$f":"IF(B424=\"\",\"\",IFERROR(_xlfn.XLOOKUP(ROUND(B424,1),MetricIncrementalData[System Increment],_xlfn.XLOOKUP('Metric Incremental Crate'!$R$3,MetricIncrementalData[#Headers],MetricIncrementalData[]),,1),0))","v":""},"",{"$f":"IF(B424=\"\",\"\",IFERROR(_xlfn.XLOOKUP(ROUND(B424,1),MetricIncrementalData[System Increment],_xlfn.XLOOKUP(Metric_Incremental_Data_Target_Column,MetricIncrementalData[#Headers],MetricIncrementalData[]),,1),0))","v":""},{"$f":"IF(B424=\"\",\"\",IF(B425=\"\",((((B424-0)/100)*Metric_Module_Square_Foot_Area)-'Cumulative Volumes Metric'!E424)*Metric_Stone_Void_Percentage,((((B424-B425)/100)*Metric_Module_Square_Foot_Area)-'Cumulative Volumes Metric'!E424)*Metric_Stone_Void_Percentage))","v":""},"",{"$f":"IF(B424=\"\",\"\",((Metric_System_Area_Input-Metric_Number_Of_Stacks*_xlfn.XLOOKUP(Metric_Layers,CrateData[Layer],CrateData[Surface Area (m2)]))*((B424-IF(B425=\"\",0,B425))/100))*Metric_Stone_Void_Percentage)","v":""},"","",{"$f":"IF(B424=\"\",\"\",SUM(J424:$J$563))","v":""},""]
["","",{"$f":"IF(B425=\"\",\"\",IFERROR(_xlfn.XLOOKUP(ROUND(B425,1),MetricIncrementalData[System Increment],_xlfn.XLOOKUP('Metric Incremental Crate'!$R$3,MetricIncrementalData[#Headers],MetricIncrementalData[]),,1),0))","v":""},"",{"$f":"IF(B425=\"\",\"\",IFERROR(_xlfn.XLOOKUP(ROUND(B425,1),MetricIncrementalData[System Increment],_xlfn.XLOOKUP(Metric_Incremental_Data_Target_Column,MetricIncrementalData[#Headers],MetricIncrementalData[]),,1),0))","v":""},{"$f":"IF(B425=\"\",\"\",IF(B426=\"\",((((B425-0)/100)*Metric_Module_Square_Foot_Area)-'Cumulative Volumes Metric'!E425)*Metric_Stone_Void_Percentage,((((B425-B426)/100)*Metric_Module_Square_Foot_Area)-'Cumulative Volumes Metric'!E425)*Metric_Stone_Void_Percentage))","v":""},"",{"$f":"IF(B425=\"\",\"\",((Metric_System_Area_Input-Metric_Number_Of_Stacks*_xlfn.XLOOKUP(Metric_Layers,CrateData[Layer],CrateData[Surface Area (m2)]))*((B425-IF(B426=\"\",0,B426))/100))*Metric_Stone_Void_Percentage)","v":""},"","",{"$f":"IF(B425=\"\",\"\",SUM(J425:$J$563))","v":""},""]
["","",{"$f":"IF(B426=\"\",\"\",IFERROR(_xlfn.XLOOKUP(ROUND(B426,1),MetricIncrementalData[System Increment],_xlfn.XLOOKUP('Metric Incremental Crate'!$R$3,MetricIncrementalData[#Headers],MetricIncrementalData[]),,1),0))","v":""},"",{"$f":"IF(B426=\"\",\"\",IFERROR(_xlfn.XLOOKUP(ROUND(B426,1),MetricIncrementalData[System Increment],_xlfn.XLOOKUP(Metric_Incremental_Data_Target_Column,MetricIncrementalData[#Headers],MetricIncrementalData[]),,1),0))","v":""},{"$f":"IF(B426=\"\",\"\",IF(B427=\"\",((((B426-0)/100)*Metric_Module_Square_Foot_Area)-'Cumulative Volumes Metric'!E426)*Metric_Stone_Void_Percentage,((((B426-B427)/100)*Metric_Module_Square_Foot_Area)-'Cumulative Volumes Metric'!E426)*Metric_Stone_Void_Percentage))","v":""},"",{"$f":"IF(B426=\"\",\"\",((Metric_System_Area_Input-Metric_Number_Of_Stacks*_xlfn.XLOOKUP(Metric_Layers,CrateData[Layer],CrateData[Surface Area (m2)]))*((B426-IF(B427=\"\",0,B427))/100))*Metric_Stone_Void_Percentage)","v":""},"","",{"$f":"IF(B426=\"\",\"\",SUM(J426:$J$563))","v":""},""]
["","",{"$f":"IF(B427=\"\",\"\",IFERROR(_xlfn.XLOOKUP(ROUND(B427,1),MetricIncrementalData[System Increment],_xlfn.XLOOKUP('Metric Incremental Crate'!$R$3,MetricIncrementalData[#Headers],MetricIncrementalData[]),,1),0))","v":""},"",{"$f":"IF(B427=\"\",\"\",IFERROR(_xlfn.XLOOKUP(ROUND(B427,1),MetricIncrementalData[System Increment],_xlfn.XLOOKUP(Metric_Incremental_Data_Target_Column,MetricIncrementalData[#Headers],MetricIncrementalData[]),,1),0))","v":""},{"$f":"IF(B427=\"\",\"\",IF(B428=\"\",((((B427-0)/100)*Metric_Module_Square_Foot_Area)-'Cumulative Volumes Metric'!E427)*Metric_Stone_Void_Percentage,((((B427-B428)/100)*Metric_Module_Square_Foot_Area)-'Cumulative Volumes Metric'!E427)*Metric_Stone_Void_Percentage))","v":""},"",{"$f":"IF(B427=\"\",\"\",((Metric_System_Area_Input-Metric_Number_Of_Stacks*_xlfn.XLOOKUP(Metric_Layers,CrateData[Layer],CrateData[Surface Area (m2)]))*((B427-IF(B428=\"\",0,B428))/100))*Metric_Stone_Void_Percentage)","v":""},"","",{"$f":"IF(B427=\"\",\"\",SUM(J427:$J$563))","v":""},""]
["","",{"$f":"IF(B428=\"\",\"\",IFERROR(_xlfn.XLOOKUP(ROUND(B428,1),MetricIncrementalData[System Increment],_xlfn.XLOOKUP('Metric Incremental Crate'!$R$3,MetricIncrementalData[#Headers],MetricIncrementalData[]),,1),0))","v":""},"",{"$f":"IF(B428=\"\",\"\",IFERROR(_xlfn.XLOOKUP(ROUND(B428,1),MetricIncrementalData[System Increment],_xlfn.XLOOKUP(Metric_Incremental_Data_Target_Column,MetricIncrementalData[#Headers],MetricIncrementalData[]),,1),0))","v":""},{"$f":"IF(B428=\"\",\"\",IF(B429=\"\",((((B428-0)/100)*Metric_Module_Square_Foot_Area)-'Cumulative Volumes Metric'!E428)*Metric_Stone_Void_Percentage,((((B428-B429)/100)*Metric_Module_Square_Foot_Area)-'Cumulative Volumes Metric'!E428)*Metric_Stone_Void_Percentage))","v":""},"",{"$f":"IF(B428=\"\",\"\",((Metric_System_Area_Input-Metric_Number_Of_Stacks*_xlfn.XLOOKUP(Metric_Layers,CrateData[Layer],CrateData[Surface Area (m2)]))*((B428-IF(B429=\"\",0,B429))/100))*Metric_Stone_Void_Percentage)","v":""},"","",{"$f":"IF(B428=\"\",\"\",SUM(J428:$J$563))","v":""},""]
["","",{"$f":"IF(B429=\"\",\"\",IFERROR(_xlfn.XLOOKUP(ROUND(B429,1),MetricIncrementalData[System Increment],_xlfn.XLOOKUP('Metric Incremental Crate'!$R$3,MetricIncrementalData[#Headers],MetricIncrementalData[]),,1),0))","v":""},"",{"$f":"IF(B429=\"\",\"\",IFERROR(_xlfn.XLOOKUP(ROUND(B429,1),MetricIncrementalData[System Increment],_xlfn.XLOOKUP(Metric_Incremental_Data_Target_Column,MetricIncrementalData[#Headers],MetricIncrementalData[]),,1),0))","v":""},{"$f":"IF(B429=\"\",\"\",IF(B430=\"\",((((B429-0)/100)*Metric_Module_Square_Foot_Area)-'Cumulative Volumes Metric'!E429)*Metric_Stone_Void_Percentage,((((B429-B430)/100)*Metric_Module_Square_Foot_Area)-'Cumulative Volumes Metric'!E429)*Metric_Stone_Void_Percentage))","v":""},"",{"$f":"IF(B429=\"\",\"\",((Metric_System_Area_Input-Metric_Number_Of_Stacks*_xlfn.XLOOKUP(Metric_Layers,CrateData[Layer],CrateData[Surface Area (m2)]))*((B429-IF(B430=\"\",0,B430))/100))*Metric_Stone_Void_Percentage)","v":""},"","",{"$f":"IF(B429=\"\",\"\",SUM(J429:$J$563))","v":""},""]
["","",{"$f":"IF(B430=\"\",\"\",IFERROR(_xlfn.XLOOKUP(ROUND(B430,1),MetricIncrementalData[System Increment],_xlfn.XLOOKUP('Metric Incremental Crate'!$R$3,MetricIncrementalData[#Headers],MetricIncrementalData[]),,1),0))","v":""},"",{"$f":"IF(B430=\"\",\"\",IFERROR(_xlfn.XLOOKUP(ROUND(B430,1),MetricIncrementalData[System Increment],_xlfn.XLOOKUP(Metric_Incremental_Data_Target_Column,MetricIncrementalData[#Headers],MetricIncrementalData[]),,1),0))","v":""},{"$f":"IF(B430=\"\",\"\",IF(B431=\"\",((((B430-0)/100)*Metric_Module_Square_Foot_Area)-'Cumulative Volumes Metric'!E430)*Metric_Stone_Void_Percentage,((((B430-B431)/100)*Metric_Module_Square_Foot_Area)-'Cumulative Volumes Metric'!E430)*Metric_Stone_Void_Percentage))","v":""},"",{"$f":"IF(B430=\"\",\"\",((Metric_System_Area_Input-Metric_Number_Of_Stacks*_xlfn.XLOOKUP(Metric_Layers,CrateData[Layer],CrateData[Surface Area (m2)]))*((B430-IF(B431=\"\",0,B431))/100))*Metric_Stone_Void_Percentage)","v":""},"","",{"$f":"IF(B430=\"\",\"\",SUM(J430:$J$563))","v":""},""]
["","",{"$f":"IF(B431=\"\",\"\",IFERROR(_xlfn.XLOOKUP(ROUND(B431,1),MetricIncrementalData[System Increment],_xlfn.XLOOKUP('Metric Incremental Crate'!$R$3,MetricIncrementalData[#Headers],MetricIncrementalData[]),,1),0))","v":""},"",{"$f":"IF(B431=\"\",\"\",IFERROR(_xlfn.XLOOKUP(ROUND(B431,1),MetricIncrementalData[System Increment],_xlfn.XLOOKUP(Metric_Incremental_Data_Target_Column,MetricIncrementalData[#Headers],MetricIncrementalData[]),,1),0))","v":""},{"$f":"IF(B431=\"\",\"\",IF(B432=\"\",((((B431-0)/100)*Metric_Module_Square_Foot_Area)-'Cumulative Volumes Metric'!E431)*Metric_Stone_Void_Percentage,((((B431-B432)/100)*Metric_Module_Square_Foot_Area)-'Cumulative Volumes Metric'!E431)*Metric_Stone_Void_Percentage))","v":""},"",{"$f":"IF(B431=\"\",\"\",((Metric_System_Area_Input-Metric_Number_Of_Stacks*_xlfn.XLOOKUP(Metric_Layers,CrateData[Layer],CrateData[Surface Area (m2)]))*((B431-IF(B432=\"\",0,B432))/100))*Metric_Stone_Void_Percentage)","v":""},"","",{"$f":"IF(B431=\"\",\"\",SUM(J431:$J$563))","v":""},""]
["","",{"$f":"IF(B432=\"\",\"\",IFERROR(_xlfn.XLOOKUP(ROUND(B432,1),MetricIncrementalData[System Increment],_xlfn.XLOOKUP('Metric Incremental Crate'!$R$3,MetricIncrementalData[#Headers],MetricIncrementalData[]),,1),0))","v":""},"",{"$f":"IF(B432=\"\",\"\",IFERROR(_xlfn.XLOOKUP(ROUND(B432,1),MetricIncrementalData[System Increment],_xlfn.XLOOKUP(Metric_Incremental_Data_Target_Column,MetricIncrementalData[#Headers],MetricIncrementalData[]),,1),0))","v":""},{"$f":"IF(B432=\"\",\"\",IF(B433=\"\",((((B432-0)/100)*Metric_Module_Square_Foot_Area)-'Cumulative Volumes Metric'!E432)*Metric_Stone_Void_Percentage,((((B432-B433)/100)*Metric_Module_Square_Foot_Area)-'Cumulative Volumes Metric'!E432)*Metric_Stone_Void_Percentage))","v":""},"",{"$f":"IF(B432=\"\",\"\",((Metric_System_Area_Input-Metric_Number_Of_Stacks*_xlfn.XLOOKUP(Metric_Layers,CrateData[Layer],CrateData[Surface Area (m2)]))*((B432-IF(B433=\"\",0,B433))/100))*Metric_Stone_Void_Percentage)","v":""},"","",{"$f":"IF(B432=\"\",\"\",SUM(J432:$J$563))","v":""},""]
["","",{"$f":"IF(B433=\"\",\"\",IFERROR(_xlfn.XLOOKUP(ROUND(B433,1),MetricIncrementalData[System Increment],_xlfn.XLOOKUP('Metric Incremental Crate'!$R$3,MetricIncrementalData[#Headers],MetricIncrementalData[]),,1),0))","v":""},"",{"$f":"IF(B433=\"\",\"\",IFERROR(_xlfn.XLOOKUP(ROUND(B433,1),MetricIncrementalData[System Increment],_xlfn.XLOOKUP(Metric_Incremental_Data_Target_Column,MetricIncrementalData[#Headers],MetricIncrementalData[]),,1),0))","v":""},{"$f":"IF(B433=\"\",\"\",IF(B434=\"\",((((B433-0)/100)*Metric_Module_Square_Foot_Area)-'Cumulative Volumes Metric'!E433)*Metric_Stone_Void_Percentage,((((B433-B434)/100)*Metric_Module_Square_Foot_Area)-'Cumulative Volumes Metric'!E433)*Metric_Stone_Void_Percentage))","v":""},"",{"$f":"IF(B433=\"\",\"\",((Metric_System_Area_Input-Metric_Number_Of_Stacks*_xlfn.XLOOKUP(Metric_Layers,CrateData[Layer],CrateData[Surface Area (m2)]))*((B433-IF(B434=\"\",0,B434))/100))*Metric_Stone_Void_Percentage)","v":""},"","",{"$f":"IF(B433=\"\",\"\",SUM(J433:$J$563))","v":""},""]
["","",{"$f":"IF(B434=\"\",\"\",IFERROR(_xlfn.XLOOKUP(ROUND(B434,1),MetricIncrementalData[System Increment],_xlfn.XLOOKUP('Metric Incremental Crate'!$R$3,MetricIncrementalData[#Headers],MetricIncrementalData[]),,1),0))","v":""},"",{"$f":"IF(B434=\"\",\"\",IFERROR(_xlfn.XLOOKUP(ROUND(B434,1),MetricIncrementalData[System Increment],_xlfn.XLOOKUP(Metric_Incremental_Data_Target_Column,MetricIncrementalData[#Headers],MetricIncrementalData[]),,1),0))","v":""},{"$f":"IF(B434=\"\",\"\",IF(B435=\"\",((((B434-0)/100)*Metric_Module_Square_Foot_Area)-'Cumulative Volumes Metric'!E434)*Metric_Stone_Void_Percentage,((((B434-B435)/100)*Metric_Module_Square_Foot_Area)-'Cumulative Volumes Metric'!E434)*Metric_Stone_Void_Percentage))","v":""},"",{"$f":"IF(B434=\"\",\"\",((Metric_System_Area_Input-Metric_Number_Of_Stacks*_xlfn.XLOOKUP(Metric_Layers,CrateData[Layer],CrateData[Surface Area (m2)]))*((B434-IF(B435=\"\",0,B435))/100))*Metric_Stone_Void_Percentage)","v":""},"","",{"$f":"IF(B434=\"\",\"\",SUM(J434:$J$563))","v":""},""]
["","",{"$f":"IF(B435=\"\",\"\",IFERROR(_xlfn.XLOOKUP(ROUND(B435,1),MetricIncrementalData[System Increment],_xlfn.XLOOKUP('Metric Incremental Crate'!$R$3,MetricIncrementalData[#Headers],MetricIncrementalData[]),,1),0))","v":""},"",{"$f":"IF(B435=\"\",\"\",IFERROR(_xlfn.XLOOKUP(ROUND(B435,1),MetricIncrementalData[System Increment],_xlfn.XLOOKUP(Metric_Incremental_Data_Target_Column,MetricIncrementalData[#Headers],MetricIncrementalData[]),,1),0))","v":""},{"$f":"IF(B435=\"\",\"\",IF(B436=\"\",((((B435-0)/100)*Metric_Module_Square_Foot_Area)-'Cumulative Volumes Metric'!E435)*Metric_Stone_Void_Percentage,((((B435-B436)/100)*Metric_Module_Square_Foot_Area)-'Cumulative Volumes Metric'!E435)*Metric_Stone_Void_Percentage))","v":""},"",{"$f":"IF(B435=\"\",\"\",((Metric_System_Area_Input-Metric_Number_Of_Stacks*_xlfn.XLOOKUP(Metric_Layers,CrateData[Layer],CrateData[Surface Area (m2)]))*((B435-IF(B436=\"\",0,B436))/100))*Metric_Stone_Void_Percentage)","v":""},"","",{"$f":"IF(B435=\"\",\"\",SUM(J435:$J$563))","v":""},""]
["","",{"$f":"IF(B436=\"\",\"\",IFERROR(_xlfn.XLOOKUP(ROUND(B436,1),MetricIncrementalData[System Increment],_xlfn.XLOOKUP('Metric Incremental Crate'!$R$3,MetricIncrementalData[#Headers],MetricIncrementalData[]),,1),0))","v":""},"",{"$f":"IF(B436=\"\",\"\",IFERROR(_xlfn.XLOOKUP(ROUND(B436,1),MetricIncrementalData[System Increment],_xlfn.XLOOKUP(Metric_Incremental_Data_Target_Column,MetricIncrementalData[#Headers],MetricIncrementalData[]),,1),0))","v":""},{"$f":"IF(B436=\"\",\"\",IF(B437=\"\",((((B436-0)/100)*Metric_Module_Square_Foot_Area)-'Cumulative Volumes Metric'!E436)*Metric_Stone_Void_Percentage,((((B436-B437)/100)*Metric_Module_Square_Foot_Area)-'Cumulative Volumes Metric'!E436)*Metric_Stone_Void_Percentage))","v":""},"",{"$f":"IF(B436=\"\",\"\",((Metric_System_Area_Input-Metric_Number_Of_Stacks*_xlfn.XLOOKUP(Metric_Layers,CrateData[Layer],CrateData[Surface Area (m2)]))*((B436-IF(B437=\"\",0,B437))/100))*Metric_Stone_Void_Percentage)","v":""},"","",{"$f":"IF(B436=\"\",\"\",SUM(J436:$J$563))","v":""},""]
["","",{"$f":"IF(B437=\"\",\"\",IFERROR(_xlfn.XLOOKUP(ROUND(B437,1),MetricIncrementalData[System Increment],_xlfn.XLOOKUP('Metric Incremental Crate'!$R$3,MetricIncrementalData[#Headers],MetricIncrementalData[]),,1),0))","v":""},"",{"$f":"IF(B437=\"\",\"\",IFERROR(_xlfn.XLOOKUP(ROUND(B437,1),MetricIncrementalData[System Increment],_xlfn.XLOOKUP(Metric_Incremental_Data_Target_Column,MetricIncrementalData[#Headers],MetricIncrementalData[]),,1),0))","v":""},{"$f":"IF(B437=\"\",\"\",IF(B438=\"\",((((B437-0)/100)*Metric_Module_Square_Foot_Area)-'Cumulative Volumes Metric'!E437)*Metric_Stone_Void_Percentage,((((B437-B438)/100)*Metric_Module_Square_Foot_Area)-'Cumulative Volumes Metric'!E437)*Metric_Stone_Void_Percentage))","v":""},"",{"$f":"IF(B437=\"\",\"\",((Metric_System_Area_Input-Metric_Number_Of_Stacks*_xlfn.XLOOKUP(Metric_Layers,CrateData[Layer],CrateData[Surface Area (m2)]))*((B437-IF(B438=\"\",0,B438))/100))*Metric_Stone_Void_Percentage)","v":""},"","",{"$f":"IF(B437=\"\",\"\",SUM(J437:$J$563))","v":""},""]
["","",{"$f":"IF(B438=\"\",\"\",IFERROR(_xlfn.XLOOKUP(ROUND(B438,1),MetricIncrementalData[System Increment],_xlfn.XLOOKUP('Metric Incremental Crate'!$R$3,MetricIncrementalData[#Headers],MetricIncrementalData[]),,1),0))","v":""},"",{"$f":"IF(B438=\"\",\"\",IFERROR(_xlfn.XLOOKUP(ROUND(B438,1),MetricIncrementalData[System Increment],_xlfn.XLOOKUP(Metric_Incremental_Data_Target_Column,MetricIncrementalData[#Headers],MetricIncrementalData[]),,1),0))","v":""},{"$f":"IF(B438=\"\",\"\",IF(B439=\"\",((((B438-0)/100)*Metric_Module_Square_Foot_Area)-'Cumulative Volumes Metric'!E438)*Metric_Stone_Void_Percentage,((((B438-B439)/100)*Metric_Module_Square_Foot_Area)-'Cumulative Volumes Metric'!E438)*Metric_Stone_Void_Percentage))","v":""},"",{"$f":"IF(B438=\"\",\"\",((Metric_System_Area_Input-Metric_Number_Of_Stacks*_xlfn.XLOOKUP(Metric_Layers,CrateData[Layer],CrateData[Surface Area (m2)]))*((B438-IF(B439=\"\",0,B439))/100))*Metric_Stone_Void_Percentage)","v":""},"","",{"$f":"IF(B438=\"\",\"\",SUM(J438:$J$563))","v":""},""]
["","",{"$f":"IF(B439=\"\",\"\",IFERROR(_xlfn.XLOOKUP(ROUND(B439,1),MetricIncrementalData[System Increment],_xlfn.XLOOKUP('Metric Incremental Crate'!$R$3,MetricIncrementalData[#Headers],MetricIncrementalData[]),,1),0))","v":""},"",{"$f":"IF(B439=\"\",\"\",IFERROR(_xlfn.XLOOKUP(ROUND(B439,1),MetricIncrementalData[System Increment],_xlfn.XLOOKUP(Metric_Incremental_Data_Target_Column,MetricIncrementalData[#Headers],MetricIncrementalData[]),,1),0))","v":""},{"$f":"IF(B439=\"\",\"\",IF(B440=\"\",((((B439-0)/100)*Metric_Module_Square_Foot_Area)-'Cumulative Volumes Metric'!E439)*Metric_Stone_Void_Percentage,((((B439-B440)/100)*Metric_Module_Square_Foot_Area)-'Cumulative Volumes Metric'!E439)*Metric_Stone_Void_Percentage))","v":""},"",{"$f":"IF(B439=\"\",\"\",((Metric_System_Area_Input-Metric_Number_Of_Stacks*_xlfn.XLOOKUP(Metric_Layers,CrateData[Layer],CrateData[Surface Area (m2)]))*((B439-IF(B440=\"\",0,B440))/100))*Metric_Stone_Void_Percentage)","v":""},"","",{"$f":"IF(B439=\"\",\"\",SUM(J439:$J$563))","v":""},""]
["","",{"$f":"IF(B440=\"\",\"\",IFERROR(_xlfn.XLOOKUP(ROUND(B440,1),MetricIncrementalData[System Increment],_xlfn.XLOOKUP('Metric Incremental Crate'!$R$3,MetricIncrementalData[#Headers],MetricIncrementalData[]),,1),0))","v":""},"",{"$f":"IF(B440=\"\",\"\",IFERROR(_xlfn.XLOOKUP(ROUND(B440,1),MetricIncrementalData[System Increment],_xlfn.XLOOKUP(Metric_Incremental_Data_Target_Column,MetricIncrementalData[#Headers],MetricIncrementalData[]),,1),0))","v":""},{"$f":"IF(B440=\"\",\"\",IF(B441=\"\",((((B440-0)/100)*Metric_Module_Square_Foot_Area)-'Cumulative Volumes Metric'!E440)*Metric_Stone_Void_Percentage,((((B440-B441)/100)*Metric_Module_Square_Foot_Area)-'Cumulative Volumes Metric'!E440)*Metric_Stone_Void_Percentage))","v":""},"",{"$f":"IF(B440=\"\",\"\",((Metric_System_Area_Input-Metric_Number_Of_Stacks*_xlfn.XLOOKUP(Metric_Layers,CrateData[Layer],CrateData[Surface Area (m2)]))*((B440-IF(B441=\"\",0,B441))/100))*Metric_Stone_Void_Percentage)","v":""},"","",{"$f":"IF(B440=\"\",\"\",SUM(J440:$J$563))","v":""},""]
["","",{"$f":"IF(B441=\"\",\"\",IFERROR(_xlfn.XLOOKUP(ROUND(B441,1),MetricIncrementalData[System Increment],_xlfn.XLOOKUP('Metric Incremental Crate'!$R$3,MetricIncrementalData[#Headers],MetricIncrementalData[]),,1),0))","v":""},"",{"$f":"IF(B441=\"\",\"\",IFERROR(_xlfn.XLOOKUP(ROUND(B441,1),MetricIncrementalData[System Increment],_xlfn.XLOOKUP(Metric_Incremental_Data_Target_Column,MetricIncrementalData[#Headers],MetricIncrementalData[]),,1),0))","v":""},{"$f":"IF(B441=\"\",\"\",IF(B442=\"\",((((B441-0)/100)*Metric_Module_Square_Foot_Area)-'Cumulative Volumes Metric'!E441)*Metric_Stone_Void_Percentage,((((B441-B442)/100)*Metric_Module_Square_Foot_Area)-'Cumulative Volumes Metric'!E441)*Metric_Stone_Void_Percentage))","v":""},"",{"$f":"IF(B441=\"\",\"\",((Metric_System_Area_Input-Metric_Number_Of_Stacks*_xlfn.XLOOKUP(Metric_Layers,CrateData[Layer],CrateData[Surface Area (m2)]))*((B441-IF(B442=\"\",0,B442))/100))*Metric_Stone_Void_Percentage)","v":""},"","",{"$f":"IF(B441=\"\",\"\",SUM(J441:$J$563))","v":""},""]
["","",{"$f":"IF(B442=\"\",\"\",IFERROR(_xlfn.XLOOKUP(ROUND(B442,1),MetricIncrementalData[System Increment],_xlfn.XLOOKUP('Metric Incremental Crate'!$R$3,MetricIncrementalData[#Headers],MetricIncrementalData[]),,1),0))","v":""},"",{"$f":"IF(B442=\"\",\"\",IFERROR(_xlfn.XLOOKUP(ROUND(B442,1),MetricIncrementalData[System Increment],_xlfn.XLOOKUP(Metric_Incremental_Data_Target_Column,MetricIncrementalData[#Headers],MetricIncrementalData[]),,1),0))","v":""},{"$f":"IF(B442=\"\",\"\",IF(B443=\"\",((((B442-0)/100)*Metric_Module_Square_Foot_Area)-'Cumulative Volumes Metric'!E442)*Metric_Stone_Void_Percentage,((((B442-B443)/100)*Metric_Module_Square_Foot_Area)-'Cumulative Volumes Metric'!E442)*Metric_Stone_Void_Percentage))","v":""},"",{"$f":"IF(B442=\"\",\"\",((Metric_System_Area_Input-Metric_Number_Of_Stacks*_xlfn.XLOOKUP(Metric_Layers,CrateData[Layer],CrateData[Surface Area (m2)]))*((B442-IF(B443=\"\",0,B443))/100))*Metric_Stone_Void_Percentage)","v":""},"","",{"$f":"IF(B442=\"\",\"\",SUM(J442:$J$563))","v":""},""]
["","",{"$f":"IF(B443=\"\",\"\",IFERROR(_xlfn.XLOOKUP(ROUND(B443,1),MetricIncrementalData[System Increment],_xlfn.XLOOKUP('Metric Incremental Crate'!$R$3,MetricIncrementalData[#Headers],MetricIncrementalData[]),,1),0))","v":""},"",{"$f":"IF(B443=\"\",\"\",IFERROR(_xlfn.XLOOKUP(ROUND(B443,1),MetricIncrementalData[System Increment],_xlfn.XLOOKUP(Metric_Incremental_Data_Target_Column,MetricIncrementalData[#Headers],MetricIncrementalData[]),,1),0))","v":""},{"$f":"IF(B443=\"\",\"\",IF(B444=\"\",((((B443-0)/100)*Metric_Module_Square_Foot_Area)-'Cumulative Volumes Metric'!E443)*Metric_Stone_Void_Percentage,((((B443-B444)/100)*Metric_Module_Square_Foot_Area)-'Cumulative Volumes Metric'!E443)*Metric_Stone_Void_Percentage))","v":""},"",{"$f":"IF(B443=\"\",\"\",((Metric_System_Area_Input-Metric_Number_Of_Stacks*_xlfn.XLOOKUP(Metric_Layers,CrateData[Layer],CrateData[Surface Area (m2)]))*((B443-IF(B444=\"\",0,B444))/100))*Metric_Stone_Void_Percentage)","v":""},"","",{"$f":"IF(B443=\"\",\"\",SUM(J443:$J$563))","v":""},""]
["","",{"$f":"IF(B444=\"\",\"\",IFERROR(_xlfn.XLOOKUP(ROUND(B444,1),MetricIncrementalData[System Increment],_xlfn.XLOOKUP('Metric Incremental Crate'!$R$3,MetricIncrementalData[#Headers],MetricIncrementalData[]),,1),0))","v":""},"",{"$f":"IF(B444=\"\",\"\",IFERROR(_xlfn.XLOOKUP(ROUND(B444,1),MetricIncrementalData[System Increment],_xlfn.XLOOKUP(Metric_Incremental_Data_Target_Column,MetricIncrementalData[#Headers],MetricIncrementalData[]),,1),0))","v":""},{"$f":"IF(B444=\"\",\"\",IF(B445=\"\",((((B444-0)/100)*Metric_Module_Square_Foot_Area)-'Cumulative Volumes Metric'!E444)*Metric_Stone_Void_Percentage,((((B444-B445)/100)*Metric_Module_Square_Foot_Area)-'Cumulative Volumes Metric'!E444)*Metric_Stone_Void_Percentage))","v":""},"",{"$f":"IF(B444=\"\",\"\",((Metric_System_Area_Input-Metric_Number_Of_Stacks*_xlfn.XLOOKUP(Metric_Layers,CrateData[Layer],CrateData[Surface Area (m2)]))*((B444-IF(B445=\"\",0,B445))/100))*Metric_Stone_Void_Percentage)","v":""},"","",{"$f":"IF(B444=\"\",\"\",SUM(J444:$J$563))","v":""},""]
["","",{"$f":"IF(B445=\"\",\"\",IFERROR(_xlfn.XLOOKUP(ROUND(B445,1),MetricIncrementalData[System Increment],_xlfn.XLOOKUP('Metric Incremental Crate'!$R$3,MetricIncrementalData[#Headers],MetricIncrementalData[]),,1),0))","v":""},"",{"$f":"IF(B445=\"\",\"\",IFERROR(_xlfn.XLOOKUP(ROUND(B445,1),MetricIncrementalData[System Increment],_xlfn.XLOOKUP(Metric_Incremental_Data_Target_Column,MetricIncrementalData[#Headers],MetricIncrementalData[]),,1),0))","v":""},{"$f":"IF(B445=\"\",\"\",IF(B446=\"\",((((B445-0)/100)*Metric_Module_Square_Foot_Area)-'Cumulative Volumes Metric'!E445)*Metric_Stone_Void_Percentage,((((B445-B446)/100)*Metric_Module_Square_Foot_Area)-'Cumulative Volumes Metric'!E445)*Metric_Stone_Void_Percentage))","v":""},"",{"$f":"IF(B445=\"\",\"\",((Metric_System_Area_Input-Metric_Number_Of_Stacks*_xlfn.XLOOKUP(Metric_Layers,CrateData[Layer],CrateData[Surface Area (m2)]))*((B445-IF(B446=\"\",0,B446))/100))*Metric_Stone_Void_Percentage)","v":""},"","",{"$f":"IF(B445=\"\",\"\",SUM(J445:$J$563))","v":""},""]
["","",{"$f":"IF(B446=\"\",\"\",IFERROR(_xlfn.XLOOKUP(ROUND(B446,1),MetricIncrementalData[System Increment],_xlfn.XLOOKUP('Metric Incremental Crate'!$R$3,MetricIncrementalData[#Headers],MetricIncrementalData[]),,1),0))","v":""},"",{"$f":"IF(B446=\"\",\"\",IFERROR(_xlfn.XLOOKUP(ROUND(B446,1),MetricIncrementalData[System Increment],_xlfn.XLOOKUP(Metric_Incremental_Data_Target_Column,MetricIncrementalData[#Headers],MetricIncrementalData[]),,1),0))","v":""},{"$f":"IF(B446=\"\",\"\",IF(B447=\"\",((((B446-0)/100)*Metric_Module_Square_Foot_Area)-'Cumulative Volumes Metric'!E446)*Metric_Stone_Void_Percentage,((((B446-B447)/100)*Metric_Module_Square_Foot_Area)-'Cumulative Volumes Metric'!E446)*Metric_Stone_Void_Percentage))","v":""},"",{"$f":"IF(B446=\"\",\"\",((Metric_System_Area_Input-Metric_Number_Of_Stacks*_xlfn.XLOOKUP(Metric_Layers,CrateData[Layer],CrateData[Surface Area (m2)]))*((B446-IF(B447=\"\",0,B447))/100))*Metric_Stone_Void_Percentage)","v":""},"","",{"$f":"IF(B446=\"\",\"\",SUM(J446:$J$563))","v":""},""]
["","",{"$f":"IF(B447=\"\",\"\",IFERROR(_xlfn.XLOOKUP(ROUND(B447,1),MetricIncrementalData[System Increment],_xlfn.XLOOKUP('Metric Incremental Crate'!$R$3,MetricIncrementalData[#Headers],MetricIncrementalData[]),,1),0))","v":""},"",{"$f":"IF(B447=\"\",\"\",IFERROR(_xlfn.XLOOKUP(ROUND(B447,1),MetricIncrementalData[System Increment],_xlfn.XLOOKUP(Metric_Incremental_Data_Target_Column,MetricIncrementalData[#Headers],MetricIncrementalData[]),,1),0))","v":""},{"$f":"IF(B447=\"\",\"\",IF(B448=\"\",((((B447-0)/100)*Metric_Module_Square_Foot_Area)-'Cumulative Volumes Metric'!E447)*Metric_Stone_Void_Percentage,((((B447-B448)/100)*Metric_Module_Square_Foot_Area)-'Cumulative Volumes Metric'!E447)*Metric_Stone_Void_Percentage))","v":""},"",{"$f":"IF(B447=\"\",\"\",((Metric_System_Area_Input-Metric_Number_Of_Stacks*_xlfn.XLOOKUP(Metric_Layers,CrateData[Layer],CrateData[Surface Area (m2)]))*((B447-IF(B448=\"\",0,B448))/100))*Metric_Stone_Void_Percentage)","v":""},"","",{"$f":"IF(B447=\"\",\"\",SUM(J447:$J$563))","v":""},""]
["","",{"$f":"IF(B448=\"\",\"\",IFERROR(_xlfn.XLOOKUP(ROUND(B448,1),MetricIncrementalData[System Increment],_xlfn.XLOOKUP('Metric Incremental Crate'!$R$3,MetricIncrementalData[#Headers],MetricIncrementalData[]),,1),0))","v":""},"",{"$f":"IF(B448=\"\",\"\",IFERROR(_xlfn.XLOOKUP(ROUND(B448,1),MetricIncrementalData[System Increment],_xlfn.XLOOKUP(Metric_Incremental_Data_Target_Column,MetricIncrementalData[#Headers],MetricIncrementalData[]),,1),0))","v":""},{"$f":"IF(B448=\"\",\"\",IF(B449=\"\",((((B448-0)/100)*Metric_Module_Square_Foot_Area)-'Cumulative Volumes Metric'!E448)*Metric_Stone_Void_Percentage,((((B448-B449)/100)*Metric_Module_Square_Foot_Area)-'Cumulative Volumes Metric'!E448)*Metric_Stone_Void_Percentage))","v":""},"",{"$f":"IF(B448=\"\",\"\",((Metric_System_Area_Input-Metric_Number_Of_Stacks*_xlfn.XLOOKUP(Metric_Layers,CrateData[Layer],CrateData[Surface Area (m2)]))*((B448-IF(B449=\"\",0,B449))/100))*Metric_Stone_Void_Percentage)","v":""},"","",{"$f":"IF(B448=\"\",\"\",SUM(J448:$J$563))","v":""},""]
["","",{"$f":"IF(B449=\"\",\"\",IFERROR(_xlfn.XLOOKUP(ROUND(B449,1),MetricIncrementalData[System Increment],_xlfn.XLOOKUP('Metric Incremental Crate'!$R$3,MetricIncrementalData[#Headers],MetricIncrementalData[]),,1),0))","v":""},"",{"$f":"IF(B449=\"\",\"\",IFERROR(_xlfn.XLOOKUP(ROUND(B449,1),MetricIncrementalData[System Increment],_xlfn.XLOOKUP(Metric_Incremental_Data_Target_Column,MetricIncrementalData[#Headers],MetricIncrementalData[]),,1),0))","v":""},{"$f":"IF(B449=\"\",\"\",IF(B450=\"\",((((B449-0)/100)*Metric_Module_Square_Foot_Area)-'Cumulative Volumes Metric'!E449)*Metric_Stone_Void_Percentage,((((B449-B450)/100)*Metric_Module_Square_Foot_Area)-'Cumulative Volumes Metric'!E449)*Metric_Stone_Void_Percentage))","v":""},"",{"$f":"IF(B449=\"\",\"\",((Metric_System_Area_Input-Metric_Number_Of_Stacks*_xlfn.XLOOKUP(Metric_Layers,CrateData[Layer],CrateData[Surface Area (m2)]))*((B449-IF(B450=\"\",0,B450))/100))*Metric_Stone_Void_Percentage)","v":""},"","",{"$f":"IF(B449=\"\",\"\",SUM(J449:$J$563))","v":""},""]
["","",{"$f":"IF(B450=\"\",\"\",IFERROR(_xlfn.XLOOKUP(ROUND(B450,1),MetricIncrementalData[System Increment],_xlfn.XLOOKUP('Metric Incremental Crate'!$R$3,MetricIncrementalData[#Headers],MetricIncrementalData[]),,1),0))","v":""},"",{"$f":"IF(B450=\"\",\"\",IFERROR(_xlfn.XLOOKUP(ROUND(B450,1),MetricIncrementalData[System Increment],_xlfn.XLOOKUP(Metric_Incremental_Data_Target_Column,MetricIncrementalData[#Headers],MetricIncrementalData[]),,1),0))","v":""},{"$f":"IF(B450=\"\",\"\",IF(B451=\"\",((((B450-0)/100)*Metric_Module_Square_Foot_Area)-'Cumulative Volumes Metric'!E450)*Metric_Stone_Void_Percentage,((((B450-B451)/100)*Metric_Module_Square_Foot_Area)-'Cumulative Volumes Metric'!E450)*Metric_Stone_Void_Percentage))","v":""},"",{"$f":"IF(B450=\"\",\"\",((Metric_System_Area_Input-Metric_Number_Of_Stacks*_xlfn.XLOOKUP(Metric_Layers,CrateData[Layer],CrateData[Surface Area (m2)]))*((B450-IF(B451=\"\",0,B451))/100))*Metric_Stone_Void_Percentage)","v":""},"","",{"$f":"IF(B450=\"\",\"\",SUM(J450:$J$563))","v":""},""]
["","",{"$f":"IF(B451=\"\",\"\",IFERROR(_xlfn.XLOOKUP(ROUND(B451,1),MetricIncrementalData[System Increment],_xlfn.XLOOKUP('Metric Incremental Crate'!$R$3,MetricIncrementalData[#Headers],MetricIncrementalData[]),,1),0))","v":""},"",{"$f":"IF(B451=\"\",\"\",IFERROR(_xlfn.XLOOKUP(ROUND(B451,1),MetricIncrementalData[System Increment],_xlfn.XLOOKUP(Metric_Incremental_Data_Target_Column,MetricIncrementalData[#Headers],MetricIncrementalData[]),,1),0))","v":""},{"$f":"IF(B451=\"\",\"\",IF(B452=\"\",((((B451-0)/100)*Metric_Module_Square_Foot_Area)-'Cumulative Volumes Metric'!E451)*Metric_Stone_Void_Percentage,((((B451-B452)/100)*Metric_Module_Square_Foot_Area)-'Cumulative Volumes Metric'!E451)*Metric_Stone_Void_Percentage))","v":""},"",{"$f":"IF(B451=\"\",\"\",((Metric_System_Area_Input-Metric_Number_Of_Stacks*_xlfn.XLOOKUP(Metric_Layers,CrateData[Layer],CrateData[Surface Area (m2)]))*((B451-IF(B452=\"\",0,B452))/100))*Metric_Stone_Void_Percentage)","v":""},"","",{"$f":"IF(B451=\"\",\"\",SUM(J451:$J$563))","v":""},""]
["","",{"$f":"IF(B452=\"\",\"\",IFERROR(_xlfn.XLOOKUP(ROUND(B452,1),MetricIncrementalData[System Increment],_xlfn.XLOOKUP('Metric Incremental Crate'!$R$3,MetricIncrementalData[#Headers],MetricIncrementalData[]),,1),0))","v":""},"",{"$f":"IF(B452=\"\",\"\",IFERROR(_xlfn.XLOOKUP(ROUND(B452,1),MetricIncrementalData[System Increment],_xlfn.XLOOKUP(Metric_Incremental_Data_Target_Column,MetricIncrementalData[#Headers],MetricIncrementalData[]),,1),0))","v":""},{"$f":"IF(B452=\"\",\"\",IF(B453=\"\",((((B452-0)/100)*Metric_Module_Square_Foot_Area)-'Cumulative Volumes Metric'!E452)*Metric_Stone_Void_Percentage,((((B452-B453)/100)*Metric_Module_Square_Foot_Area)-'Cumulative Volumes Metric'!E452)*Metric_Stone_Void_Percentage))","v":""},"",{"$f":"IF(B452=\"\",\"\",((Metric_System_Area_Input-Metric_Number_Of_Stacks*_xlfn.XLOOKUP(Metric_Layers,CrateData[Layer],CrateData[Surface Area (m2)]))*((B452-IF(B453=\"\",0,B453))/100))*Metric_Stone_Void_Percentage)","v":""},"","",{"$f":"IF(B452=\"\",\"\",SUM(J452:$J$563))","v":""},""]
["","",{"$f":"IF(B453=\"\",\"\",IFERROR(_xlfn.XLOOKUP(ROUND(B453,1),MetricIncrementalData[System Increment],_xlfn.XLOOKUP('Metric Incremental Crate'!$R$3,MetricIncrementalData[#Headers],MetricIncrementalData[]),,1),0))","v":""},"",{"$f":"IF(B453=\"\",\"\",IFERROR(_xlfn.XLOOKUP(ROUND(B453,1),MetricIncrementalData[System Increment],_xlfn.XLOOKUP(Metric_Incremental_Data_Target_Column,MetricIncrementalData[#Headers],MetricIncrementalData[]),,1),0))","v":""},{"$f":"IF(B453=\"\",\"\",IF(B454=\"\",((((B453-0)/100)*Metric_Module_Square_Foot_Area)-'Cumulative Volumes Metric'!E453)*Metric_Stone_Void_Percentage,((((B453-B454)/100)*Metric_Module_Square_Foot_Area)-'Cumulative Volumes Metric'!E453)*Metric_Stone_Void_Percentage))","v":""},"",{"$f":"IF(B453=\"\",\"\",((Metric_System_Area_Input-Metric_Number_Of_Stacks*_xlfn.XLOOKUP(Metric_Layers,CrateData[Layer],CrateData[Surface Area (m2)]))*((B453-IF(B454=\"\",0,B454))/100))*Metric_Stone_Void_Percentage)","v":""},"","",{"$f":"IF(B453=\"\",\"\",SUM(J453:$J$563))","v":""},""]
["","",{"$f":"IF(B454=\"\",\"\",IFERROR(_xlfn.XLOOKUP(ROUND(B454,1),MetricIncrementalData[System Increment],_xlfn.XLOOKUP('Metric Incremental Crate'!$R$3,MetricIncrementalData[#Headers],MetricIncrementalData[]),,1),0))","v":""},"",{"$f":"IF(B454=\"\",\"\",IFERROR(_xlfn.XLOOKUP(ROUND(B454,1),MetricIncrementalData[System Increment],_xlfn.XLOOKUP(Metric_Incremental_Data_Target_Column,MetricIncrementalData[#Headers],MetricIncrementalData[]),,1),0))","v":""},{"$f":"IF(B454=\"\",\"\",IF(B455=\"\",((((B454-0)/100)*Metric_Module_Square_Foot_Area)-'Cumulative Volumes Metric'!E454)*Metric_Stone_Void_Percentage,((((B454-B455)/100)*Metric_Module_Square_Foot_Area)-'Cumulative Volumes Metric'!E454)*Metric_Stone_Void_Percentage))","v":""},"",{"$f":"IF(B454=\"\",\"\",((Metric_System_Area_Input-Metric_Number_Of_Stacks*_xlfn.XLOOKUP(Metric_Layers,CrateData[Layer],CrateData[Surface Area (m2)]))*((B454-IF(B455=\"\",0,B455))/100))*Metric_Stone_Void_Percentage)","v":""},"","",{"$f":"IF(B454=\"\",\"\",SUM(J454:$J$563))","v":""},""]
["","",{"$f":"IF(B455=\"\",\"\",IFERROR(_xlfn.XLOOKUP(ROUND(B455,1),MetricIncrementalData[System Increment],_xlfn.XLOOKUP('Metric Incremental Crate'!$R$3,MetricIncrementalData[#Headers],MetricIncrementalData[]),,1),0))","v":""},"",{"$f":"IF(B455=\"\",\"\",IFERROR(_xlfn.XLOOKUP(ROUND(B455,1),MetricIncrementalData[System Increment],_xlfn.XLOOKUP(Metric_Incremental_Data_Target_Column,MetricIncrementalData[#Headers],MetricIncrementalData[]),,1),0))","v":""},{"$f":"IF(B455=\"\",\"\",IF(B456=\"\",((((B455-0)/100)*Metric_Module_Square_Foot_Area)-'Cumulative Volumes Metric'!E455)*Metric_Stone_Void_Percentage,((((B455-B456)/100)*Metric_Module_Square_Foot_Area)-'Cumulative Volumes Metric'!E455)*Metric_Stone_Void_Percentage))","v":""},"",{"$f":"IF(B455=\"\",\"\",((Metric_System_Area_Input-Metric_Number_Of_Stacks*_xlfn.XLOOKUP(Metric_Layers,CrateData[Layer],CrateData[Surface Area (m2)]))*((B455-IF(B456=\"\",0,B456))/100))*Metric_Stone_Void_Percentage)","v":""},"","",{"$f":"IF(B455=\"\",\"\",SUM(J455:$J$563))","v":""},""]
["","",{"$f":"IF(B456=\"\",\"\",IFERROR(_xlfn.XLOOKUP(ROUND(B456,1),MetricIncrementalData[System Increment],_xlfn.XLOOKUP('Metric Incremental Crate'!$R$3,MetricIncrementalData[#Headers],MetricIncrementalData[]),,1),0))","v":""},"",{"$f":"IF(B456=\"\",\"\",IFERROR(_xlfn.XLOOKUP(ROUND(B456,1),MetricIncrementalData[System Increment],_xlfn.XLOOKUP(Metric_Incremental_Data_Target_Column,MetricIncrementalData[#Headers],MetricIncrementalData[]),,1),0))","v":""},{"$f":"IF(B456=\"\",\"\",IF(B457=\"\",((((B456-0)/100)*Metric_Module_Square_Foot_Area)-'Cumulative Volumes Metric'!E456)*Metric_Stone_Void_Percentage,((((B456-B457)/100)*Metric_Module_Square_Foot_Area)-'Cumulative Volumes Metric'!E456)*Metric_Stone_Void_Percentage))","v":""},"",{"$f":"IF(B456=\"\",\"\",((Metric_System_Area_Input-Metric_Number_Of_Stacks*_xlfn.XLOOKUP(Metric_Layers,CrateData[Layer],CrateData[Surface Area (m2)]))*((B456-IF(B457=\"\",0,B457))/100))*Metric_Stone_Void_Percentage)","v":""},"","",{"$f":"IF(B456=\"\",\"\",SUM(J456:$J$563))","v":""},""]
["","",{"$f":"IF(B457=\"\",\"\",IFERROR(_xlfn.XLOOKUP(ROUND(B457,1),MetricIncrementalData[System Increment],_xlfn.XLOOKUP('Metric Incremental Crate'!$R$3,MetricIncrementalData[#Headers],MetricIncrementalData[]),,1),0))","v":""},"",{"$f":"IF(B457=\"\",\"\",IFERROR(_xlfn.XLOOKUP(ROUND(B457,1),MetricIncrementalData[System Increment],_xlfn.XLOOKUP(Metric_Incremental_Data_Target_Column,MetricIncrementalData[#Headers],MetricIncrementalData[]),,1),0))","v":""},{"$f":"IF(B457=\"\",\"\",IF(B458=\"\",((((B457-0)/100)*Metric_Module_Square_Foot_Area)-'Cumulative Volumes Metric'!E457)*Metric_Stone_Void_Percentage,((((B457-B458)/100)*Metric_Module_Square_Foot_Area)-'Cumulative Volumes Metric'!E457)*Metric_Stone_Void_Percentage))","v":""},"",{"$f":"IF(B457=\"\",\"\",((Metric_System_Area_Input-Metric_Number_Of_Stacks*_xlfn.XLOOKUP(Metric_Layers,CrateData[Layer],CrateData[Surface Area (m2)]))*((B457-IF(B458=\"\",0,B458))/100))*Metric_Stone_Void_Percentage)","v":""},"","",{"$f":"IF(B457=\"\",\"\",SUM(J457:$J$563))","v":""},""]
["","",{"$f":"IF(B458=\"\",\"\",IFERROR(_xlfn.XLOOKUP(ROUND(B458,1),MetricIncrementalData[System Increment],_xlfn.XLOOKUP('Metric Incremental Crate'!$R$3,MetricIncrementalData[#Headers],MetricIncrementalData[]),,1),0))","v":""},"",{"$f":"IF(B458=\"\",\"\",IFERROR(_xlfn.XLOOKUP(ROUND(B458,1),MetricIncrementalData[System Increment],_xlfn.XLOOKUP(Metric_Incremental_Data_Target_Column,MetricIncrementalData[#Headers],MetricIncrementalData[]),,1),0))","v":""},{"$f":"IF(B458=\"\",\"\",IF(B459=\"\",((((B458-0)/100)*Metric_Module_Square_Foot_Area)-'Cumulative Volumes Metric'!E458)*Metric_Stone_Void_Percentage,((((B458-B459)/100)*Metric_Module_Square_Foot_Area)-'Cumulative Volumes Metric'!E458)*Metric_Stone_Void_Percentage))","v":""},"",{"$f":"IF(B458=\"\",\"\",((Metric_System_Area_Input-Metric_Number_Of_Stacks*_xlfn.XLOOKUP(Metric_Layers,CrateData[Layer],CrateData[Surface Area (m2)]))*((B458-IF(B459=\"\",0,B459))/100))*Metric_Stone_Void_Percentage)","v":""},"","",{"$f":"IF(B458=\"\",\"\",SUM(J458:$J$563))","v":""},""]
["","",{"$f":"IF(B459=\"\",\"\",IFERROR(_xlfn.XLOOKUP(ROUND(B459,1),MetricIncrementalData[System Increment],_xlfn.XLOOKUP('Metric Incremental Crate'!$R$3,MetricIncrementalData[#Headers],MetricIncrementalData[]),,1),0))","v":""},"",{"$f":"IF(B459=\"\",\"\",IFERROR(_xlfn.XLOOKUP(ROUND(B459,1),MetricIncrementalData[System Increment],_xlfn.XLOOKUP(Metric_Incremental_Data_Target_Column,MetricIncrementalData[#Headers],MetricIncrementalData[]),,1),0))","v":""},{"$f":"IF(B459=\"\",\"\",IF(B460=\"\",((((B459-0)/100)*Metric_Module_Square_Foot_Area)-'Cumulative Volumes Metric'!E459)*Metric_Stone_Void_Percentage,((((B459-B460)/100)*Metric_Module_Square_Foot_Area)-'Cumulative Volumes Metric'!E459)*Metric_Stone_Void_Percentage))","v":""},"",{"$f":"IF(B459=\"\",\"\",((Metric_System_Area_Input-Metric_Number_Of_Stacks*_xlfn.XLOOKUP(Metric_Layers,CrateData[Layer],CrateData[Surface Area (m2)]))*((B459-IF(B460=\"\",0,B460))/100))*Metric_Stone_Void_Percentage)","v":""},"","",{"$f":"IF(B459=\"\",\"\",SUM(J459:$J$563))","v":""},""]
["","",{"$f":"IF(B460=\"\",\"\",IFERROR(_xlfn.XLOOKUP(ROUND(B460,1),MetricIncrementalData[System Increment],_xlfn.XLOOKUP('Metric Incremental Crate'!$R$3,MetricIncrementalData[#Headers],MetricIncrementalData[]),,1),0))","v":""},"",{"$f":"IF(B460=\"\",\"\",IFERROR(_xlfn.XLOOKUP(ROUND(B460,1),MetricIncrementalData[System Increment],_xlfn.XLOOKUP(Metric_Incremental_Data_Target_Column,MetricIncrementalData[#Headers],MetricIncrementalData[]),,1),0))","v":""},{"$f":"IF(B460=\"\",\"\",IF(B461=\"\",((((B460-0)/100)*Metric_Module_Square_Foot_Area)-'Cumulative Volumes Metric'!E460)*Metric_Stone_Void_Percentage,((((B460-B461)/100)*Metric_Module_Square_Foot_Area)-'Cumulative Volumes Metric'!E460)*Metric_Stone_Void_Percentage))","v":""},"",{"$f":"IF(B460=\"\",\"\",((Metric_System_Area_Input-Metric_Number_Of_Stacks*_xlfn.XLOOKUP(Metric_Layers,CrateData[Layer],CrateData[Surface Area (m2)]))*((B460-IF(B461=\"\",0,B461))/100))*Metric_Stone_Void_Percentage)","v":""},"","",{"$f":"IF(B460=\"\",\"\",SUM(J460:$J$563))","v":""},""]
["","",{"$f":"IF(B461=\"\",\"\",IFERROR(_xlfn.XLOOKUP(ROUND(B461,1),MetricIncrementalData[System Increment],_xlfn.XLOOKUP('Metric Incremental Crate'!$R$3,MetricIncrementalData[#Headers],MetricIncrementalData[]),,1),0))","v":""},"",{"$f":"IF(B461=\"\",\"\",IFERROR(_xlfn.XLOOKUP(ROUND(B461,1),MetricIncrementalData[System Increment],_xlfn.XLOOKUP(Metric_Incremental_Data_Target_Column,MetricIncrementalData[#Headers],MetricIncrementalData[]),,1),0))","v":""},{"$f":"IF(B461=\"\",\"\",IF(B462=\"\",((((B461-0)/100)*Metric_Module_Square_Foot_Area)-'Cumulative Volumes Metric'!E461)*Metric_Stone_Void_Percentage,((((B461-B462)/100)*Metric_Module_Square_Foot_Area)-'Cumulative Volumes Metric'!E461)*Metric_Stone_Void_Percentage))","v":""},"",{"$f":"IF(B461=\"\",\"\",((Metric_System_Area_Input-Metric_Number_Of_Stacks*_xlfn.XLOOKUP(Metric_Layers,CrateData[Layer],CrateData[Surface Area (m2)]))*((B461-IF(B462=\"\",0,B462))/100))*Metric_Stone_Void_Percentage)","v":""},"","",{"$f":"IF(B461=\"\",\"\",SUM(J461:$J$563))","v":""},""]
["","",{"$f":"IF(B462=\"\",\"\",IFERROR(_xlfn.XLOOKUP(ROUND(B462,1),MetricIncrementalData[System Increment],_xlfn.XLOOKUP('Metric Incremental Crate'!$R$3,MetricIncrementalData[#Headers],MetricIncrementalData[]),,1),0))","v":""},"",{"$f":"IF(B462=\"\",\"\",IFERROR(_xlfn.XLOOKUP(ROUND(B462,1),MetricIncrementalData[System Increment],_xlfn.XLOOKUP(Metric_Incremental_Data_Target_Column,MetricIncrementalData[#Headers],MetricIncrementalData[]),,1),0))","v":""},{"$f":"IF(B462=\"\",\"\",IF(B463=\"\",((((B462-0)/100)*Metric_Module_Square_Foot_Area)-'Cumulative Volumes Metric'!E462)*Metric_Stone_Void_Percentage,((((B462-B463)/100)*Metric_Module_Square_Foot_Area)-'Cumulative Volumes Metric'!E462)*Metric_Stone_Void_Percentage))","v":""},"",{"$f":"IF(B462=\"\",\"\",((Metric_System_Area_Input-Metric_Number_Of_Stacks*_xlfn.XLOOKUP(Metric_Layers,CrateData[Layer],CrateData[Surface Area (m2)]))*((B462-IF(B463=\"\",0,B463))/100))*Metric_Stone_Void_Percentage)","v":""},"","",{"$f":"IF(B462=\"\",\"\",SUM(J462:$J$563))","v":""},""]
["","",{"$f":"IF(B463=\"\",\"\",IFERROR(_xlfn.XLOOKUP(ROUND(B463,1),MetricIncrementalData[System Increment],_xlfn.XLOOKUP('Metric Incremental Crate'!$R$3,MetricIncrementalData[#Headers],MetricIncrementalData[]),,1),0))","v":""},"",{"$f":"IF(B463=\"\",\"\",IFERROR(_xlfn.XLOOKUP(ROUND(B463,1),MetricIncrementalData[System Increment],_xlfn.XLOOKUP(Metric_Incremental_Data_Target_Column,MetricIncrementalData[#Headers],MetricIncrementalData[]),,1),0))","v":""},{"$f":"IF(B463=\"\",\"\",IF(B464=\"\",((((B463-0)/100)*Metric_Module_Square_Foot_Area)-'Cumulative Volumes Metric'!E463)*Metric_Stone_Void_Percentage,((((B463-B464)/100)*Metric_Module_Square_Foot_Area)-'Cumulative Volumes Metric'!E463)*Metric_Stone_Void_Percentage))","v":""},"",{"$f":"IF(B463=\"\",\"\",((Metric_System_Area_Input-Metric_Number_Of_Stacks*_xlfn.XLOOKUP(Metric_Layers,CrateData[Layer],CrateData[Surface Area (m2)]))*((B463-IF(B464=\"\",0,B464))/100))*Metric_Stone_Void_Percentage)","v":""},"","",{"$f":"IF(B463=\"\",\"\",SUM(J463:$J$563))","v":""},""]
[{"$f":"IF(B466<>\"\",A463+1,\"\")","v":""},"",{"$f":"IF(B464=\"\",\"\",IFERROR(_xlfn.XLOOKUP(ROUND(B464,1),MetricIncrementalData[System Increment],_xlfn.XLOOKUP('Metric Incremental Crate'!$R$3,MetricIncrementalData[#Headers],MetricIncrementalData[]),,1),0))","v":""},"",{"$f":"IF(B464=\"\",\"\",IFERROR(_xlfn.XLOOKUP(ROUND(B464,1),MetricIncrementalData[System Increment],_xlfn.XLOOKUP(Metric_Incremental_Data_Target_Column,MetricIncrementalData[#Headers],MetricIncrementalData[]),,1),0))","v":""},{"$f":"IF(B464=\"\",\"\",IF(B465=\"\",((((B464-0)/100)*Metric_Module_Square_Foot_Area)-'Cumulative Volumes Metric'!E464)*Metric_Stone_Void_Percentage,((((B464-B465)/100)*Metric_Module_Square_Foot_Area)-'Cumulative Volumes Metric'!E464)*Metric_Stone_Void_Percentage))","v":""},"",{"$f":"IF(B464=\"\",\"\",((Metric_System_Area_Input-Metric_Number_Of_Stacks*_xlfn.XLOOKUP(Metric_Layers,CrateData[Layer],CrateData[Surface Area (m2)]))*((B464-IF(B465=\"\",0,B465))/100))*Metric_Stone_Void_Percentage)","v":""},"","",{"$f":"IF(B464=\"\",\"\",SUM(J464:$J$563))","v":""},""]
["","",{"$f":"IF(B465=\"\",\"\",IFERROR(_xlfn.XLOOKUP(ROUND(B465,1),MetricIncrementalData[System Increment],_xlfn.XLOOKUP('Metric Incremental Crate'!$R$3,MetricIncrementalData[#Headers],MetricIncrementalData[]),,1),0))","v":""},"",{"$f":"IF(B465=\"\",\"\",IFERROR(_xlfn.XLOOKUP(ROUND(B465,1),MetricIncrementalData[System Increment],_xlfn.XLOOKUP(Metric_Incremental_Data_Target_Column,MetricIncrementalData[#Headers],MetricIncrementalData[]),,1),0))","v":""},{"$f":"IF(B465=\"\",\"\",IF(B466=\"\",((((B465-0)/100)*Metric_Module_Square_Foot_Area)-'Cumulative Volumes Metric'!E465)*Metric_Stone_Void_Percentage,((((B465-B466)/100)*Metric_Module_Square_Foot_Area)-'Cumulative Volumes Metric'!E465)*Metric_Stone_Void_Percentage))","v":""},"",{"$f":"IF(B465=\"\",\"\",((Metric_System_Area_Input-Metric_Number_Of_Stacks*_xlfn.XLOOKUP(Metric_Layers,CrateData[Layer],CrateData[Surface Area (m2)]))*((B465-IF(B466=\"\",0,B466))/100))*Metric_Stone_Void_Percentage)","v":""},"","",{"$f":"IF(B465=\"\",\"\",SUM(J465:$J$563))","v":""},""]
["","",{"$f":"IF(B466=\"\",\"\",IFERROR(_xlfn.XLOOKUP(ROUND(B466,1),MetricIncrementalData[System Increment],_xlfn.XLOOKUP('Metric Incremental Crate'!$R$3,MetricIncrementalData[#Headers],MetricIncrementalData[]),,1),0))","v":""},{"$f":"IFERROR(C466*Metric_Number_Of_Stacks,\"\")","v":""},{"$f":"IF(B466=\"\",\"\",IFERROR(_xlfn.XLOOKUP(ROUND(B466,1),MetricIncrementalData[System Increment],_xlfn.XLOOKUP(Metric_Incremental_Data_Target_Column,MetricIncrementalData[#Headers],MetricIncrementalData[]),,1),0))","v":""},{"$f":"IF(B466=\"\",\"\",IF(B467=\"\",((((B466-0)/100)*Metric_Module_Square_Foot_Area)-'Cumulative Volumes Metric'!E466)*Metric_Stone_Void_Percentage,((((B466-B467)/100)*Metric_Module_Square_Foot_Area)-'Cumulative Volumes Metric'!E466)*Metric_Stone_Void_Percentage))","v":""},{"$f":"IFERROR(F466*Metric_Number_Of_Stacks,\"\")","v":""},{"$f":"IF(B466=\"\",\"\",((Metric_System_Area_Input-Metric_Number_Of_Stacks*_xlfn.XLOOKUP(Metric_Layers,CrateData[Layer],CrateData[Surface Area (m2)]))*((B466-IF(B467=\"\",0,B467))/100))*Metric_Stone_Void_Percentage)","v":""},"","",{"$f":"IF(B466=\"\",\"\",SUM(J466:$J$563))","v":""},""]
["","",{"$f":"IF(B467=\"\",\"\",IFERROR(_xlfn.XLOOKUP(ROUND(B467,1),MetricIncrementalData[System Increment],_xlfn.XLOOKUP('Metric Incremental Crate'!$R$3,MetricIncrementalData[#Headers],MetricIncrementalData[]),,1),0))","v":""},"",{"$f":"IF(B467=\"\",\"\",IFERROR(_xlfn.XLOOKUP(ROUND(B467,1),MetricIncrementalData[System Increment],_xlfn.XLOOKUP(Metric_Incremental_Data_Target_Column,MetricIncrementalData[#Headers],MetricIncrementalData[]),,1),0))","v":""},{"$f":"IF(B467=\"\",\"\",IF(B468=\"\",((((B467-0)/100)*Metric_Module_Square_Foot_Area)-'Cumulative Volumes Metric'!E467)*Metric_Stone_Void_Percentage,((((B467-B468)/100)*Metric_Module_Square_Foot_Area)-'Cumulative Volumes Metric'!E467)*Metric_Stone_Void_Percentage))","v":""},"",{"$f":"IF(B467=\"\",\"\",((Metric_System_Area_Input-Metric_Number_Of_Stacks*_xlfn.XLOOKUP(Metric_Layers,CrateData[Layer],CrateData[Surface Area (m2)]))*((B467-IF(B468=\"\",0,B468))/100))*Metric_Stone_Void_Percentage)","v":""},{"$f":"IFERROR(IF($AW$17, H467+G467, G467), \"\")","v":""},"",{"$f":"IF(B467=\"\",\"\",SUM(J467:$J$563))","v":""},""]
["","",{"$f":"IF(B468=\"\",\"\",IFERROR(_xlfn.XLOOKUP(ROUND(B468,1),MetricIncrementalData[System Increment],_xlfn.XLOOKUP('Metric Incremental Crate'!$R$3,MetricIncrementalData[#Headers],MetricIncrementalData[]),,1),0))","v":""},"",{"$f":"IF(B468=\"\",\"\",IFERROR(_xlfn.XLOOKUP(ROUND(B468,1),MetricIncrementalData[System Increment],_xlfn.XLOOKUP(Metric_Incremental_Data_Target_Column,MetricIncrementalData[#Headers],MetricIncrementalData[]),,1),0))","v":""},{"$f":"IF(B468=\"\",\"\",IF(B469=\"\",((((B468-0)/100)*Metric_Module_Square_Foot_Area)-'Cumulative Volumes Metric'!E468)*Metric_Stone_Void_Percentage,((((B468-B469)/100)*Metric_Module_Square_Foot_Area)-'Cumulative Volumes Metric'!E468)*Metric_Stone_Void_Percentage))","v":""},"",{"$f":"IF(B468=\"\",\"\",((Metric_System_Area_Input-Metric_Number_Of_Stacks*_xlfn.XLOOKUP(Metric_Layers,CrateData[Layer],CrateData[Surface Area (m2)]))*((B468-IF(B469=\"\",0,B469))/100))*Metric_Stone_Void_Percentage)","v":""},"","",{"$f":"IF(B468=\"\",\"\",SUM(J468:$J$563))","v":""},""]
["","",{"$f":"IF(B469=\"\",\"\",IFERROR(_xlfn.XLOOKUP(ROUND(B469,1),MetricIncrementalData[System Increment],_xlfn.XLOOKUP('Metric Incremental Crate'!$R$3,MetricIncrementalData[#Headers],MetricIncrementalData[]),,1),0))","v":""},"",{"$f":"IF(B469=\"\",\"\",IFERROR(_xlfn.XLOOKUP(ROUND(B469,1),MetricIncrementalData[System Increment],_xlfn.XLOOKUP(Metric_Incremental_Data_Target_Column,MetricIncrementalData[#Headers],MetricIncrementalData[]),,1),0))","v":""},{"$f":"IF(B469=\"\",\"\",IF(B470=\"\",((((B469-0)/100)*Metric_Module_Square_Foot_Area)-'Cumulative Volumes Metric'!E469)*Metric_Stone_Void_Percentage,((((B469-B470)/100)*Metric_Module_Square_Foot_Area)-'Cumulative Volumes Metric'!E469)*Metric_Stone_Void_Percentage))","v":""},"",{"$f":"IF(B469=\"\",\"\",((Metric_System_Area_Input-Metric_Number_Of_Stacks*_xlfn.XLOOKUP(Metric_Layers,CrateData[Layer],CrateData[Surface Area (m2)]))*((B469-IF(B470=\"\",0,B470))/100))*Metric_Stone_Void_Percentage)","v":""},"","",{"$f":"IF(B469=\"\",\"\",SUM(J469:$J$563))","v":""},""]
["",{"$f":"IFERROR(IF(B469-1<1,\"\",B469-1),\"\")","v":""},{"$f":"IF(B470=\"\",\"\",IFERROR(_xlfn.XLOOKUP(ROUND(B470,1),MetricIncrementalData[System Increment],_xlfn.XLOOKUP('Metric Incremental Crate'!$R$3,MetricIncrementalData[#Headers],MetricIncrementalData[]),,1),0))","v":""},"",{"$f":"IF(B470=\"\",\"\",IFERROR(_xlfn.XLOOKUP(ROUND(B470,1),MetricIncrementalData[System Increment],_xlfn.XLOOKUP(Metric_Incremental_Data_Target_Column,MetricIncrementalData[#Headers],MetricIncrementalData[]),,1),0))","v":""},{"$f":"IF(B470=\"\",\"\",IF(B471=\"\",((((B470-0)/100)*Metric_Module_Square_Foot_Area)-'Cumulative Volumes Metric'!E470)*Metric_Stone_Void_Percentage,((((B470-B471)/100)*Metric_Module_Square_Foot_Area)-'Cumulative Volumes Metric'!E470)*Metric_Stone_Void_Percentage))","v":""},"",{"$f":"IF(B470=\"\",\"\",((Metric_System_Area_Input-Metric_Number_Of_Stacks*_xlfn.XLOOKUP(Metric_Layers,CrateData[Layer],CrateData[Surface Area (m2)]))*((B470-IF(B471=\"\",0,B471))/100))*Metric_Stone_Void_Percentage)","v":""},"",{"$f":"IFERROR(I470+D470,\"\")","v":""},{"$f":"IF(B470=\"\",\"\",SUM(J470:$J$563))","v":""},{"$f":"IFERROR($I$11+B470/100,\"\")","v":""}]
["","",{"$f":"IF(B471=\"\",\"\",IFERROR(_xlfn.XLOOKUP(ROUND(B471,1),MetricIncrementalData[System Increment],_xlfn.XLOOKUP('Metric Incremental Crate'!$R$3,MetricIncrementalData[#Headers],MetricIncrementalData[]),,1),0))","v":""},"",{"$f":"IF(B471=\"\",\"\",IFERROR(_xlfn.XLOOKUP(ROUND(B471,1),MetricIncrementalData[System Increment],_xlfn.XLOOKUP(Metric_Incremental_Data_Target_Column,MetricIncrementalData[#Headers],MetricIncrementalData[]),,1),0))","v":""},{"$f":"IF(B471=\"\",\"\",IF(B472=\"\",((((B471-0)/100)*Metric_Module_Square_Foot_Area)-'Cumulative Volumes Metric'!E471)*Metric_Stone_Void_Percentage,((((B471-B472)/100)*Metric_Module_Square_Foot_Area)-'Cumulative Volumes Metric'!E471)*Metric_Stone_Void_Percentage))","v":""},"",{"$f":"IF(B471=\"\",\"\",((Metric_System_Area_Input-Metric_Number_Of_Stacks*_xlfn.XLOOKUP(Metric_Layers,CrateData[Layer],CrateData[Surface Area (m2)]))*((B471-IF(B472=\"\",0,B472))/100))*Metric_Stone_Void_Percentage)","v":""},"","",{"$f":"IF(B471=\"\",\"\",SUM(J471:$J$563))","v":""},""]
["","",{"$f":"IF(B472=\"\",\"\",IFERROR(_xlfn.XLOOKUP(ROUND(B472,1),MetricIncrementalData[System Increment],_xlfn.XLOOKUP('Metric Incremental Crate'!$R$3,MetricIncrementalData[#Headers],MetricIncrementalData[]),,1),0))","v":""},"",{"$f":"IF(B472=\"\",\"\",IFERROR(_xlfn.XLOOKUP(ROUND(B472,1),MetricIncrementalData[System Increment],_xlfn.XLOOKUP(Metric_Incremental_Data_Target_Column,MetricIncrementalData[#Headers],MetricIncrementalData[]),,1),0))","v":""},{"$f":"IF(B472=\"\",\"\",IF(B473=\"\",((((B472-0)/100)*Metric_Module_Square_Foot_Area)-'Cumulative Volumes Metric'!E472)*Metric_Stone_Void_Percentage,((((B472-B473)/100)*Metric_Module_Square_Foot_Area)-'Cumulative Volumes Metric'!E472)*Metric_Stone_Void_Percentage))","v":""},"",{"$f":"IF(B472=\"\",\"\",((Metric_System_Area_Input-Metric_Number_Of_Stacks*_xlfn.XLOOKUP(Metric_Layers,CrateData[Layer],CrateData[Surface Area (m2)]))*((B472-IF(B473=\"\",0,B473))/100))*Metric_Stone_Void_Percentage)","v":""},"","",{"$f":"IF(B472=\"\",\"\",SUM(J472:$J$563))","v":""},""]
["","",{"$f":"IF(B473=\"\",\"\",IFERROR(_xlfn.XLOOKUP(ROUND(B473,1),MetricIncrementalData[System Increment],_xlfn.XLOOKUP('Metric Incremental Crate'!$R$3,MetricIncrementalData[#Headers],MetricIncrementalData[]),,1),0))","v":""},"",{"$f":"IF(B473=\"\",\"\",IFERROR(_xlfn.XLOOKUP(ROUND(B473,1),MetricIncrementalData[System Increment],_xlfn.XLOOKUP(Metric_Incremental_Data_Target_Column,MetricIncrementalData[#Headers],MetricIncrementalData[]),,1),0))","v":""},{"$f":"IF(B473=\"\",\"\",IF(B474=\"\",((((B473-0)/100)*Metric_Module_Square_Foot_Area)-'Cumulative Volumes Metric'!E473)*Metric_Stone_Void_Percentage,((((B473-B474)/100)*Metric_Module_Square_Foot_Area)-'Cumulative Volumes Metric'!E473)*Metric_Stone_Void_Percentage))","v":""},"",{"$f":"IF(B473=\"\",\"\",((Metric_System_Area_Input-Metric_Number_Of_Stacks*_xlfn.XLOOKUP(Metric_Layers,CrateData[Layer],CrateData[Surface Area (m2)]))*((B473-IF(B474=\"\",0,B474))/100))*Metric_Stone_Void_Percentage)","v":""},"","",{"$f":"IF(B473=\"\",\"\",SUM(J473:$J$563))","v":""},""]
["","",{"$f":"IF(B474=\"\",\"\",IFERROR(_xlfn.XLOOKUP(ROUND(B474,1),MetricIncrementalData[System Increment],_xlfn.XLOOKUP('Metric Incremental Crate'!$R$3,MetricIncrementalData[#Headers],MetricIncrementalData[]),,1),0))","v":""},"",{"$f":"IF(B474=\"\",\"\",IFERROR(_xlfn.XLOOKUP(ROUND(B474,1),MetricIncrementalData[System Increment],_xlfn.XLOOKUP(Metric_Incremental_Data_Target_Column,MetricIncrementalData[#Headers],MetricIncrementalData[]),,1),0))","v":""},{"$f":"IF(B474=\"\",\"\",IF(B475=\"\",((((B474-0)/100)*Metric_Module_Square_Foot_Area)-'Cumulative Volumes Metric'!E474)*Metric_Stone_Void_Percentage,((((B474-B475)/100)*Metric_Module_Square_Foot_Area)-'Cumulative Volumes Metric'!E474)*Metric_Stone_Void_Percentage))","v":""},"",{"$f":"IF(B474=\"\",\"\",((Metric_System_Area_Input-Metric_Number_Of_Stacks*_xlfn.XLOOKUP(Metric_Layers,CrateData[Layer],CrateData[Surface Area (m2)]))*((B474-IF(B475=\"\",0,B475))/100))*Metric_Stone_Void_Percentage)","v":""},"","",{"$f":"IF(B474=\"\",\"\",SUM(J474:$J$563))","v":""},""]
["","",{"$f":"IF(B475=\"\",\"\",IFERROR(_xlfn.XLOOKUP(ROUND(B475,1),MetricIncrementalData[System Increment],_xlfn.XLOOKUP('Metric Incremental Crate'!$R$3,MetricIncrementalData[#Headers],MetricIncrementalData[]),,1),0))","v":""},"",{"$f":"IF(B475=\"\",\"\",IFERROR(_xlfn.XLOOKUP(ROUND(B475,1),MetricIncrementalData[System Increment],_xlfn.XLOOKUP(Metric_Incremental_Data_Target_Column,MetricIncrementalData[#Headers],MetricIncrementalData[]),,1),0))","v":""},{"$f":"IF(B475=\"\",\"\",IF(B476=\"\",((((B475-0)/100)*Metric_Module_Square_Foot_Area)-'Cumulative Volumes Metric'!E475)*Metric_Stone_Void_Percentage,((((B475-B476)/100)*Metric_Module_Square_Foot_Area)-'Cumulative Volumes Metric'!E475)*Metric_Stone_Void_Percentage))","v":""},"",{"$f":"IF(B475=\"\",\"\",((Metric_System_Area_Input-Metric_Number_Of_Stacks*_xlfn.XLOOKUP(Metric_Layers,CrateData[Layer],CrateData[Surface Area (m2)]))*((B475-IF(B476=\"\",0,B476))/100))*Metric_Stone_Void_Percentage)","v":""},"","",{"$f":"IF(B475=\"\",\"\",SUM(J475:$J$563))","v":""},""]
["","",{"$f":"IF(B476=\"\",\"\",IFERROR(_xlfn.XLOOKUP(ROUND(B476,1),MetricIncrementalData[System Increment],_xlfn.XLOOKUP('Metric Incremental Crate'!$R$3,MetricIncrementalData[#Headers],MetricIncrementalData[]),,1),0))","v":""},"",{"$f":"IF(B476=\"\",\"\",IFERROR(_xlfn.XLOOKUP(ROUND(B476,1),MetricIncrementalData[System Increment],_xlfn.XLOOKUP(Metric_Incremental_Data_Target_Column,MetricIncrementalData[#Headers],MetricIncrementalData[]),,1),0))","v":""},{"$f":"IF(B476=\"\",\"\",IF(B477=\"\",((((B476-0)/100)*Metric_Module_Square_Foot_Area)-'Cumulative Volumes Metric'!E476)*Metric_Stone_Void_Percentage,((((B476-B477)/100)*Metric_Module_Square_Foot_Area)-'Cumulative Volumes Metric'!E476)*Metric_Stone_Void_Percentage))","v":""},"",{"$f":"IF(B476=\"\",\"\",((Metric_System_Area_Input-Metric_Number_Of_Stacks*_xlfn.XLOOKUP(Metric_Layers,CrateData[Layer],CrateData[Surface Area (m2)]))*((B476-IF(B477=\"\",0,B477))/100))*Metric_Stone_Void_Percentage)","v":""},"","",{"$f":"IF(B476=\"\",\"\",SUM(J476:$J$563))","v":""},""]
["","",{"$f":"IF(B477=\"\",\"\",IFERROR(_xlfn.XLOOKUP(ROUND(B477,1),MetricIncrementalData[System Increment],_xlfn.XLOOKUP('Metric Incremental Crate'!$R$3,MetricIncrementalData[#Headers],MetricIncrementalData[]),,1),0))","v":""},"",{"$f":"IF(B477=\"\",\"\",IFERROR(_xlfn.XLOOKUP(ROUND(B477,1),MetricIncrementalData[System Increment],_xlfn.XLOOKUP(Metric_Incremental_Data_Target_Column,MetricIncrementalData[#Headers],MetricIncrementalData[]),,1),0))","v":""},{"$f":"IF(B477=\"\",\"\",IF(B478=\"\",((((B477-0)/100)*Metric_Module_Square_Foot_Area)-'Cumulative Volumes Metric'!E477)*Metric_Stone_Void_Percentage,((((B477-B478)/100)*Metric_Module_Square_Foot_Area)-'Cumulative Volumes Metric'!E477)*Metric_Stone_Void_Percentage))","v":""},"",{"$f":"IF(B477=\"\",\"\",((Metric_System_Area_Input-Metric_Number_Of_Stacks*_xlfn.XLOOKUP(Metric_Layers,CrateData[Layer],CrateData[Surface Area (m2)]))*((B477-IF(B478=\"\",0,B478))/100))*Metric_Stone_Void_Percentage)","v":""},"","",{"$f":"IF(B477=\"\",\"\",SUM(J477:$J$563))","v":""},""]
["","",{"$f":"IF(B478=\"\",\"\",IFERROR(_xlfn.XLOOKUP(ROUND(B478,1),MetricIncrementalData[System Increment],_xlfn.XLOOKUP('Metric Incremental Crate'!$R$3,MetricIncrementalData[#Headers],MetricIncrementalData[]),,1),0))","v":""},"",{"$f":"IF(B478=\"\",\"\",IFERROR(_xlfn.XLOOKUP(ROUND(B478,1),MetricIncrementalData[System Increment],_xlfn.XLOOKUP(Metric_Incremental_Data_Target_Column,MetricIncrementalData[#Headers],MetricIncrementalData[]),,1),0))","v":""},{"$f":"IF(B478=\"\",\"\",IF(B479=\"\",((((B478-0)/100)*Metric_Module_Square_Foot_Area)-'Cumulative Volumes Metric'!E478)*Metric_Stone_Void_Percentage,((((B478-B479)/100)*Metric_Module_Square_Foot_Area)-'Cumulative Volumes Metric'!E478)*Metric_Stone_Void_Percentage))","v":""},"",{"$f":"IF(B478=\"\",\"\",((Metric_System_Area_Input-Metric_Number_Of_Stacks*_xlfn.XLOOKUP(Metric_Layers,CrateData[Layer],CrateData[Surface Area (m2)]))*((B478-IF(B479=\"\",0,B479))/100))*Metric_Stone_Void_Percentage)","v":""},"","",{"$f":"IF(B478=\"\",\"\",SUM(J478:$J$563))","v":""},""]
["","",{"$f":"IF(B479=\"\",\"\",IFERROR(_xlfn.XLOOKUP(ROUND(B479,1),MetricIncrementalData[System Increment],_xlfn.XLOOKUP('Metric Incremental Crate'!$R$3,MetricIncrementalData[#Headers],MetricIncrementalData[]),,1),0))","v":""},"",{"$f":"IF(B479=\"\",\"\",IFERROR(_xlfn.XLOOKUP(ROUND(B479,1),MetricIncrementalData[System Increment],_xlfn.XLOOKUP(Metric_Incremental_Data_Target_Column,MetricIncrementalData[#Headers],MetricIncrementalData[]),,1),0))","v":""},{"$f":"IF(B479=\"\",\"\",IF(B480=\"\",((((B479-0)/100)*Metric_Module_Square_Foot_Area)-'Cumulative Volumes Metric'!E479)*Metric_Stone_Void_Percentage,((((B479-B480)/100)*Metric_Module_Square_Foot_Area)-'Cumulative Volumes Metric'!E479)*Metric_Stone_Void_Percentage))","v":""},"",{"$f":"IF(B479=\"\",\"\",((Metric_System_Area_Input-Metric_Number_Of_Stacks*_xlfn.XLOOKUP(Metric_Layers,CrateData[Layer],CrateData[Surface Area (m2)]))*((B479-IF(B480=\"\",0,B480))/100))*Metric_Stone_Void_Percentage)","v":""},"","",{"$f":"IF(B479=\"\",\"\",SUM(J479:$J$563))","v":""},""]
["","",{"$f":"IF(B480=\"\",\"\",IFERROR(_xlfn.XLOOKUP(ROUND(B480,1),MetricIncrementalData[System Increment],_xlfn.XLOOKUP('Metric Incremental Crate'!$R$3,MetricIncrementalData[#Headers],MetricIncrementalData[]),,1),0))","v":""},"",{"$f":"IF(B480=\"\",\"\",IFERROR(_xlfn.XLOOKUP(ROUND(B480,1),MetricIncrementalData[System Increment],_xlfn.XLOOKUP(Metric_Incremental_Data_Target_Column,MetricIncrementalData[#Headers],MetricIncrementalData[]),,1),0))","v":""},{"$f":"IF(B480=\"\",\"\",IF(B481=\"\",((((B480-0)/100)*Metric_Module_Square_Foot_Area)-'Cumulative Volumes Metric'!E480)*Metric_Stone_Void_Percentage,((((B480-B481)/100)*Metric_Module_Square_Foot_Area)-'Cumulative Volumes Metric'!E480)*Metric_Stone_Void_Percentage))","v":""},"",{"$f":"IF(B480=\"\",\"\",((Metric_System_Area_Input-Metric_Number_Of_Stacks*_xlfn.XLOOKUP(Metric_Layers,CrateData[Layer],CrateData[Surface Area (m2)]))*((B480-IF(B481=\"\",0,B481))/100))*Metric_Stone_Void_Percentage)","v":""},"","",{"$f":"IF(B480=\"\",\"\",SUM(J480:$J$563))","v":""},""]
["","",{"$f":"IF(B481=\"\",\"\",IFERROR(_xlfn.XLOOKUP(ROUND(B481,1),MetricIncrementalData[System Increment],_xlfn.XLOOKUP('Metric Incremental Crate'!$R$3,MetricIncrementalData[#Headers],MetricIncrementalData[]),,1),0))","v":""},"",{"$f":"IF(B481=\"\",\"\",IFERROR(_xlfn.XLOOKUP(ROUND(B481,1),MetricIncrementalData[System Increment],_xlfn.XLOOKUP(Metric_Incremental_Data_Target_Column,MetricIncrementalData[#Headers],MetricIncrementalData[]),,1),0))","v":""},{"$f":"IF(B481=\"\",\"\",IF(B482=\"\",((((B481-0)/100)*Metric_Module_Square_Foot_Area)-'Cumulative Volumes Metric'!E481)*Metric_Stone_Void_Percentage,((((B481-B482)/100)*Metric_Module_Square_Foot_Area)-'Cumulative Volumes Metric'!E481)*Metric_Stone_Void_Percentage))","v":""},"",{"$f":"IF(B481=\"\",\"\",((Metric_System_Area_Input-Metric_Number_Of_Stacks*_xlfn.XLOOKUP(Metric_Layers,CrateData[Layer],CrateData[Surface Area (m2)]))*((B481-IF(B482=\"\",0,B482))/100))*Metric_Stone_Void_Percentage)","v":""},"","",{"$f":"IF(B481=\"\",\"\",SUM(J481:$J$563))","v":""},""]
["","",{"$f":"IF(B482=\"\",\"\",IFERROR(_xlfn.XLOOKUP(ROUND(B482,1),MetricIncrementalData[System Increment],_xlfn.XLOOKUP('Metric Incremental Crate'!$R$3,MetricIncrementalData[#Headers],MetricIncrementalData[]),,1),0))","v":""},"",{"$f":"IF(B482=\"\",\"\",IFERROR(_xlfn.XLOOKUP(ROUND(B482,1),MetricIncrementalData[System Increment],_xlfn.XLOOKUP(Metric_Incremental_Data_Target_Column,MetricIncrementalData[#Headers],MetricIncrementalData[]),,1),0))","v":""},{"$f":"IF(B482=\"\",\"\",IF(B483=\"\",((((B482-0)/100)*Metric_Module_Square_Foot_Area)-'Cumulative Volumes Metric'!E482)*Metric_Stone_Void_Percentage,((((B482-B483)/100)*Metric_Module_Square_Foot_Area)-'Cumulative Volumes Metric'!E482)*Metric_Stone_Void_Percentage))","v":""},"",{"$f":"IF(B482=\"\",\"\",((Metric_System_Area_Input-Metric_Number_Of_Stacks*_xlfn.XLOOKUP(Metric_Layers,CrateData[Layer],CrateData[Surface Area (m2)]))*((B482-IF(B483=\"\",0,B483))/100))*Metric_Stone_Void_Percentage)","v":""},"","",{"$f":"IF(B482=\"\",\"\",SUM(J482:$J$563))","v":""},""]
["","",{"$f":"IF(B483=\"\",\"\",IFERROR(_xlfn.XLOOKUP(ROUND(B483,1),MetricIncrementalData[System Increment],_xlfn.XLOOKUP('Metric Incremental Crate'!$R$3,MetricIncrementalData[#Headers],MetricIncrementalData[]),,1),0))","v":""},"",{"$f":"IF(B483=\"\",\"\",IFERROR(_xlfn.XLOOKUP(ROUND(B483,1),MetricIncrementalData[System Increment],_xlfn.XLOOKUP(Metric_Incremental_Data_Target_Column,MetricIncrementalData[#Headers],MetricIncrementalData[]),,1),0))","v":""},{"$f":"IF(B483=\"\",\"\",IF(B484=\"\",((((B483-0)/100)*Metric_Module_Square_Foot_Area)-'Cumulative Volumes Metric'!E483)*Metric_Stone_Void_Percentage,((((B483-B484)/100)*Metric_Module_Square_Foot_Area)-'Cumulative Volumes Metric'!E483)*Metric_Stone_Void_Percentage))","v":""},"",{"$f":"IF(B483=\"\",\"\",((Metric_System_Area_Input-Metric_Number_Of_Stacks*_xlfn.XLOOKUP(Metric_Layers,CrateData[Layer],CrateData[Surface Area (m2)]))*((B483-IF(B484=\"\",0,B484))/100))*Metric_Stone_Void_Percentage)","v":""},"","",{"$f":"IF(B483=\"\",\"\",SUM(J483:$J$563))","v":""},""]
["","",{"$f":"IF(B484=\"\",\"\",IFERROR(_xlfn.XLOOKUP(ROUND(B484,1),MetricIncrementalData[System Increment],_xlfn.XLOOKUP('Metric Incremental Crate'!$R$3,MetricIncrementalData[#Headers],MetricIncrementalData[]),,1),0))","v":""},"",{"$f":"IF(B484=\"\",\"\",IFERROR(_xlfn.XLOOKUP(ROUND(B484,1),MetricIncrementalData[System Increment],_xlfn.XLOOKUP(Metric_Incremental_Data_Target_Column,MetricIncrementalData[#Headers],MetricIncrementalData[]),,1),0))","v":""},{"$f":"IF(B484=\"\",\"\",IF(B485=\"\",((((B484-0)/100)*Metric_Module_Square_Foot_Area)-'Cumulative Volumes Metric'!E484)*Metric_Stone_Void_Percentage,((((B484-B485)/100)*Metric_Module_Square_Foot_Area)-'Cumulative Volumes Metric'!E484)*Metric_Stone_Void_Percentage))","v":""},"",{"$f":"IF(B484=\"\",\"\",((Metric_System_Area_Input-Metric_Number_Of_Stacks*_xlfn.XLOOKUP(Metric_Layers,CrateData[Layer],CrateData[Surface Area (m2)]))*((B484-IF(B485=\"\",0,B485))/100))*Metric_Stone_Void_Percentage)","v":""},"","",{"$f":"IF(B484=\"\",\"\",SUM(J484:$J$563))","v":""},""]
["","",{"$f":"IF(B485=\"\",\"\",IFERROR(_xlfn.XLOOKUP(ROUND(B485,1),MetricIncrementalData[System Increment],_xlfn.XLOOKUP('Metric Incremental Crate'!$R$3,MetricIncrementalData[#Headers],MetricIncrementalData[]),,1),0))","v":""},"",{"$f":"IF(B485=\"\",\"\",IFERROR(_xlfn.XLOOKUP(ROUND(B485,1),MetricIncrementalData[System Increment],_xlfn.XLOOKUP(Metric_Incremental_Data_Target_Column,MetricIncrementalData[#Headers],MetricIncrementalData[]),,1),0))","v":""},{"$f":"IF(B485=\"\",\"\",IF(B486=\"\",((((B485-0)/100)*Metric_Module_Square_Foot_Area)-'Cumulative Volumes Metric'!E485)*Metric_Stone_Void_Percentage,((((B485-B486)/100)*Metric_Module_Square_Foot_Area)-'Cumulative Volumes Metric'!E485)*Metric_Stone_Void_Percentage))","v":""},"",{"$f":"IF(B485=\"\",\"\",((Metric_System_Area_Input-Metric_Number_Of_Stacks*_xlfn.XLOOKUP(Metric_Layers,CrateData[Layer],CrateData[Surface Area (m2)]))*((B485-IF(B486=\"\",0,B486))/100))*Metric_Stone_Void_Percentage)","v":""},"","",{"$f":"IF(B485=\"\",\"\",SUM(J485:$J$563))","v":""},""]
["","",{"$f":"IF(B486=\"\",\"\",IFERROR(_xlfn.XLOOKUP(ROUND(B486,1),MetricIncrementalData[System Increment],_xlfn.XLOOKUP('Metric Incremental Crate'!$R$3,MetricIncrementalData[#Headers],MetricIncrementalData[]),,1),0))","v":""},"",{"$f":"IF(B486=\"\",\"\",IFERROR(_xlfn.XLOOKUP(ROUND(B486,1),MetricIncrementalData[System Increment],_xlfn.XLOOKUP(Metric_Incremental_Data_Target_Column,MetricIncrementalData[#Headers],MetricIncrementalData[]),,1),0))","v":""},{"$f":"IF(B486=\"\",\"\",IF(B487=\"\",((((B486-0)/100)*Metric_Module_Square_Foot_Area)-'Cumulative Volumes Metric'!E486)*Metric_Stone_Void_Percentage,((((B486-B487)/100)*Metric_Module_Square_Foot_Area)-'Cumulative Volumes Metric'!E486)*Metric_Stone_Void_Percentage))","v":""},"",{"$f":"IF(B486=\"\",\"\",((Metric_System_Area_Input-Metric_Number_Of_Stacks*_xlfn.XLOOKUP(Metric_Layers,CrateData[Layer],CrateData[Surface Area (m2)]))*((B486-IF(B487=\"\",0,B487))/100))*Metric_Stone_Void_Percentage)","v":""},"","",{"$f":"IF(B486=\"\",\"\",SUM(J486:$J$563))","v":""},""]
["","",{"$f":"IF(B487=\"\",\"\",IFERROR(_xlfn.XLOOKUP(ROUND(B487,1),MetricIncrementalData[System Increment],_xlfn.XLOOKUP('Metric Incremental Crate'!$R$3,MetricIncrementalData[#Headers],MetricIncrementalData[]),,1),0))","v":""},"",{"$f":"IF(B487=\"\",\"\",IFERROR(_xlfn.XLOOKUP(ROUND(B487,1),MetricIncrementalData[System Increment],_xlfn.XLOOKUP(Metric_Incremental_Data_Target_Column,MetricIncrementalData[#Headers],MetricIncrementalData[]),,1),0))","v":""},{"$f":"IF(B487=\"\",\"\",IF(B488=\"\",((((B487-0)/100)*Metric_Module_Square_Foot_Area)-'Cumulative Volumes Metric'!E487)*Metric_Stone_Void_Percentage,((((B487-B488)/100)*Metric_Module_Square_Foot_Area)-'Cumulative Volumes Metric'!E487)*Metric_Stone_Void_Percentage))","v":""},"",{"$f":"IF(B487=\"\",\"\",((Metric_System_Area_Input-Metric_Number_Of_Stacks*_xlfn.XLOOKUP(Metric_Layers,CrateData[Layer],CrateData[Surface Area (m2)]))*((B487-IF(B488=\"\",0,B488))/100))*Metric_Stone_Void_Percentage)","v":""},"","",{"$f":"IF(B487=\"\",\"\",SUM(J487:$J$563))","v":""},""]
["","",{"$f":"IF(B488=\"\",\"\",IFERROR(_xlfn.XLOOKUP(ROUND(B488,1),MetricIncrementalData[System Increment],_xlfn.XLOOKUP('Metric Incremental Crate'!$R$3,MetricIncrementalData[#Headers],MetricIncrementalData[]),,1),0))","v":""},"",{"$f":"IF(B488=\"\",\"\",IFERROR(_xlfn.XLOOKUP(ROUND(B488,1),MetricIncrementalData[System Increment],_xlfn.XLOOKUP(Metric_Incremental_Data_Target_Column,MetricIncrementalData[#Headers],MetricIncrementalData[]),,1),0))","v":""},{"$f":"IF(B488=\"\",\"\",IF(B489=\"\",((((B488-0)/100)*Metric_Module_Square_Foot_Area)-'Cumulative Volumes Metric'!E488)*Metric_Stone_Void_Percentage,((((B488-B489)/100)*Metric_Module_Square_Foot_Area)-'Cumulative Volumes Metric'!E488)*Metric_Stone_Void_Percentage))","v":""},"",{"$f":"IF(B488=\"\",\"\",((Metric_System_Area_Input-Metric_Number_Of_Stacks*_xlfn.XLOOKUP(Metric_Layers,CrateData[Layer],CrateData[Surface Area (m2)]))*((B488-IF(B489=\"\",0,B489))/100))*Metric_Stone_Void_Percentage)","v":""},"","",{"$f":"IF(B488=\"\",\"\",SUM(J488:$J$563))","v":""},""]
["","",{"$f":"IF(B489=\"\",\"\",IFERROR(_xlfn.XLOOKUP(ROUND(B489,1),MetricIncrementalData[System Increment],_xlfn.XLOOKUP('Metric Incremental Crate'!$R$3,MetricIncrementalData[#Headers],MetricIncrementalData[]),,1),0))","v":""},"",{"$f":"IF(B489=\"\",\"\",IFERROR(_xlfn.XLOOKUP(ROUND(B489,1),MetricIncrementalData[System Increment],_xlfn.XLOOKUP(Metric_Incremental_Data_Target_Column,MetricIncrementalData[#Headers],MetricIncrementalData[]),,1),0))","v":""},{"$f":"IF(B489=\"\",\"\",IF(B490=\"\",((((B489-0)/100)*Metric_Module_Square_Foot_Area)-'Cumulative Volumes Metric'!E489)*Metric_Stone_Void_Percentage,((((B489-B490)/100)*Metric_Module_Square_Foot_Area)-'Cumulative Volumes Metric'!E489)*Metric_Stone_Void_Percentage))","v":""},"",{"$f":"IF(B489=\"\",\"\",((Metric_System_Area_Input-Metric_Number_Of_Stacks*_xlfn.XLOOKUP(Metric_Layers,CrateData[Layer],CrateData[Surface Area (m2)]))*((B489-IF(B490=\"\",0,B490))/100))*Metric_Stone_Void_Percentage)","v":""},"","",{"$f":"IF(B489=\"\",\"\",SUM(J489:$J$563))","v":""},""]
["","",{"$f":"IF(B490=\"\",\"\",IFERROR(_xlfn.XLOOKUP(ROUND(B490,1),MetricIncrementalData[System Increment],_xlfn.XLOOKUP('Metric Incremental Crate'!$R$3,MetricIncrementalData[#Headers],MetricIncrementalData[]),,1),0))","v":""},"",{"$f":"IF(B490=\"\",\"\",IFERROR(_xlfn.XLOOKUP(ROUND(B490,1),MetricIncrementalData[System Increment],_xlfn.XLOOKUP(Metric_Incremental_Data_Target_Column,MetricIncrementalData[#Headers],MetricIncrementalData[]),,1),0))","v":""},{"$f":"IF(B490=\"\",\"\",IF(B491=\"\",((((B490-0)/100)*Metric_Module_Square_Foot_Area)-'Cumulative Volumes Metric'!E490)*Metric_Stone_Void_Percentage,((((B490-B491)/100)*Metric_Module_Square_Foot_Area)-'Cumulative Volumes Metric'!E490)*Metric_Stone_Void_Percentage))","v":""},"",{"$f":"IF(B490=\"\",\"\",((Metric_System_Area_Input-Metric_Number_Of_Stacks*_xlfn.XLOOKUP(Metric_Layers,CrateData[Layer],CrateData[Surface Area (m2)]))*((B490-IF(B491=\"\",0,B491))/100))*Metric_Stone_Void_Percentage)","v":""},"","",{"$f":"IF(B490=\"\",\"\",SUM(J490:$J$563))","v":""},""]
["","",{"$f":"IF(B491=\"\",\"\",IFERROR(_xlfn.XLOOKUP(ROUND(B491,1),MetricIncrementalData[System Increment],_xlfn.XLOOKUP('Metric Incremental Crate'!$R$3,MetricIncrementalData[#Headers],MetricIncrementalData[]),,1),0))","v":""},"",{"$f":"IF(B491=\"\",\"\",IFERROR(_xlfn.XLOOKUP(ROUND(B491,1),MetricIncrementalData[System Increment],_xlfn.XLOOKUP(Metric_Incremental_Data_Target_Column,MetricIncrementalData[#Headers],MetricIncrementalData[]),,1),0))","v":""},{"$f":"IF(B491=\"\",\"\",IF(B492=\"\",((((B491-0)/100)*Metric_Module_Square_Foot_Area)-'Cumulative Volumes Metric'!E491)*Metric_Stone_Void_Percentage,((((B491-B492)/100)*Metric_Module_Square_Foot_Area)-'Cumulative Volumes Metric'!E491)*Metric_Stone_Void_Percentage))","v":""},"",{"$f":"IF(B491=\"\",\"\",((Metric_System_Area_Input-Metric_Number_Of_Stacks*_xlfn.XLOOKUP(Metric_Layers,CrateData[Layer],CrateData[Surface Area (m2)]))*((B491-IF(B492=\"\",0,B492))/100))*Metric_Stone_Void_Percentage)","v":""},"","",{"$f":"IF(B491=\"\",\"\",SUM(J491:$J$563))","v":""},""]
["","",{"$f":"IF(B492=\"\",\"\",IFERROR(_xlfn.XLOOKUP(ROUND(B492,1),MetricIncrementalData[System Increment],_xlfn.XLOOKUP('Metric Incremental Crate'!$R$3,MetricIncrementalData[#Headers],MetricIncrementalData[]),,1),0))","v":""},"",{"$f":"IF(B492=\"\",\"\",IFERROR(_xlfn.XLOOKUP(ROUND(B492,1),MetricIncrementalData[System Increment],_xlfn.XLOOKUP(Metric_Incremental_Data_Target_Column,MetricIncrementalData[#Headers],MetricIncrementalData[]),,1),0))","v":""},{"$f":"IF(B492=\"\",\"\",IF(B493=\"\",((((B492-0)/100)*Metric_Module_Square_Foot_Area)-'Cumulative Volumes Metric'!E492)*Metric_Stone_Void_Percentage,((((B492-B493)/100)*Metric_Module_Square_Foot_Area)-'Cumulative Volumes Metric'!E492)*Metric_Stone_Void_Percentage))","v":""},"",{"$f":"IF(B492=\"\",\"\",((Metric_System_Area_Input-Metric_Number_Of_Stacks*_xlfn.XLOOKUP(Metric_Layers,CrateData[Layer],CrateData[Surface Area (m2)]))*((B492-IF(B493=\"\",0,B493))/100))*Metric_Stone_Void_Percentage)","v":""},"","",{"$f":"IF(B492=\"\",\"\",SUM(J492:$J$563))","v":""},""]
["","",{"$f":"IF(B493=\"\",\"\",IFERROR(_xlfn.XLOOKUP(ROUND(B493,1),MetricIncrementalData[System Increment],_xlfn.XLOOKUP('Metric Incremental Crate'!$R$3,MetricIncrementalData[#Headers],MetricIncrementalData[]),,1),0))","v":""},"",{"$f":"IF(B493=\"\",\"\",IFERROR(_xlfn.XLOOKUP(ROUND(B493,1),MetricIncrementalData[System Increment],_xlfn.XLOOKUP(Metric_Incremental_Data_Target_Column,MetricIncrementalData[#Headers],MetricIncrementalData[]),,1),0))","v":""},{"$f":"IF(B493=\"\",\"\",IF(B494=\"\",((((B493-0)/100)*Metric_Module_Square_Foot_Area)-'Cumulative Volumes Metric'!E493)*Metric_Stone_Void_Percentage,((((B493-B494)/100)*Metric_Module_Square_Foot_Area)-'Cumulative Volumes Metric'!E493)*Metric_Stone_Void_Percentage))","v":""},"",{"$f":"IF(B493=\"\",\"\",((Metric_System_Area_Input-Metric_Number_Of_Stacks*_xlfn.XLOOKUP(Metric_Layers,CrateData[Layer],CrateData[Surface Area (m2)]))*((B493-IF(B494=\"\",0,B494))/100))*Metric_Stone_Void_Percentage)","v":""},"","",{"$f":"IF(B493=\"\",\"\",SUM(J493:$J$563))","v":""},""]
["","",{"$f":"IF(B494=\"\",\"\",IFERROR(_xlfn.XLOOKUP(ROUND(B494,1),MetricIncrementalData[System Increment],_xlfn.XLOOKUP('Metric Incremental Crate'!$R$3,MetricIncrementalData[#Headers],MetricIncrementalData[]),,1),0))","v":""},"",{"$f":"IF(B494=\"\",\"\",IFERROR(_xlfn.XLOOKUP(ROUND(B494,1),MetricIncrementalData[System Increment],_xlfn.XLOOKUP(Metric_Incremental_Data_Target_Column,MetricIncrementalData[#Headers],MetricIncrementalData[]),,1),0))","v":""},{"$f":"IF(B494=\"\",\"\",IF(B495=\"\",((((B494-0)/100)*Metric_Module_Square_Foot_Area)-'Cumulative Volumes Metric'!E494)*Metric_Stone_Void_Percentage,((((B494-B495)/100)*Metric_Module_Square_Foot_Area)-'Cumulative Volumes Metric'!E494)*Metric_Stone_Void_Percentage))","v":""},"",{"$f":"IF(B494=\"\",\"\",((Metric_System_Area_Input-Metric_Number_Of_Stacks*_xlfn.XLOOKUP(Metric_Layers,CrateData[Layer],CrateData[Surface Area (m2)]))*((B494-IF(B495=\"\",0,B495))/100))*Metric_Stone_Void_Percentage)","v":""},"","",{"$f":"IF(B494=\"\",\"\",SUM(J494:$J$563))","v":""},""]
["","",{"$f":"IF(B495=\"\",\"\",IFERROR(_xlfn.XLOOKUP(ROUND(B495,1),MetricIncrementalData[System Increment],_xlfn.XLOOKUP('Metric Incremental Crate'!$R$3,MetricIncrementalData[#Headers],MetricIncrementalData[]),,1),0))","v":""},"",{"$f":"IF(B495=\"\",\"\",IFERROR(_xlfn.XLOOKUP(ROUND(B495,1),MetricIncrementalData[System Increment],_xlfn.XLOOKUP(Metric_Incremental_Data_Target_Column,MetricIncrementalData[#Headers],MetricIncrementalData[]),,1),0))","v":""},{"$f":"IF(B495=\"\",\"\",IF(B496=\"\",((((B495-0)/100)*Metric_Module_Square_Foot_Area)-'Cumulative Volumes Metric'!E495)*Metric_Stone_Void_Percentage,((((B495-B496)/100)*Metric_Module_Square_Foot_Area)-'Cumulative Volumes Metric'!E495)*Metric_Stone_Void_Percentage))","v":""},"",{"$f":"IF(B495=\"\",\"\",((Metric_System_Area_Input-Metric_Number_Of_Stacks*_xlfn.XLOOKUP(Metric_Layers,CrateData[Layer],CrateData[Surface Area (m2)]))*((B495-IF(B496=\"\",0,B496))/100))*Metric_Stone_Void_Percentage)","v":""},"","",{"$f":"IF(B495=\"\",\"\",SUM(J495:$J$563))","v":""},""]
["","",{"$f":"IF(B496=\"\",\"\",IFERROR(_xlfn.XLOOKUP(ROUND(B496,1),MetricIncrementalData[System Increment],_xlfn.XLOOKUP('Metric Incremental Crate'!$R$3,MetricIncrementalData[#Headers],MetricIncrementalData[]),,1),0))","v":""},"",{"$f":"IF(B496=\"\",\"\",IFERROR(_xlfn.XLOOKUP(ROUND(B496,1),MetricIncrementalData[System Increment],_xlfn.XLOOKUP(Metric_Incremental_Data_Target_Column,MetricIncrementalData[#Headers],MetricIncrementalData[]),,1),0))","v":""},{"$f":"IF(B496=\"\",\"\",IF(B497=\"\",((((B496-0)/100)*Metric_Module_Square_Foot_Area)-'Cumulative Volumes Metric'!E496)*Metric_Stone_Void_Percentage,((((B496-B497)/100)*Metric_Module_Square_Foot_Area)-'Cumulative Volumes Metric'!E496)*Metric_Stone_Void_Percentage))","v":""},"",{"$f":"IF(B496=\"\",\"\",((Metric_System_Area_Input-Metric_Number_Of_Stacks*_xlfn.XLOOKUP(Metric_Layers,CrateData[Layer],CrateData[Surface Area (m2)]))*((B496-IF(B497=\"\",0,B497))/100))*Metric_Stone_Void_Percentage)","v":""},"","",{"$f":"IF(B496=\"\",\"\",SUM(J496:$J$563))","v":""},""]
["","",{"$f":"IF(B497=\"\",\"\",IFERROR(_xlfn.XLOOKUP(ROUND(B497,1),MetricIncrementalData[System Increment],_xlfn.XLOOKUP('Metric Incremental Crate'!$R$3,MetricIncrementalData[#Headers],MetricIncrementalData[]),,1),0))","v":""},"",{"$f":"IF(B497=\"\",\"\",IFERROR(_xlfn.XLOOKUP(ROUND(B497,1),MetricIncrementalData[System Increment],_xlfn.XLOOKUP(Metric_Incremental_Data_Target_Column,MetricIncrementalData[#Headers],MetricIncrementalData[]),,1),0))","v":""},{"$f":"IF(B497=\"\",\"\",IF(B498=\"\",((((B497-0)/100)*Metric_Module_Square_Foot_Area)-'Cumulative Volumes Metric'!E497)*Metric_Stone_Void_Percentage,((((B497-B498)/100)*Metric_Module_Square_Foot_Area)-'Cumulative Volumes Metric'!E497)*Metric_Stone_Void_Percentage))","v":""},"",{"$f":"IF(B497=\"\",\"\",((Metric_System_Area_Input-Metric_Number_Of_Stacks*_xlfn.XLOOKUP(Metric_Layers,CrateData[Layer],CrateData[Surface Area (m2)]))*((B497-IF(B498=\"\",0,B498))/100))*Metric_Stone_Void_Percentage)","v":""},"","",{"$f":"IF(B497=\"\",\"\",SUM(J497:$J$563))","v":""},""]
["","",{"$f":"IF(B498=\"\",\"\",IFERROR(_xlfn.XLOOKUP(ROUND(B498,1),MetricIncrementalData[System Increment],_xlfn.XLOOKUP('Metric Incremental Crate'!$R$3,MetricIncrementalData[#Headers],MetricIncrementalData[]),,1),0))","v":""},"",{"$f":"IF(B498=\"\",\"\",IFERROR(_xlfn.XLOOKUP(ROUND(B498,1),MetricIncrementalData[System Increment],_xlfn.XLOOKUP(Metric_Incremental_Data_Target_Column,MetricIncrementalData[#Headers],MetricIncrementalData[]),,1),0))","v":""},{"$f":"IF(B498=\"\",\"\",IF(B499=\"\",((((B498-0)/100)*Metric_Module_Square_Foot_Area)-'Cumulative Volumes Metric'!E498)*Metric_Stone_Void_Percentage,((((B498-B499)/100)*Metric_Module_Square_Foot_Area)-'Cumulative Volumes Metric'!E498)*Metric_Stone_Void_Percentage))","v":""},"",{"$f":"IF(B498=\"\",\"\",((Metric_System_Area_Input-Metric_Number_Of_Stacks*_xlfn.XLOOKUP(Metric_Layers,CrateData[Layer],CrateData[Surface Area (m2)]))*((B498-IF(B499=\"\",0,B499))/100))*Metric_Stone_Void_Percentage)","v":""},"","",{"$f":"IF(B498=\"\",\"\",SUM(J498:$J$563))","v":""},""]
["","",{"$f":"IF(B499=\"\",\"\",IFERROR(_xlfn.XLOOKUP(ROUND(B499,1),MetricIncrementalData[System Increment],_xlfn.XLOOKUP('Metric Incremental Crate'!$R$3,MetricIncrementalData[#Headers],MetricIncrementalData[]),,1),0))","v":""},"",{"$f":"IF(B499=\"\",\"\",IFERROR(_xlfn.XLOOKUP(ROUND(B499,1),MetricIncrementalData[System Increment],_xlfn.XLOOKUP(Metric_Incremental_Data_Target_Column,MetricIncrementalData[#Headers],MetricIncrementalData[]),,1),0))","v":""},{"$f":"IF(B499=\"\",\"\",IF(B500=\"\",((((B499-0)/100)*Metric_Module_Square_Foot_Area)-'Cumulative Volumes Metric'!E499)*Metric_Stone_Void_Percentage,((((B499-B500)/100)*Metric_Module_Square_Foot_Area)-'Cumulative Volumes Metric'!E499)*Metric_Stone_Void_Percentage))","v":""},"",{"$f":"IF(B499=\"\",\"\",((Metric_System_Area_Input-Metric_Number_Of_Stacks*_xlfn.XLOOKUP(Metric_Layers,CrateData[Layer],CrateData[Surface Area (m2)]))*((B499-IF(B500=\"\",0,B500))/100))*Metric_Stone_Void_Percentage)","v":""},"","",{"$f":"IF(B499=\"\",\"\",SUM(J499:$J$563))","v":""},""]
["","",{"$f":"IF(B500=\"\",\"\",IFERROR(_xlfn.XLOOKUP(ROUND(B500,1),MetricIncrementalData[System Increment],_xlfn.XLOOKUP('Metric Incremental Crate'!$R$3,MetricIncrementalData[#Headers],MetricIncrementalData[]),,1),0))","v":""},"",{"$f":"IF(B500=\"\",\"\",IFERROR(_xlfn.XLOOKUP(ROUND(B500,1),MetricIncrementalData[System Increment],_xlfn.XLOOKUP(Metric_Incremental_Data_Target_Column,MetricIncrementalData[#Headers],MetricIncrementalData[]),,1),0))","v":""},{"$f":"IF(B500=\"\",\"\",IF(B501=\"\",((((B500-0)/100)*Metric_Module_Square_Foot_Area)-'Cumulative Volumes Metric'!E500)*Metric_Stone_Void_Percentage,((((B500-B501)/100)*Metric_Module_Square_Foot_Area)-'Cumulative Volumes Metric'!E500)*Metric_Stone_Void_Percentage))","v":""},"",{"$f":"IF(B500=\"\",\"\",((Metric_System_Area_Input-Metric_Number_Of_Stacks*_xlfn.XLOOKUP(Metric_Layers,CrateData[Layer],CrateData[Surface Area (m2)]))*((B500-IF(B501=\"\",0,B501))/100))*Metric_Stone_Void_Percentage)","v":""},"","",{"$f":"IF(B500=\"\",\"\",SUM(J500:$J$563))","v":""},""]
["","",{"$f":"IF(B501=\"\",\"\",IFERROR(_xlfn.XLOOKUP(ROUND(B501,1),MetricIncrementalData[System Increment],_xlfn.XLOOKUP('Metric Incremental Crate'!$R$3,MetricIncrementalData[#Headers],MetricIncrementalData[]),,1),0))","v":""},"",{"$f":"IF(B501=\"\",\"\",IFERROR(_xlfn.XLOOKUP(ROUND(B501,1),MetricIncrementalData[System Increment],_xlfn.XLOOKUP(Metric_Incremental_Data_Target_Column,MetricIncrementalData[#Headers],MetricIncrementalData[]),,1),0))","v":""},{"$f":"IF(B501=\"\",\"\",IF(B502=\"\",((((B501-0)/100)*Metric_Module_Square_Foot_Area)-'Cumulative Volumes Metric'!E501)*Metric_Stone_Void_Percentage,((((B501-B502)/100)*Metric_Module_Square_Foot_Area)-'Cumulative Volumes Metric'!E501)*Metric_Stone_Void_Percentage))","v":""},"",{"$f":"IF(B501=\"\",\"\",((Metric_System_Area_Input-Metric_Number_Of_Stacks*_xlfn.XLOOKUP(Metric_Layers,CrateData[Layer],CrateData[Surface Area (m2)]))*((B501-IF(B502=\"\",0,B502))/100))*Metric_Stone_Void_Percentage)","v":""},"","",{"$f":"IF(B501=\"\",\"\",SUM(J501:$J$563))","v":""},""]
["","",{"$f":"IF(B502=\"\",\"\",IFERROR(_xlfn.XLOOKUP(ROUND(B502,1),MetricIncrementalData[System Increment],_xlfn.XLOOKUP('Metric Incremental Crate'!$R$3,MetricIncrementalData[#Headers],MetricIncrementalData[]),,1),0))","v":""},"",{"$f":"IF(B502=\"\",\"\",IFERROR(_xlfn.XLOOKUP(ROUND(B502,1),MetricIncrementalData[System Increment],_xlfn.XLOOKUP(Metric_Incremental_Data_Target_Column,MetricIncrementalData[#Headers],MetricIncrementalData[]),,1),0))","v":""},{"$f":"IF(B502=\"\",\"\",IF(B503=\"\",((((B502-0)/100)*Metric_Module_Square_Foot_Area)-'Cumulative Volumes Metric'!E502)*Metric_Stone_Void_Percentage,((((B502-B503)/100)*Metric_Module_Square_Foot_Area)-'Cumulative Volumes Metric'!E502)*Metric_Stone_Void_Percentage))","v":""},"",{"$f":"IF(B502=\"\",\"\",((Metric_System_Area_Input-Metric_Number_Of_Stacks*_xlfn.XLOOKUP(Metric_Layers,CrateData[Layer],CrateData[Surface Area (m2)]))*((B502-IF(B503=\"\",0,B503))/100))*Metric_Stone_Void_Percentage)","v":""},"","",{"$f":"IF(B502=\"\",\"\",SUM(J502:$J$563))","v":""},""]
["","",{"$f":"IF(B503=\"\",\"\",IFERROR(_xlfn.XLOOKUP(ROUND(B503,1),MetricIncrementalData[System Increment],_xlfn.XLOOKUP('Metric Incremental Crate'!$R$3,MetricIncrementalData[#Headers],MetricIncrementalData[]),,1),0))","v":""},"",{"$f":"IF(B503=\"\",\"\",IFERROR(_xlfn.XLOOKUP(ROUND(B503,1),MetricIncrementalData[System Increment],_xlfn.XLOOKUP(Metric_Incremental_Data_Target_Column,MetricIncrementalData[#Headers],MetricIncrementalData[]),,1),0))","v":""},{"$f":"IF(B503=\"\",\"\",IF(B504=\"\",((((B503-0)/100)*Metric_Module_Square_Foot_Area)-'Cumulative Volumes Metric'!E503)*Metric_Stone_Void_Percentage,((((B503-B504)/100)*Metric_Module_Square_Foot_Area)-'Cumulative Volumes Metric'!E503)*Metric_Stone_Void_Percentage))","v":""},"",{"$f":"IF(B503=\"\",\"\",((Metric_System_Area_Input-Metric_Number_Of_Stacks*_xlfn.XLOOKUP(Metric_Layers,CrateData[Layer],CrateData[Surface Area (m2)]))*((B503-IF(B504=\"\",0,B504))/100))*Metric_Stone_Void_Percentage)","v":""},"","",{"$f":"IF(B503=\"\",\"\",SUM(J503:$J$563))","v":""},""]
["","",{"$f":"IF(B504=\"\",\"\",IFERROR(_xlfn.XLOOKUP(ROUND(B504,1),MetricIncrementalData[System Increment],_xlfn.XLOOKUP('Metric Incremental Crate'!$R$3,MetricIncrementalData[#Headers],MetricIncrementalData[]),,1),0))","v":""},"",{"$f":"IF(B504=\"\",\"\",IFERROR(_xlfn.XLOOKUP(ROUND(B504,1),MetricIncrementalData[System Increment],_xlfn.XLOOKUP(Metric_Incremental_Data_Target_Column,MetricIncrementalData[#Headers],MetricIncrementalData[]),,1),0))","v":""},{"$f":"IF(B504=\"\",\"\",IF(B505=\"\",((((B504-0)/100)*Metric_Module_Square_Foot_Area)-'Cumulative Volumes Metric'!E504)*Metric_Stone_Void_Percentage,((((B504-B505)/100)*Metric_Module_Square_Foot_Area)-'Cumulative Volumes Metric'!E504)*Metric_Stone_Void_Percentage))","v":""},"",{"$f":"IF(B504=\"\",\"\",((Metric_System_Area_Input-Metric_Number_Of_Stacks*_xlfn.XLOOKUP(Metric_Layers,CrateData[Layer],CrateData[Surface Area (m2)]))*((B504-IF(B505=\"\",0,B505))/100))*Metric_Stone_Void_Percentage)","v":""},"","",{"$f":"IF(B504=\"\",\"\",SUM(J504:$J$563))","v":""},""]
["","",{"$f":"IF(B505=\"\",\"\",IFERROR(_xlfn.XLOOKUP(ROUND(B505,1),MetricIncrementalData[System Increment],_xlfn.XLOOKUP('Metric Incremental Crate'!$R$3,MetricIncrementalData[#Headers],MetricIncrementalData[]),,1),0))","v":""},"",{"$f":"IF(B505=\"\",\"\",IFERROR(_xlfn.XLOOKUP(ROUND(B505,1),MetricIncrementalData[System Increment],_xlfn.XLOOKUP(Metric_Incremental_Data_Target_Column,MetricIncrementalData[#Headers],MetricIncrementalData[]),,1),0))","v":""},{"$f":"IF(B505=\"\",\"\",IF(B506=\"\",((((B505-0)/100)*Metric_Module_Square_Foot_Area)-'Cumulative Volumes Metric'!E505)*Metric_Stone_Void_Percentage,((((B505-B506)/100)*Metric_Module_Square_Foot_Area)-'Cumulative Volumes Metric'!E505)*Metric_Stone_Void_Percentage))","v":""},"",{"$f":"IF(B505=\"\",\"\",((Metric_System_Area_Input-Metric_Number_Of_Stacks*_xlfn.XLOOKUP(Metric_Layers,CrateData[Layer],CrateData[Surface Area (m2)]))*((B505-IF(B506=\"\",0,B506))/100))*Metric_Stone_Void_Percentage)","v":""},"","",{"$f":"IF(B505=\"\",\"\",SUM(J505:$J$563))","v":""},""]
["","",{"$f":"IF(B506=\"\",\"\",IFERROR(_xlfn.XLOOKUP(ROUND(B506,1),MetricIncrementalData[System Increment],_xlfn.XLOOKUP('Metric Incremental Crate'!$R$3,MetricIncrementalData[#Headers],MetricIncrementalData[]),,1),0))","v":""},"",{"$f":"IF(B506=\"\",\"\",IFERROR(_xlfn.XLOOKUP(ROUND(B506,1),MetricIncrementalData[System Increment],_xlfn.XLOOKUP(Metric_Incremental_Data_Target_Column,MetricIncrementalData[#Headers],MetricIncrementalData[]),,1),0))","v":""},{"$f":"IF(B506=\"\",\"\",IF(B507=\"\",((((B506-0)/100)*Metric_Module_Square_Foot_Area)-'Cumulative Volumes Metric'!E506)*Metric_Stone_Void_Percentage,((((B506-B507)/100)*Metric_Module_Square_Foot_Area)-'Cumulative Volumes Metric'!E506)*Metric_Stone_Void_Percentage))","v":""},"",{"$f":"IF(B506=\"\",\"\",((Metric_System_Area_Input-Metric_Number_Of_Stacks*_xlfn.XLOOKUP(Metric_Layers,CrateData[Layer],CrateData[Surface Area (m2)]))*((B506-IF(B507=\"\",0,B507))/100))*Metric_Stone_Void_Percentage)","v":""},"","",{"$f":"IF(B506=\"\",\"\",SUM(J506:$J$563))","v":""},""]
["","",{"$f":"IF(B507=\"\",\"\",IFERROR(_xlfn.XLOOKUP(ROUND(B507,1),MetricIncrementalData[System Increment],_xlfn.XLOOKUP('Metric Incremental Crate'!$R$3,MetricIncrementalData[#Headers],MetricIncrementalData[]),,1),0))","v":""},"",{"$f":"IF(B507=\"\",\"\",IFERROR(_xlfn.XLOOKUP(ROUND(B507,1),MetricIncrementalData[System Increment],_xlfn.XLOOKUP(Metric_Incremental_Data_Target_Column,MetricIncrementalData[#Headers],MetricIncrementalData[]),,1),0))","v":""},{"$f":"IF(B507=\"\",\"\",IF(B508=\"\",((((B507-0)/100)*Metric_Module_Square_Foot_Area)-'Cumulative Volumes Metric'!E507)*Metric_Stone_Void_Percentage,((((B507-B508)/100)*Metric_Module_Square_Foot_Area)-'Cumulative Volumes Metric'!E507)*Metric_Stone_Void_Percentage))","v":""},"",{"$f":"IF(B507=\"\",\"\",((Metric_System_Area_Input-Metric_Number_Of_Stacks*_xlfn.XLOOKUP(Metric_Layers,CrateData[Layer],CrateData[Surface Area (m2)]))*((B507-IF(B508=\"\",0,B508))/100))*Metric_Stone_Void_Percentage)","v":""},"","",{"$f":"IF(B507=\"\",\"\",SUM(J507:$J$563))","v":""},""]
["","",{"$f":"IF(B508=\"\",\"\",IFERROR(_xlfn.XLOOKUP(ROUND(B508,1),MetricIncrementalData[System Increment],_xlfn.XLOOKUP('Metric Incremental Crate'!$R$3,MetricIncrementalData[#Headers],MetricIncrementalData[]),,1),0))","v":""},"",{"$f":"IF(B508=\"\",\"\",IFERROR(_xlfn.XLOOKUP(ROUND(B508,1),MetricIncrementalData[System Increment],_xlfn.XLOOKUP(Metric_Incremental_Data_Target_Column,MetricIncrementalData[#Headers],MetricIncrementalData[]),,1),0))","v":""},{"$f":"IF(B508=\"\",\"\",IF(B509=\"\",((((B508-0)/100)*Metric_Module_Square_Foot_Area)-'Cumulative Volumes Metric'!E508)*Metric_Stone_Void_Percentage,((((B508-B509)/100)*Metric_Module_Square_Foot_Area)-'Cumulative Volumes Metric'!E508)*Metric_Stone_Void_Percentage))","v":""},"",{"$f":"IF(B508=\"\",\"\",((Metric_System_Area_Input-Metric_Number_Of_Stacks*_xlfn.XLOOKUP(Metric_Layers,CrateData[Layer],CrateData[Surface Area (m2)]))*((B508-IF(B509=\"\",0,B509))/100))*Metric_Stone_Void_Percentage)","v":""},"","",{"$f":"IF(B508=\"\",\"\",SUM(J508:$J$563))","v":""},""]
["","",{"$f":"IF(B509=\"\",\"\",IFERROR(_xlfn.XLOOKUP(ROUND(B509,1),MetricIncrementalData[System Increment],_xlfn.XLOOKUP('Metric Incremental Crate'!$R$3,MetricIncrementalData[#Headers],MetricIncrementalData[]),,1),0))","v":""},"",{"$f":"IF(B509=\"\",\"\",IFERROR(_xlfn.XLOOKUP(ROUND(B509,1),MetricIncrementalData[System Increment],_xlfn.XLOOKUP(Metric_Incremental_Data_Target_Column,MetricIncrementalData[#Headers],MetricIncrementalData[]),,1),0))","v":""},{"$f":"IF(B509=\"\",\"\",IF(B510=\"\",((((B509-0)/100)*Metric_Module_Square_Foot_Area)-'Cumulative Volumes Metric'!E509)*Metric_Stone_Void_Percentage,((((B509-B510)/100)*Metric_Module_Square_Foot_Area)-'Cumulative Volumes Metric'!E509)*Metric_Stone_Void_Percentage))","v":""},"",{"$f":"IF(B509=\"\",\"\",((Metric_System_Area_Input-Metric_Number_Of_Stacks*_xlfn.XLOOKUP(Metric_Layers,CrateData[Layer],CrateData[Surface Area (m2)]))*((B509-IF(B510=\"\",0,B510))/100))*Metric_Stone_Void_Percentage)","v":""},"","",{"$f":"IF(B509=\"\",\"\",SUM(J509:$J$563))","v":""},""]
["","",{"$f":"IF(B510=\"\",\"\",IFERROR(_xlfn.XLOOKUP(ROUND(B510,1),MetricIncrementalData[System Increment],_xlfn.XLOOKUP('Metric Incremental Crate'!$R$3,MetricIncrementalData[#Headers],MetricIncrementalData[]),,1),0))","v":""},"",{"$f":"IF(B510=\"\",\"\",IFERROR(_xlfn.XLOOKUP(ROUND(B510,1),MetricIncrementalData[System Increment],_xlfn.XLOOKUP(Metric_Incremental_Data_Target_Column,MetricIncrementalData[#Headers],MetricIncrementalData[]),,1),0))","v":""},{"$f":"IF(B510=\"\",\"\",IF(B511=\"\",((((B510-0)/100)*Metric_Module_Square_Foot_Area)-'Cumulative Volumes Metric'!E510)*Metric_Stone_Void_Percentage,((((B510-B511)/100)*Metric_Module_Square_Foot_Area)-'Cumulative Volumes Metric'!E510)*Metric_Stone_Void_Percentage))","v":""},"",{"$f":"IF(B510=\"\",\"\",((Metric_System_Area_Input-Metric_Number_Of_Stacks*_xlfn.XLOOKUP(Metric_Layers,CrateData[Layer],CrateData[Surface Area (m2)]))*((B510-IF(B511=\"\",0,B511))/100))*Metric_Stone_Void_Percentage)","v":""},"","",{"$f":"IF(B510=\"\",\"\",SUM(J510:$J$563))","v":""},""]
["","",{"$f":"IF(B511=\"\",\"\",IFERROR(_xlfn.XLOOKUP(ROUND(B511,1),MetricIncrementalData[System Increment],_xlfn.XLOOKUP('Metric Incremental Crate'!$R$3,MetricIncrementalData[#Headers],MetricIncrementalData[]),,1),0))","v":""},"",{"$f":"IF(B511=\"\",\"\",IFERROR(_xlfn.XLOOKUP(ROUND(B511,1),MetricIncrementalData[System Increment],_xlfn.XLOOKUP(Metric_Incremental_Data_Target_Column,MetricIncrementalData[#Headers],MetricIncrementalData[]),,1),0))","v":""},{"$f":"IF(B511=\"\",\"\",IF(B512=\"\",((((B511-0)/100)*Metric_Module_Square_Foot_Area)-'Cumulative Volumes Metric'!E511)*Metric_Stone_Void_Percentage,((((B511-B512)/100)*Metric_Module_Square_Foot_Area)-'Cumulative Volumes Metric'!E511)*Metric_Stone_Void_Percentage))","v":""},"",{"$f":"IF(B511=\"\",\"\",((Metric_System_Area_Input-Metric_Number_Of_Stacks*_xlfn.XLOOKUP(Metric_Layers,CrateData[Layer],CrateData[Surface Area (m2)]))*((B511-IF(B512=\"\",0,B512))/100))*Metric_Stone_Void_Percentage)","v":""},"","",{"$f":"IF(B511=\"\",\"\",SUM(J511:$J$563))","v":""},""]
["","",{"$f":"IF(B512=\"\",\"\",IFERROR(_xlfn.XLOOKUP(ROUND(B512,1),MetricIncrementalData[System Increment],_xlfn.XLOOKUP('Metric Incremental Crate'!$R$3,MetricIncrementalData[#Headers],MetricIncrementalData[]),,1),0))","v":""},"",{"$f":"IF(B512=\"\",\"\",IFERROR(_xlfn.XLOOKUP(ROUND(B512,1),MetricIncrementalData[System Increment],_xlfn.XLOOKUP(Metric_Incremental_Data_Target_Column,MetricIncrementalData[#Headers],MetricIncrementalData[]),,1),0))","v":""},{"$f":"IF(B512=\"\",\"\",IF(B513=\"\",((((B512-0)/100)*Metric_Module_Square_Foot_Area)-'Cumulative Volumes Metric'!E512)*Metric_Stone_Void_Percentage,((((B512-B513)/100)*Metric_Module_Square_Foot_Area)-'Cumulative Volumes Metric'!E512)*Metric_Stone_Void_Percentage))","v":""},"",{"$f":"IF(B512=\"\",\"\",((Metric_System_Area_Input-Metric_Number_Of_Stacks*_xlfn.XLOOKUP(Metric_Layers,CrateData[Layer],CrateData[Surface Area (m2)]))*((B512-IF(B513=\"\",0,B513))/100))*Metric_Stone_Void_Percentage)","v":""},"","",{"$f":"IF(B512=\"\",\"\",SUM(J512:$J$563))","v":""},""]
["","",{"$f":"IF(B513=\"\",\"\",IFERROR(_xlfn.XLOOKUP(ROUND(B513,1),MetricIncrementalData[System Increment],_xlfn.XLOOKUP('Metric Incremental Crate'!$R$3,MetricIncrementalData[#Headers],MetricIncrementalData[]),,1),0))","v":""},"",{"$f":"IF(B513=\"\",\"\",IFERROR(_xlfn.XLOOKUP(ROUND(B513,1),MetricIncrementalData[System Increment],_xlfn.XLOOKUP(Metric_Incremental_Data_Target_Column,MetricIncrementalData[#Headers],MetricIncrementalData[]),,1),0))","v":""},{"$f":"IF(B513=\"\",\"\",IF(B514=\"\",((((B513-0)/100)*Metric_Module_Square_Foot_Area)-'Cumulative Volumes Metric'!E513)*Metric_Stone_Void_Percentage,((((B513-B514)/100)*Metric_Module_Square_Foot_Area)-'Cumulative Volumes Metric'!E513)*Metric_Stone_Void_Percentage))","v":""},"",{"$f":"IF(B513=\"\",\"\",((Metric_System_Area_Input-Metric_Number_Of_Stacks*_xlfn.XLOOKUP(Metric_Layers,CrateData[Layer],CrateData[Surface Area (m2)]))*((B513-IF(B514=\"\",0,B514))/100))*Metric_Stone_Void_Percentage)","v":""},"","",{"$f":"IF(B513=\"\",\"\",SUM(J513:$J$563))","v":""},""]
["","",{"$f":"IF(B514=\"\",\"\",IFERROR(_xlfn.XLOOKUP(ROUND(B514,1),MetricIncrementalData[System Increment],_xlfn.XLOOKUP('Metric Incremental Crate'!$R$3,MetricIncrementalData[#Headers],MetricIncrementalData[]),,1),0))","v":""},"",{"$f":"IF(B514=\"\",\"\",IFERROR(_xlfn.XLOOKUP(ROUND(B514,1),MetricIncrementalData[System Increment],_xlfn.XLOOKUP(Metric_Incremental_Data_Target_Column,MetricIncrementalData[#Headers],MetricIncrementalData[]),,1),0))","v":""},{"$f":"IF(B514=\"\",\"\",IF(B515=\"\",((((B514-0)/100)*Metric_Module_Square_Foot_Area)-'Cumulative Volumes Metric'!E514)*Metric_Stone_Void_Percentage,((((B514-B515)/100)*Metric_Module_Square_Foot_Area)-'Cumulative Volumes Metric'!E514)*Metric_Stone_Void_Percentage))","v":""},"",{"$f":"IF(B514=\"\",\"\",((Metric_System_Area_Input-Metric_Number_Of_Stacks*_xlfn.XLOOKUP(Metric_Layers,CrateData[Layer],CrateData[Surface Area (m2)]))*((B514-IF(B515=\"\",0,B515))/100))*Metric_Stone_Void_Percentage)","v":""},"","",{"$f":"IF(B514=\"\",\"\",SUM(J514:$J$563))","v":""},""]
["","",{"$f":"IF(B515=\"\",\"\",IFERROR(_xlfn.XLOOKUP(ROUND(B515,1),MetricIncrementalData[System Increment],_xlfn.XLOOKUP('Metric Incremental Crate'!$R$3,MetricIncrementalData[#Headers],MetricIncrementalData[]),,1),0))","v":""},"",{"$f":"IF(B515=\"\",\"\",IFERROR(_xlfn.XLOOKUP(ROUND(B515,1),MetricIncrementalData[System Increment],_xlfn.XLOOKUP(Metric_Incremental_Data_Target_Column,MetricIncrementalData[#Headers],MetricIncrementalData[]),,1),0))","v":""},{"$f":"IF(B515=\"\",\"\",IF(B516=\"\",((((B515-0)/100)*Metric_Module_Square_Foot_Area)-'Cumulative Volumes Metric'!E515)*Metric_Stone_Void_Percentage,((((B515-B516)/100)*Metric_Module_Square_Foot_Area)-'Cumulative Volumes Metric'!E515)*Metric_Stone_Void_Percentage))","v":""},"",{"$f":"IF(B515=\"\",\"\",((Metric_System_Area_Input-Metric_Number_Of_Stacks*_xlfn.XLOOKUP(Metric_Layers,CrateData[Layer],CrateData[Surface Area (m2)]))*((B515-IF(B516=\"\",0,B516))/100))*Metric_Stone_Void_Percentage)","v":""},"","",{"$f":"IF(B515=\"\",\"\",SUM(J515:$J$563))","v":""},""]
["","",{"$f":"IF(B516=\"\",\"\",IFERROR(_xlfn.XLOOKUP(ROUND(B516,1),MetricIncrementalData[System Increment],_xlfn.XLOOKUP('Metric Incremental Crate'!$R$3,MetricIncrementalData[#Headers],MetricIncrementalData[]),,1),0))","v":""},"",{"$f":"IF(B516=\"\",\"\",IFERROR(_xlfn.XLOOKUP(ROUND(B516,1),MetricIncrementalData[System Increment],_xlfn.XLOOKUP(Metric_Incremental_Data_Target_Column,MetricIncrementalData[#Headers],MetricIncrementalData[]),,1),0))","v":""},{"$f":"IF(B516=\"\",\"\",IF(B517=\"\",((((B516-0)/100)*Metric_Module_Square_Foot_Area)-'Cumulative Volumes Metric'!E516)*Metric_Stone_Void_Percentage,((((B516-B517)/100)*Metric_Module_Square_Foot_Area)-'Cumulative Volumes Metric'!E516)*Metric_Stone_Void_Percentage))","v":""},"",{"$f":"IF(B516=\"\",\"\",((Metric_System_Area_Input-Metric_Number_Of_Stacks*_xlfn.XLOOKUP(Metric_Layers,CrateData[Layer],CrateData[Surface Area (m2)]))*((B516-IF(B517=\"\",0,B517))/100))*Metric_Stone_Void_Percentage)","v":""},"","",{"$f":"IF(B516=\"\",\"\",SUM(J516:$J$563))","v":""},""]
["","",{"$f":"IF(B517=\"\",\"\",IFERROR(_xlfn.XLOOKUP(ROUND(B517,1),MetricIncrementalData[System Increment],_xlfn.XLOOKUP('Metric Incremental Crate'!$R$3,MetricIncrementalData[#Headers],MetricIncrementalData[]),,1),0))","v":""},"",{"$f":"IF(B517=\"\",\"\",IFERROR(_xlfn.XLOOKUP(ROUND(B517,1),MetricIncrementalData[System Increment],_xlfn.XLOOKUP(Metric_Incremental_Data_Target_Column,MetricIncrementalData[#Headers],MetricIncrementalData[]),,1),0))","v":""},{"$f":"IF(B517=\"\",\"\",IF(B518=\"\",((((B517-0)/100)*Metric_Module_Square_Foot_Area)-'Cumulative Volumes Metric'!E517)*Metric_Stone_Void_Percentage,((((B517-B518)/100)*Metric_Module_Square_Foot_Area)-'Cumulative Volumes Metric'!E517)*Metric_Stone_Void_Percentage))","v":""},"",{"$f":"IF(B517=\"\",\"\",((Metric_System_Area_Input-Metric_Number_Of_Stacks*_xlfn.XLOOKUP(Metric_Layers,CrateData[Layer],CrateData[Surface Area (m2)]))*((B517-IF(B518=\"\",0,B518))/100))*Metric_Stone_Void_Percentage)","v":""},"","",{"$f":"IF(B517=\"\",\"\",SUM(J517:$J$563))","v":""},""]
["","",{"$f":"IF(B518=\"\",\"\",IFERROR(_xlfn.XLOOKUP(ROUND(B518,1),MetricIncrementalData[System Increment],_xlfn.XLOOKUP('Metric Incremental Crate'!$R$3,MetricIncrementalData[#Headers],MetricIncrementalData[]),,1),0))","v":""},"",{"$f":"IF(B518=\"\",\"\",IFERROR(_xlfn.XLOOKUP(ROUND(B518,1),MetricIncrementalData[System Increment],_xlfn.XLOOKUP(Metric_Incremental_Data_Target_Column,MetricIncrementalData[#Headers],MetricIncrementalData[]),,1),0))","v":""},{"$f":"IF(B518=\"\",\"\",IF(B519=\"\",((((B518-0)/100)*Metric_Module_Square_Foot_Area)-'Cumulative Volumes Metric'!E518)*Metric_Stone_Void_Percentage,((((B518-B519)/100)*Metric_Module_Square_Foot_Area)-'Cumulative Volumes Metric'!E518)*Metric_Stone_Void_Percentage))","v":""},"",{"$f":"IF(B518=\"\",\"\",((Metric_System_Area_Input-Metric_Number_Of_Stacks*_xlfn.XLOOKUP(Metric_Layers,CrateData[Layer],CrateData[Surface Area (m2)]))*((B518-IF(B519=\"\",0,B519))/100))*Metric_Stone_Void_Percentage)","v":""},"","",{"$f":"IF(B518=\"\",\"\",SUM(J518:$J$563))","v":""},""]
["","",{"$f":"IF(B519=\"\",\"\",IFERROR(_xlfn.XLOOKUP(ROUND(B519,1),MetricIncrementalData[System Increment],_xlfn.XLOOKUP('Metric Incremental Crate'!$R$3,MetricIncrementalData[#Headers],MetricIncrementalData[]),,1),0))","v":""},"",{"$f":"IF(B519=\"\",\"\",IFERROR(_xlfn.XLOOKUP(ROUND(B519,1),MetricIncrementalData[System Increment],_xlfn.XLOOKUP(Metric_Incremental_Data_Target_Column,MetricIncrementalData[#Headers],MetricIncrementalData[]),,1),0))","v":""},{"$f":"IF(B519=\"\",\"\",IF(B520=\"\",((((B519-0)/100)*Metric_Module_Square_Foot_Area)-'Cumulative Volumes Metric'!E519)*Metric_Stone_Void_Percentage,((((B519-B520)/100)*Metric_Module_Square_Foot_Area)-'Cumulative Volumes Metric'!E519)*Metric_Stone_Void_Percentage))","v":""},"",{"$f":"IF(B519=\"\",\"\",((Metric_System_Area_Input-Metric_Number_Of_Stacks*_xlfn.XLOOKUP(Metric_Layers,CrateData[Layer],CrateData[Surface Area (m2)]))*((B519-IF(B520=\"\",0,B520))/100))*Metric_Stone_Void_Percentage)","v":""},"","",{"$f":"IF(B519=\"\",\"\",SUM(J519:$J$563))","v":""},""]
["","",{"$f":"IF(B520=\"\",\"\",IFERROR(_xlfn.XLOOKUP(ROUND(B520,1),MetricIncrementalData[System Increment],_xlfn.XLOOKUP('Metric Incremental Crate'!$R$3,MetricIncrementalData[#Headers],MetricIncrementalData[]),,1),0))","v":""},"",{"$f":"IF(B520=\"\",\"\",IFERROR(_xlfn.XLOOKUP(ROUND(B520,1),MetricIncrementalData[System Increment],_xlfn.XLOOKUP(Metric_Incremental_Data_Target_Column,MetricIncrementalData[#Headers],MetricIncrementalData[]),,1),0))","v":""},{"$f":"IF(B520=\"\",\"\",IF(B521=\"\",((((B520-0)/100)*Metric_Module_Square_Foot_Area)-'Cumulative Volumes Metric'!E520)*Metric_Stone_Void_Percentage,((((B520-B521)/100)*Metric_Module_Square_Foot_Area)-'Cumulative Volumes Metric'!E520)*Metric_Stone_Void_Percentage))","v":""},"",{"$f":"IF(B520=\"\",\"\",((Metric_System_Area_Input-Metric_Number_Of_Stacks*_xlfn.XLOOKUP(Metric_Layers,CrateData[Layer],CrateData[Surface Area (m2)]))*((B520-IF(B521=\"\",0,B521))/100))*Metric_Stone_Void_Percentage)","v":""},"","",{"$f":"IF(B520=\"\",\"\",SUM(J520:$J$563))","v":""},""]
["","",{"$f":"IF(B521=\"\",\"\",IFERROR(_xlfn.XLOOKUP(ROUND(B521,1),MetricIncrementalData[System Increment],_xlfn.XLOOKUP('Metric Incremental Crate'!$R$3,MetricIncrementalData[#Headers],MetricIncrementalData[]),,1),0))","v":""},"",{"$f":"IF(B521=\"\",\"\",IFERROR(_xlfn.XLOOKUP(ROUND(B521,1),MetricIncrementalData[System Increment],_xlfn.XLOOKUP(Metric_Incremental_Data_Target_Column,MetricIncrementalData[#Headers],MetricIncrementalData[]),,1),0))","v":""},{"$f":"IF(B521=\"\",\"\",IF(B522=\"\",((((B521-0)/100)*Metric_Module_Square_Foot_Area)-'Cumulative Volumes Metric'!E521)*Metric_Stone_Void_Percentage,((((B521-B522)/100)*Metric_Module_Square_Foot_Area)-'Cumulative Volumes Metric'!E521)*Metric_Stone_Void_Percentage))","v":""},"",{"$f":"IF(B521=\"\",\"\",((Metric_System_Area_Input-Metric_Number_Of_Stacks*_xlfn.XLOOKUP(Metric_Layers,CrateData[Layer],CrateData[Surface Area (m2)]))*((B521-IF(B522=\"\",0,B522))/100))*Metric_Stone_Void_Percentage)","v":""},"","",{"$f":"IF(B521=\"\",\"\",SUM(J521:$J$563))","v":""},""]
["","",{"$f":"IF(B522=\"\",\"\",IFERROR(_xlfn.XLOOKUP(ROUND(B522,1),MetricIncrementalData[System Increment],_xlfn.XLOOKUP('Metric Incremental Crate'!$R$3,MetricIncrementalData[#Headers],MetricIncrementalData[]),,1),0))","v":""},"",{"$f":"IF(B522=\"\",\"\",IFERROR(_xlfn.XLOOKUP(ROUND(B522,1),MetricIncrementalData[System Increment],_xlfn.XLOOKUP(Metric_Incremental_Data_Target_Column,MetricIncrementalData[#Headers],MetricIncrementalData[]),,1),0))","v":""},{"$f":"IF(B522=\"\",\"\",IF(B523=\"\",((((B522-0)/100)*Metric_Module_Square_Foot_Area)-'Cumulative Volumes Metric'!E522)*Metric_Stone_Void_Percentage,((((B522-B523)/100)*Metric_Module_Square_Foot_Area)-'Cumulative Volumes Metric'!E522)*Metric_Stone_Void_Percentage))","v":""},"",{"$f":"IF(B522=\"\",\"\",((Metric_System_Area_Input-Metric_Number_Of_Stacks*_xlfn.XLOOKUP(Metric_Layers,CrateData[Layer],CrateData[Surface Area (m2)]))*((B522-IF(B523=\"\",0,B523))/100))*Metric_Stone_Void_Percentage)","v":""},"","",{"$f":"IF(B522=\"\",\"\",SUM(J522:$J$563))","v":""},""]
["","",{"$f":"IF(B523=\"\",\"\",IFERROR(_xlfn.XLOOKUP(ROUND(B523,1),MetricIncrementalData[System Increment],_xlfn.XLOOKUP('Metric Incremental Crate'!$R$3,MetricIncrementalData[#Headers],MetricIncrementalData[]),,1),0))","v":""},"",{"$f":"IF(B523=\"\",\"\",IFERROR(_xlfn.XLOOKUP(ROUND(B523,1),MetricIncrementalData[System Increment],_xlfn.XLOOKUP(Metric_Incremental_Data_Target_Column,MetricIncrementalData[#Headers],MetricIncrementalData[]),,1),0))","v":""},{"$f":"IF(B523=\"\",\"\",IF(B524=\"\",((((B523-0)/100)*Metric_Module_Square_Foot_Area)-'Cumulative Volumes Metric'!E523)*Metric_Stone_Void_Percentage,((((B523-B524)/100)*Metric_Module_Square_Foot_Area)-'Cumulative Volumes Metric'!E523)*Metric_Stone_Void_Percentage))","v":""},"",{"$f":"IF(B523=\"\",\"\",((Metric_System_Area_Input-Metric_Number_Of_Stacks*_xlfn.XLOOKUP(Metric_Layers,CrateData[Layer],CrateData[Surface Area (m2)]))*((B523-IF(B524=\"\",0,B524))/100))*Metric_Stone_Void_Percentage)","v":""},"","",{"$f":"IF(B523=\"\",\"\",SUM(J523:$J$563))","v":""},""]
["","",{"$f":"IF(B524=\"\",\"\",IFERROR(_xlfn.XLOOKUP(ROUND(B524,1),MetricIncrementalData[System Increment],_xlfn.XLOOKUP('Metric Incremental Crate'!$R$3,MetricIncrementalData[#Headers],MetricIncrementalData[]),,1),0))","v":""},"",{"$f":"IF(B524=\"\",\"\",IFERROR(_xlfn.XLOOKUP(ROUND(B524,1),MetricIncrementalData[System Increment],_xlfn.XLOOKUP(Metric_Incremental_Data_Target_Column,MetricIncrementalData[#Headers],MetricIncrementalData[]),,1),0))","v":""},{"$f":"IF(B524=\"\",\"\",IF(B525=\"\",((((B524-0)/100)*Metric_Module_Square_Foot_Area)-'Cumulative Volumes Metric'!E524)*Metric_Stone_Void_Percentage,((((B524-B525)/100)*Metric_Module_Square_Foot_Area)-'Cumulative Volumes Metric'!E524)*Metric_Stone_Void_Percentage))","v":""},"",{"$f":"IF(B524=\"\",\"\",((Metric_System_Area_Input-Metric_Number_Of_Stacks*_xlfn.XLOOKUP(Metric_Layers,CrateData[Layer],CrateData[Surface Area (m2)]))*((B524-IF(B525=\"\",0,B525))/100))*Metric_Stone_Void_Percentage)","v":""},"","",{"$f":"IF(B524=\"\",\"\",SUM(J524:$J$563))","v":""},""]
["","",{"$f":"IF(B525=\"\",\"\",IFERROR(_xlfn.XLOOKUP(ROUND(B525,1),MetricIncrementalData[System Increment],_xlfn.XLOOKUP('Metric Incremental Crate'!$R$3,MetricIncrementalData[#Headers],MetricIncrementalData[]),,1),0))","v":""},"",{"$f":"IF(B525=\"\",\"\",IFERROR(_xlfn.XLOOKUP(ROUND(B525,1),MetricIncrementalData[System Increment],_xlfn.XLOOKUP(Metric_Incremental_Data_Target_Column,MetricIncrementalData[#Headers],MetricIncrementalData[]),,1),0))","v":""},{"$f":"IF(B525=\"\",\"\",IF(B526=\"\",((((B525-0)/100)*Metric_Module_Square_Foot_Area)-'Cumulative Volumes Metric'!E525)*Metric_Stone_Void_Percentage,((((B525-B526)/100)*Metric_Module_Square_Foot_Area)-'Cumulative Volumes Metric'!E525)*Metric_Stone_Void_Percentage))","v":""},"",{"$f":"IF(B525=\"\",\"\",((Metric_System_Area_Input-Metric_Number_Of_Stacks*_xlfn.XLOOKUP(Metric_Layers,CrateData[Layer],CrateData[Surface Area (m2)]))*((B525-IF(B526=\"\",0,B526))/100))*Metric_Stone_Void_Percentage)","v":""},"","",{"$f":"IF(B525=\"\",\"\",SUM(J525:$J$563))","v":""},""]
["","",{"$f":"IF(B526=\"\",\"\",IFERROR(_xlfn.XLOOKUP(ROUND(B526,1),MetricIncrementalData[System Increment],_xlfn.XLOOKUP('Metric Incremental Crate'!$R$3,MetricIncrementalData[#Headers],MetricIncrementalData[]),,1),0))","v":""},"",{"$f":"IF(B526=\"\",\"\",IFERROR(_xlfn.XLOOKUP(ROUND(B526,1),MetricIncrementalData[System Increment],_xlfn.XLOOKUP(Metric_Incremental_Data_Target_Column,MetricIncrementalData[#Headers],MetricIncrementalData[]),,1),0))","v":""},{"$f":"IF(B526=\"\",\"\",IF(B527=\"\",((((B526-0)/100)*Metric_Module_Square_Foot_Area)-'Cumulative Volumes Metric'!E526)*Metric_Stone_Void_Percentage,((((B526-B527)/100)*Metric_Module_Square_Foot_Area)-'Cumulative Volumes Metric'!E526)*Metric_Stone_Void_Percentage))","v":""},"",{"$f":"IF(B526=\"\",\"\",((Metric_System_Area_Input-Metric_Number_Of_Stacks*_xlfn.XLOOKUP(Metric_Layers,CrateData[Layer],CrateData[Surface Area (m2)]))*((B526-IF(B527=\"\",0,B527))/100))*Metric_Stone_Void_Percentage)","v":""},"","",{"$f":"IF(B526=\"\",\"\",SUM(J526:$J$563))","v":""},""]
["","",{"$f":"IF(B527=\"\",\"\",IFERROR(_xlfn.XLOOKUP(ROUND(B527,1),MetricIncrementalData[System Increment],_xlfn.XLOOKUP('Metric Incremental Crate'!$R$3,MetricIncrementalData[#Headers],MetricIncrementalData[]),,1),0))","v":""},"",{"$f":"IF(B527=\"\",\"\",IFERROR(_xlfn.XLOOKUP(ROUND(B527,1),MetricIncrementalData[System Increment],_xlfn.XLOOKUP(Metric_Incremental_Data_Target_Column,MetricIncrementalData[#Headers],MetricIncrementalData[]),,1),0))","v":""},{"$f":"IF(B527=\"\",\"\",IF(B528=\"\",((((B527-0)/100)*Metric_Module_Square_Foot_Area)-'Cumulative Volumes Metric'!E527)*Metric_Stone_Void_Percentage,((((B527-B528)/100)*Metric_Module_Square_Foot_Area)-'Cumulative Volumes Metric'!E527)*Metric_Stone_Void_Percentage))","v":""},"",{"$f":"IF(B527=\"\",\"\",((Metric_System_Area_Input-Metric_Number_Of_Stacks*_xlfn.XLOOKUP(Metric_Layers,CrateData[Layer],CrateData[Surface Area (m2)]))*((B527-IF(B528=\"\",0,B528))/100))*Metric_Stone_Void_Percentage)","v":""},"","",{"$f":"IF(B527=\"\",\"\",SUM(J527:$J$563))","v":""},""]
[{"$f":"IF(B530<>\"\",A527+1,\"\")","v":""},"",{"$f":"IF(B528=\"\",\"\",IFERROR(_xlfn.XLOOKUP(ROUND(B528,1),MetricIncrementalData[System Increment],_xlfn.XLOOKUP('Metric Incremental Crate'!$R$3,MetricIncrementalData[#Headers],MetricIncrementalData[]),,1),0))","v":""},"",{"$f":"IF(B528=\"\",\"\",IFERROR(_xlfn.XLOOKUP(ROUND(B528,1),MetricIncrementalData[System Increment],_xlfn.XLOOKUP(Metric_Incremental_Data_Target_Column,MetricIncrementalData[#Headers],MetricIncrementalData[]),,1),0))","v":""},{"$f":"IF(B528=\"\",\"\",IF(B529=\"\",((((B528-0)/100)*Metric_Module_Square_Foot_Area)-'Cumulative Volumes Metric'!E528)*Metric_Stone_Void_Percentage,((((B528-B529)/100)*Metric_Module_Square_Foot_Area)-'Cumulative Volumes Metric'!E528)*Metric_Stone_Void_Percentage))","v":""},"",{"$f":"IF(B528=\"\",\"\",((Metric_System_Area_Input-Metric_Number_Of_Stacks*_xlfn.XLOOKUP(Metric_Layers,CrateData[Layer],CrateData[Surface Area (m2)]))*((B528-IF(B529=\"\",0,B529))/100))*Metric_Stone_Void_Percentage)","v":""},"","",{"$f":"IF(B528=\"\",\"\",SUM(J528:$J$563))","v":""},""]
["","",{"$f":"IF(B529=\"\",\"\",IFERROR(_xlfn.XLOOKUP(ROUND(B529,1),MetricIncrementalData[System Increment],_xlfn.XLOOKUP('Metric Incremental Crate'!$R$3,MetricIncrementalData[#Headers],MetricIncrementalData[]),,1),0))","v":""},"",{"$f":"IF(B529=\"\",\"\",IFERROR(_xlfn.XLOOKUP(ROUND(B529,1),MetricIncrementalData[System Increment],_xlfn.XLOOKUP(Metric_Incremental_Data_Target_Column,MetricIncrementalData[#Headers],MetricIncrementalData[]),,1),0))","v":""},{"$f":"IF(B529=\"\",\"\",IF(B530=\"\",((((B529-0)/100)*Metric_Module_Square_Foot_Area)-'Cumulative Volumes Metric'!E529)*Metric_Stone_Void_Percentage,((((B529-B530)/100)*Metric_Module_Square_Foot_Area)-'Cumulative Volumes Metric'!E529)*Metric_Stone_Void_Percentage))","v":""},"",{"$f":"IF(B529=\"\",\"\",((Metric_System_Area_Input-Metric_Number_Of_Stacks*_xlfn.XLOOKUP(Metric_Layers,CrateData[Layer],CrateData[Surface Area (m2)]))*((B529-IF(B530=\"\",0,B530))/100))*Metric_Stone_Void_Percentage)","v":""},"","",{"$f":"IF(B529=\"\",\"\",SUM(J529:$J$563))","v":""},""]
["","",{"$f":"IF(B530=\"\",\"\",IFERROR(_xlfn.XLOOKUP(ROUND(B530,1),MetricIncrementalData[System Increment],_xlfn.XLOOKUP('Metric Incremental Crate'!$R$3,MetricIncrementalData[#Headers],MetricIncrementalData[]),,1),0))","v":""},{"$f":"IFERROR(C530*Metric_Number_Of_Stacks,\"\")","v":""},{"$f":"IF(B530=\"\",\"\",IFERROR(_xlfn.XLOOKUP(ROUND(B530,1),MetricIncrementalData[System Increment],_xlfn.XLOOKUP(Metric_Incremental_Data_Target_Column,MetricIncrementalData[#Headers],MetricIncrementalData[]),,1),0))","v":""},{"$f":"IF(B530=\"\",\"\",IF(B531=\"\",((((B530-0)/100)*Metric_Module_Square_Foot_Area)-'Cumulative Volumes Metric'!E530)*Metric_Stone_Void_Percentage,((((B530-B531)/100)*Metric_Module_Square_Foot_Area)-'Cumulative Volumes Metric'!E530)*Metric_Stone_Void_Percentage))","v":""},{"$f":"IFERROR(F530*Metric_Number_Of_Stacks,\"\")","v":""},{"$f":"IF(B530=\"\",\"\",((Metric_System_Area_Input-Metric_Number_Of_Stacks*_xlfn.XLOOKUP(Metric_Layers,CrateData[Layer],CrateData[Surface Area (m2)]))*((B530-IF(B531=\"\",0,B531))/100))*Metric_Stone_Void_Percentage)","v":""},"","",{"$f":"IF(B530=\"\",\"\",SUM(J530:$J$563))","v":""},""]
["","",{"$f":"IF(B531=\"\",\"\",IFERROR(_xlfn.XLOOKUP(ROUND(B531,1),MetricIncrementalData[System Increment],_xlfn.XLOOKUP('Metric Incremental Crate'!$R$3,MetricIncrementalData[#Headers],MetricIncrementalData[]),,1),0))","v":""},"",{"$f":"IF(B531=\"\",\"\",IFERROR(_xlfn.XLOOKUP(ROUND(B531,1),MetricIncrementalData[System Increment],_xlfn.XLOOKUP(Metric_Incremental_Data_Target_Column,MetricIncrementalData[#Headers],MetricIncrementalData[]),,1),0))","v":""},{"$f":"IF(B531=\"\",\"\",IF(B532=\"\",((((B531-0)/100)*Metric_Module_Square_Foot_Area)-'Cumulative Volumes Metric'!E531)*Metric_Stone_Void_Percentage,((((B531-B532)/100)*Metric_Module_Square_Foot_Area)-'Cumulative Volumes Metric'!E531)*Metric_Stone_Void_Percentage))","v":""},"",{"$f":"IF(B531=\"\",\"\",((Metric_System_Area_Input-Metric_Number_Of_Stacks*_xlfn.XLOOKUP(Metric_Layers,CrateData[Layer],CrateData[Surface Area (m2)]))*((B531-IF(B532=\"\",0,B532))/100))*Metric_Stone_Void_Percentage)","v":""},{"$f":"IFERROR(IF($AW$17, H531+G531, G531), \"\")","v":""},"",{"$f":"IF(B531=\"\",\"\",SUM(J531:$J$563))","v":""},""]
["","",{"$f":"IF(B532=\"\",\"\",IFERROR(_xlfn.XLOOKUP(ROUND(B532,1),MetricIncrementalData[System Increment],_xlfn.XLOOKUP('Metric Incremental Crate'!$R$3,MetricIncrementalData[#Headers],MetricIncrementalData[]),,1),0))","v":""},"",{"$f":"IF(B532=\"\",\"\",IFERROR(_xlfn.XLOOKUP(ROUND(B532,1),MetricIncrementalData[System Increment],_xlfn.XLOOKUP(Metric_Incremental_Data_Target_Column,MetricIncrementalData[#Headers],MetricIncrementalData[]),,1),0))","v":""},{"$f":"IF(B532=\"\",\"\",IF(B533=\"\",((((B532-0)/100)*Metric_Module_Square_Foot_Area)-'Cumulative Volumes Metric'!E532)*Metric_Stone_Void_Percentage,((((B532-B533)/100)*Metric_Module_Square_Foot_Area)-'Cumulative Volumes Metric'!E532)*Metric_Stone_Void_Percentage))","v":""},"",{"$f":"IF(B532=\"\",\"\",((Metric_System_Area_Input-Metric_Number_Of_Stacks*_xlfn.XLOOKUP(Metric_Layers,CrateData[Layer],CrateData[Surface Area (m2)]))*((B532-IF(B533=\"\",0,B533))/100))*Metric_Stone_Void_Percentage)","v":""},"","",{"$f":"IF(B532=\"\",\"\",SUM(J532:$J$563))","v":""},""]
["","",{"$f":"IF(B533=\"\",\"\",IFERROR(_xlfn.XLOOKUP(ROUND(B533,1),MetricIncrementalData[System Increment],_xlfn.XLOOKUP('Metric Incremental Crate'!$R$3,MetricIncrementalData[#Headers],MetricIncrementalData[]),,1),0))","v":""},"",{"$f":"IF(B533=\"\",\"\",IFERROR(_xlfn.XLOOKUP(ROUND(B533,1),MetricIncrementalData[System Increment],_xlfn.XLOOKUP(Metric_Incremental_Data_Target_Column,MetricIncrementalData[#Headers],MetricIncrementalData[]),,1),0))","v":""},{"$f":"IF(B533=\"\",\"\",IF(B534=\"\",((((B533-0)/100)*Metric_Module_Square_Foot_Area)-'Cumulative Volumes Metric'!E533)*Metric_Stone_Void_Percentage,((((B533-B534)/100)*Metric_Module_Square_Foot_Area)-'Cumulative Volumes Metric'!E533)*Metric_Stone_Void_Percentage))","v":""},"",{"$f":"IF(B533=\"\",\"\",((Metric_System_Area_Input-Metric_Number_Of_Stacks*_xlfn.XLOOKUP(Metric_Layers,CrateData[Layer],CrateData[Surface Area (m2)]))*((B533-IF(B534=\"\",0,B534))/100))*Metric_Stone_Void_Percentage)","v":""},"","",{"$f":"IF(B533=\"\",\"\",SUM(J533:$J$563))","v":""},""]
["",{"$f":"IFERROR(IF(B533-1<1,\"\",B533-1),\"\")","v":""},{"$f":"IF(B534=\"\",\"\",IFERROR(_xlfn.XLOOKUP(ROUND(B534,1),MetricIncrementalData[System Increment],_xlfn.XLOOKUP('Metric Incremental Crate'!$R$3,MetricIncrementalData[#Headers],MetricIncrementalData[]),,1),0))","v":""},"",{"$f":"IF(B534=\"\",\"\",IFERROR(_xlfn.XLOOKUP(ROUND(B534,1),MetricIncrementalData[System Increment],_xlfn.XLOOKUP(Metric_Incremental_Data_Target_Column,MetricIncrementalData[#Headers],MetricIncrementalData[]),,1),0))","v":""},{"$f":"IF(B534=\"\",\"\",IF(B535=\"\",((((B534-0)/100)*Metric_Module_Square_Foot_Area)-'Cumulative Volumes Metric'!E534)*Metric_Stone_Void_Percentage,((((B534-B535)/100)*Metric_Module_Square_Foot_Area)-'Cumulative Volumes Metric'!E534)*Metric_Stone_Void_Percentage))","v":""},"",{"$f":"IF(B534=\"\",\"\",((Metric_System_Area_Input-Metric_Number_Of_Stacks*_xlfn.XLOOKUP(Metric_Layers,CrateData[Layer],CrateData[Surface Area (m2)]))*((B534-IF(B535=\"\",0,B535))/100))*Metric_Stone_Void_Percentage)","v":""},"",{"$f":"IFERROR(I534+D534,\"\")","v":""},{"$f":"IF(B534=\"\",\"\",SUM(J534:$J$563))","v":""},{"$f":"IFERROR($I$11+B534/100,\"\")","v":""}]
["","",{"$f":"IF(B535=\"\",\"\",IFERROR(_xlfn.XLOOKUP(ROUND(B535,1),MetricIncrementalData[System Increment],_xlfn.XLOOKUP('Metric Incremental Crate'!$R$3,MetricIncrementalData[#Headers],MetricIncrementalData[]),,1),0))","v":""},"",{"$f":"IF(B535=\"\",\"\",IFERROR(_xlfn.XLOOKUP(ROUND(B535,1),MetricIncrementalData[System Increment],_xlfn.XLOOKUP(Metric_Incremental_Data_Target_Column,MetricIncrementalData[#Headers],MetricIncrementalData[]),,1),0))","v":""},{"$f":"IF(B535=\"\",\"\",IF(B536=\"\",((((B535-0)/100)*Metric_Module_Square_Foot_Area)-'Cumulative Volumes Metric'!E535)*Metric_Stone_Void_Percentage,((((B535-B536)/100)*Metric_Module_Square_Foot_Area)-'Cumulative Volumes Metric'!E535)*Metric_Stone_Void_Percentage))","v":""},"",{"$f":"IF(B535=\"\",\"\",((Metric_System_Area_Input-Metric_Number_Of_Stacks*_xlfn.XLOOKUP(Metric_Layers,CrateData[Layer],CrateData[Surface Area (m2)]))*((B535-IF(B536=\"\",0,B536))/100))*Metric_Stone_Void_Percentage)","v":""},"","",{"$f":"IF(B535=\"\",\"\",SUM(J535:$J$563))","v":""},""]
["","",{"$f":"IF(B536=\"\",\"\",IFERROR(_xlfn.XLOOKUP(ROUND(B536,1),MetricIncrementalData[System Increment],_xlfn.XLOOKUP('Metric Incremental Crate'!$R$3,MetricIncrementalData[#Headers],MetricIncrementalData[]),,1),0))","v":""},"",{"$f":"IF(B536=\"\",\"\",IFERROR(_xlfn.XLOOKUP(ROUND(B536,1),MetricIncrementalData[System Increment],_xlfn.XLOOKUP(Metric_Incremental_Data_Target_Column,MetricIncrementalData[#Headers],MetricIncrementalData[]),,1),0))","v":""},{"$f":"IF(B536=\"\",\"\",IF(B537=\"\",((((B536-0)/100)*Metric_Module_Square_Foot_Area)-'Cumulative Volumes Metric'!E536)*Metric_Stone_Void_Percentage,((((B536-B537)/100)*Metric_Module_Square_Foot_Area)-'Cumulative Volumes Metric'!E536)*Metric_Stone_Void_Percentage))","v":""},"",{"$f":"IF(B536=\"\",\"\",((Metric_System_Area_Input-Metric_Number_Of_Stacks*_xlfn.XLOOKUP(Metric_Layers,CrateData[Layer],CrateData[Surface Area (m2)]))*((B536-IF(B537=\"\",0,B537))/100))*Metric_Stone_Void_Percentage)","v":""},"","",{"$f":"IF(B536=\"\",\"\",SUM(J536:$J$563))","v":""},""]
["","",{"$f":"IF(B537=\"\",\"\",IFERROR(_xlfn.XLOOKUP(ROUND(B537,1),MetricIncrementalData[System Increment],_xlfn.XLOOKUP('Metric Incremental Crate'!$R$3,MetricIncrementalData[#Headers],MetricIncrementalData[]),,1),0))","v":""},"",{"$f":"IF(B537=\"\",\"\",IFERROR(_xlfn.XLOOKUP(ROUND(B537,1),MetricIncrementalData[System Increment],_xlfn.XLOOKUP(Metric_Incremental_Data_Target_Column,MetricIncrementalData[#Headers],MetricIncrementalData[]),,1),0))","v":""},{"$f":"IF(B537=\"\",\"\",IF(B538=\"\",((((B537-0)/100)*Metric_Module_Square_Foot_Area)-'Cumulative Volumes Metric'!E537)*Metric_Stone_Void_Percentage,((((B537-B538)/100)*Metric_Module_Square_Foot_Area)-'Cumulative Volumes Metric'!E537)*Metric_Stone_Void_Percentage))","v":""},"",{"$f":"IF(B537=\"\",\"\",((Metric_System_Area_Input-Metric_Number_Of_Stacks*_xlfn.XLOOKUP(Metric_Layers,CrateData[Layer],CrateData[Surface Area (m2)]))*((B537-IF(B538=\"\",0,B538))/100))*Metric_Stone_Void_Percentage)","v":""},"","",{"$f":"IF(B537=\"\",\"\",SUM(J537:$J$563))","v":""},""]
["","",{"$f":"IF(B538=\"\",\"\",IFERROR(_xlfn.XLOOKUP(ROUND(B538,1),MetricIncrementalData[System Increment],_xlfn.XLOOKUP('Metric Incremental Crate'!$R$3,MetricIncrementalData[#Headers],MetricIncrementalData[]),,1),0))","v":""},"",{"$f":"IF(B538=\"\",\"\",IFERROR(_xlfn.XLOOKUP(ROUND(B538,1),MetricIncrementalData[System Increment],_xlfn.XLOOKUP(Metric_Incremental_Data_Target_Column,MetricIncrementalData[#Headers],MetricIncrementalData[]),,1),0))","v":""},{"$f":"IF(B538=\"\",\"\",IF(B539=\"\",((((B538-0)/100)*Metric_Module_Square_Foot_Area)-'Cumulative Volumes Metric'!E538)*Metric_Stone_Void_Percentage,((((B538-B539)/100)*Metric_Module_Square_Foot_Area)-'Cumulative Volumes Metric'!E538)*Metric_Stone_Void_Percentage))","v":""},"",{"$f":"IF(B538=\"\",\"\",((Metric_System_Area_Input-Metric_Number_Of_Stacks*_xlfn.XLOOKUP(Metric_Layers,CrateData[Layer],CrateData[Surface Area (m2)]))*((B538-IF(B539=\"\",0,B539))/100))*Metric_Stone_Void_Percentage)","v":""},"","",{"$f":"IF(B538=\"\",\"\",SUM(J538:$J$563))","v":""},""]
["","",{"$f":"IF(B539=\"\",\"\",IFERROR(_xlfn.XLOOKUP(ROUND(B539,1),MetricIncrementalData[System Increment],_xlfn.XLOOKUP('Metric Incremental Crate'!$R$3,MetricIncrementalData[#Headers],MetricIncrementalData[]),,1),0))","v":""},"",{"$f":"IF(B539=\"\",\"\",IFERROR(_xlfn.XLOOKUP(ROUND(B539,1),MetricIncrementalData[System Increment],_xlfn.XLOOKUP(Metric_Incremental_Data_Target_Column,MetricIncrementalData[#Headers],MetricIncrementalData[]),,1),0))","v":""},{"$f":"IF(B539=\"\",\"\",IF(B540=\"\",((((B539-0)/100)*Metric_Module_Square_Foot_Area)-'Cumulative Volumes Metric'!E539)*Metric_Stone_Void_Percentage,((((B539-B540)/100)*Metric_Module_Square_Foot_Area)-'Cumulative Volumes Metric'!E539)*Metric_Stone_Void_Percentage))","v":""},"",{"$f":"IF(B539=\"\",\"\",((Metric_System_Area_Input-Metric_Number_Of_Stacks*_xlfn.XLOOKUP(Metric_Layers,CrateData[Layer],CrateData[Surface Area (m2)]))*((B539-IF(B540=\"\",0,B540))/100))*Metric_Stone_Void_Percentage)","v":""},"","",{"$f":"IF(B539=\"\",\"\",SUM(J539:$J$563))","v":""},""]
["","",{"$f":"IF(B540=\"\",\"\",IFERROR(_xlfn.XLOOKUP(ROUND(B540,1),MetricIncrementalData[System Increment],_xlfn.XLOOKUP('Metric Incremental Crate'!$R$3,MetricIncrementalData[#Headers],MetricIncrementalData[]),,1),0))","v":""},"",{"$f":"IF(B540=\"\",\"\",IFERROR(_xlfn.XLOOKUP(ROUND(B540,1),MetricIncrementalData[System Increment],_xlfn.XLOOKUP(Metric_Incremental_Data_Target_Column,MetricIncrementalData[#Headers],MetricIncrementalData[]),,1),0))","v":""},{"$f":"IF(B540=\"\",\"\",IF(B541=\"\",((((B540-0)/100)*Metric_Module_Square_Foot_Area)-'Cumulative Volumes Metric'!E540)*Metric_Stone_Void_Percentage,((((B540-B541)/100)*Metric_Module_Square_Foot_Area)-'Cumulative Volumes Metric'!E540)*Metric_Stone_Void_Percentage))","v":""},"",{"$f":"IF(B540=\"\",\"\",((Metric_System_Area_Input-Metric_Number_Of_Stacks*_xlfn.XLOOKUP(Metric_Layers,CrateData[Layer],CrateData[Surface Area (m2)]))*((B540-IF(B541=\"\",0,B541))/100))*Metric_Stone_Void_Percentage)","v":""},"","",{"$f":"IF(B540=\"\",\"\",SUM(J540:$J$563))","v":""},""]
["","",{"$f":"IF(B541=\"\",\"\",IFERROR(_xlfn.XLOOKUP(ROUND(B541,1),MetricIncrementalData[System Increment],_xlfn.XLOOKUP('Metric Incremental Crate'!$R$3,MetricIncrementalData[#Headers],MetricIncrementalData[]),,1),0))","v":""},"",{"$f":"IF(B541=\"\",\"\",IFERROR(_xlfn.XLOOKUP(ROUND(B541,1),MetricIncrementalData[System Increment],_xlfn.XLOOKUP(Metric_Incremental_Data_Target_Column,MetricIncrementalData[#Headers],MetricIncrementalData[]),,1),0))","v":""},{"$f":"IF(B541=\"\",\"\",IF(B542=\"\",((((B541-0)/100)*Metric_Module_Square_Foot_Area)-'Cumulative Volumes Metric'!E541)*Metric_Stone_Void_Percentage,((((B541-B542)/100)*Metric_Module_Square_Foot_Area)-'Cumulative Volumes Metric'!E541)*Metric_Stone_Void_Percentage))","v":""},"",{"$f":"IF(B541=\"\",\"\",((Metric_System_Area_Input-Metric_Number_Of_Stacks*_xlfn.XLOOKUP(Metric_Layers,CrateData[Layer],CrateData[Surface Area (m2)]))*((B541-IF(B542=\"\",0,B542))/100))*Metric_Stone_Void_Percentage)","v":""},"","",{"$f":"IF(B541=\"\",\"\",SUM(J541:$J$563))","v":""},""]
["","",{"$f":"IF(B542=\"\",\"\",IFERROR(_xlfn.XLOOKUP(ROUND(B542,1),MetricIncrementalData[System Increment],_xlfn.XLOOKUP('Metric Incremental Crate'!$R$3,MetricIncrementalData[#Headers],MetricIncrementalData[]),,1),0))","v":""},"",{"$f":"IF(B542=\"\",\"\",IFERROR(_xlfn.XLOOKUP(ROUND(B542,1),MetricIncrementalData[System Increment],_xlfn.XLOOKUP(Metric_Incremental_Data_Target_Column,MetricIncrementalData[#Headers],MetricIncrementalData[]),,1),0))","v":""},{"$f":"IF(B542=\"\",\"\",IF(B543=\"\",((((B542-0)/100)*Metric_Module_Square_Foot_Area)-'Cumulative Volumes Metric'!E542)*Metric_Stone_Void_Percentage,((((B542-B543)/100)*Metric_Module_Square_Foot_Area)-'Cumulative Volumes Metric'!E542)*Metric_Stone_Void_Percentage))","v":""},"",{"$f":"IF(B542=\"\",\"\",((Metric_System_Area_Input-Metric_Number_Of_Stacks*_xlfn.XLOOKUP(Metric_Layers,CrateData[Layer],CrateData[Surface Area (m2)]))*((B542-IF(B543=\"\",0,B543))/100))*Metric_Stone_Void_Percentage)","v":""},"","",{"$f":"IF(B542=\"\",\"\",SUM(J542:$J$563))","v":""},""]
["","",{"$f":"IF(B543=\"\",\"\",IFERROR(_xlfn.XLOOKUP(ROUND(B543,1),MetricIncrementalData[System Increment],_xlfn.XLOOKUP('Metric Incremental Crate'!$R$3,MetricIncrementalData[#Headers],MetricIncrementalData[]),,1),0))","v":""},"",{"$f":"IF(B543=\"\",\"\",IFERROR(_xlfn.XLOOKUP(ROUND(B543,1),MetricIncrementalData[System Increment],_xlfn.XLOOKUP(Metric_Incremental_Data_Target_Column,MetricIncrementalData[#Headers],MetricIncrementalData[]),,1),0))","v":""},{"$f":"IF(B543=\"\",\"\",IF(B544=\"\",((((B543-0)/100)*Metric_Module_Square_Foot_Area)-'Cumulative Volumes Metric'!E543)*Metric_Stone_Void_Percentage,((((B543-B544)/100)*Metric_Module_Square_Foot_Area)-'Cumulative Volumes Metric'!E543)*Metric_Stone_Void_Percentage))","v":""},"",{"$f":"IF(B543=\"\",\"\",((Metric_System_Area_Input-Metric_Number_Of_Stacks*_xlfn.XLOOKUP(Metric_Layers,CrateData[Layer],CrateData[Surface Area (m2)]))*((B543-IF(B544=\"\",0,B544))/100))*Metric_Stone_Void_Percentage)","v":""},"","",{"$f":"IF(B543=\"\",\"\",SUM(J543:$J$563))","v":""},""]
["","",{"$f":"IF(B544=\"\",\"\",IFERROR(_xlfn.XLOOKUP(ROUND(B544,1),MetricIncrementalData[System Increment],_xlfn.XLOOKUP('Metric Incremental Crate'!$R$3,MetricIncrementalData[#Headers],MetricIncrementalData[]),,1),0))","v":""},"",{"$f":"IF(B544=\"\",\"\",IFERROR(_xlfn.XLOOKUP(ROUND(B544,1),MetricIncrementalData[System Increment],_xlfn.XLOOKUP(Metric_Incremental_Data_Target_Column,MetricIncrementalData[#Headers],MetricIncrementalData[]),,1),0))","v":""},{"$f":"IF(B544=\"\",\"\",IF(B545=\"\",((((B544-0)/100)*Metric_Module_Square_Foot_Area)-'Cumulative Volumes Metric'!E544)*Metric_Stone_Void_Percentage,((((B544-B545)/100)*Metric_Module_Square_Foot_Area)-'Cumulative Volumes Metric'!E544)*Metric_Stone_Void_Percentage))","v":""},"",{"$f":"IF(B544=\"\",\"\",((Metric_System_Area_Input-Metric_Number_Of_Stacks*_xlfn.XLOOKUP(Metric_Layers,CrateData[Layer],CrateData[Surface Area (m2)]))*((B544-IF(B545=\"\",0,B545))/100))*Metric_Stone_Void_Percentage)","v":""},"","",{"$f":"IF(B544=\"\",\"\",SUM(J544:$J$563))","v":""},""]
["","",{"$f":"IF(B545=\"\",\"\",IFERROR(_xlfn.XLOOKUP(ROUND(B545,1),MetricIncrementalData[System Increment],_xlfn.XLOOKUP('Metric Incremental Crate'!$R$3,MetricIncrementalData[#Headers],MetricIncrementalData[]),,1),0))","v":""},"",{"$f":"IF(B545=\"\",\"\",IFERROR(_xlfn.XLOOKUP(ROUND(B545,1),MetricIncrementalData[System Increment],_xlfn.XLOOKUP(Metric_Incremental_Data_Target_Column,MetricIncrementalData[#Headers],MetricIncrementalData[]),,1),0))","v":""},{"$f":"IF(B545=\"\",\"\",IF(B546=\"\",((((B545-0)/100)*Metric_Module_Square_Foot_Area)-'Cumulative Volumes Metric'!E545)*Metric_Stone_Void_Percentage,((((B545-B546)/100)*Metric_Module_Square_Foot_Area)-'Cumulative Volumes Metric'!E545)*Metric_Stone_Void_Percentage))","v":""},"",{"$f":"IF(B545=\"\",\"\",((Metric_System_Area_Input-Metric_Number_Of_Stacks*_xlfn.XLOOKUP(Metric_Layers,CrateData[Layer],CrateData[Surface Area (m2)]))*((B545-IF(B546=\"\",0,B546))/100))*Metric_Stone_Void_Percentage)","v":""},"","",{"$f":"IF(B545=\"\",\"\",SUM(J545:$J$563))","v":""},""]
["","",{"$f":"IF(B546=\"\",\"\",IFERROR(_xlfn.XLOOKUP(ROUND(B546,1),MetricIncrementalData[System Increment],_xlfn.XLOOKUP('Metric Incremental Crate'!$R$3,MetricIncrementalData[#Headers],MetricIncrementalData[]),,1),0))","v":""},"",{"$f":"IF(B546=\"\",\"\",IFERROR(_xlfn.XLOOKUP(ROUND(B546,1),MetricIncrementalData[System Increment],_xlfn.XLOOKUP(Metric_Incremental_Data_Target_Column,MetricIncrementalData[#Headers],MetricIncrementalData[]),,1),0))","v":""},{"$f":"IF(B546=\"\",\"\",IF(B547=\"\",((((B546-0)/100)*Metric_Module_Square_Foot_Area)-'Cumulative Volumes Metric'!E546)*Metric_Stone_Void_Percentage,((((B546-B547)/100)*Metric_Module_Square_Foot_Area)-'Cumulative Volumes Metric'!E546)*Metric_Stone_Void_Percentage))","v":""},"",{"$f":"IF(B546=\"\",\"\",((Metric_System_Area_Input-Metric_Number_Of_Stacks*_xlfn.XLOOKUP(Metric_Layers,CrateData[Layer],CrateData[Surface Area (m2)]))*((B546-IF(B547=\"\",0,B547))/100))*Metric_Stone_Void_Percentage)","v":""},"","",{"$f":"IF(B546=\"\",\"\",SUM(J546:$J$563))","v":""},""]
["","",{"$f":"IF(B547=\"\",\"\",IFERROR(_xlfn.XLOOKUP(ROUND(B547,1),MetricIncrementalData[System Increment],_xlfn.XLOOKUP('Metric Incremental Crate'!$R$3,MetricIncrementalData[#Headers],MetricIncrementalData[]),,1),0))","v":""},"",{"$f":"IF(B547=\"\",\"\",IFERROR(_xlfn.XLOOKUP(ROUND(B547,1),MetricIncrementalData[System Increment],_xlfn.XLOOKUP(Metric_Incremental_Data_Target_Column,MetricIncrementalData[#Headers],MetricIncrementalData[]),,1),0))","v":""},{"$f":"IF(B547=\"\",\"\",IF(B548=\"\",((((B547-0)/100)*Metric_Module_Square_Foot_Area)-'Cumulative Volumes Metric'!E547)*Metric_Stone_Void_Percentage,((((B547-B548)/100)*Metric_Module_Square_Foot_Area)-'Cumulative Volumes Metric'!E547)*Metric_Stone_Void_Percentage))","v":""},"",{"$f":"IF(B547=\"\",\"\",((Metric_System_Area_Input-Metric_Number_Of_Stacks*_xlfn.XLOOKUP(Metric_Layers,CrateData[Layer],CrateData[Surface Area (m2)]))*((B547-IF(B548=\"\",0,B548))/100))*Metric_Stone_Void_Percentage)","v":""},"","",{"$f":"IF(B547=\"\",\"\",SUM(J547:$J$563))","v":""},""]
["","",{"$f":"IF(B548=\"\",\"\",IFERROR(_xlfn.XLOOKUP(ROUND(B548,1),MetricIncrementalData[System Increment],_xlfn.XLOOKUP('Metric Incremental Crate'!$R$3,MetricIncrementalData[#Headers],MetricIncrementalData[]),,1),0))","v":""},"",{"$f":"IF(B548=\"\",\"\",IFERROR(_xlfn.XLOOKUP(ROUND(B548,1),MetricIncrementalData[System Increment],_xlfn.XLOOKUP(Metric_Incremental_Data_Target_Column,MetricIncrementalData[#Headers],MetricIncrementalData[]),,1),0))","v":""},{"$f":"IF(B548=\"\",\"\",IF(B549=\"\",((((B548-0)/100)*Metric_Module_Square_Foot_Area)-'Cumulative Volumes Metric'!E548)*Metric_Stone_Void_Percentage,((((B548-B549)/100)*Metric_Module_Square_Foot_Area)-'Cumulative Volumes Metric'!E548)*Metric_Stone_Void_Percentage))","v":""},"",{"$f":"IF(B548=\"\",\"\",((Metric_System_Area_Input-Metric_Number_Of_Stacks*_xlfn.XLOOKUP(Metric_Layers,CrateData[Layer],CrateData[Surface Area (m2)]))*((B548-IF(B549=\"\",0,B549))/100))*Metric_Stone_Void_Percentage)","v":""},"","",{"$f":"IF(B548=\"\",\"\",SUM(J548:$J$563))","v":""},""]
["","",{"$f":"IF(B549=\"\",\"\",IFERROR(_xlfn.XLOOKUP(ROUND(B549,1),MetricIncrementalData[System Increment],_xlfn.XLOOKUP('Metric Incremental Crate'!$R$3,MetricIncrementalData[#Headers],MetricIncrementalData[]),,1),0))","v":""},"",{"$f":"IF(B549=\"\",\"\",IFERROR(_xlfn.XLOOKUP(ROUND(B549,1),MetricIncrementalData[System Increment],_xlfn.XLOOKUP(Metric_Incremental_Data_Target_Column,MetricIncrementalData[#Headers],MetricIncrementalData[]),,1),0))","v":""},{"$f":"IF(B549=\"\",\"\",IF(B550=\"\",((((B549-0)/100)*Metric_Module_Square_Foot_Area)-'Cumulative Volumes Metric'!E549)*Metric_Stone_Void_Percentage,((((B549-B550)/100)*Metric_Module_Square_Foot_Area)-'Cumulative Volumes Metric'!E549)*Metric_Stone_Void_Percentage))","v":""},"",{"$f":"IF(B549=\"\",\"\",((Metric_System_Area_Input-Metric_Number_Of_Stacks*_xlfn.XLOOKUP(Metric_Layers,CrateData[Layer],CrateData[Surface Area (m2)]))*((B549-IF(B550=\"\",0,B550))/100))*Metric_Stone_Void_Percentage)","v":""},"","",{"$f":"IF(B549=\"\",\"\",SUM(J549:$J$563))","v":""},""]
["","",{"$f":"IF(B550=\"\",\"\",IFERROR(_xlfn.XLOOKUP(ROUND(B550,1),MetricIncrementalData[System Increment],_xlfn.XLOOKUP('Metric Incremental Crate'!$R$3,MetricIncrementalData[#Headers],MetricIncrementalData[]),,1),0))","v":""},"",{"$f":"IF(B550=\"\",\"\",IFERROR(_xlfn.XLOOKUP(ROUND(B550,1),MetricIncrementalData[System Increment],_xlfn.XLOOKUP(Metric_Incremental_Data_Target_Column,MetricIncrementalData[#Headers],MetricIncrementalData[]),,1),0))","v":""},{"$f":"IF(B550=\"\",\"\",IF(B551=\"\",((((B550-0)/100)*Metric_Module_Square_Foot_Area)-'Cumulative Volumes Metric'!E550)*Metric_Stone_Void_Percentage,((((B550-B551)/100)*Metric_Module_Square_Foot_Area)-'Cumulative Volumes Metric'!E550)*Metric_Stone_Void_Percentage))","v":""},"",{"$f":"IF(B550=\"\",\"\",((Metric_System_Area_Input-Metric_Number_Of_Stacks*_xlfn.XLOOKUP(Metric_Layers,CrateData[Layer],CrateData[Surface Area (m2)]))*((B550-IF(B551=\"\",0,B551))/100))*Metric_Stone_Void_Percentage)","v":""},"","",{"$f":"IF(B550=\"\",\"\",SUM(J550:$J$563))","v":""},""]
["","",{"$f":"IF(B551=\"\",\"\",IFERROR(_xlfn.XLOOKUP(ROUND(B551,1),MetricIncrementalData[System Increment],_xlfn.XLOOKUP('Metric Incremental Crate'!$R$3,MetricIncrementalData[#Headers],MetricIncrementalData[]),,1),0))","v":""},"",{"$f":"IF(B551=\"\",\"\",IFERROR(_xlfn.XLOOKUP(ROUND(B551,1),MetricIncrementalData[System Increment],_xlfn.XLOOKUP(Metric_Incremental_Data_Target_Column,MetricIncrementalData[#Headers],MetricIncrementalData[]),,1),0))","v":""},{"$f":"IF(B551=\"\",\"\",IF(B552=\"\",((((B551-0)/100)*Metric_Module_Square_Foot_Area)-'Cumulative Volumes Metric'!E551)*Metric_Stone_Void_Percentage,((((B551-B552)/100)*Metric_Module_Square_Foot_Area)-'Cumulative Volumes Metric'!E551)*Metric_Stone_Void_Percentage))","v":""},"",{"$f":"IF(B551=\"\",\"\",((Metric_System_Area_Input-Metric_Number_Of_Stacks*_xlfn.XLOOKUP(Metric_Layers,CrateData[Layer],CrateData[Surface Area (m2)]))*((B551-IF(B552=\"\",0,B552))/100))*Metric_Stone_Void_Percentage)","v":""},"","",{"$f":"IF(B551=\"\",\"\",SUM(J551:$J$563))","v":""},""]
["","",{"$f":"IF(B552=\"\",\"\",IFERROR(_xlfn.XLOOKUP(ROUND(B552,1),MetricIncrementalData[System Increment],_xlfn.XLOOKUP('Metric Incremental Crate'!$R$3,MetricIncrementalData[#Headers],MetricIncrementalData[]),,1),0))","v":""},"",{"$f":"IF(B552=\"\",\"\",IFERROR(_xlfn.XLOOKUP(ROUND(B552,1),MetricIncrementalData[System Increment],_xlfn.XLOOKUP(Metric_Incremental_Data_Target_Column,MetricIncrementalData[#Headers],MetricIncrementalData[]),,1),0))","v":""},{"$f":"IF(B552=\"\",\"\",IF(B553=\"\",((((B552-0)/100)*Metric_Module_Square_Foot_Area)-'Cumulative Volumes Metric'!E552)*Metric_Stone_Void_Percentage,((((B552-B553)/100)*Metric_Module_Square_Foot_Area)-'Cumulative Volumes Metric'!E552)*Metric_Stone_Void_Percentage))","v":""},"",{"$f":"IF(B552=\"\",\"\",((Metric_System_Area_Input-Metric_Number_Of_Stacks*_xlfn.XLOOKUP(Metric_Layers,CrateData[Layer],CrateData[Surface Area (m2)]))*((B552-IF(B553=\"\",0,B553))/100))*Metric_Stone_Void_Percentage)","v":""},"","",{"$f":"IF(B552=\"\",\"\",SUM(J552:$J$563))","v":""},""]
["","",{"$f":"IF(B553=\"\",\"\",IFERROR(_xlfn.XLOOKUP(ROUND(B553,1),MetricIncrementalData[System Increment],_xlfn.XLOOKUP('Metric Incremental Crate'!$R$3,MetricIncrementalData[#Headers],MetricIncrementalData[]),,1),0))","v":""},"",{"$f":"IF(B553=\"\",\"\",IFERROR(_xlfn.XLOOKUP(ROUND(B553,1),MetricIncrementalData[System Increment],_xlfn.XLOOKUP(Metric_Incremental_Data_Target_Column,MetricIncrementalData[#Headers],MetricIncrementalData[]),,1),0))","v":""},{"$f":"IF(B553=\"\",\"\",IF(B554=\"\",((((B553-0)/100)*Metric_Module_Square_Foot_Area)-'Cumulative Volumes Metric'!E553)*Metric_Stone_Void_Percentage,((((B553-B554)/100)*Metric_Module_Square_Foot_Area)-'Cumulative Volumes Metric'!E553)*Metric_Stone_Void_Percentage))","v":""},"",{"$f":"IF(B553=\"\",\"\",((Metric_System_Area_Input-Metric_Number_Of_Stacks*_xlfn.XLOOKUP(Metric_Layers,CrateData[Layer],CrateData[Surface Area (m2)]))*((B553-IF(B554=\"\",0,B554))/100))*Metric_Stone_Void_Percentage)","v":""},"","",{"$f":"IF(B553=\"\",\"\",SUM(J553:$J$563))","v":""},""]
["","",{"$f":"IF(B554=\"\",\"\",IFERROR(_xlfn.XLOOKUP(ROUND(B554,1),MetricIncrementalData[System Increment],_xlfn.XLOOKUP('Metric Incremental Crate'!$R$3,MetricIncrementalData[#Headers],MetricIncrementalData[]),,1),0))","v":""},"",{"$f":"IF(B554=\"\",\"\",IFERROR(_xlfn.XLOOKUP(ROUND(B554,1),MetricIncrementalData[System Increment],_xlfn.XLOOKUP(Metric_Incremental_Data_Target_Column,MetricIncrementalData[#Headers],MetricIncrementalData[]),,1),0))","v":""},{"$f":"IF(B554=\"\",\"\",IF(B555=\"\",((((B554-0)/100)*Metric_Module_Square_Foot_Area)-'Cumulative Volumes Metric'!E554)*Metric_Stone_Void_Percentage,((((B554-B555)/100)*Metric_Module_Square_Foot_Area)-'Cumulative Volumes Metric'!E554)*Metric_Stone_Void_Percentage))","v":""},"",{"$f":"IF(B554=\"\",\"\",((Metric_System_Area_Input-Metric_Number_Of_Stacks*_xlfn.XLOOKUP(Metric_Layers,CrateData[Layer],CrateData[Surface Area (m2)]))*((B554-IF(B555=\"\",0,B555))/100))*Metric_Stone_Void_Percentage)","v":""},"","",{"$f":"IF(B554=\"\",\"\",SUM(J554:$J$563))","v":""},""]
["","",{"$f":"IF(B555=\"\",\"\",IFERROR(_xlfn.XLOOKUP(ROUND(B555,1),MetricIncrementalData[System Increment],_xlfn.XLOOKUP('Metric Incremental Crate'!$R$3,MetricIncrementalData[#Headers],MetricIncrementalData[]),,1),0))","v":""},"",{"$f":"IF(B555=\"\",\"\",IFERROR(_xlfn.XLOOKUP(ROUND(B555,1),MetricIncrementalData[System Increment],_xlfn.XLOOKUP(Metric_Incremental_Data_Target_Column,MetricIncrementalData[#Headers],MetricIncrementalData[]),,1),0))","v":""},{"$f":"IF(B555=\"\",\"\",IF(B556=\"\",((((B555-0)/100)*Metric_Module_Square_Foot_Area)-'Cumulative Volumes Metric'!E555)*Metric_Stone_Void_Percentage,((((B555-B556)/100)*Metric_Module_Square_Foot_Area)-'Cumulative Volumes Metric'!E555)*Metric_Stone_Void_Percentage))","v":""},"",{"$f":"IF(B555=\"\",\"\",((Metric_System_Area_Input-Metric_Number_Of_Stacks*_xlfn.XLOOKUP(Metric_Layers,CrateData[Layer],CrateData[Surface Area (m2)]))*((B555-IF(B556=\"\",0,B556))/100))*Metric_Stone_Void_Percentage)","v":""},"","",{"$f":"IF(B555=\"\",\"\",SUM(J555:$J$563))","v":""},""]
["","",{"$f":"IF(B556=\"\",\"\",IFERROR(_xlfn.XLOOKUP(ROUND(B556,1),MetricIncrementalData[System Increment],_xlfn.XLOOKUP('Metric Incremental Crate'!$R$3,MetricIncrementalData[#Headers],MetricIncrementalData[]),,1),0))","v":""},"",{"$f":"IF(B556=\"\",\"\",IFERROR(_xlfn.XLOOKUP(ROUND(B556,1),MetricIncrementalData[System Increment],_xlfn.XLOOKUP(Metric_Incremental_Data_Target_Column,MetricIncrementalData[#Headers],MetricIncrementalData[]),,1),0))","v":""},{"$f":"IF(B556=\"\",\"\",IF(B557=\"\",((((B556-0)/100)*Metric_Module_Square_Foot_Area)-'Cumulative Volumes Metric'!E556)*Metric_Stone_Void_Percentage,((((B556-B557)/100)*Metric_Module_Square_Foot_Area)-'Cumulative Volumes Metric'!E556)*Metric_Stone_Void_Percentage))","v":""},"",{"$f":"IF(B556=\"\",\"\",((Metric_System_Area_Input-Metric_Number_Of_Stacks*_xlfn.XLOOKUP(Metric_Layers,CrateData[Layer],CrateData[Surface Area (m2)]))*((B556-IF(B557=\"\",0,B557))/100))*Metric_Stone_Void_Percentage)","v":""},"","",{"$f":"IF(B556=\"\",\"\",SUM(J556:$J$563))","v":""},""]
["","",{"$f":"IF(B557=\"\",\"\",IFERROR(_xlfn.XLOOKUP(ROUND(B557,1),MetricIncrementalData[System Increment],_xlfn.XLOOKUP('Metric Incremental Crate'!$R$3,MetricIncrementalData[#Headers],MetricIncrementalData[]),,1),0))","v":""},"",{"$f":"IF(B557=\"\",\"\",IFERROR(_xlfn.XLOOKUP(ROUND(B557,1),MetricIncrementalData[System Increment],_xlfn.XLOOKUP(Metric_Incremental_Data_Target_Column,MetricIncrementalData[#Headers],MetricIncrementalData[]),,1),0))","v":""},{"$f":"IF(B557=\"\",\"\",IF(B558=\"\",((((B557-0)/100)*Metric_Module_Square_Foot_Area)-'Cumulative Volumes Metric'!E557)*Metric_Stone_Void_Percentage,((((B557-B558)/100)*Metric_Module_Square_Foot_Area)-'Cumulative Volumes Metric'!E557)*Metric_Stone_Void_Percentage))","v":""},"",{"$f":"IF(B557=\"\",\"\",((Metric_System_Area_Input-Metric_Number_Of_Stacks*_xlfn.XLOOKUP(Metric_Layers,CrateData[Layer],CrateData[Surface Area (m2)]))*((B557-IF(B558=\"\",0,B558))/100))*Metric_Stone_Void_Percentage)","v":""},"","",{"$f":"IF(B557=\"\",\"\",SUM(J557:$J$563))","v":""},""]
["","",{"$f":"IF(B558=\"\",\"\",IFERROR(_xlfn.XLOOKUP(ROUND(B558,1),MetricIncrementalData[System Increment],_xlfn.XLOOKUP('Metric Incremental Crate'!$R$3,MetricIncrementalData[#Headers],MetricIncrementalData[]),,1),0))","v":""},"",{"$f":"IF(B558=\"\",\"\",IFERROR(_xlfn.XLOOKUP(ROUND(B558,1),MetricIncrementalData[System Increment],_xlfn.XLOOKUP(Metric_Incremental_Data_Target_Column,MetricIncrementalData[#Headers],MetricIncrementalData[]),,1),0))","v":""},{"$f":"IF(B558=\"\",\"\",IF(B559=\"\",((((B558-0)/100)*Metric_Module_Square_Foot_Area)-'Cumulative Volumes Metric'!E558)*Metric_Stone_Void_Percentage,((((B558-B559)/100)*Metric_Module_Square_Foot_Area)-'Cumulative Volumes Metric'!E558)*Metric_Stone_Void_Percentage))","v":""},"",{"$f":"IF(B558=\"\",\"\",((Metric_System_Area_Input-Metric_Number_Of_Stacks*_xlfn.XLOOKUP(Metric_Layers,CrateData[Layer],CrateData[Surface Area (m2)]))*((B558-IF(B559=\"\",0,B559))/100))*Metric_Stone_Void_Percentage)","v":""},"","",{"$f":"IF(B558=\"\",\"\",SUM(J558:$J$563))","v":""},""]
["","",{"$f":"IF(B559=\"\",\"\",IFERROR(_xlfn.XLOOKUP(ROUND(B559,1),MetricIncrementalData[System Increment],_xlfn.XLOOKUP('Metric Incremental Crate'!$R$3,MetricIncrementalData[#Headers],MetricIncrementalData[]),,1),0))","v":""},"",{"$f":"IF(B559=\"\",\"\",IFERROR(_xlfn.XLOOKUP(ROUND(B559,1),MetricIncrementalData[System Increment],_xlfn.XLOOKUP(Metric_Incremental_Data_Target_Column,MetricIncrementalData[#Headers],MetricIncrementalData[]),,1),0))","v":""},{"$f":"IF(B559=\"\",\"\",IF(B560=\"\",((((B559-0)/100)*Metric_Module_Square_Foot_Area)-'Cumulative Volumes Metric'!E559)*Metric_Stone_Void_Percentage,((((B559-B560)/100)*Metric_Module_Square_Foot_Area)-'Cumulative Volumes Metric'!E559)*Metric_Stone_Void_Percentage))","v":""},"",{"$f":"IF(B559=\"\",\"\",((Metric_System_Area_Input-Metric_Number_Of_Stacks*_xlfn.XLOOKUP(Metric_Layers,CrateData[Layer],CrateData[Surface Area (m2)]))*((B559-IF(B560=\"\",0,B560))/100))*Metric_Stone_Void_Percentage)","v":""},"","",{"$f":"IF(B559=\"\",\"\",SUM(J559:$J$563))","v":""},""]
["","",{"$f":"IF(B560=\"\",\"\",IFERROR(_xlfn.XLOOKUP(ROUND(B560,1),MetricIncrementalData[System Increment],_xlfn.XLOOKUP('Metric Incremental Crate'!$R$3,MetricIncrementalData[#Headers],MetricIncrementalData[]),,1),0))","v":""},"",{"$f":"IF(B560=\"\",\"\",IFERROR(_xlfn.XLOOKUP(ROUND(B560,1),MetricIncrementalData[System Increment],_xlfn.XLOOKUP(Metric_Incremental_Data_Target_Column,MetricIncrementalData[#Headers],MetricIncrementalData[]),,1),0))","v":""},{"$f":"IF(B560=\"\",\"\",IF(B561=\"\",((((B560-0)/100)*Metric_Module_Square_Foot_Area)-'Cumulative Volumes Metric'!E560)*Metric_Stone_Void_Percentage,((((B560-B561)/100)*Metric_Module_Square_Foot_Area)-'Cumulative Volumes Metric'!E560)*Metric_Stone_Void_Percentage))","v":""},"",{"$f":"IF(B560=\"\",\"\",((Metric_System_Area_Input-Metric_Number_Of_Stacks*_xlfn.XLOOKUP(Metric_Layers,CrateData[Layer],CrateData[Surface Area (m2)]))*((B560-IF(B561=\"\",0,B561))/100))*Metric_Stone_Void_Percentage)","v":""},"","",{"$f":"IF(B560=\"\",\"\",SUM(J560:$J$563))","v":""},""]
["","",{"$f":"IF(B561=\"\",\"\",IFERROR(_xlfn.XLOOKUP(ROUND(B561,1),MetricIncrementalData[System Increment],_xlfn.XLOOKUP('Metric Incremental Crate'!$R$3,MetricIncrementalData[#Headers],MetricIncrementalData[]),,1),0))","v":""},"",{"$f":"IF(B561=\"\",\"\",IFERROR(_xlfn.XLOOKUP(ROUND(B561,1),MetricIncrementalData[System Increment],_xlfn.XLOOKUP(Metric_Incremental_Data_Target_Column,MetricIncrementalData[#Headers],MetricIncrementalData[]),,1),0))","v":""},{"$f":"IF(B561=\"\",\"\",IF(B562=\"\",((((B561-0)/100)*Metric_Module_Square_Foot_Area)-'Cumulative Volumes Metric'!E561)*Metric_Stone_Void_Percentage,((((B561-B562)/100)*Metric_Module_Square_Foot_Area)-'Cumulative Volumes Metric'!E561)*Metric_Stone_Void_Percentage))","v":""},"",{"$f":"IF(B561=\"\",\"\",((Metric_System_Area_Input-Metric_Number_Of_Stacks*_xlfn.XLOOKUP(Metric_Layers,CrateData[Layer],CrateData[Surface Area (m2)]))*((B561-IF(B562=\"\",0,B562))/100))*Metric_Stone_Void_Percentage)","v":""},"","",{"$f":"IF(B561=\"\",\"\",SUM(J561:$J$563))","v":""},""]
[null,"",{"$f":"IF(B562=\"\",\"\",IFERROR(_xlfn.XLOOKUP(ROUND(B562,1),MetricIncrementalData[System Increment],_xlfn.XLOOKUP('Metric Incremental Crate'!$R$3,MetricIncrementalData[#Headers],MetricIncrementalData[]),,1),0))","v":""},"",{"$f":"IF(B562=\"\",\"\",IFERROR(_xlfn.XLOOKUP(ROUND(B562,1),MetricIncrementalData[System Increment],_xlfn.XLOOKUP(Metric_Incremental_Data_Target_Column,MetricIncrementalData[#Headers],MetricIncrementalData[]),,1),0))","v":""},{"$f":"IF(B562=\"\",\"\",IF(B563=\"\",((((B562-0)/100)*Metric_Module_Square_Foot_Area)-'Cumulative Volumes Metric'!E562)*Metric_Stone_Void_Percentage,((((B562-B563)/100)*Metric_Module_Square_Foot_Area)-'Cumulative Volumes Metric'!E562)*Metric_Stone_Void_Percentage))","v":""},"",{"$f":"IF(B562=\"\",\"\",((Metric_System_Area_Input-Metric_Number_Of_Stacks*_xlfn.XLOOKUP(Metric_Layers,CrateData[Layer],CrateData[Surface Area (m2)]))*((B562-IF(B563=\"\",0,B563))/100))*Metric_Stone_Void_Percentage)","v":""},"","",{"$f":"IF(B562=\"\",\"\",SUM(J562:$J$563))","v":""},""]
[null,"",{"$f":"IF(B563=\"\",\"\",IFERROR(_xlfn.XLOOKUP(ROUND(B563,1),MetricIncrementalData[System Increment],_xlfn.XLOOKUP('Metric Incremental Crate'!$R$3,MetricIncrementalData[#Headers],MetricIncrementalData[]),,1),0))","v":""},"",{"$f":"IF(B563=\"\",\"\",IFERROR(_xlfn.XLOOKUP(ROUND(B563,1),MetricIncrementalData[System Increment],_xlfn.XLOOKUP(Metric_Incremental_Data_Target_Column,MetricIncrementalData[#Headers],MetricIncrementalData[]),,1),0))","v":""},{"$f":"IF(B563=\"\",\"\",IF(#REF!=\"\",((((B563-0)/100)*Metric_Module_Square_Foot_Area)-'Cumulative Volumes Metric'!E563)*Metric_Stone_Void_Percentage,((((B563-#REF!)/100)*Metric_Module_Square_Foot_Area)-'Cumulative Volumes Metric'!E563)*Metric_Stone_Void_Percentage))","v":""},"",{"$f":"IF(B563=\"\",\"\",((Metric_System_Area_Input-Metric_Number_Of_Stacks*_xlfn.XLOOKUP(Metric_Layers,CrateData[Layer],CrateData[Surface Area (m2)]))*((B563-IF(#REF!=\"\",0,#REF!))/100))*Metric_Stone_Void_Percentage)","v":""},"","",{"$f":"IF(B563=\"\",\"\",SUM(J563:$J$563))","v":""},""]

{"sheet":"Interpolation","index":2,"n_rows":11,"n_cols":16,"rows_kept":11,"hidden":true}
[]
[null,"Volume above",{"$f":"IFERROR(ROUND('Cumulative Volumes Imperial'!$K$18-Interpolation!C4,2),\"\")","v":""},null,"Lower elevation","Lower Volume",null,"Upper Elevation","Upper Volume",null,"Vu-Vl","Eu-El","Eu-Et"]
[null,"Top of storage",{"$f":"'Cumulative Volumes Imperial'!Q19","v":0},null,{"$f":"ROUND(_xlfn.XLOOKUP(F3,'Cumulative Volumes Imperial'!$K$18:$K$233,'Cumulative Volumes Imperial'!$L$18:$L$233),2)","v":{"$error":"#N/A"}},{"$f":"_xlfn.XLOOKUP($C$3,ROUND('Cumulative Volumes Imperial'!$L$18:$L$233,2),'Cumulative Volumes Imperial'!$K$18:$K$233,,-1)","v":{"$error":"#N/A"}},null,{"$f":"ROUND(_xlfn.XLOOKUP(I3,'Cumulative Volumes Imperial'!$K$18:$K$233,'Cumulative Volumes Imperial'!$L$18:$L$233),2)","v":100.08},{"$f":"_xlfn.XLOOKUP($C$3,ROUND('Cumulative Volumes Imperial'!$L$18:$L$233,2),'Cumulative Volumes Imperial'!$K$18:$K$233,,1)","v":23.33333333333333},null,{"$f":"I3-F3","v":{"$error":"#N/A"}},{"$f":"H3-E3","v":{"$error":"#N/A"}},{"$f":"H3-C3","v":100.08}]
[null,"Volume Below",{"$f":"IFERROR(IF(F3=I3,F3,ROUND(((K3/L3)*M3-I3)*-1,2)),\"\")","v":""}]
[]
[null,"Volume above",{"$f":"IFERROR(ROUND('Cumulative Volumes Imperial'!K18-Interpolation!C8,2),\"\")","v":""},null,"Lower elevation","Lower Volume",null,"Upper Elevation","Upper Volume",null,"Vu-Vl","Eu-El","Eu-Et"]
[null,"Bottom of storage",{"$f":"'Cumulative Volumes Imperial'!Q23","v":0},null,{"$f":"ROUND(_xlfn.XLOOKUP(F7,'Cumulative Volumes Imperial'!$K$18:$K$233,'Cumulative Volumes Imperial'!$L$18:$L$233),2)","v":{"$error":"#N/A"}},{"$f":"_xlfn.XLOOKUP($C$7,ROUND('Cumulative Volumes Imperial'!$L$18:$L$233,2),'Cumulative Volumes Imperial'!$K$18:$K$233,,-1)","v":{"$error":"#N/A"}},null,{"$f":"ROUND(_xlfn.XLOOKUP(I7,'Cumulative Volumes Imperial'!$K$18:$K$233,'Cumulative Volumes Imperial'!$L$18:$L$233),2)","v":100.08},{"$f":"_xlfn.XLOOKUP($C$7,ROUND('Cumulative Volumes Imperial'!$L$18:$L$233,2),'Cumulative Volumes Imperial'!$K$18:$K$233,,1)","v":23.33333333333333},null,{"$f":"I7-F7","v":{"$error":"#N/A"}},{"$f":"H7-E7","v":{"$error":"#N/A"}},{"$f":"H7-C7","v":100.08}]
[null,"Volume above",{"$f":"IFERROR(IF(F7=I7,F7,ROUND(((K7/L7)*M7-I7)*-1,2)),\"\")","v":""}]
[{"$nulls":4},"Lower Volume","Lower elevation",null,"Upper Volume","Upper Elevation",null,"Vu-Vl","Eu-El","(Vu-Vl)/(Eu-El)","Vu-Vt","(Vu-Vt)/[(Vu-Vl)/(Eu-El)]","((Vu-Vt)/[(Vu-Vl)/(Eu-El)]-Eu)*-1"]
[null,"Target Volume",{"$f":"'Cumulative Volumes Imperial'!Q28","v":0},null,{"$f":"_xlfn.XLOOKUP(_xlfn.XLOOKUP($C$10,'Cumulative Volumes Imperial'!$K$18:$K$233,'Cumulative Volumes Imperial'!$L$18:$L$233,,-1),'Cumulative Volumes Imperial'!$L$18:$L$233,'Cumulative Volumes Imperial'!$K$18:$K$233)","v":{"$error":"#N/A"}},{"$f":"ROUND(_xlfn.XLOOKUP($C$10,'Cumulative Volumes Imperial'!$K$18:$K$233,'Cumulative Volumes Imperial'!$L$18:$L$233,,-1),2)","v":{"$error":"#N/A"}},null,{"$f":"_xlfn.XLOOKUP(_xlfn.XLOOKUP($C$10,'Cumulative Volumes Imperial'!$K$18:$K$233,'Cumulative Volumes Imperial'!$L$18:$L$233,,1),'Cumulative Volumes Imperial'!$L$18:$L$233,'Cumulative Volumes Imperial'!$K$18:$K$233)","v":23.33333333333333},{"$f":"ROUND(_xlfn.XLOOKUP($C$10,'Cumulative Volumes Imperial'!$K$18:$K$233,'Cumulative Volumes Imperial'!$L$18:$L$233,,1),2)","v":100.08},null,{"$f":"H10-E10","v":{"$error":"#N/A"}},{"$f":"I10-F10","v":{"$error":"#N/A"}},{"$f":"K10/L10","v":{"$error":"#N/A"}},{"$f":"H10-C10","v":23.33333333333333},{"$f":"N10/M10","v":{"$error":"#N/A"}},{"$f":"(O10-I10)*-1","v":{"$error":"#N/A"}}]
[null,"Target Volume Elevation",{"$f":"IFERROR(ROUND(P10,2),\"\")","v":""}]

{"sheet":"InterpolationMetric","index":3,"n_rows":11,"n_cols":16,"rows_kept":11,"hidden":true}
[]
[null,"Volume above",{"$f":"IFERROR(ROUND('Cumulative Volumes Metric'!$K$18-InterpolationMetric!C4,2),\"\")","v":""},null,"Lower elevation","Lower Volume",null,"Upper Elevation","Upper Volume",null,"Vu-Vl","Eu-El","Eu-Et"]
[null,"Top of storage",{"$f":"'Cumulative Volumes Metric'!Q19","v":0},null,{"$f":"_xlfn.XLOOKUP(F3,'Cumulative Volumes Metric'!$K$18:$K$563,'Cumulative Volumes Metric'!$L$18:$L$563)","v":{"$error":"#N/A"}},{"$f":"_xlfn.XLOOKUP($C$3,'Cumulative Volumes Metric'!$L$18:$L$563,'Cumulative Volumes Metric'!$K$18:$K$563,,-1)","v":{"$error":"#N/A"}},null,{"$f":"_xlfn.XLOOKUP(I3,'Cumulative Volumes Metric'!$K$18:$K$563,'Cumulative Volumes Metric'!$L$18:$L$563)","v":100.012},{"$f":"_xlfn.XLOOKUP($C$3,'Cumulative Volumes Metric'!$L$18:$L$563,'Cumulative Volumes Metric'!$K$18:$K$563,,1)","v":0.28800000000000064},null,{"$f":"I3-F3","v":{"$error":"#N/A"}},{"$f":"H3-E3","v":{"$error":"#N/A"}},{"$f":"H3-C3","v":100.012}]
[null,"Volume Below",{"$f":"IFERROR(IF(F3=I3,F3,ROUND(((K3/L3)*M3-I3)*-1,2)),\"\")","v":""}]
[]
[null,"Volume above",{"$f":"IFERROR(ROUND('Cumulative Volumes Metric'!K18-InterpolationMetric!C8,2),\"\")","v":""},null,"Lower elevation","Lower Volume",null,"Upper Elevation","Upper Volume",null,"Vu-Vl","Eu-El","Eu-Et"]
[null,"Bottom of storage",{"$f":"'Cumulative Volumes Metric'!Q23","v":0},null,{"$f":"_xlfn.XLOOKUP(F7,'Cumulative Volumes Metric'!$K$18:$K$563,'Cumulative Volumes Metric'!$L$18:$L$563)","v":{"$error":"#N/A"}},{"$f":"_xlfn.XLOOKUP($C$7,'Cumulative Volumes Metric'!$L$18:$L$563,'Cumulative Volumes Metric'!$K$18:$K$563,,-1)","v":{"$error":"#N/A"}},null,{"$f":"_xlfn.XLOOKUP(I7,'Cumulative Volumes Metric'!$K$18:$K$563,'Cumulative Volumes Metric'!$L$18:$L$563)","v":100.012},{"$f":"_xlfn.XLOOKUP($C$7,'Cumulative Volumes Metric'!$L$18:$L$563,'Cumulative Volumes Metric'!$K$18:$K$563,,1)","v":0.28800000000000064},null,{"$f":"I7-F7","v":{"$error":"#N/A"}},{"$f":"H7-E7","v":{"$error":"#N/A"}},{"$f":"H7-C7","v":100.012}]
[null,"Volume above",{"$f":"IFERROR(IF(F7=I7,F7,ROUND(((K7/L7)*M7-I7)*-1,2)),\"\")","v":""}]
[{"$nulls":4},"Lower Volume","Lower elevation",null,"Upper Volume","Upper Elevation",null,"Vu-Vl","Eu-El","(Vu-Vl)/(Eu-El)","Vu-Vt","(Vu-Vt)/[(Vu-Vl)/(Eu-El)]","((Vu-Vt)/[(Vu-Vl)/(Eu-El)]-Eu)*-1"]
[null,"Target Volume",{"$f":"'Cumulative Volumes Metric'!Q28","v":0},null,{"$f":"_xlfn.XLOOKUP(F10,'Cumulative Volumes Metric'!$L$18:$L$563,'Cumulative Volumes Metric'!$K$18:$K$563)","v":{"$error":"#N/A"}},{"$f":"_xlfn.XLOOKUP($C$10,'Cumulative Volumes Metric'!$K$18:$K$563,'Cumulative Volumes Metric'!$L$18:$L$563,,-1)","v":{"$error":"#N/A"}},null,{"$f":"_xlfn.XLOOKUP(I10,'Cumulative Volumes Metric'!$L$18:$L$563,'Cumulative Volumes Metric'!$K$18:$K$563)","v":0.28800000000000064},{"$f":"_xlfn.XLOOKUP($C$10,'Cumulative Volumes Metric'!$K$18:$K$563,'Cumulative Volumes Metric'!$L$18:$L$563,,1)","v":100.012},null,{"$f":"H10-E10","v":{"$error":"#N/A"}},{"$f":"I10-F10","v":{"$error":"#N/A"}},{"$f":"K10/L10","v":{"$error":"#N/A"}},{"$f":"H10-C10","v":0.28800000000000064},{"$f":"N10/M10","v":{"$error":"#N/A"}},{"$f":"(O10-I10)*-1","v":{"$error":"#N/A"}}]
[null,"Target Volume Elevation",{"$f":"IFERROR(ROUND(P10,3),\"\")","v":""}]

{"sheet":"Crate Data","index":4,"n_rows":21,"n_cols":15,"rows_kept":21,"hidden":true}
[]
[null,"Layer","Height (cm)","Height","Length (cm)","Length (inch)","Length (ft)","Width (cm)","Width (inch)","Width (ft)","Surface Area (sf)","Surface Area (m2)",null,"new","previous"]
[null,0.5,45,17.75,75,{"$f":"CrateData[[#This Row],[Length (cm)]]*10/25.4","v":29.52755905511811},{"$f":"CrateData[[#This Row],[Length (inch)]]/12","v":2.4606299212598426},75,{"$f":"CrateData[[#This Row],[Width (cm)]]*10/25.4","v":29.52755905511811},{"$f":"CrateData[[#This Row],[Width (inch)]]/12","v":2.4606299212598426},{"$f":"CrateData[[#This Row],[Width (ft)]]*CrateData[[#This Row],[Length (ft)]]","v":6.054699609399219},{"$f":"(CrateData[[#This Row],[Length (cm)]]/100)*(CrateData[[#This Row],[Width (cm)]]/100)","v":0.5625},null,17.75]
[null,1,80,31.5,75,{"$f":"CrateData[[#This Row],[Length (cm)]]*10/25.4","v":29.52755905511811},{"$f":"CrateData[[#This Row],[Length (inch)]]/12","v":2.4606299212598426},75,{"$f":"CrateData[[#This Row],[Width (cm)]]*10/25.4","v":29.52755905511811},{"$f":"CrateData[[#This Row],[Width (inch)]]/12","v":2.4606299212598426},{"$f":"CrateData[[#This Row],[Width (ft)]]*CrateData[[#This Row],[Length (ft)]]","v":6.054699609399219},{"$f":"(CrateData[[#This Row],[Length (cm)]]/100)*(CrateData[[#This Row],[Width (cm)]]/100)","v":0.5625}]
[null,1.5,120,47.25,75,{"$f":"CrateData[[#This Row],[Length (cm)]]*10/25.4","v":29.52755905511811},{"$f":"CrateData[[#This Row],[Length (inch)]]/12","v":2.4606299212598426},75,{"$f":"CrateData[[#This Row],[Width (cm)]]*10/25.4","v":29.52755905511811},{"$f":"CrateData[[#This Row],[Width (inch)]]/12","v":2.4606299212598426},{"$f":"CrateData[[#This Row],[Width (ft)]]*CrateData[[#This Row],[Length (ft)]]","v":6.054699609399219},{"$f":"(CrateData[[#This Row],[Length (cm)]]/100)*(CrateData[[#This Row],[Width (cm)]]/100)","v":0.5625},null,49.25,47.25]
[null,2,160,63,75,{"$f":"CrateData[[#This Row],[Length (cm)]]*10/25.4","v":29.52755905511811},{"$f":"CrateData[[#This Row],[Length (inch)]]/12","v":2.4606299212598426},75,{"$f":"CrateData[[#This Row],[Width (cm)]]*10/25.4","v":29.52755905511811},{"$f":"CrateData[[#This Row],[Width (inch)]]/12","v":2.4606299212598426},{"$f":"CrateData[[#This Row],[Width (ft)]]*CrateData[[#This Row],[Length (ft)]]","v":6.054699609399219},{"$f":"(CrateData[[#This Row],[Length (cm)]]/100)*(CrateData[[#This Row],[Width (cm)]]/100)","v":0.5625}]
[null,2.5,200,78.75,75,{"$f":"CrateData[[#This Row],[Length (cm)]]*10/25.4","v":29.52755905511811},{"$f":"CrateData[[#This Row],[Length (inch)]]/12","v":2.4606299212598426},75,{"$f":"CrateData[[#This Row],[Width (cm)]]*10/25.4","v":29.52755905511811},{"$f":"CrateData[[#This Row],[Width (inch)]]/12","v":2.4606299212598426},{"$f":"CrateData[[#This Row],[Width (ft)]]*CrateData[[#This Row],[Length (ft)]]","v":6.054699609399219},{"$f":"(CrateData[[#This Row],[Length (cm)]]/100)*(CrateData[[#This Row],[Width (cm)]]/100)","v":0.5625},null,80.75,78.75]
[null,3,240,94.5,75,{"$f":"CrateData[[#This Row],[Length (cm)]]*10/25.4","v":29.52755905511811},{"$f":"CrateData[[#This Row],[Length (inch)]]/12","v":2.4606299212598426},75,{"$f":"CrateData[[#This Row],[Width (cm)]]*10/25.4","v":29.52755905511811},{"$f":"CrateData[[#This Row],[Width (inch)]]/12","v":2.4606299212598426},{"$f":"CrateData[[#This Row],[Width (ft)]]*CrateData[[#This Row],[Length (ft)]]","v":6.054699609399219},{"$f":"(CrateData[[#This Row],[Length (cm)]]/100)*(CrateData[[#This Row],[Width (cm)]]/100)","v":0.5625}]
[]
[null,"Yes"]
[null,"No"]
[]
[]
[{"$nulls":3},"Excavation Volume",{"$f":"'Cumulative Volumes Imperial'!I12*'Cumulative Volumes Imperial'!B18/12","v":2537.5},"cf",{"$f":"'Cumulative Volumes Metric'!I12*'Cumulative Volumes Metric'!B18/100","v":66.24},"m3",null,{"$f":"POWER(G3,2)*CONVERT(C3,\"cm\",\"ft\")","v":8.939025013876801},{"$f":"POWER(G3,2)*D3/12","v":8.955909838903013}]
[{"$nulls":3},"Total crate volume",{"$f":"('Imperial Incremental Crate'!B4*'Imperial Incremental Crate'!C4*_xlfn.XLOOKUP('Cumulative Volumes Imperial'!I4,CrateData[Layer],CrateData[Height])/12)*'Cumulative Volumes Imperial'!I7","v":1668.8265798406599},"cf",{"$f":"'Cumulative Volumes Metric'!Metric_Number_Of_Stacks*Metric_Module_Square_Foot_Area*_xlfn.XLOOKUP('Cumulative Volumes Metric'!Metric_Layers,CrateData[Layer],CrateData[Height (cm)])/100","v":47.25},"m3",null,{"$f":"POWER(G3,2)*CONVERT(5,\"cm\",\"ft\")","v":0.9932250015418668},{"$f":"POWER(G3,2)*2/12","v":1.0091166015665365}]
[{"$nulls":3},"Baseplate total",{"$f":"('Imperial Incremental Crate'!B4*'Imperial Incremental Crate'!C4*2/12)*'Cumulative Volumes Imperial'!I7","v":105.95724316448633},"cf",{"$f":"(Metric_Module_Square_Foot_Area*'Cumulative Volumes Metric'!I7)*5/100","v":2.953125},"m3",null,{"$f":"J14-J15","v":7.945800012334934},{"$f":"K14-K15","v":7.946793237336476}]
[{"$nulls":3},"Half Check",{"$f":"OR('Cumulative Volumes Imperial'!I4=0.5)","v":false},null,{"$f":"OR('Cumulative Volumes Metric'!I4=0.5)","v":false},null,null,{"$f":"J16*0.96","v":7.627968011841537},{"$f":"K16*0.96","v":7.628921507843017}]
[{"$nulls":3},"Crate storage volume",{"$f":"IF(E17,(E15-E16)*'Imperial Incremental Crate'!H2+E16*'Imperial Incremental Crate'!H3,E15*'Imperial Incremental Crate'!H2)","v":1602.0735166470333},"cf",{"$f":"IF(G17,(G15-G16)*'Metric Incremental Crate'!H2+G16*'Metric Incremental Crate'!H3,G15*'Metric Incremental Crate'!H2)","v":45.36},"m3",null,{"$f":"J15*0.82","v":0.8144445012643307},{"$f":"K15*L18","v":0.811077492156984},0.8037500234342396]
[{"$nulls":3},"Total stone volume",{"$f":"E14-E15","v":868.6734201593401},"cf",{"$f":"G14-G15","v":18.989999999999995},"m3",null,{"$f":"J17+J18","v":8.442412513105868},{"$f":"K17+K18","v":8.439999}]
[{"$nulls":3},"Stone Storage Volume",{"$f":"E19*'Cumulative Volumes Imperial'!I10","v":347.46936806373606},"cf",{"$f":"G19*'Cumulative Volumes Metric'!I10","v":7.595999999999998},"m3"]
[{"$nulls":3},"Total Storage Volume",{"$f":"E20+E18","v":1949.5428847107694},"cf",{"$f":"G20+G18","v":52.955999999999996},"m3"]

{"sheet":"Imperial Incremental Crate","index":5,"n_rows":387,"n_cols":30,"rows_kept":387,"hidden":true}
[null,"Length","Width","Height",null,"SF area",null,"Void %",null,null,"Minimum Required Area",{"$nulls":6},"height (inch)",31.5,47.25,63,78.75,94.5]
["mm",750,750,800,{"$nulls":3},0.96,null,null,{"$f":"_xlfn.XLOOKUP('Cumulative Volumes Imperial'!I4,CrateData[Layer],CrateData[Surface Area (sf)])*'Cumulative Volumes Imperial'!I7","v":635.7434589869181}]
["in",{"$f":"B2/25.4","v":29.52755905511811},{"$f":"C2/25.4","v":29.52755905511811},31.496062992125985,{"$nulls":3},0.80375,"<--82% adjusted to 0.80375 to mimic metric (5cm is not quite 2\")",{"$nulls":8},{"$f":"_xlfn.CONCAT('Cumulative Volumes Imperial'!$I$4,\" Storage\")","v":"1 Storage"}]
["ft",{"$f":"B3/12","v":2.4606299212598426},{"$f":"C3/12","v":2.4606299212598426},2.6246719160104988,null,{"$f":"B4*C4","v":6.054699609399219},"sf",{"$nulls":10},{"$f":"_xlfn.CONCAT('Cumulative Volumes Imperial'!$I$4,\" Total\")","v":"1 Total"}]
[{"$nulls":9},"Layers",1,1.5,2,2.5,3]
[null,"Storage of module",{"$nulls":7},"height (inch)",31.5,47.25,63,78.75,94.5,null,"Crate Increment","System Increment","1 Storage","1.5 Storage","2 Storage","2.5 Storage","3 Storage","1 Total","1.5 Total","2 Total","2.5 Total","3 Total","0.5 Storage","0.5 Total"]
[null,0.25,{"$f":"$B$7*$F$4*$H$2/12","v":0.12109399218798439},null,{"$f":"C7","v":0.12109399218798439},"cf/quarter in",null,null,0,{"$f":"0.25+I7+'Cumulative Volumes Imperial'!I9","v":6.25},{"$f":"$C$7","v":0.12109399218798439},{"$f":"$C$7","v":0.12109399218798439},0.12109399218798439,0.12109399218798439,0.12109399218798439,null,0,{"$f":"Q7+'Cumulative Volumes Imperial'!I9","v":6},0,0,0,0,0,0,0,0,0,0,0,0]
[null,0.5,{"$f":"$B$7*$F$4*$H$2/12","v":0.12109399218798439},null,{"$f":"SUM(C7:C8)","v":0.24218798437596878},"cf/half in",null,null,0.25,{"$f":"J7+0.25","v":6.5},{"$f":"$C$7","v":0.12109399218798439},0.12109399218798439,0.12109399218798439,0.12109399218798439,0.12109399218798439,null,1,{"$f":"R7+1","v":7},{"$f":"$E$10","v":0.4843759687519375},{"$f":"$E$10","v":0.4843759687519375},0.4843759687519375,0.4843759687519375,0.4843759687519375,{"$f":"$E$28","v":0.5045583007832682},{"$f":"$E$28","v":0.5045583007832682},0.5045583007832682,0.5045583007832682,0.5045583007832682,{"$f":"$E$35","v":0.40553873425455184},{"$f":"$E$28","v":0.5045583007832682}]
[null,0.75,{"$f":"$B$7*$F$4*$H$2/12","v":0.12109399218798439},null,{"$f":"SUM(C7:C9)","v":0.36328197656395317},"cf/three quarter in",null,null,0.5,{"$f":"J8+0.25","v":6.75},0.12109399218798439,0.12109399218798439,0.12109399218798439,0.12109399218798439,0.12109399218798439,null,2,{"$f":"R8+1","v":8},{"$f":"$E$10","v":0.4843759687519375},0.4843759687519375,0.4843759687519375,0.4843759687519375,0.4843759687519375,{"$f":"$E$28","v":0.5045583007832682},0.5045583007832682,0.5045583007832682,0.5045583007832682,0.5045583007832682,{"$f":"$E$35","v":0.40553873425455184},{"$f":"$E$28","v":0.5045583007832682}]
[null,1,{"$f":"$B$7*$F$4*$H$2/12","v":0.12109399218798439},null,{"$f":"$C$12*$H$2","v":0.4843759687519375},"cf/in",null,null,0.75,7,0.12109399218798439,0.12109399218798439,0.12109399218798439,0.12109399218798439,0.12109399218798439,null,3,9,0.4843759687519375,0.4843759687519375,0.4843759687519375,0.4843759687519375,0.4843759687519375,0.5045583007832682,0.5045583007832682,0.5045583007832682,0.5045583007832682,0.5045583007832682,{"$f":"$E$10","v":0.4843759687519375},0.5045583007832682]
[{"$nulls":8},1,7.25,0.12109399218798439,0.12109399218798439,0.12109399218798439,0.12109399218798439,0.12109399218798439,null,4,10,0.4843759687519375,0.4843759687519375,0.4843759687519375,0.4843759687519375,0.4843759687519375,0.5045583007832682,0.5045583007832682,0.5045583007832682,0.5045583007832682,0.5045583007832682,{"$f":"$E$10","v":0.4843759687519375},0.5045583007832682]
[null,null,{"$f":"F4/12","v":0.5045583007832682},"total volume cf/in",{"$nulls":4},1.25,7.5,0.12109399218798439,0.12109399218798439,0.12109399218798439,0.12109399218798439,0.12109399218798439,null,5,11,0.4843759687519375,0.4843759687519375,0.4843759687519375,0.4843759687519375,0.4843759687519375,0.5045583007832682,0.5045583007832682,0.5045583007832682,0.5045583007832682,0.5045583007832682,0.4843759687519375,0.5045583007832682]
[{"$nulls":8},1.5,7.75,0.12109399218798439,0.12109399218798439,0.12109399218798439,0.12109399218798439,0.12109399218798439,null,6,12,0.4843759687519375,0.4843759687519375,0.4843759687519375,0.4843759687519375,0.4843759687519375,0.5045583007832682,0.5045583007832682,0.5045583007832682,0.5045583007832682,0.5045583007832682,0.4843759687519375,0.5045583007832682]
[null,null,{"$f":"C12*B10*H2","v":0.4843759687519375},{"$nulls":5},1.75,8,0.12109399218798439,0.12109399218798439,0.12109399218798439,0.12109399218798439,0.12109399218798439,null,7,13,0.4843759687519375,0.4843759687519375,0.4843759687519375,0.4843759687519375,0.4843759687519375,0.5045583007832682,0.5045583007832682,0.5045583007832682,0.5045583007832682,0.5045583007832682,0.4843759687519375,0.5045583007832682]
[{"$nulls":8},2,8.25,0.12109399218798439,0.12109399218798439,0.12109399218798439,0.12109399218798439,0.12109399218798439,null,8,14,0.4843759687519375,0.4843759687519375,0.4843759687519375,0.4843759687519375,0.4843759687519375,0.5045583007832682,0.5045583007832682,0.5045583007832682,0.5045583007832682,0.5045583007832682,0.4843759687519375,0.5045583007832682]
[null,null,{"$f":"C12-C14/H2","v":0},{"$nulls":5},2.25,8.5,0.12109399218798439,0.12109399218798439,0.12109399218798439,0.12109399218798439,0.12109399218798439,null,9,15,0.4843759687519375,0.4843759687519375,0.4843759687519375,0.4843759687519375,0.4843759687519375,0.5045583007832682,0.5045583007832682,0.5045583007832682,0.5045583007832682,0.5045583007832682,0.4843759687519375,0.5045583007832682]
[{"$nulls":8},2.5,8.75,0.12109399218798439,0.12109399218798439,0.12109399218798439,0.12109399218798439,0.12109399218798439,null,10,16,0.4843759687519375,0.4843759687519375,0.4843759687519375,0.4843759687519375,0.4843759687519375,0.5045583007832682,0.5045583007832682,0.5045583007832682,0.5045583007832682,0.5045583007832682,0.4843759687519375,0.5045583007832682]
[{"$nulls":8},2.75,9,0.12109399218798439,0.12109399218798439,0.12109399218798439,0.12109399218798439,0.12109399218798439,null,11,17,0.4843759687519375,0.4843759687519375,0.4843759687519375,0.4843759687519375,0.4843759687519375,0.5045583007832682,0.5045583007832682,0.5045583007832682,0.5045583007832682,0.5045583007832682,0.4843759687519375,0.5045583007832682]
[null,null,15.8936,{"$f":"C19*31","v":492.7016},{"$f":"D19*0.96","v":472.99353599999995},{"$f":"C19*32*0.96","v":488.25139199999995},null,null,3,9.25,0.12109399218798439,0.12109399218798439,0.12109399218798439,0.12109399218798439,0.12109399218798439,null,12,18,0.4843759687519375,0.4843759687519375,0.4843759687519375,0.4843759687519375,0.4843759687519375,0.5045583007832682,0.5045583007832682,0.5045583007832682,0.5045583007832682,0.5045583007832682,0.4843759687519375,0.5045583007832682]
[null,null,{"$f":"C19","v":15.8936},null,{"$f":"0.94*C20","v":14.939983999999999},{"$nulls":3},3.25,9.5,0.12109399218798439,0.12109399218798439,0.12109399218798439,0.12109399218798439,0.12109399218798439,null,13,19,0.4843759687519375,0.4843759687519375,0.4843759687519375,0.4843759687519375,0.4843759687519375,0.5045583007832682,0.5045583007832682,0.5045583007832682,0.5045583007832682,0.5045583007832682,0.4843759687519375,0.5045583007832682]
[{"$nulls":4},{"$f":"SUM(E19:E20)","v":487.93351999999993},null,{"$f":"F19-E21","v":0.3178720000000226},null,3.5,9.75,0.12109399218798439,0.12109399218798439,0.12109399218798439,0.12109399218798439,0.12109399218798439,null,14,20,0.4843759687519375,0.4843759687519375,0.4843759687519375,0.4843759687519375,0.4843759687519375,0.5045583007832682,0.5045583007832682,0.5045583007832682,0.5045583007832682,0.5045583007832682,0.4843759687519375,0.5045583007832682]
[{"$nulls":8},3.75,10,0.12109399218798439,0.12109399218798439,0.12109399218798439,0.12109399218798439,0.12109399218798439,null,15,21,0.4843759687519375,0.4843759687519375,0.4843759687519375,0.4843759687519375,0.4843759687519375,0.5045583007832682,0.5045583007832682,0.5045583007832682,0.5045583007832682,0.5045583007832682,0.4843759687519375,0.5045583007832682]
[{"$nulls":8},4,10.25,0.12109399218798439,0.12109399218798439,0.12109399218798439,0.12109399218798439,0.12109399218798439,null,16,22,0.4843759687519375,0.4843759687519375,0.4843759687519375,0.4843759687519375,0.4843759687519375,0.5045583007832682,0.5045583007832682,0.5045583007832682,0.5045583007832682,0.5045583007832682,0.4843759687519375,0.5045583007832682]
[null,"Total volume of module",{"$nulls":6},4.25,10.5,0.12109399218798439,0.12109399218798439,0.12109399218798439,0.12109399218798439,0.12109399218798439,null,17,23,0.4843759687519375,0.4843759687519375,0.4843759687519375,0.4843759687519375,0.4843759687519375,0.5045583007832682,0.5045583007832682,0.5045583007832682,0.5045583007832682,0.5045583007832682,0.4843759687519375,0.5045583007832682]
[null,0.25,{"$f":"$B$25*$F$4/12","v":0.12613957519581706},null,{"$f":"C25","v":0.12613957519581706},"cf/quarter in",null,null,4.5,10.75,0.12109399218798439,0.12109399218798439,0.12109399218798439,0.12109399218798439,0.12109399218798439,null,18,24,0.4843759687519375,0.4843759687519375,0.4843759687519375,0.4843759687519375,0.4843759687519375,0.5045583007832682,0.5045583007832682,0.5045583007832682,0.5045583007832682,0.5045583007832682,{"$f":"$E$9","v":0.36328197656395317},{"$f":"$E$27","v":0.37841872558745115}]
[null,0.5,{"$f":"$B$25*$F$4/12","v":0.12613957519581706},null,{"$f":"SUM(C25:C26)","v":0.2522791503916341},"cf/half in",null,null,4.75,11,0.12109399218798439,0.12109399218798439,0.12109399218798439,0.12109399218798439,0.12109399218798439,null,19,25,0.4843759687519375,0.4843759687519375,0.4843759687519375,0.4843759687519375,0.4843759687519375,0.5045583007832682,0.5045583007832682,0.5045583007832682,0.5045583007832682,0.5045583007832682]
[null,0.75,0.12613957519581706,null,{"$f":"SUM(C25:C27)","v":0.37841872558745115},"cf/three quarter in",null,null,5,11.25,0.12109399218798439,0.12109399218798439,0.12109399218798439,0.12109399218798439,0.12109399218798439,null,20,26,0.4843759687519375,0.4843759687519375,0.4843759687519375,0.4843759687519375,0.4843759687519375,0.5045583007832682,0.5045583007832682,0.5045583007832682,0.5045583007832682,0.5045583007832682]
[null,1,0.12613957519581706,null,{"$f":"SUM(C25:C28)","v":0.5045583007832682},"cf/in",null,null,5.25,11.5,0.12109399218798439,0.12109399218798439,0.12109399218798439,0.12109399218798439,0.12109399218798439,null,21,27,0.4843759687519375,0.4843759687519375,0.4843759687519375,0.4843759687519375,0.4843759687519375,0.5045583007832682,0.5045583007832682,0.5045583007832682,0.5045583007832682,0.5045583007832682]
[{"$nulls":8},5.5,11.75,0.12109399218798439,0.12109399218798439,0.12109399218798439,0.12109399218798439,0.12109399218798439,null,22,28,0.4843759687519375,0.4843759687519375,0.4843759687519375,0.4843759687519375,0.4843759687519375,0.5045583007832682,0.5045583007832682,0.5045583007832682,0.5045583007832682,0.5045583007832682]
[{"$nulls":8},5.75,12,0.12109399218798439,0.12109399218798439,0.12109399218798439,0.12109399218798439,0.12109399218798439,null,23,29,0.4843759687519375,0.4843759687519375,0.4843759687519375,0.4843759687519375,0.4843759687519375,0.5045583007832682,0.5045583007832682,0.5045583007832682,0.5045583007832682,0.5045583007832682]
[null,"Storage of bottom plate",{"$nulls":6},6,12.25,0.12109399218798439,0.12109399218798439,0.12109399218798439,0.12109399218798439,0.12109399218798439,null,24,30,0.4843759687519375,0.4843759687519375,0.4843759687519375,0.4843759687519375,0.4843759687519375,0.5045583007832682,0.5045583007832682,0.5045583007832682,0.5045583007832682,0.5045583007832682]
[null,0.25,{"$f":"$B$7*$F$4*$H$3/12","v":0.10138468356363796},null,{"$f":"C32","v":0.10138468356363796},"cf/quarter in",null,null,6.25,12.5,0.12109399218798439,0.12109399218798439,0.12109399218798439,0.12109399218798439,0.12109399218798439,null,25,31,0.4843759687519375,0.4843759687519375,0.4843759687519375,0.4843759687519375,0.4843759687519375,0.5045583007832682,0.5045583007832682,0.5045583007832682,0.5045583007832682,0.5045583007832682]
[null,0.5,{"$f":"$B$7*$F$4*$H$3/12","v":0.10138468356363796},null,{"$f":"SUM(C32:C33)","v":0.20276936712727592},"cf/half in",null,null,6.5,12.75,0.12109399218798439,0.12109399218798439,0.12109399218798439,0.12109399218798439,0.12109399218798439,null,26,32,0.4843759687519375,0.4843759687519375,0.4843759687519375,0.4843759687519375,0.4843759687519375,0.5045583007832682,0.5045583007832682,0.5045583007832682,0.5045583007832682,0.5045583007832682]
[null,0.75,{"$f":"$B$7*$F$4*$H$3/12","v":0.10138468356363796},null,{"$f":"SUM(C32:C34)","v":0.3041540506909139},"cf/three quarter in",null,null,6.75,13,0.12109399218798439,0.12109399218798439,0.12109399218798439,0.12109399218798439,0.12109399218798439,null,27,33,0.4843759687519375,0.4843759687519375,0.4843759687519375,0.4843759687519375,0.4843759687519375,0.5045583007832682,0.5045583007832682,0.5045583007832682,0.5045583007832682,0.5045583007832682]
[null,1,{"$f":"$B$7*$F$4*$H$3/12","v":0.10138468356363796},null,{"$f":"SUM(C32:C35)","v":0.40553873425455184},"cf/in",null,null,7,13.25,0.12109399218798439,0.12109399218798439,0.12109399218798439,0.12109399218798439,0.12109399218798439,null,28,34,0.4843759687519375,0.4843759687519375,0.4843759687519375,0.4843759687519375,0.4843759687519375,0.5045583007832682,0.5045583007832682,0.5045583007832682,0.5045583007832682,0.5045583007832682]
[{"$nulls":8},7.25,13.5,0.12109399218798439,0.12109399218798439,0.12109399218798439,0.12109399218798439,0.12109399218798439,null,29,35,0.4843759687519375,0.4843759687519375,0.4843759687519375,0.4843759687519375,0.4843759687519375,0.5045583007832682,0.5045583007832682,0.5045583007832682,0.5045583007832682,0.5045583007832682]
[{"$nulls":8},7.5,13.75,0.12109399218798439,0.12109399218798439,0.12109399218798439,0.12109399218798439,0.12109399218798439,null,30,36,0.4843759687519375,0.4843759687519375,0.4843759687519375,0.4843759687519375,0.4843759687519375,0.5045583007832682,0.5045583007832682,0.5045583007832682,0.5045583007832682,0.5045583007832682]
[{"$nulls":8},7.75,14,0.12109399218798439,0.12109399218798439,0.12109399218798439,0.12109399218798439,0.12109399218798439,null,31,37,0.4843759687519375,0.4843759687519375,0.4843759687519375,0.4843759687519375,0.4843759687519375,0.5045583007832682,0.5045583007832682,0.5045583007832682,0.5045583007832682,0.5045583007832682]
[{"$nulls":8},8,14.25,0.12109399218798439,0.12109399218798439,0.12109399218798439,0.12109399218798439,0.12109399218798439,null,32,38,{"$f":"E8","v":0.24218798437596878},0.4843759687519375,0.4843759687519375,0.4843759687519375,0.4843759687519375,{"$f":"$E$26","v":0.2522791503916341},0.5045583007832682,0.5045583007832682,0.5045583007832682,0.5045583007832682]
[{"$nulls":8},8.25,14.5,{"$f":"$C$7","v":0.12109399218798439},0.12109399218798439,0.12109399218798439,0.12109399218798439,0.12109399218798439,null,33,39,null,0.4843759687519375,0.4843759687519375,0.4843759687519375,0.4843759687519375,null,0.5045583007832682,0.5045583007832682,0.5045583007832682,0.5045583007832682]
[{"$nulls":8},8.5,14.75,0.12109399218798439,0.12109399218798439,0.12109399218798439,0.12109399218798439,0.12109399218798439,null,34,40,null,{"$f":"$E$10","v":0.4843759687519375},0.4843759687519375,0.4843759687519375,0.4843759687519375,null,0.5045583007832682,0.5045583007832682,0.5045583007832682,0.5045583007832682]
[{"$nulls":8},8.75,15,0.12109399218798439,0.12109399218798439,0.12109399218798439,0.12109399218798439,0.12109399218798439,null,35,41,null,0.4843759687519375,0.4843759687519375,0.4843759687519375,0.4843759687519375,null,0.5045583007832682,0.5045583007832682,0.5045583007832682,0.5045583007832682]
[{"$nulls":8},9,15.25,0.12109399218798439,0.12109399218798439,0.12109399218798439,0.12109399218798439,0.12109399218798439,null,36,42,null,0.4843759687519375,0.4843759687519375,0.4843759687519375,0.4843759687519375,null,0.5045583007832682,0.5045583007832682,0.5045583007832682,0.5045583007832682]
[{"$nulls":8},9.25,15.5,0.12109399218798439,0.12109399218798439,0.12109399218798439,0.12109399218798439,0.12109399218798439,null,37,43,null,0.4843759687519375,0.4843759687519375,0.4843759687519375,0.4843759687519375,null,0.5045583007832682,0.5045583007832682,0.5045583007832682,0.5045583007832682]
[{"$nulls":8},9.5,15.75,0.12109399218798439,0.12109399218798439,0.12109399218798439,0.12109399218798439,0.12109399218798439,null,38,44,null,0.4843759687519375,0.4843759687519375,0.4843759687519375,0.4843759687519375,null,0.5045583007832682,0.5045583007832682,0.5045583007832682,0.5045583007832682]
[{"$nulls":8},9.75,16,0.12109399218798439,0.12109399218798439,0.12109399218798439,0.12109399218798439,0.12109399218798439,null,39,45,null,0.4843759687519375,0.4843759687519375,0.4843759687519375,0.4843759687519375,null,0.5045583007832682,0.5045583007832682,0.5045583007832682,0.5045583007832682]
[{"$nulls":8},10,16.25,0.12109399218798439,0.12109399218798439,0.12109399218798439,0.12109399218798439,0.12109399218798439,null,40,46,null,0.4843759687519375,0.4843759687519375,0.4843759687519375,0.4843759687519375,null,0.5045583007832682,0.5045583007832682,0.5045583007832682,0.5045583007832682]
[{"$nulls":8},10.25,16.5,0.12109399218798439,0.12109399218798439,0.12109399218798439,0.12109399218798439,0.12109399218798439,null,41,47,null,0.4843759687519375,0.4843759687519375,0.4843759687519375,0.4843759687519375,null,0.5045583007832682,0.5045583007832682,0.5045583007832682,0.5045583007832682]
[{"$nulls":8},10.5,16.75,0.12109399218798439,0.12109399218798439,0.12109399218798439,0.12109399218798439,0.12109399218798439,null,42,48,null,0.4843759687519375,0.4843759687519375,0.4843759687519375,0.4843759687519375,null,0.5045583007832682,0.5045583007832682,0.5045583007832682,0.5045583007832682]
[{"$nulls":8},10.75,17,0.12109399218798439,0.12109399218798439,0.12109399218798439,0.12109399218798439,0.12109399218798439,null,43,49,null,0.4843759687519375,0.4843759687519375,0.4843759687519375,0.4843759687519375,null,0.5045583007832682,0.5045583007832682,{"$f":"$E$28","v":0.5045583007832682},0.5045583007832682]
[{"$nulls":8},11,17.25,0.12109399218798439,0.12109399218798439,0.12109399218798439,0.12109399218798439,0.12109399218798439,null,44,50,null,0.4843759687519375,0.4843759687519375,0.4843759687519375,0.4843759687519375,null,0.5045583007832682,0.5045583007832682,0.5045583007832682,0.5045583007832682]
[{"$nulls":8},11.25,17.5,0.12109399218798439,0.12109399218798439,0.12109399218798439,0.12109399218798439,0.12109399218798439,null,45,51,null,0.4843759687519375,0.4843759687519375,0.4843759687519375,0.4843759687519375,null,0.5045583007832682,0.5045583007832682,0.5045583007832682,0.5045583007832682]
[{"$nulls":8},11.5,17.75,0.12109399218798439,0.12109399218798439,0.12109399218798439,0.12109399218798439,0.12109399218798439,null,46,52,null,0.4843759687519375,0.4843759687519375,0.4843759687519375,0.4843759687519375,null,0.5045583007832682,0.5045583007832682,0.5045583007832682,0.5045583007832682]
[{"$nulls":8},11.75,18,0.12109399218798439,0.12109399218798439,0.12109399218798439,0.12109399218798439,0.12109399218798439,null,47,53,null,0.4843759687519375,0.4843759687519375,0.4843759687519375,0.4843759687519375,null,0.5045583007832682,0.5045583007832682,0.5045583007832682,0.5045583007832682]
[{"$nulls":8},12,18.25,0.12109399218798439,0.12109399218798439,0.12109399218798439,0.12109399218798439,0.12109399218798439,null,48,54,null,{"$f":"$E$7","v":0.12109399218798439},0.4843759687519375,0.4843759687519375,0.4843759687519375,null,{"$f":"$E$25","v":0.12613957519581706},0.5045583007832682,0.5045583007832682,0.5045583007832682]
[{"$nulls":8},12.25,18.5,0.12109399218798439,0.12109399218798439,0.12109399218798439,0.12109399218798439,0.12109399218798439,null,49,55,null,null,0.4843759687519375,0.4843759687519375,0.4843759687519375,null,null,{"$f":"$E$28","v":0.5045583007832682},0.5045583007832682,0.5045583007832682]
[{"$nulls":8},12.5,18.75,0.12109399218798439,0.12109399218798439,0.12109399218798439,0.12109399218798439,0.12109399218798439,null,50,56,null,null,{"$f":"$E$10","v":0.4843759687519375},0.4843759687519375,0.4843759687519375,null,null,0.5045583007832682,0.5045583007832682,0.5045583007832682]
[{"$nulls":8},12.75,19,0.12109399218798439,0.12109399218798439,0.12109399218798439,0.12109399218798439,0.12109399218798439,null,51,57,null,null,0.4843759687519375,0.4843759687519375,0.4843759687519375,null,null,0.5045583007832682,0.5045583007832682,0.5045583007832682]
[{"$nulls":8},13,19.25,0.12109399218798439,0.12109399218798439,0.12109399218798439,0.12109399218798439,0.12109399218798439,null,52,58,null,null,0.4843759687519375,0.4843759687519375,0.4843759687519375,null,null,0.5045583007832682,0.5045583007832682,0.5045583007832682]
[{"$nulls":8},13.25,19.5,0.12109399218798439,0.12109399218798439,0.12109399218798439,0.12109399218798439,0.12109399218798439,null,53,59,null,null,0.4843759687519375,0.4843759687519375,0.4843759687519375,null,null,0.5045583007832682,0.5045583007832682,0.5045583007832682]
[{"$nulls":8},13.5,19.75,0.12109399218798439,0.12109399218798439,0.12109399218798439,0.12109399218798439,0.12109399218798439,null,54,60,null,null,0.4843759687519375,0.4843759687519375,0.4843759687519375,null,null,0.5045583007832682,0.5045583007832682,0.5045583007832682]
[{"$nulls":8},13.75,20,0.12109399218798439,0.12109399218798439,0.12109399218798439,0.12109399218798439,0.12109399218798439,null,55,61,null,null,0.4843759687519375,0.4843759687519375,0.4843759687519375,null,null,0.5045583007832682,0.5045583007832682,0.5045583007832682]
[{"$nulls":8},14,20.25,0.12109399218798439,0.12109399218798439,0.12109399218798439,0.12109399218798439,0.12109399218798439,null,56,62,null,null,0.4843759687519375,0.4843759687519375,0.4843759687519375,null,null,0.5045583007832682,0.5045583007832682,0.5045583007832682]
[{"$nulls":8},14.25,20.5,0.12109399218798439,0.12109399218798439,0.12109399218798439,0.12109399218798439,0.12109399218798439,null,57,63,null,null,0.4843759687519375,0.4843759687519375,0.4843759687519375,null,null,0.5045583007832682,0.5045583007832682,0.5045583007832682]
[{"$nulls":8},14.5,20.75,0.12109399218798439,0.12109399218798439,0.12109399218798439,0.12109399218798439,0.12109399218798439,null,58,64,null,null,0.4843759687519375,0.4843759687519375,0.4843759687519375,null,null,0.5045583007832682,0.5045583007832682,0.5045583007832682]
[{"$nulls":8},14.75,21,0.12109399218798439,0.12109399218798439,0.12109399218798439,0.12109399218798439,0.12109399218798439,null,59,65,null,null,0.4843759687519375,0.4843759687519375,0.4843759687519375,null,null,0.5045583007832682,0.5045583007832682,0.5045583007832682]
[{"$nulls":8},15,21.25,0.12109399218798439,0.12109399218798439,0.12109399218798439,0.12109399218798439,0.12109399218798439,null,60,66,null,null,0.4843759687519375,0.4843759687519375,0.4843759687519375,null,null,0.5045583007832682,0.5045583007832682,0.5045583007832682]
[{"$nulls":8},15.25,21.5,0.12109399218798439,0.12109399218798439,0.12109399218798439,0.12109399218798439,0.12109399218798439,null,61,67,null,null,0.4843759687519375,0.4843759687519375,0.4843759687519375,null,null,0.5045583007832682,0.5045583007832682,0.5045583007832682]
[{"$nulls":8},15.5,21.75,0.12109399218798439,0.12109399218798439,0.12109399218798439,0.12109399218798439,0.12109399218798439,null,62,68,null,null,0.4843759687519375,0.4843759687519375,0.4843759687519375,null,null,0.5045583007832682,0.5045583007832682,0.5045583007832682]
[{"$nulls":8},15.75,22,0.12109399218798439,0.12109399218798439,0.12109399218798439,0.12109399218798439,0.12109399218798439,null,63,69,null,null,0.4843759687519375,0.4843759687519375,0.4843759687519375,null,null,0.5045583007832682,0.5045583007832682,0.5045583007832682]
[{"$nulls":8},16,22.25,0.12109399218798439,0.12109399218798439,0.12109399218798439,0.12109399218798439,0.12109399218798439,null,64,70,{"$nulls":3},0.4843759687519375,0.4843759687519375,{"$nulls":3},0.5045583007832682,0.5045583007832682]
[{"$nulls":8},16.25,22.5,{"$f":"$C$7","v":0.12109399218798439},0.12109399218798439,0.12109399218798439,0.12109399218798439,0.12109399218798439,null,65,71,{"$nulls":3},0.4843759687519375,0.4843759687519375,{"$nulls":3},{"$f":"$E$28","v":0.5045583007832682},0.5045583007832682]
[{"$nulls":8},16.5,{"$f":"J72+0.25","v":22.75},0.12109399218798439,0.12109399218798439,0.12109399218798439,0.12109399218798439,0.12109399218798439,null,66,{"$f":"R72+1","v":72},{"$nulls":3},{"$f":"$E$10","v":0.4843759687519375},0.4843759687519375,{"$nulls":3},0.5045583007832682,0.5045583007832682]
[{"$nulls":8},16.75,23,0.12109399218798439,0.12109399218798439,0.12109399218798439,0.12109399218798439,0.12109399218798439,null,67,73,{"$nulls":3},0.4843759687519375,0.4843759687519375,{"$nulls":3},0.5045583007832682,0.5045583007832682]
[{"$nulls":8},17,23.25,0.12109399218798439,0.12109399218798439,0.12109399218798439,0.12109399218798439,0.12109399218798439,null,68,74,{"$nulls":3},0.4843759687519375,0.4843759687519375,{"$nulls":3},0.5045583007832682,0.5045583007832682]
[{"$nulls":8},17.25,23.5,0.12109399218798439,0.12109399218798439,0.12109399218798439,0.12109399218798439,0.12109399218798439,null,69,75,{"$nulls":3},0.4843759687519375,0.4843759687519375,{"$nulls":3},0.5045583007832682,0.5045583007832682]
[{"$nulls":8},17.5,23.75,0.12109399218798439,0.12109399218798439,0.12109399218798439,0.12109399218798439,0.12109399218798439,null,70,76,{"$nulls":3},0.4843759687519375,0.4843759687519375,{"$nulls":3},0.5045583007832682,0.5045583007832682]
[{"$nulls":8},17.75,24,0.12109399218798439,0.12109399218798439,0.12109399218798439,0.12109399218798439,0.12109399218798439,null,71,77,{"$nulls":3},0.4843759687519375,0.4843759687519375,{"$nulls":3},0.5045583007832682,0.5045583007832682]
[{"$nulls":8},18,24.25,0.12109399218798439,0.12109399218798439,0.12109399218798439,0.12109399218798439,0.12109399218798439,null,72,78,{"$nulls":3},0.4843759687519375,0.4843759687519375,{"$nulls":3},0.5045583007832682,0.5045583007832682]
[{"$nulls":8},18.25,24.5,0.12109399218798439,0.12109399218798439,0.12109399218798439,0.12109399218798439,0.12109399218798439,null,73,79,{"$nulls":3},0.4843759687519375,0.4843759687519375,{"$nulls":3},0.5045583007832682,0.5045583007832682]
[{"$nulls":8},18.5,24.75,0.12109399218798439,0.12109399218798439,0.12109399218798439,0.12109399218798439,0.12109399218798439,null,74,80,{"$nulls":3},0.4843759687519375,0.4843759687519375,{"$nulls":3},0.5045583007832682,0.5045583007832682]
[{"$nulls":8},18.75,25,0.12109399218798439,0.12109399218798439,0.12109399218798439,0.12109399218798439,0.12109399218798439,null,75,81,{"$nulls":3},0.4843759687519375,0.4843759687519375,{"$nulls":3},0.5045583007832682,0.5045583007832682]
[{"$nulls":8},19,25.25,0.12109399218798439,0.12109399218798439,0.12109399218798439,0.12109399218798439,0.12109399218798439,null,76,82,{"$nulls":3},0.4843759687519375,0.4843759687519375,{"$nulls":3},0.5045583007832682,0.5045583007832682]
[{"$nulls":8},19.25,25.5,0.12109399218798439,0.12109399218798439,0.12109399218798439,0.12109399218798439,0.12109399218798439,null,77,83,{"$nulls":3},0.4843759687519375,0.4843759687519375,{"$nulls":3},0.5045583007832682,0.5045583007832682]
[{"$nulls":8},19.5,25.75,0.12109399218798439,0.12109399218798439,0.12109399218798439,0.12109399218798439,0.12109399218798439,null,78,84,{"$nulls":3},0.4843759687519375,0.4843759687519375,{"$nulls":3},0.5045583007832682,0.5045583007832682]
[{"$nulls":8},19.75,26,0.12109399218798439,0.12109399218798439,0.12109399218798439,0.12109399218798439,0.12109399218798439,null,79,85,{"$nulls":3},{"$f":"$E$9","v":0.36328197656395317},0.4843759687519375,{"$nulls":3},{"$f":"$E$27","v":0.37841872558745115},0.5045583007832682]
[{"$nulls":8},20,26.25,0.12109399218798439,0.12109399218798439,0.12109399218798439,0.12109399218798439,0.12109399218798439,null,80,86,{"$nulls":4},0.4843759687519375,{"$nulls":4},0.5045583007832682]
[{"$nulls":8},20.25,26.5,0.12109399218798439,0.12109399218798439,0.12109399218798439,0.12109399218798439,0.12109399218798439,null,81,87,{"$nulls":4},0.4843759687519375,{"$nulls":4},{"$f":"$E$28","v":0.5045583007832682}]
[{"$nulls":8},20.5,26.75,0.12109399218798439,0.12109399218798439,0.12109399218798439,0.12109399218798439,0.12109399218798439,null,82,88,{"$nulls":4},{"$f":"$E$10","v":0.4843759687519375},{"$nulls":4},0.5045583007832682]
[{"$nulls":8},20.75,27,0.12109399218798439,0.12109399218798439,0.12109399218798439,0.12109399218798439,0.12109399218798439,null,83,89,{"$nulls":4},0.4843759687519375,{"$nulls":4},0.5045583007832682]
[{"$nulls":8},21,27.25,0.12109399218798439,0.12109399218798439,0.12109399218798439,0.12109399218798439,0.12109399218798439,null,84,90,{"$nulls":4},0.4843759687519375,{"$nulls":4},0.5045583007832682]
[{"$nulls":8},21.25,27.5,0.12109399218798439,0.12109399218798439,0.12109399218798439,0.12109399218798439,0.12109399218798439,null,85,91,{"$nulls":4},0.4843759687519375,{"$nulls":4},0.5045583007832682]
[{"$nulls":8},21.5,27.75,0.12109399218798439,0.12109399218798439,0.12109399218798439,0.12109399218798439,0.12109399218798439,null,86,92,{"$nulls":4},0.4843759687519375,{"$nulls":4},0.5045583007832682]
[{"$nulls":8},21.75,28,0.12109399218798439,0.12109399218798439,0.12109399218798439,0.12109399218798439,0.12109399218798439,null,87,93,{"$nulls":4},0.4843759687519375,{"$nulls":4},0.5045583007832682]
[{"$nulls":8},22,28.25,0.12109399218798439,0.12109399218798439,0.12109399218798439,0.12109399218798439,0.12109399218798439,null,88,94,{"$nulls":4},0.4843759687519375,{"$nulls":4},0.5045583007832682]
[{"$nulls":8},22.25,28.5,0.12109399218798439,0.12109399218798439,0.12109399218798439,0.12109399218798439,0.12109399218798439,null,89,95,{"$nulls":4},0.4843759687519375,{"$nulls":4},0.5045583007832682]
[{"$nulls":8},22.5,28.75,0.12109399218798439,0.12109399218798439,0.12109399218798439,0.12109399218798439,0.12109399218798439,null,90,96,{"$nulls":4},0.4843759687519375,{"$nulls":4},0.5045583007832682]
[{"$nulls":8},22.75,29,0.12109399218798439,0.12109399218798439,0.12109399218798439,0.12109399218798439,0.12109399218798439,null,91,97,{"$nulls":4},0.4843759687519375,{"$nulls":4},0.5045583007832682]
[{"$nulls":8},23,29.25,0.12109399218798439,0.12109399218798439,0.12109399218798439,0.12109399218798439,0.12109399218798439,null,92,98,{"$nulls":4},0.4843759687519375,{"$nulls":4},0.5045583007832682]
[{"$nulls":8},23.25,29.5,0.12109399218798439,0.12109399218798439,0.12109399218798439,0.12109399218798439,0.12109399218798439,null,93,99,{"$nulls":4},0.4843759687519375,{"$nulls":4},0.5045583007832682]
[{"$nulls":8},23.5,29.75,0.12109399218798439,0.12109399218798439,0.12109399218798439,0.12109399218798439,0.12109399218798439,null,94,100,{"$nulls":4},0.4843759687519375,{"$nulls":4},0.5045583007832682]
[{"$nulls":8},23.75,30,0.12109399218798439,0.12109399218798439,0.12109399218798439,0.12109399218798439,0.12109399218798439,null,95,101,{"$nulls":4},{"$f":"E8","v":0.24218798437596878},{"$nulls":4},{"$f":"$E$26","v":0.2522791503916341}]
[{"$nulls":8},24,30.25,0.12109399218798439,0.12109399218798439,0.12109399218798439,0.12109399218798439,0.12109399218798439,null,96,102]
[{"$nulls":8},24.25,30.5,{"$f":"$C$7","v":0.12109399218798439},0.12109399218798439,0.12109399218798439,0.12109399218798439,0.12109399218798439]
[{"$nulls":8},24.5,30.75,0.12109399218798439,0.12109399218798439,0.12109399218798439,0.12109399218798439,0.12109399218798439]
[{"$nulls":8},24.75,31,0.12109399218798439,0.12109399218798439,0.12109399218798439,0.12109399218798439,0.12109399218798439]
[{"$nulls":8},25,31.25,0.12109399218798439,0.12109399218798439,0.12109399218798439,0.12109399218798439,0.12109399218798439]
[{"$nulls":8},25.25,31.5,0.12109399218798439,0.12109399218798439,0.12109399218798439,0.12109399218798439,0.12109399218798439]
[{"$nulls":8},25.5,31.75,0.12109399218798439,0.12109399218798439,0.12109399218798439,0.12109399218798439,0.12109399218798439]
[{"$nulls":8},25.75,32,0.12109399218798439,0.12109399218798439,0.12109399218798439,0.12109399218798439,0.12109399218798439]
[{"$nulls":8},26,32.25,0.12109399218798439,0.12109399218798439,0.12109399218798439,0.12109399218798439,0.12109399218798439]
[{"$nulls":8},26.25,32.5,0.12109399218798439,0.12109399218798439,0.12109399218798439,0.12109399218798439,0.12109399218798439]
[{"$nulls":8},26.5,32.75,0.12109399218798439,0.12109399218798439,0.12109399218798439,0.12109399218798439,0.12109399218798439]
[{"$nulls":8},26.75,33,0.12109399218798439,0.12109399218798439,0.12109399218798439,0.12109399218798439,0.12109399218798439]
[{"$nulls":8},27,33.25,0.12109399218798439,0.12109399218798439,0.12109399218798439,0.12109399218798439,0.12109399218798439]
[{"$nulls":8},27.25,33.5,0.12109399218798439,0.12109399218798439,0.12109399218798439,0.12109399218798439,0.12109399218798439]
[{"$nulls":8},27.5,33.75,0.12109399218798439,0.12109399218798439,0.12109399218798439,0.12109399218798439,0.12109399218798439]
[{"$nulls":8},27.75,34,0.12109399218798439,0.12109399218798439,0.12109399218798439,0.12109399218798439,0.12109399218798439]
[{"$nulls":8},28,34.25,0.12109399218798439,0.12109399218798439,0.12109399218798439,0.12109399218798439,0.12109399218798439]
[{"$nulls":8},28.25,34.5,0.12109399218798439,0.12109399218798439,0.12109399218798439,0.12109399218798439,0.12109399218798439]
[{"$nulls":8},28.5,34.75,0.12109399218798439,0.12109399218798439,0.12109399218798439,0.12109399218798439,0.12109399218798439]
[{"$nulls":8},28.75,35,0.12109399218798439,0.12109399218798439,0.12109399218798439,0.12109399218798439,0.12109399218798439]
[{"$nulls":8},29,35.25,0.12109399218798439,0.12109399218798439,0.12109399218798439,0.12109399218798439,0.12109399218798439]
[{"$nulls":8},29.25,35.5,0.12109399218798439,0.12109399218798439,0.12109399218798439,0.12109399218798439,0.12109399218798439]
[{"$nulls":8},29.5,35.75,0.12109399218798439,0.12109399218798439,0.12109399218798439,0.12109399218798439,0.12109399218798439]
[{"$nulls":8},29.75,36,0.12109399218798439,0.12109399218798439,0.12109399218798439,0.12109399218798439,0.12109399218798439]
[{"$nulls":8},30,36.25,0.12109399218798439,0.12109399218798439,0.12109399218798439,0.12109399218798439,0.12109399218798439]
[{"$nulls":8},30.25,36.5,0.12109399218798439,0.12109399218798439,0.12109399218798439,0.12109399218798439,0.12109399218798439]
[{"$nulls":8},30.5,36.75,0.12109399218798439,0.12109399218798439,0.12109399218798439,0.12109399218798439,0.12109399218798439]
[{"$nulls":8},30.75,37,0.12109399218798439,0.12109399218798439,0.12109399218798439,0.12109399218798439,0.12109399218798439]
[{"$nulls":8},31,37.25,0.12109399218798439,0.12109399218798439,0.12109399218798439,0.12109399218798439,0.12109399218798439]
[{"$nulls":8},31.25,37.5,0.12109399218798439,0.12109399218798439,0.12109399218798439,0.12109399218798439,0.12109399218798439]
[{"$nulls":8},31.5,37.75,0.12109399218798439,0.12109399218798439,0.12109399218798439,0.12109399218798439,0.12109399218798439]
[{"$nulls":8},31.75,38,null,0.12109399218798439,0.12109399218798439,0.12109399218798439,0.12109399218798439]
[{"$nulls":8},32,38.25,null,{"$f":"$C$7","v":0.12109399218798439},0.12109399218798439,0.12109399218798439,0.12109399218798439]
[{"$nulls":8},32.25,38.5,null,0.12109399218798439,0.12109399218798439,0.12109399218798439,0.12109399218798439]
[{"$nulls":8},32.5,{"$f":"J136+0.25","v":38.75},null,0.12109399218798439,0.12109399218798439,0.12109399218798439,0.12109399218798439]
[{"$nulls":8},32.75,39,null,0.12109399218798439,0.12109399218798439,0.12109399218798439,0.12109399218798439]
[{"$nulls":8},33,39.25,null,0.12109399218798439,0.12109399218798439,0.12109399218798439,0.12109399218798439]
[{"$nulls":8},33.25,39.5,null,0.12109399218798439,0.12109399218798439,0.12109399218798439,0.12109399218798439]
[{"$nulls":8},33.5,39.75,null,0.12109399218798439,0.12109399218798439,0.12109399218798439,0.12109399218798439]
[{"$nulls":8},33.75,40,null,0.12109399218798439,0.12109399218798439,0.12109399218798439,0.12109399218798439]
[{"$nulls":8},34,40.25,null,0.12109399218798439,0.12109399218798439,0.12109399218798439,0.12109399218798439]
[{"$nulls":8},34.25,40.5,null,0.12109399218798439,0.12109399218798439,0.12109399218798439,0.12109399218798439]
[{"$nulls":8},34.5,40.75,null,0.12109399218798439,0.12109399218798439,0.12109399218798439,0.12109399218798439]
[{"$nulls":8},34.75,41,null,0.12109399218798439,0.12109399218798439,0.12109399218798439,0.12109399218798439]
[{"$nulls":8},35,41.25,null,0.12109399218798439,0.12109399218798439,0.12109399218798439,0.12109399218798439]
[{"$nulls":8},35.25,41.5,null,0.12109399218798439,0.12109399218798439,0.12109399218798439,0.12109399218798439]
[{"$nulls":8},35.5,41.75,null,0.12109399218798439,0.12109399218798439,0.12109399218798439,0.12109399218798439]
[{"$nulls":8},35.75,42,null,0.12109399218798439,0.12109399218798439,0.12109399218798439,0.12109399218798439]
[{"$nulls":8},36,42.25,null,0.12109399218798439,0.12109399218798439,0.12109399218798439,0.12109399218798439]
[{"$nulls":8},36.25,42.5,null,0.12109399218798439,0.12109399218798439,0.12109399218798439,0.12109399218798439]
[{"$nulls":8},36.5,42.75,null,0.12109399218798439,0.12109399218798439,0.12109399218798439,0.12109399218798439]
[{"$nulls":8},36.75,43,null,0.12109399218798439,0.12109399218798439,0.12109399218798439,0.12109399218798439]
[{"$nulls":8},37,43.25,null,0.12109399218798439,0.12109399218798439,0.12109399218798439,0.12109399218798439]
[{"$nulls":8},37.25,43.5,null,0.12109399218798439,0.12109399218798439,0.12109399218798439,0.12109399218798439]
[{"$nulls":8},37.5,43.75,null,0.12109399218798439,0.12109399218798439,0.12109399218798439,0.12109399218798439]
[{"$nulls":8},37.75,44,null,0.12109399218798439,0.12109399218798439,0.12109399218798439,0.12109399218798439]
[{"$nulls":8},38,44.25,null,0.12109399218798439,0.12109399218798439,0.12109399218798439,0.12109399218798439]
[{"$nulls":8},38.25,44.5,null,0.12109399218798439,0.12109399218798439,0.12109399218798439,0.12109399218798439]
[{"$nulls":8},38.5,44.75,null,0.12109399218798439,0.12109399218798439,0.12109399218798439,0.12109399218798439]
[{"$nulls":8},38.75,45,null,0.12109399218798439,0.12109399218798439,0.12109399218798439,0.12109399218798439]
[{"$nulls":8},39,45.25,null,0.12109399218798439,0.12109399218798439,0.12109399218798439,0.12109399218798439]
[{"$nulls":8},39.25,45.5,null,0.12109399218798439,0.12109399218798439,0.12109399218798439,0.12109399218798439]
[{"$nulls":8},39.5,45.75,null,0.12109399218798439,0.12109399218798439,0.12109399218798439,0.12109399218798439]
[{"$nulls":8},39.75,46,null,0.12109399218798439,0.12109399218798439,0.12109399218798439,0.12109399218798439]
[{"$nulls":8},40,46.25,null,0.12109399218798439,0.12109399218798439,0.12109399218798439,0.12109399218798439]
[{"$nulls":8},40.25,46.5,null,0.12109399218798439,0.12109399218798439,0.12109399218798439,0.12109399218798439]
[{"$nulls":8},40.5,46.75,null,0.12109399218798439,0.12109399218798439,0.12109399218798439,0.12109399218798439]
[{"$nulls":8},40.75,47,null,0.12109399218798439,0.12109399218798439,0.12109399218798439,0.12109399218798439]
[{"$nulls":8},41,47.25,null,0.12109399218798439,0.12109399218798439,0.12109399218798439,0.12109399218798439]
[{"$nulls":8},41.25,47.5,null,0.12109399218798439,0.12109399218798439,0.12109399218798439,0.12109399218798439]
[{"$nulls":8},41.5,47.75,null,0.12109399218798439,0.12109399218798439,0.12109399218798439,0.12109399218798439]
[{"$nulls":8},41.75,48,null,0.12109399218798439,0.12109399218798439,0.12109399218798439,0.12109399218798439]
[{"$nulls":8},42,48.25,null,0.12109399218798439,0.12109399218798439,0.12109399218798439,0.12109399218798439]
[{"$nulls":8},42.25,48.5,null,0.12109399218798439,0.12109399218798439,0.12109399218798439,0.12109399218798439]
[{"$nulls":8},42.5,48.75,null,0.12109399218798439,0.12109399218798439,0.12109399218798439,0.12109399218798439]
[{"$nulls":8},42.75,49,null,0.12109399218798439,0.12109399218798439,0.12109399218798439,0.12109399218798439]
[{"$nulls":8},43,49.25,null,0.12109399218798439,0.12109399218798439,0.12109399218798439,0.12109399218798439]
[{"$nulls":8},43.25,49.5,null,0.12109399218798439,0.12109399218798439,0.12109399218798439,0.12109399218798439]
[{"$nulls":8},43.5,49.75,null,0.12109399218798439,0.12109399218798439,0.12109399218798439,0.12109399218798439]
[{"$nulls":8},43.75,50,null,0.12109399218798439,0.12109399218798439,0.12109399218798439,0.12109399218798439]
[{"$nulls":8},44,50.25,null,0.12109399218798439,0.12109399218798439,0.12109399218798439,0.12109399218798439]
[{"$nulls":8},44.25,50.5,null,0.12109399218798439,0.12109399218798439,0.12109399218798439,0.12109399218798439]
[{"$nulls":8},44.5,50.75,null,0.12109399218798439,0.12109399218798439,0.12109399218798439,0.12109399218798439]
[{"$nulls":8},44.75,51,null,0.12109399218798439,0.12109399218798439,0.12109399218798439,0.12109399218798439]
[{"$nulls":8},45,51.25,null,0.12109399218798439,0.12109399218798439,0.12109399218798439,0.12109399218798439]
[{"$nulls":8},45.25,51.5,null,0.12109399218798439,0.12109399218798439,0.12109399218798439,0.12109399218798439]
[{"$nulls":8},45.5,51.75,null,0.12109399218798439,0.12109399218798439,0.12109399218798439,0.12109399218798439]
[{"$nulls":8},45.75,52,null,0.12109399218798439,0.12109399218798439,0.12109399218798439,0.12109399218798439]
[{"$nulls":8},46,52.25,null,0.12109399218798439,0.12109399218798439,0.12109399218798439,0.12109399218798439]
[{"$nulls":8},46.25,52.5,null,0.12109399218798439,0.12109399218798439,0.12109399218798439,0.12109399218798439]
[{"$nulls":8},46.5,52.75,null,0.12109399218798439,0.12109399218798439,0.12109399218798439,0.12109399218798439]
[{"$nulls":8},46.75,53,null,0.12109399218798439,0.12109399218798439,0.12109399218798439,0.12109399218798439]
[{"$nulls":8},47,53.25,null,0.12109399218798439,0.12109399218798439,0.12109399218798439,0.12109399218798439]
[{"$nulls":8},47.25,53.5,null,0.12109399218798439,0.12109399218798439,0.12109399218798439,0.12109399218798439]
[{"$nulls":8},47.5,53.75,null,null,0.12109399218798439,0.12109399218798439,0.12109399218798439]
[{"$nulls":8},47.75,54,null,null,{"$f":"$C$7","v":0.12109399218798439},0.12109399218798439,0.12109399218798439]
[{"$nulls":8},48,54.25,null,null,0.12109399218798439,0.12109399218798439,0.12109399218798439]
[{"$nulls":8},48.25,54.5,null,null,0.12109399218798439,0.12109399218798439,0.12109399218798439]
[{"$nulls":8},48.5,{"$f":"J200+0.25","v":54.75},null,null,0.12109399218798439,0.12109399218798439,0.12109399218798439]
[{"$nulls":8},48.75,55,null,null,0.12109399218798439,0.12109399218798439,0.12109399218798439]
[{"$nulls":8},49,55.25,null,null,0.12109399218798439,0.12109399218798439,0.12109399218798439]
[{"$nulls":8},49.25,55.5,null,null,0.12109399218798439,0.12109399218798439,0.12109399218798439]
[{"$nulls":8},49.5,55.75,null,null,0.12109399218798439,0.12109399218798439,0.12109399218798439]
[{"$nulls":8},49.75,56,null,null,0.12109399218798439,0.12109399218798439,0.12109399218798439]
[{"$nulls":8},50,56.25,null,null,0.12109399218798439,0.12109399218798439,0.12109399218798439]
[{"$nulls":8},50.25,56.5,null,null,0.12109399218798439,0.12109399218798439,0.12109399218798439]
[{"$nulls":8},50.5,56.75,null,null,0.12109399218798439,0.12109399218798439,0.12109399218798439]
[{"$nulls":8},50.75,57,null,null,0.12109399218798439,0.12109399218798439,0.12109399218798439]
[{"$nulls":8},51,57.25,null,null,0.12109399218798439,0.12109399218798439,0.12109399218798439]
[{"$nulls":8},51.25,57.5,null,null,0.12109399218798439,0.12109399218798439,0.12109399218798439]
[{"$nulls":8},51.5,57.75,null,null,0.12109399218798439,0.12109399218798439,0.12109399218798439]
[{"$nulls":8},51.75,58,null,null,0.12109399218798439,0.12109399218798439,0.12109399218798439]
[{"$nulls":8},52,58.25,null,null,0.12109399218798439,0.12109399218798439,0.12109399218798439]
[{"$nulls":8},52.25,58.5,null,null,0.12109399218798439,0.12109399218798439,0.12109399218798439]
[{"$nulls":8},52.5,58.75,null,null,0.12109399218798439,0.12109399218798439,0.12109399218798439]
[{"$nulls":8},52.75,59,null,null,0.12109399218798439,0.12109399218798439,0.12109399218798439]
[{"$nulls":8},53,59.25,null,null,0.12109399218798439,0.12109399218798439,0.12109399218798439]
[{"$nulls":8},53.25,59.5,null,null,0.12109399218798439,0.12109399218798439,0.12109399218798439]
[{"$nulls":8},53.5,59.75,null,null,0.12109399218798439,0.12109399218798439,0.12109399218798439]
[{"$nulls":8},53.75,60,null,null,0.12109399218798439,0.12109399218798439,0.12109399218798439]
[{"$nulls":8},54,60.25,null,null,0.12109399218798439,0.12109399218798439,0.12109399218798439]
[{"$nulls":8},54.25,60.5,null,null,0.12109399218798439,0.12109399218798439,0.12109399218798439]
[{"$nulls":8},54.5,60.75,null,null,0.12109399218798439,0.12109399218798439,0.12109399218798439]
[{"$nulls":8},54.75,61,null,null,0.12109399218798439,0.12109399218798439,0.12109399218798439]
[{"$nulls":8},55,61.25,null,null,0.12109399218798439,0.12109399218798439,0.12109399218798439]
[{"$nulls":8},55.25,61.5,null,null,0.12109399218798439,0.12109399218798439,0.12109399218798439]
[{"$nulls":8},55.5,61.75,null,null,0.12109399218798439,0.12109399218798439,0.12109399218798439]
[{"$nulls":8},55.75,62,null,null,0.12109399218798439,0.12109399218798439,0.12109399218798439]
[{"$nulls":8},56,62.25,null,null,0.12109399218798439,0.12109399218798439,0.12109399218798439]
[{"$nulls":8},56.25,62.5,null,null,0.12109399218798439,0.12109399218798439,0.12109399218798439]
[{"$nulls":8},56.5,62.75,null,null,0.12109399218798439,0.12109399218798439,0.12109399218798439]
[{"$nulls":8},56.75,63,null,null,0.12109399218798439,0.12109399218798439,0.12109399218798439]
[{"$nulls":8},57,63.25,null,null,0.12109399218798439,0.12109399218798439,0.12109399218798439]
[{"$nulls":8},57.25,63.5,null,null,0.12109399218798439,0.12109399218798439,0.12109399218798439]
[{"$nulls":8},57.5,63.75,null,null,0.12109399218798439,0.12109399218798439,0.12109399218798439]
[{"$nulls":8},57.75,64,null,null,0.12109399218798439,0.12109399218798439,0.12109399218798439]
[{"$nulls":8},58,64.25,null,null,0.12109399218798439,0.12109399218798439,0.12109399218798439]
[{"$nulls":8},58.25,64.5,null,null,0.12109399218798439,0.12109399218798439,0.12109399218798439]
[{"$nulls":8},58.5,64.75,null,null,0.12109399218798439,0.12109399218798439,0.12109399218798439]
[{"$nulls":8},58.75,65,null,null,0.12109399218798439,0.12109399218798439,0.12109399218798439]
[{"$nulls":8},59,65.25,null,null,0.12109399218798439,0.12109399218798439,0.12109399218798439]
[{"$nulls":8},59.25,65.5,null,null,0.12109399218798439,0.12109399218798439,0.12109399218798439]
[{"$nulls":8},59.5,65.75,null,null,0.12109399218798439,0.12109399218798439,0.12109399218798439]
[{"$nulls":8},59.75,66,null,null,0.12109399218798439,0.12109399218798439,0.12109399218798439]
[{"$nulls":8},60,66.25,null,null,0.12109399218798439,0.12109399218798439,0.12109399218798439]
[{"$nulls":8},60.25,66.5,null,null,0.12109399218798439,0.12109399218798439,0.12109399218798439]
[{"$nulls":8},60.5,66.75,null,null,0.12109399218798439,0.12109399218798439,0.12109399218798439]
[{"$nulls":8},60.75,67,null,null,0.12109399218798439,0.12109399218798439,0.12109399218798439]
[{"$nulls":8},61,67.25,null,null,0.12109399218798439,0.12109399218798439,0.12109399218798439]
[{"$nulls":8},61.25,67.5,null,null,0.12109399218798439,0.12109399218798439,0.12109399218798439]
[{"$nulls":8},61.5,67.75,null,null,0.12109399218798439,0.12109399218798439,0.12109399218798439]
[{"$nulls":8},61.75,68,null,null,0.12109399218798439,0.12109399218798439,0.12109399218798439]
[{"$nulls":8},62,68.25,null,null,0.12109399218798439,0.12109399218798439,0.12109399218798439]
[{"$nulls":8},62.25,68.5,null,null,0.12109399218798439,0.12109399218798439,0.12109399218798439]
[{"$nulls":8},62.5,68.75,null,null,0.12109399218798439,0.12109399218798439,0.12109399218798439]
[{"$nulls":8},62.75,69,null,null,0.12109399218798439,0.12109399218798439,0.12109399218798439]
[{"$nulls":8},63,69.25,null,null,0.12109399218798439,0.12109399218798439,0.12109399218798439]
[{"$nulls":8},63.25,69.5,{"$nulls":3},0.12109399218798439,0.12109399218798439]
[{"$nulls":8},63.5,69.75,{"$nulls":3},{"$f":"$C$7","v":0.12109399218798439},0.12109399218798439]
[{"$nulls":8},63.75,70,{"$nulls":3},0.12109399218798439,0.12109399218798439]
[{"$nulls":8},64,70.25,{"$nulls":3},0.12109399218798439,0.12109399218798439]
[{"$nulls":8},64.25,70.5,{"$nulls":3},0.12109399218798439,0.12109399218798439]
[{"$nulls":8},64.5,{"$f":"J264+0.25","v":70.75},{"$nulls":3},0.12109399218798439,0.12109399218798439]
[{"$nulls":8},64.75,71,{"$nulls":3},0.12109399218798439,0.12109399218798439]
[{"$nulls":8},65,71.25,{"$nulls":3},0.12109399218798439,0.12109399218798439]
[{"$nulls":8},65.25,71.5,{"$nulls":3},0.12109399218798439,0.12109399218798439]
[{"$nulls":8},65.5,71.75,{"$nulls":3},0.12109399218798439,0.12109399218798439]
[{"$nulls":8},65.75,72,{"$nulls":3},0.12109399218798439,0.12109399218798439]
[{"$nulls":8},66,72.25,{"$nulls":3},0.12109399218798439,0.12109399218798439]
[{"$nulls":8},66.25,72.5,{"$nulls":3},0.12109399218798439,0.12109399218798439]
[{"$nulls":8},66.5,72.75,{"$nulls":3},0.12109399218798439,0.12109399218798439]
[{"$nulls":8},66.75,73,{"$nulls":3},0.12109399218798439,0.12109399218798439]
[{"$nulls":8},67,73.25,{"$nulls":3},0.12109399218798439,0.12109399218798439]
[{"$nulls":8},67.25,73.5,{"$nulls":3},0.12109399218798439,0.12109399218798439]
[{"$nulls":8},67.5,73.75,{"$nulls":3},0.12109399218798439,0.12109399218798439]
[{"$nulls":8},67.75,74,{"$nulls":3},0.12109399218798439,0.12109399218798439]
[{"$nulls":8},68,74.25,{"$nulls":3},0.12109399218798439,0.12109399218798439]
[{"$nulls":8},68.25,74.5,{"$nulls":3},0.12109399218798439,0.12109399218798439]
[{"$nulls":8},68.5,74.75,{"$nulls":3},0.12109399218798439,0.12109399218798439]
[{"$nulls":8},68.75,75,{"$nulls":3},0.12109399218798439,0.12109399218798439]
[{"$nulls":8},69,75.25,{"$nulls":3},0.12109399218798439,0.12109399218798439]
[{"$nulls":8},69.25,75.5,{"$nulls":3},0.12109399218798439,0.12109399218798439]
[{"$nulls":8},69.5,75.75,{"$nulls":3},0.12109399218798439,0.12109399218798439]
[{"$nulls":8},69.75,76,{"$nulls":3},0.12109399218798439,0.12109399218798439]
[{"$nulls":8},70,76.25,{"$nulls":3},0.12109399218798439,0.12109399218798439]
[{"$nulls":8},70.25,76.5,{"$nulls":3},0.12109399218798439,0.12109399218798439]
[{"$nulls":8},70.5,76.75,{"$nulls":3},0.12109399218798439,0.12109399218798439]
[{"$nulls":8},70.75,77,{"$nulls":3},0.12109399218798439,0.12109399218798439]
[{"$nulls":8},71,77.25,{"$nulls":3},0.12109399218798439,0.12109399218798439]
[{"$nulls":8},71.25,77.5,{"$nulls":3},0.12109399218798439,0.12109399218798439]
[{"$nulls":8},71.5,77.75,{"$nulls":3},0.12109399218798439,0.12109399218798439]
[{"$nulls":8},71.75,78,{"$nulls":3},0.12109399218798439,0.12109399218798439]
[{"$nulls":8},72,78.25,{"$nulls":3},0.12109399218798439,0.12109399218798439]
[{"$nulls":8},72.25,78.5,{"$nulls":3},0.12109399218798439,0.12109399218798439]
[{"$nulls":8},72.5,78.75,{"$nulls":3},0.12109399218798439,0.12109399218798439]
[{"$nulls":8},72.75,79,{"$nulls":3},0.12109399218798439,0.12109399218798439]
[{"$nulls":8},73,79.25,{"$nulls":3},0.12109399218798439,0.12109399218798439]
[{"$nulls":8},73.25,79.5,{"$nulls":3},0.12109399218798439,0.12109399218798439]
[{"$nulls":8},73.5,79.75,{"$nulls":3},0.12109399218798439,0.12109399218798439]
[{"$nulls":8},73.75,80,{"$nulls":3},0.12109399218798439,0.12109399218798439]
[{"$nulls":8},74,80.25,{"$nulls":3},0.12109399218798439,0.12109399218798439]
[{"$nulls":8},74.25,80.5,{"$nulls":3},0.12109399218798439,0.12109399218798439]
[{"$nulls":8},74.5,80.75,{"$nulls":3},0.12109399218798439,0.12109399218798439]
[{"$nulls":8},74.75,81,{"$nulls":3},0.12109399218798439,0.12109399218798439]
[{"$nulls":8},75,81.25,{"$nulls":3},0.12109399218798439,0.12109399218798439]
[{"$nulls":8},75.25,81.5,{"$nulls":3},0.12109399218798439,0.12109399218798439]
[{"$nulls":8},75.5,81.75,{"$nulls":3},0.12109399218798439,0.12109399218798439]
[{"$nulls":8},75.75,82,{"$nulls":3},0.12109399218798439,0.12109399218798439]
[{"$nulls":8},76,82.25,{"$nulls":3},0.12109399218798439,0.12109399218798439]
[{"$nulls":8},76.25,82.5,{"$nulls":3},0.12109399218798439,0.12109399218798439]
[{"$nulls":8},76.5,82.75,{"$nulls":3},0.12109399218798439,0.12109399218798439]
[{"$nulls":8},76.75,83,{"$nulls":3},0.12109399218798439,0.12109399218798439]
[{"$nulls":8},77,83.25,{"$nulls":3},0.12109399218798439,0.12109399218798439]
[{"$nulls":8},77.25,83.5,{"$nulls":3},0.12109399218798439,0.12109399218798439]
[{"$nulls":8},77.5,83.75,{"$nulls":3},0.12109399218798439,0.12109399218798439]
[{"$nulls":8},77.75,84,{"$nulls":3},0.12109399218798439,0.12109399218798439]
[{"$nulls":8},78,84.25,{"$nulls":3},0.12109399218798439,0.12109399218798439]
[{"$nulls":8},78.25,84.5,{"$nulls":3},0.12109399218798439,0.12109399218798439]
[{"$nulls":8},78.5,84.75,{"$nulls":3},0.12109399218798439,0.12109399218798439]
[{"$nulls":8},78.75,85,{"$nulls":3},0.12109399218798439,0.12109399218798439]
[{"$nulls":8},79,85.25,{"$nulls":4},0.12109399218798439]
[{"$nulls":8},79.25,85.5,{"$nulls":4},{"$f":"$C$7","v":0.12109399218798439}]
[{"$nulls":8},79.5,85.75,{"$nulls":4},0.12109399218798439]
[{"$nulls":8},79.75,86,{"$nulls":4},0.12109399218798439]
[{"$nulls":8},80,86.25,{"$nulls":4},0.12109399218798439]
[{"$nulls":8},80.25,86.5,{"$nulls":4},0.12109399218798439]
[{"$nulls":8},80.5,{"$f":"J328+0.25","v":86.75},{"$nulls":4},0.12109399218798439]
[{"$nulls":8},80.75,87,{"$nulls":4},0.12109399218798439]
[{"$nulls":8},81,87.25,{"$nulls":4},0.12109399218798439]
[{"$nulls":8},81.25,87.5,{"$nulls":4},0.12109399218798439]
[{"$nulls":8},81.5,87.75,{"$nulls":4},0.12109399218798439]
[{"$nulls":8},81.75,88,{"$nulls":4},0.12109399218798439]
[{"$nulls":8},82,88.25,{"$nulls":4},0.12109399218798439]
[{"$nulls":8},82.25,88.5,{"$nulls":4},0.12109399218798439]
[{"$nulls":8},82.5,88.75,{"$nulls":4},0.12109399218798439]
[{"$nulls":8},82.75,89,{"$nulls":4},0.12109399218798439]
[{"$nulls":8},83,89.25,{"$nulls":4},0.12109399218798439]
[{"$nulls":8},83.25,89.5,{"$nulls":4},0.12109399218798439]
[{"$nulls":8},83.5,89.75,{"$nulls":4},0.12109399218798439]
[{"$nulls":8},83.75,90,{"$nulls":4},0.12109399218798439]
[{"$nulls":8},84,90.25,{"$nulls":4},0.12109399218798439]
[{"$nulls":8},84.25,90.5,{"$nulls":4},0.12109399218798439]
[{"$nulls":8},84.5,90.75,{"$nulls":4},0.12109399218798439]
[{"$nulls":8},84.75,91,{"$nulls":4},0.12109399218798439]
[{"$nulls":8},85,91.25,{"$nulls":4},0.12109399218798439]
[{"$nulls":8},85.25,91.5,{"$nulls":4},0.12109399218798439]
[{"$nulls":8},85.5,91.75,{"$nulls":4},0.12109399218798439]
[{"$nulls":8},85.75,92,{"$nulls":4},0.12109399218798439]
[{"$nulls":8},86,92.25,{"$nulls":4},0.12109399218798439]
[{"$nulls":8},86.25,92.5,{"$nulls":4},0.12109399218798439]
[{"$nulls":8},86.5,92.75,{"$nulls":4},0.12109399218798439]
[{"$nulls":8},86.75,93,{"$nulls":4},0.12109399218798439]
[{"$nulls":8},87,93.25,{"$nulls":4},0.12109399218798439]
[{"$nulls":8},87.25,93.5,{"$nulls":4},0.12109399218798439]
[{"$nulls":8},87.5,93.75,{"$nulls":4},0.12109399218798439]
[{"$nulls":8},87.75,94,{"$nulls":4},0.12109399218798439]
[{"$nulls":8},88,94.25,{"$nulls":4},0.12109399218798439]
[{"$nulls":8},88.25,94.5,{"$nulls":4},0.12109399218798439]
[{"$nulls":8},88.5,94.75,{"$nulls":4},0.12109399218798439]
[{"$nulls":8},88.75,95,{"$nulls":4},0.12109399218798439]
[{"$nulls":8},89,95.25,{"$nulls":4},0.12109399218798439]
[{"$nulls":8},89.25,95.5,{"$nulls":4},0.12109399218798439]
[{"$nulls":8},89.5,95.75,{"$nulls":4},0.12109399218798439]
[{"$nulls":8},89.75,96,{"$nulls":4},0.12109399218798439]
[{"$nulls":8},90,96.25,{"$nulls":4},0.12109399218798439]
[{"$nulls":8},90.25,96.5,{"$nulls":4},0.12109399218798439]
[{"$nulls":8},90.5,96.75,{"$nulls":4},0.12109399218798439]
[{"$nulls":8},90.75,97,{"$nulls":4},0.12109399218798439]
[{"$nulls":8},91,97.25,{"$nulls":4},0.12109399218798439]
[{"$nulls":8},91.25,97.5,{"$nulls":4},0.12109399218798439]
[{"$nulls":8},91.5,97.75,{"$nulls":4},0.12109399218798439]
[{"$nulls":8},91.75,98,{"$nulls":4},0.12109399218798439]
[{"$nulls":8},92,98.25,{"$nulls":4},0.12109399218798439]
[{"$nulls":8},92.25,98.5,{"$nulls":4},0.12109399218798439]
[{"$nulls":8},92.5,98.75,{"$nulls":4},0.12109399218798439]
[{"$nulls":8},92.75,99,{"$nulls":4},0.12109399218798439]
[{"$nulls":8},93,99.25,{"$nulls":4},0.12109399218798439]
[{"$nulls":8},93.25,99.5,{"$nulls":4},0.12109399218798439]
[{"$nulls":8},93.5,99.75,{"$nulls":4},0.12109399218798439]
[{"$nulls":8},93.75,100,{"$nulls":4},0.12109399218798439]
[{"$nulls":8},94,100.25,{"$nulls":4},0.12109399218798439]
[{"$nulls":8},94.25,100.5,{"$nulls":4},0.12109399218798439]
[{"$nulls":8},94.5,100.75,{"$nulls":4},0.12109399218798439]
[]
[{"$nulls":10},{"$f":"SUM(K7:K385)","v":15.378937007874065},{"$f":"SUM(L7:L385)","v":23.007858515717032},{"$f":"SUM(M7:M385)","v":30.63678002355999},{"$f":"SUM(N7:N385)","v":38.26570153140313},{"$f":"SUM(O7:O385)","v":45.89462303924631}]

{"sheet":"Metric Incremental Crate","index":6,"n_rows":387,"n_cols":30,"rows_kept":387,"hidden":true}
[null,"Length","Width","Height",null,"SF area",null,"Void %",null,null,"Minimum Required Area",{"$nulls":6},"height (inch)",31.5,47.25,63,78.75,94.5]
["mm",750,750,800,{"$nulls":3},0.96,null,null,{"$f":"_xlfn.XLOOKUP('Cumulative Volumes Metric'!I4,CrateData[Layer],CrateData[Surface Area (m2)])*'Cumulative Volumes Metric'!I7","v":59.0625}]
["in",{"$f":"B2/25.4","v":29.52755905511811},{"$f":"C2/25.4","v":29.52755905511811},31.496062992125985,{"$nulls":3},0.82,{"$nulls":9},{"$f":"_xlfn.CONCAT('Cumulative Volumes Metric'!$I$4,\" Storage\")","v":"1 Storage"}]
["ft",{"$f":"B3/12","v":2.4606299212598426},{"$f":"C3/12","v":2.4606299212598426},2.6246719160104988,null,{"$f":"(B2*C2)/(1000*1000)","v":0.5625},"m2",{"$nulls":10},{"$f":"_xlfn.CONCAT('Cumulative Volumes Metric'!$I$4,\" Total\")","v":"1 Total"},null,{"$f":"_xlfn.XLOOKUP('Cumulative Volumes Metric'!Metric_Layers,CrateData[Layer],CrateData[Height (cm)])","v":80}]
[{"$nulls":9},"Layers",1,1.5,2,2.5,3]
[{"$nulls":9},"height (inch)",31.5,47.25,63,78.75,94.5,null,"Crate Increment","System Increment","1 Storage","1.5 Storage","2 Storage","2.5 Storage","3 Storage","1 Total","1.5 Total","2 Total","2.5 Total","3 Total","0.5 Storage","0.5 Total"]
[null,0.25,{"$f":"$B$7*$F$4*$H$2/12","v":0.011250000000000001},null,{"$f":"C7","v":0.011250000000000001},"cf/quarter in",null,null,0,{"$f":"0.25+I7+'Cumulative Volumes Imperial'!I9","v":6.25},{"$f":"$C$7","v":0.011250000000000001},{"$f":"$C$7","v":0.011250000000000001},0.011250000000000001,0.011250000000000001,0.011250000000000001,null,0,{"$f":"Q7+ROUND('Cumulative Volumes Metric'!I9/10,1)","v":15.2},0,0,0,0,0,0,0,0,0,0,0,0]
[null,0.5,{"$f":"$B$7*$F$4*$H$2/12","v":0.011250000000000001},null,{"$f":"SUM(C7:C8)","v":0.022500000000000003},"cf/half in",null,null,0.25,{"$f":"J7+0.25","v":6.5},{"$f":"$C$7","v":0.011250000000000001},0.011250000000000001,0.011250000000000001,0.011250000000000001,0.011250000000000001,null,1,{"$f":"R7+1","v":16.2},{"$f":"$D$33","v":0.005399999999999999},{"$f":"$D$33","v":0.005399999999999999},{"$f":"$D$33","v":0.005399999999999999},0.005399999999999999,{"$f":"$D$33","v":0.005399999999999999},{"$f":"$D$32","v":0.005625},{"$f":"$D$32","v":0.005625},0.005625,0.005625,0.005625,{"$f":"$D$34","v":0.004612499999999999},{"$f":"$D$32","v":0.005625}]
[null,0.75,{"$f":"$B$7*$F$4*$H$2/12","v":0.011250000000000001},null,{"$f":"SUM(C7:C9)","v":0.03375},"cf/three quarter in",null,null,0.5,{"$f":"J8+0.25","v":6.75},0.011250000000000001,0.011250000000000001,0.011250000000000001,0.011250000000000001,0.011250000000000001,null,2,{"$f":"R8+1","v":17.2},{"$f":"$D$33","v":0.005399999999999999},0.005399999999999999,0.005399999999999999,0.005399999999999999,{"$f":"$D$33","v":0.005399999999999999},{"$f":"$D$32","v":0.005625},0.005625,0.005625,0.005625,0.005625,{"$f":"$D$34","v":0.004612499999999999},{"$f":"$D$32","v":0.005625}]
[null,1,0.011250000000000001,null,{"$f":"$C$12*$H$2","v":0.045},"cf/in",null,null,0.75,7,0.011250000000000001,0.011250000000000001,0.011250000000000001,0.011250000000000001,0.011250000000000001,null,3,18.2,0.005399999999999999,0.005399999999999999,0.005399999999999999,0.005399999999999999,0.005399999999999999,{"$f":"$D$32","v":0.005625},0.005625,0.005625,0.005625,0.005625,{"$f":"$D$34","v":0.004612499999999999},0.005625]
[{"$nulls":8},1,7.25,0.011250000000000001,0.011250000000000001,0.011250000000000001,0.011250000000000001,0.011250000000000001,null,4,19.2,0.005399999999999999,0.005399999999999999,0.005399999999999999,0.005399999999999999,0.005399999999999999,0.005625,0.005625,0.005625,0.005625,0.005625,0.004612499999999999,0.005625]
[null,null,{"$f":"F4/12","v":0.046875},"total volume cf/in",{"$nulls":4},1.25,7.5,0.011250000000000001,0.011250000000000001,0.011250000000000001,0.011250000000000001,0.011250000000000001,null,5,20.2,0.005399999999999999,0.005399999999999999,0.005399999999999999,0.005399999999999999,0.005399999999999999,0.005625,0.005625,0.005625,0.005625,0.005625,0.004612499999999999,0.005625]
[{"$nulls":8},1.5,7.75,0.011250000000000001,0.011250000000000001,0.011250000000000001,0.011250000000000001,0.011250000000000001,null,6,21.2,0.005399999999999999,0.005399999999999999,0.005399999999999999,0.005399999999999999,0.005399999999999999,0.005625,0.005625,0.005625,0.005625,0.005625,{"$f":"$D$33","v":0.005399999999999999},0.005625]
[null,null,{"$f":"C12*B10*H2","v":0.045},{"$nulls":5},1.75,8,0.011250000000000001,0.011250000000000001,0.011250000000000001,0.011250000000000001,0.011250000000000001,null,7,22.2,0.005399999999999999,0.005399999999999999,0.005399999999999999,0.005399999999999999,0.005399999999999999,0.005625,0.005625,0.005625,0.005625,0.005625,0.005399999999999999,0.005625]
[{"$nulls":8},2,8.25,0.011250000000000001,0.011250000000000001,0.011250000000000001,0.011250000000000001,0.011250000000000001,null,8,23.2,0.005399999999999999,0.005399999999999999,0.005399999999999999,0.005399999999999999,0.005399999999999999,0.005625,0.005625,0.005625,0.005625,0.005625,0.005399999999999999,0.005625]
[null,null,{"$f":"C12-C14/H2","v":0},{"$nulls":5},2.25,8.5,0.011250000000000001,0.011250000000000001,0.011250000000000001,0.011250000000000001,0.011250000000000001,null,9,24.2,0.005399999999999999,0.005399999999999999,0.005399999999999999,0.005399999999999999,0.005399999999999999,0.005625,0.005625,0.005625,0.005625,0.005625,0.005399999999999999,0.005625]
[{"$nulls":8},2.5,8.75,0.011250000000000001,0.011250000000000001,0.011250000000000001,0.011250000000000001,0.011250000000000001,null,10,25.2,0.005399999999999999,0.005399999999999999,0.005399999999999999,0.005399999999999999,0.005399999999999999,0.005625,0.005625,0.005625,0.005625,0.005625,0.005399999999999999,0.005625]
[{"$nulls":8},2.75,9,0.011250000000000001,0.011250000000000001,0.011250000000000001,0.011250000000000001,0.011250000000000001,null,11,26.2,0.005399999999999999,0.005399999999999999,0.005399999999999999,0.005399999999999999,0.005399999999999999,0.005625,0.005625,0.005625,0.005625,0.005625,0.005399999999999999,0.005625]
[null,null,15.8936,{"$f":"C19*31","v":492.7016},{"$f":"D19*0.96","v":472.99353599999995},{"$f":"C19*32*0.96","v":488.25139199999995},null,null,3,9.25,0.011250000000000001,0.011250000000000001,0.011250000000000001,0.011250000000000001,0.011250000000000001,null,12,27.2,0.005399999999999999,0.005399999999999999,0.005399999999999999,0.005399999999999999,0.005399999999999999,0.005625,0.005625,0.005625,0.005625,0.005625,0.005399999999999999,0.005625]
[null,null,{"$f":"C19","v":15.8936},null,{"$f":"0.94*C20","v":14.939983999999999},{"$nulls":3},3.25,9.5,0.011250000000000001,0.011250000000000001,0.011250000000000001,0.011250000000000001,0.011250000000000001,null,13,28.2,0.005399999999999999,0.005399999999999999,0.005399999999999999,0.005399999999999999,0.005399999999999999,0.005625,0.005625,0.005625,0.005625,0.005625,0.005399999999999999,0.005625]
[{"$nulls":4},{"$f":"SUM(E19:E20)","v":487.93351999999993},null,{"$f":"F19-E21","v":0.3178720000000226},null,3.5,9.75,0.011250000000000001,0.011250000000000001,0.011250000000000001,0.011250000000000001,0.011250000000000001,null,14,29.2,0.005399999999999999,0.005399999999999999,0.005399999999999999,0.005399999999999999,0.005399999999999999,0.005625,0.005625,0.005625,0.005625,0.005625,0.005399999999999999,0.005625]
[{"$nulls":8},3.75,10,0.011250000000000001,0.011250000000000001,0.011250000000000001,0.011250000000000001,0.011250000000000001,null,15,30.2,0.005399999999999999,0.005399999999999999,0.005399999999999999,0.005399999999999999,0.005399999999999999,0.005625,0.005625,0.005625,0.005625,0.005625,0.005399999999999999,0.005625]
[{"$nulls":8},4,10.25,0.011250000000000001,0.011250000000000001,0.011250000000000001,0.011250000000000001,0.011250000000000001,null,16,31.2,0.005399999999999999,0.005399999999999999,0.005399999999999999,0.005399999999999999,0.005399999999999999,0.005625,0.005625,0.005625,0.005625,0.005625,0.005399999999999999,0.005625]
[{"$nulls":8},4.25,10.5,0.011250000000000001,0.011250000000000001,0.011250000000000001,0.011250000000000001,0.011250000000000001,null,17,32.2,0.005399999999999999,0.005399999999999999,0.005399999999999999,0.005399999999999999,0.005399999999999999,0.005625,0.005625,0.005625,0.005625,0.005625,0.005399999999999999,0.005625]
[null,0.25,{"$f":"$B$25*$F$4/12","v":0.01171875},null,{"$f":"C25","v":0.01171875},"cf/quarter in",null,null,4.5,10.75,0.011250000000000001,0.011250000000000001,0.011250000000000001,0.011250000000000001,0.011250000000000001,null,18,33.2,0.005399999999999999,0.005399999999999999,0.005399999999999999,0.005399999999999999,0.005399999999999999,0.005625,0.005625,0.005625,0.005625,0.005625,0.005399999999999999,0.005625]
[null,0.5,{"$f":"$B$25*$F$4/12","v":0.01171875},null,{"$f":"SUM(C25:C26)","v":0.0234375},"cf/half in",null,null,4.75,11,0.011250000000000001,0.011250000000000001,0.011250000000000001,0.011250000000000001,0.011250000000000001,null,19,34.2,0.005399999999999999,0.005399999999999999,0.005399999999999999,0.005399999999999999,0.005399999999999999,0.005625,0.005625,0.005625,0.005625,0.005625,0.005399999999999999,0.005625]
[null,0.75,0.01171875,null,{"$f":"SUM(C25:C27)","v":0.03515625},"cf/three quarter in",null,null,5,11.25,0.011250000000000001,0.011250000000000001,0.011250000000000001,0.011250000000000001,0.011250000000000001,null,20,35.2,0.005399999999999999,0.005399999999999999,0.005399999999999999,0.005399999999999999,0.005399999999999999,0.005625,0.005625,0.005625,0.005625,0.005625,0.005399999999999999,0.005625]
[null,1,0.01171875,null,{"$f":"SUM(C25:C28)","v":0.046875},"cf/in",null,null,5.25,11.5,0.011250000000000001,0.011250000000000001,0.011250000000000001,0.011250000000000001,0.011250000000000001,null,21,36.2,0.005399999999999999,0.005399999999999999,0.005399999999999999,0.005399999999999999,0.005399999999999999,0.005625,0.005625,0.005625,0.005625,0.005625,0.005399999999999999,0.005625]
[{"$nulls":8},5.5,11.75,0.011250000000000001,0.011250000000000001,0.011250000000000001,0.011250000000000001,0.011250000000000001,null,22,37.2,0.005399999999999999,0.005399999999999999,0.005399999999999999,0.005399999999999999,0.005399999999999999,0.005625,0.005625,0.005625,0.005625,0.005625,0.005399999999999999,0.005625]
[{"$nulls":8},5.75,12,0.011250000000000001,0.011250000000000001,0.011250000000000001,0.011250000000000001,0.011250000000000001,null,23,38.2,0.005399999999999999,0.005399999999999999,0.005399999999999999,0.005399999999999999,0.005399999999999999,0.005625,0.005625,0.005625,0.005625,0.005625,0.005399999999999999,0.005625]
[null,"cm",1,{"$nulls":5},6,12.25,0.011250000000000001,0.011250000000000001,0.011250000000000001,0.011250000000000001,0.011250000000000001,null,24,39.2,0.005399999999999999,0.005399999999999999,0.005399999999999999,0.005399999999999999,0.005399999999999999,0.005625,0.005625,0.005625,0.005625,0.005625,0.005399999999999999,0.005625]
[null,"m",{"$f":"C31/100","v":0.01},{"$f":"C32*Metric_Module_Square_Foot_Area","v":0.005625},"m^3/cm","total volume",null,null,6.25,12.5,0.011250000000000001,0.011250000000000001,0.011250000000000001,0.011250000000000001,0.011250000000000001,null,25,40.2,0.005399999999999999,0.005399999999999999,0.005399999999999999,0.005399999999999999,0.005399999999999999,0.005625,0.005625,0.005625,0.005625,0.005625,0.005399999999999999,0.005625]
[{"$nulls":3},{"$f":"D32*H2","v":0.005399999999999999},"m^3/cm","storage volume",null,null,6.5,12.75,0.011250000000000001,0.011250000000000001,0.011250000000000001,0.011250000000000001,0.011250000000000001,null,26,41.2,0.005399999999999999,0.005399999999999999,0.005399999999999999,0.005399999999999999,0.005399999999999999,0.005625,0.005625,0.005625,0.005625,0.005625,0.005399999999999999,0.005625]
[{"$nulls":3},{"$f":"D32*H3","v":0.004612499999999999},"m^3/cm","storage volume base plate",null,null,6.75,13,0.011250000000000001,0.011250000000000001,0.011250000000000001,0.011250000000000001,0.011250000000000001,null,27,42.2,0.005399999999999999,0.005399999999999999,0.005399999999999999,0.005399999999999999,0.005399999999999999,0.005625,0.005625,0.005625,0.005625,0.005625,0.005399999999999999,0.005625]
[{"$nulls":8},7,13.25,0.011250000000000001,0.011250000000000001,0.011250000000000001,0.011250000000000001,0.011250000000000001,null,28,43.2,0.005399999999999999,0.005399999999999999,0.005399999999999999,0.005399999999999999,0.005399999999999999,0.005625,0.005625,0.005625,0.005625,0.005625,0.005399999999999999,0.005625]
[{"$nulls":8},7.25,13.5,0.011250000000000001,0.011250000000000001,0.011250000000000001,0.011250000000000001,0.011250000000000001,null,29,44.2,0.005399999999999999,0.005399999999999999,0.005399999999999999,0.005399999999999999,0.005399999999999999,0.005625,0.005625,0.005625,0.005625,0.005625,0.005399999999999999,0.005625]
[{"$nulls":8},7.5,13.75,0.011250000000000001,0.011250000000000001,0.011250000000000001,0.011250000000000001,0.011250000000000001,null,30,45.2,0.005399999999999999,0.005399999999999999,0.005399999999999999,0.005399999999999999,0.005399999999999999,0.005625,0.005625,0.005625,0.005625,0.005625,0.005399999999999999,0.005625]
[{"$nulls":8},7.75,14,0.011250000000000001,0.011250000000000001,0.011250000000000001,0.011250000000000001,0.011250000000000001,null,31,46.2,0.005399999999999999,0.005399999999999999,0.005399999999999999,0.005399999999999999,0.005399999999999999,0.005625,0.005625,0.005625,0.005625,0.005625,0.005399999999999999,0.005625]
[{"$nulls":8},8,14.25,0.011250000000000001,0.011250000000000001,0.011250000000000001,0.011250000000000001,0.011250000000000001,null,32,47.2,0.005399999999999999,0.005399999999999999,0.005399999999999999,0.005399999999999999,0.005399999999999999,0.005625,0.005625,0.005625,0.005625,0.005625,0.005399999999999999,0.005625]
[{"$nulls":8},8.25,14.5,{"$f":"$C$7","v":0.011250000000000001},0.011250000000000001,0.011250000000000001,0.011250000000000001,0.011250000000000001,null,33,48.2,0.005399999999999999,0.005399999999999999,0.005399999999999999,0.005399999999999999,0.005399999999999999,0.005625,0.005625,0.005625,0.005625,0.005625,0.005399999999999999,0.005625]
[{"$nulls":8},8.5,14.75,0.011250000000000001,0.011250000000000001,0.011250000000000001,0.011250000000000001,0.011250000000000001,null,34,49.2,0.005399999999999999,0.005399999999999999,0.005399999999999999,0.005399999999999999,0.005399999999999999,0.005625,0.005625,0.005625,0.005625,0.005625,0.005399999999999999,0.005625]
[{"$nulls":8},8.75,15,0.011250000000000001,0.011250000000000001,0.011250000000000001,0.011250000000000001,0.011250000000000001,null,35,50.2,{"$f":"$D$33","v":0.005399999999999999},0.005399999999999999,0.005399999999999999,0.005399999999999999,0.005399999999999999,{"$f":"$D$32","v":0.005625},0.005625,0.005625,0.005625,0.005625,0.005399999999999999,0.005625]
[{"$nulls":8},9,15.25,0.011250000000000001,0.011250000000000001,0.011250000000000001,0.011250000000000001,0.011250000000000001,null,36,51.2,0.005399999999999999,0.005399999999999999,0.005399999999999999,0.005399999999999999,0.005399999999999999,0.005625,0.005625,0.005625,0.005625,0.005625,0.005399999999999999,0.005625]
[{"$nulls":8},9.25,15.5,0.011250000000000001,0.011250000000000001,0.011250000000000001,0.011250000000000001,0.011250000000000001,null,37,52.2,0.005399999999999999,0.005399999999999999,0.005399999999999999,0.005399999999999999,0.005399999999999999,0.005625,0.005625,0.005625,0.005625,0.005625,0.005399999999999999,0.005625]
[{"$nulls":8},9.5,15.75,0.011250000000000001,0.011250000000000001,0.011250000000000001,0.011250000000000001,0.011250000000000001,null,38,53.2,0.005399999999999999,0.005399999999999999,0.005399999999999999,0.005399999999999999,0.005399999999999999,0.005625,0.005625,0.005625,0.005625,0.005625,0.005399999999999999,0.005625]
[{"$nulls":8},9.75,16,0.011250000000000001,0.011250000000000001,0.011250000000000001,0.011250000000000001,0.011250000000000001,null,39,54.2,0.005399999999999999,0.005399999999999999,0.005399999999999999,0.005399999999999999,0.005399999999999999,0.005625,0.005625,0.005625,0.005625,0.005625,0.005399999999999999,0.005625]
[{"$nulls":8},10,16.25,0.011250000000000001,0.011250000000000001,0.011250000000000001,0.011250000000000001,0.011250000000000001,null,40,55.2,0.005399999999999999,0.005399999999999999,0.005399999999999999,0.005399999999999999,0.005399999999999999,0.005625,0.005625,0.005625,0.005625,0.005625,0.005399999999999999,0.005625]
[{"$nulls":8},10.25,16.5,0.011250000000000001,0.011250000000000001,0.011250000000000001,0.011250000000000001,0.011250000000000001,null,41,56.2,0.005399999999999999,0.005399999999999999,0.005399999999999999,0.005399999999999999,0.005399999999999999,0.005625,0.005625,0.005625,0.005625,0.005625,0.005399999999999999,0.005625]
[{"$nulls":8},10.5,16.75,0.011250000000000001,0.011250000000000001,0.011250000000000001,0.011250000000000001,0.011250000000000001,null,42,57.2,0.005399999999999999,0.005399999999999999,0.005399999999999999,0.005399999999999999,0.005399999999999999,0.005625,0.005625,0.005625,0.005625,0.005625,0.005399999999999999,0.005625]
[{"$nulls":8},10.75,17,0.011250000000000001,0.011250000000000001,0.011250000000000001,0.011250000000000001,0.011250000000000001,null,43,58.2,0.005399999999999999,0.005399999999999999,0.005399999999999999,0.005399999999999999,0.005399999999999999,0.005625,0.005625,0.005625,0.005625,0.005625,0.005399999999999999,0.005625]
[{"$nulls":8},11,17.25,0.011250000000000001,0.011250000000000001,0.011250000000000001,0.011250000000000001,0.011250000000000001,null,44,59.2,0.005399999999999999,0.005399999999999999,0.005399999999999999,0.005399999999999999,0.005399999999999999,0.005625,0.005625,0.005625,0.005625,0.005625,0.005399999999999999,0.005625]
[{"$nulls":8},11.25,17.5,0.011250000000000001,0.011250000000000001,0.011250000000000001,0.011250000000000001,0.011250000000000001,null,45,60.2,0.005399999999999999,0.005399999999999999,0.005399999999999999,0.005399999999999999,0.005399999999999999,0.005625,0.005625,0.005625,0.005625,0.005625,0.005399999999999999,0.005625]
[{"$nulls":8},11.5,17.75,0.011250000000000001,0.011250000000000001,0.011250000000000001,0.011250000000000001,0.011250000000000001,null,46,61.2,0.005399999999999999,0.005399999999999999,0.005399999999999999,0.005399999999999999,0.005399999999999999,0.005625,0.005625,0.005625,0.005625,0.005625]
[{"$nulls":8},11.75,18,0.011250000000000001,0.011250000000000001,0.011250000000000001,0.011250000000000001,0.011250000000000001,null,47,62.2,0.005399999999999999,0.005399999999999999,0.005399999999999999,0.005399999999999999,0.005399999999999999,0.005625,0.005625,0.005625,0.005625,0.005625]
[{"$nulls":8},12,18.25,0.011250000000000001,0.011250000000000001,0.011250000000000001,0.011250000000000001,0.011250000000000001,null,48,63.2,0.005399999999999999,0.005399999999999999,0.005399999999999999,0.005399999999999999,0.005399999999999999,0.005625,0.005625,0.005625,0.005625,0.005625]
[{"$nulls":8},12.25,18.5,0.011250000000000001,0.011250000000000001,0.011250000000000001,0.011250000000000001,0.011250000000000001,null,49,64.2,0.005399999999999999,0.005399999999999999,0.005399999999999999,0.005399999999999999,0.005399999999999999,0.005625,0.005625,0.005625,0.005625,0.005625]
[{"$nulls":8},12.5,18.75,0.011250000000000001,0.011250000000000001,0.011250000000000001,0.011250000000000001,0.011250000000000001,null,50,65.2,0.005399999999999999,0.005399999999999999,0.005399999999999999,0.005399999999999999,0.005399999999999999,0.005625,0.005625,0.005625,0.005625,0.005625]
[{"$nulls":8},12.75,19,0.011250000000000001,0.011250000000000001,0.011250000000000001,0.011250000000000001,0.011250000000000001,null,51,66.2,0.005399999999999999,0.005399999999999999,0.005399999999999999,0.005399999999999999,0.005399999999999999,0.005625,0.005625,0.005625,0.005625,0.005625]
[{"$nulls":8},13,19.25,0.011250000000000001,0.011250000000000001,0.011250000000000001,0.011250000000000001,0.011250000000000001,null,52,67.2,0.005399999999999999,0.005399999999999999,0.005399999999999999,0.005399999999999999,0.005399999999999999,0.005625,0.005625,0.005625,0.005625,0.005625]
[{"$nulls":8},13.25,19.5,0.011250000000000001,0.011250000000000001,0.011250000000000001,0.011250000000000001,0.011250000000000001,null,53,68.2,0.005399999999999999,0.005399999999999999,0.005399999999999999,0.005399999999999999,0.005399999999999999,0.005625,0.005625,0.005625,0.005625,0.005625]
[{"$nulls":8},13.5,19.75,0.011250000000000001,0.011250000000000001,0.011250000000000001,0.011250000000000001,0.011250000000000001,null,54,69.2,0.005399999999999999,0.005399999999999999,0.005399999999999999,0.005399999999999999,0.005399999999999999,0.005625,0.005625,0.005625,0.005625,0.005625]
[{"$nulls":8},13.75,20,0.011250000000000001,0.011250000000000001,0.011250000000000001,0.011250000000000001,0.011250000000000001,null,55,70.2,0.005399999999999999,0.005399999999999999,0.005399999999999999,0.005399999999999999,0.005399999999999999,0.005625,0.005625,0.005625,0.005625,0.005625]
[{"$nulls":8},14,20.25,0.011250000000000001,0.011250000000000001,0.011250000000000001,0.011250000000000001,0.011250000000000001,null,56,71.2,0.005399999999999999,0.005399999999999999,0.005399999999999999,0.005399999999999999,0.005399999999999999,0.005625,0.005625,0.005625,0.005625,0.005625]
[{"$nulls":8},14.25,20.5,0.011250000000000001,0.011250000000000001,0.011250000000000001,0.011250000000000001,0.011250000000000001,null,57,72.2,0.005399999999999999,0.005399999999999999,0.005399999999999999,0.005399999999999999,0.005399999999999999,0.005625,0.005625,0.005625,0.005625,0.005625]
[{"$nulls":8},14.5,20.75,0.011250000000000001,0.011250000000000001,0.011250000000000001,0.011250000000000001,0.011250000000000001,null,58,73.2,0.005399999999999999,0.005399999999999999,0.005399999999999999,0.005399999999999999,0.005399999999999999,0.005625,0.005625,0.005625,0.005625,0.005625]
[{"$nulls":8},14.75,21,0.011250000000000001,0.011250000000000001,0.011250000000000001,0.011250000000000001,0.011250000000000001,null,59,74.2,0.005399999999999999,0.005399999999999999,0.005399999999999999,0.005399999999999999,0.005399999999999999,0.005625,0.005625,0.005625,0.005625,0.005625]
[{"$nulls":8},15,21.25,0.011250000000000001,0.011250000000000001,0.011250000000000001,0.011250000000000001,0.011250000000000001,null,60,75.2,0.005399999999999999,0.005399999999999999,0.005399999999999999,0.005399999999999999,0.005399999999999999,0.005625,0.005625,0.005625,0.005625,0.005625]
[{"$nulls":8},15.25,21.5,0.011250000000000001,0.011250000000000001,0.011250000000000001,0.011250000000000001,0.011250000000000001,null,61,76.2,0.005399999999999999,0.005399999999999999,0.005399999999999999,0.005399999999999999,0.005399999999999999,0.005625,0.005625,0.005625,0.005625,0.005625]
[{"$nulls":8},15.5,21.75,0.011250000000000001,0.011250000000000001,0.011250000000000001,0.011250000000000001,0.011250000000000001,null,62,77.2,0.005399999999999999,0.005399999999999999,0.005399999999999999,0.005399999999999999,0.005399999999999999,0.005625,0.005625,0.005625,0.005625,0.005625]
[{"$nulls":8},15.75,22,0.011250000000000001,0.011250000000000001,0.011250000000000001,0.011250000000000001,0.011250000000000001,null,63,78.2,0.005399999999999999,0.005399999999999999,0.005399999999999999,0.005399999999999999,0.005399999999999999,0.005625,0.005625,0.005625,0.005625,0.005625]
[{"$nulls":8},16,22.25,0.011250000000000001,0.011250000000000001,0.011250000000000001,0.011250000000000001,0.011250000000000001,null,64,79.2,0.005399999999999999,0.005399999999999999,0.005399999999999999,0.005399999999999999,0.005399999999999999,0.005625,0.005625,0.005625,0.005625,0.005625]
[{"$nulls":8},16.25,22.5,{"$f":"$C$7","v":0.011250000000000001},0.011250000000000001,0.011250000000000001,0.011250000000000001,0.011250000000000001,null,65,80.2,0.005399999999999999,0.005399999999999999,0.005399999999999999,0.005399999999999999,0.005399999999999999,0.005625,0.005625,0.005625,0.005625,0.005625]
[{"$nulls":8},16.5,{"$f":"J72+0.25","v":22.75},0.011250000000000001,0.011250000000000001,0.011250000000000001,0.011250000000000001,0.011250000000000001,null,66,{"$f":"R72+1","v":81.2},0.005399999999999999,0.005399999999999999,0.005399999999999999,0.005399999999999999,0.005399999999999999,0.005625,0.005625,0.005625,0.005625,0.005625]
[{"$nulls":8},16.75,23,0.011250000000000001,0.011250000000000001,0.011250000000000001,0.011250000000000001,0.011250000000000001,null,67,82.2,0.005399999999999999,0.005399999999999999,0.005399999999999999,0.005399999999999999,0.005399999999999999,0.005625,0.005625,0.005625,0.005625,0.005625]
[{"$nulls":8},17,23.25,0.011250000000000001,0.011250000000000001,0.011250000000000001,0.011250000000000001,0.011250000000000001,null,68,83.2,0.005399999999999999,0.005399999999999999,0.005399999999999999,0.005399999999999999,0.005399999999999999,0.005625,0.005625,0.005625,0.005625,0.005625]
[{"$nulls":8},17.25,23.5,0.011250000000000001,0.011250000000000001,0.011250000000000001,0.011250000000000001,0.011250000000000001,null,69,84.2,0.005399999999999999,0.005399999999999999,0.005399999999999999,0.005399999999999999,0.005399999999999999,0.005625,0.005625,0.005625,0.005625,0.005625]
[{"$nulls":8},17.5,23.75,0.011250000000000001,0.011250000000000001,0.011250000000000001,0.011250000000000001,0.011250000000000001,null,70,85.2,0.005399999999999999,0.005399999999999999,0.005399999999999999,0.005399999999999999,0.005399999999999999,0.005625,0.005625,0.005625,0.005625,0.005625]
[{"$nulls":8},17.75,24,0.011250000000000001,0.011250000000000001,0.011250000000000001,0.011250000000000001,0.011250000000000001,null,71,86.2,0.005399999999999999,0.005399999999999999,0.005399999999999999,0.005399999999999999,0.005399999999999999,0.005625,0.005625,0.005625,0.005625,0.005625]
[{"$nulls":8},18,24.25,0.011250000000000001,0.011250000000000001,0.011250000000000001,0.011250000000000001,0.011250000000000001,null,72,87.2,0.005399999999999999,0.005399999999999999,0.005399999999999999,0.005399999999999999,0.005399999999999999,0.005625,0.005625,0.005625,0.005625,0.005625]
[{"$nulls":8},18.25,24.5,0.011250000000000001,0.011250000000000001,0.011250000000000001,0.011250000000000001,0.011250000000000001,null,73,88.2,0.005399999999999999,0.005399999999999999,0.005399999999999999,0.005399999999999999,0.005399999999999999,0.005625,0.005625,0.005625,0.005625,0.005625]
[{"$nulls":8},18.5,24.75,0.011250000000000001,0.011250000000000001,0.011250000000000001,0.011250000000000001,0.011250000000000001,null,74,89.2,0.005399999999999999,0.005399999999999999,0.005399999999999999,0.005399999999999999,0.005399999999999999,0.005625,0.005625,0.005625,0.005625,0.005625]
[{"$nulls":8},18.75,25,0.011250000000000001,0.011250000000000001,0.011250000000000001,0.011250000000000001,0.011250000000000001,null,75,90.2,0.005399999999999999,0.005399999999999999,0.005399999999999999,0.005399999999999999,0.005399999999999999,0.005625,0.005625,0.005625,0.005625,0.005625]
[{"$nulls":8},19,25.25,0.011250000000000001,0.011250000000000001,0.011250000000000001,0.011250000000000001,0.011250000000000001,null,76,91.2,0.005399999999999999,0.005399999999999999,0.005399999999999999,0.005399999999999999,0.005399999999999999,0.005625,0.005625,0.005625,0.005625,0.005625]
[{"$nulls":8},19.25,25.5,0.011250000000000001,0.011250000000000001,0.011250000000000001,0.011250000000000001,0.011250000000000001,null,77,92.2,0.005399999999999999,0.005399999999999999,0.005399999999999999,0.005399999999999999,0.005399999999999999,0.005625,0.005625,0.005625,0.005625,0.005625]
[{"$nulls":8},19.5,25.75,0.011250000000000001,0.011250000000000001,0.011250000000000001,0.011250000000000001,0.011250000000000001,null,78,93.2,0.005399999999999999,0.005399999999999999,0.005399999999999999,0.005399999999999999,0.005399999999999999,0.005625,0.005625,0.005625,0.005625,0.005625]
[{"$nulls":8},19.75,26,0.011250000000000001,0.011250000000000001,0.011250000000000001,0.011250000000000001,0.011250000000000001,null,79,94.2,0.005399999999999999,0.005399999999999999,0.005399999999999999,0.005399999999999999,0.005399999999999999,0.005625,0.005625,0.005625,0.005625,0.005625]
[{"$nulls":8},20,26.25,0.011250000000000001,0.011250000000000001,0.011250000000000001,0.011250000000000001,0.011250000000000001,null,80,95.2,0.005399999999999999,0.005399999999999999,0.005399999999999999,0.005399999999999999,0.005399999999999999,0.005625,0.005625,0.005625,0.005625,0.005625]
[{"$nulls":8},20.25,26.5,0.011250000000000001,0.011250000000000001,0.011250000000000001,0.011250000000000001,0.011250000000000001,null,81,96.2,null,0.005399999999999999,0.005399999999999999,0.005399999999999999,0.005399999999999999,null,{"$f":"$D$32","v":0.005625},0.005625,0.005625,0.005625]
[{"$nulls":8},20.5,26.75,0.011250000000000001,0.011250000000000001,0.011250000000000001,0.011250000000000001,0.011250000000000001,null,82,97.2,null,{"$f":"$D$33","v":0.005399999999999999},0.005399999999999999,0.005399999999999999,0.005399999999999999,null,{"$f":"$D$32","v":0.005625},0.005625,0.005625,0.005625]
[{"$nulls":8},20.75,27,0.011250000000000001,0.011250000000000001,0.011250000000000001,0.011250000000000001,0.011250000000000001,null,83,98.2,null,0.005399999999999999,0.005399999999999999,0.005399999999999999,0.005399999999999999,null,0.005625,0.005625,0.005625,0.005625]
[{"$nulls":8},21,27.25,0.011250000000000001,0.011250000000000001,0.011250000000000001,0.011250000000000001,0.011250000000000001,null,84,99.2,null,0.005399999999999999,0.005399999999999999,0.005399999999999999,0.005399999999999999,null,0.005625,0.005625,0.005625,0.005625]
[{"$nulls":8},21.25,27.5,0.011250000000000001,0.011250000000000001,0.011250000000000001,0.011250000000000001,0.011250000000000001,null,85,100.2,null,0.005399999999999999,0.005399999999999999,0.005399999999999999,0.005399999999999999,null,0.005625,0.005625,0.005625,0.005625]
[{"$nulls":8},21.5,27.75,0.011250000000000001,0.011250000000000001,0.011250000000000001,0.011250000000000001,0.011250000000000001,null,86,101.2,null,0.005399999999999999,0.005399999999999999,0.005399999999999999,0.005399999999999999,null,0.005625,0.005625,0.005625,0.005625]
[{"$nulls":8},21.75,28,0.011250000000000001,0.011250000000000001,0.011250000000000001,0.011250000000000001,0.011250000000000001,null,87,102.2,null,0.005399999999999999,0.005399999999999999,0.005399999999999999,0.005399999999999999,null,0.005625,0.005625,0.005625,0.005625]
[{"$nulls":8},22,28.25,0.011250000000000001,0.011250000000000001,0.011250000000000001,0.011250000000000001,0.011250000000000001,null,88,103.2,null,0.005399999999999999,0.005399999999999999,0.005399999999999999,0.005399999999999999,null,0.005625,0.005625,0.005625,0.005625]
[{"$nulls":8},22.25,28.5,0.011250000000000001,0.011250000000000001,0.011250000000000001,0.011250000000000001,0.011250000000000001,null,89,104.2,null,0.005399999999999999,0.005399999999999999,0.005399999999999999,0.005399999999999999,null,0.005625,0.005625,0.005625,0.005625]
[{"$nulls":8},22.5,28.75,0.011250000000000001,0.011250000000000001,0.011250000000000001,0.011250000000000001,0.011250000000000001,null,90,105.2,null,0.005399999999999999,0.005399999999999999,0.005399999999999999,0.005399999999999999,null,0.005625,0.005625,0.005625,0.005625]
[{"$nulls":8},22.75,29,0.011250000000000001,0.011250000000000001,0.011250000000000001,0.011250000000000001,0.011250000000000001,null,91,106.2,null,0.005399999999999999,0.005399999999999999,0.005399999999999999,0.005399999999999999,null,0.005625,0.005625,0.005625,0.005625]
[{"$nulls":8},23,29.25,0.011250000000000001,0.011250000000000001,0.011250000000000001,0.011250000000000001,0.011250000000000001,null,92,107.2,null,0.005399999999999999,0.005399999999999999,0.005399999999999999,0.005399999999999999,null,0.005625,0.005625,0.005625,0.005625]
[{"$nulls":8},23.25,29.5,0.011250000000000001,0.011250000000000001,0.011250000000000001,0.011250000000000001,0.011250000000000001,null,93,108.2,null,0.005399999999999999,0.005399999999999999,0.005399999999999999,0.005399999999999999,null,0.005625,0.005625,0.005625,0.005625]
[{"$nulls":8},23.5,29.75,0.011250000000000001,0.011250000000000001,0.011250000000000001,0.011250000000000001,0.011250000000000001,null,94,109.2,null,0.005399999999999999,0.005399999999999999,0.005399999999999999,0.005399999999999999,null,0.005625,0.005625,0.005625,0.005625]
[{"$nulls":8},23.75,30,0.011250000000000001,0.011250000000000001,0.011250000000000001,0.011250000000000001,0.011250000000000001,null,95,110.2,null,0.005399999999999999,0.005399999999999999,0.005399999999999999,0.005399999999999999,null,0.005625,0.005625,0.005625,0.005625]
[{"$nulls":8},24,30.25,0.011250000000000001,0.011250000000000001,0.011250000000000001,0.011250000000000001,0.011250000000000001,null,96,111.2,null,0.005399999999999999,0.005399999999999999,0.005399999999999999,0.005399999999999999,null,0.005625,0.005625,0.005625,0.005625]
[{"$nulls":8},24.25,30.5,{"$f":"$C$7","v":0.011250000000000001},0.011250000000000001,0.011250000000000001,0.011250000000000001,0.011250000000000001,null,97,{"$f":"R103+1","v":112.2},null,0.005399999999999999,0.005399999999999999,0.005399999999999999,0.005399999999999999,null,0.005625,0.005625,0.005625,0.005625]
[{"$nulls":8},24.5,30.75,0.011250000000000001,0.011250000000000001,0.011250000000000001,0.011250000000000001,0.011250000000000001,null,98,113.2,null,0.005399999999999999,0.005399999999999999,0.005399999999999999,0.005399999999999999,null,0.005625,0.005625,0.005625,0.005625]
[{"$nulls":8},24.75,31,0.011250000000000001,0.011250000000000001,0.011250000000000001,0.011250000000000001,0.011250000000000001,null,99,114.2,null,0.005399999999999999,0.005399999999999999,0.005399999999999999,0.005399999999999999,null,0.005625,0.005625,0.005625,0.005625]
[{"$nulls":8},25,31.25,0.011250000000000001,0.011250000000000001,0.011250000000000001,0.011250000000000001,0.011250000000000001,null,100,115.2,null,0.005399999999999999,0.005399999999999999,0.005399999999999999,0.005399999999999999,null,0.005625,0.005625,0.005625,0.005625]
[{"$nulls":8},25.25,31.5,0.011250000000000001,0.011250000000000001,0.011250000000000001,0.011250000000000001,0.011250000000000001,null,101,116.2,null,0.005399999999999999,0.005399999999999999,0.005399999999999999,0.005399999999999999,null,0.005625,0.005625,0.005625,0.005625]
[{"$nulls":8},25.5,31.75,0.011250000000000001,0.011250000000000001,0.011250000000000001,0.011250000000000001,0.011250000000000001,null,102,117.2,null,0.005399999999999999,0.005399999999999999,0.005399999999999999,0.005399999999999999,null,0.005625,0.005625,0.005625,0.005625]
[{"$nulls":8},25.75,32,0.011250000000000001,0.011250000000000001,0.011250000000000001,0.011250000000000001,0.011250000000000001,null,103,118.2,null,0.005399999999999999,0.005399999999999999,0.005399999999999999,0.005399999999999999,null,0.005625,0.005625,0.005625,0.005625]
[{"$nulls":8},26,32.25,0.011250000000000001,0.011250000000000001,0.011250000000000001,0.011250000000000001,0.011250000000000001,null,104,119.2,null,0.005399999999999999,0.005399999999999999,0.005399999999999999,0.005399999999999999,null,0.005625,0.005625,0.005625,0.005625]
[{"$nulls":8},26.25,32.5,0.011250000000000001,0.011250000000000001,0.011250000000000001,0.011250000000000001,0.011250000000000001,null,105,120.2,null,0.005399999999999999,0.005399999999999999,0.005399999999999999,0.005399999999999999,null,0.005625,0.005625,0.005625,0.005625]
[{"$nulls":8},26.5,32.75,0.011250000000000001,0.011250000000000001,0.011250000000000001,0.011250000000000001,0.011250000000000001,null,106,121.2,null,0.005399999999999999,0.005399999999999999,0.005399999999999999,0.005399999999999999,null,0.005625,0.005625,0.005625,0.005625]
[{"$nulls":8},26.75,33,0.011250000000000001,0.011250000000000001,0.011250000000000001,0.011250000000000001,0.011250000000000001,null,107,122.2,null,0.005399999999999999,0.005399999999999999,0.005399999999999999,0.005399999999999999,null,0.005625,0.005625,0.005625,0.005625]
[{"$nulls":8},27,33.25,0.011250000000000001,0.011250000000000001,0.011250000000000001,0.011250000000000001,0.011250000000000001,null,108,123.2,null,0.005399999999999999,0.005399999999999999,0.005399999999999999,0.005399999999999999,null,0.005625,0.005625,0.005625,0.005625]
[{"$nulls":8},27.25,33.5,0.011250000000000001,0.011250000000000001,0.011250000000000001,0.011250000000000001,0.011250000000000001,null,109,124.2,null,0.005399999999999999,0.005399999999999999,0.005399999999999999,0.005399999999999999,null,0.005625,0.005625,0.005625,0.005625]
[{"$nulls":8},27.5,33.75,0.011250000000000001,0.011250000000000001,0.011250000000000001,0.011250000000000001,0.011250000000000001,null,110,125.2,null,0.005399999999999999,0.005399999999999999,0.005399999999999999,0.005399999999999999,null,0.005625,0.005625,0.005625,0.005625]
[{"$nulls":8},27.75,34,0.011250000000000001,0.011250000000000001,0.011250000000000001,0.011250000000000001,0.011250000000000001,null,111,126.2,null,0.005399999999999999,0.005399999999999999,0.005399999999999999,0.005399999999999999,null,0.005625,0.005625,0.005625,0.005625]
[{"$nulls":8},28,34.25,0.011250000000000001,0.011250000000000001,0.011250000000000001,0.011250000000000001,0.011250000000000001,null,112,127.2,null,0.005399999999999999,0.005399999999999999,0.005399999999999999,0.005399999999999999,null,0.005625,0.005625,0.005625,0.005625]
[{"$nulls":8},28.25,34.5,0.011250000000000001,0.011250000000000001,0.011250000000000001,0.011250000000000001,0.011250000000000001,null,113,128.2,null,0.005399999999999999,0.005399999999999999,0.005399999999999999,0.005399999999999999,null,0.005625,0.005625,0.005625,0.005625]
[{"$nulls":8},28.5,34.75,0.011250000000000001,0.011250000000000001,0.011250000000000001,0.011250000000000001,0.011250000000000001,null,114,129.2,null,0.005399999999999999,0.005399999999999999,0.005399999999999999,0.005399999999999999,null,0.005625,0.005625,0.005625,0.005625]
[{"$nulls":8},28.75,35,0.011250000000000001,0.011250000000000001,0.011250000000000001,0.011250000000000001,0.011250000000000001,null,115,130.2,null,0.005399999999999999,0.005399999999999999,0.005399999999999999,0.005399999999999999,null,0.005625,0.005625,0.005625,0.005625]
[{"$nulls":8},29,35.25,0.011250000000000001,0.011250000000000001,0.011250000000000001,0.011250000000000001,0.011250000000000001,null,116,131.2,null,0.005399999999999999,0.005399999999999999,0.005399999999999999,0.005399999999999999,null,{"$f":"$D$32","v":0.005625},{"$f":"$D$32","v":0.005625},0.005625,0.005625]
[{"$nulls":8},29.25,35.5,0.011250000000000001,0.011250000000000001,0.011250000000000001,0.011250000000000001,0.011250000000000001,null,117,132.2,null,0.005399999999999999,0.005399999999999999,0.005399999999999999,0.005399999999999999,null,0.005625,0.005625,0.005625,0.005625]
[{"$nulls":8},29.5,35.75,0.011250000000000001,0.011250000000000001,0.011250000000000001,0.011250000000000001,0.011250000000000001,null,118,133.2,null,0.005399999999999999,0.005399999999999999,0.005399999999999999,0.005399999999999999,null,0.005625,0.005625,0.005625,0.005625]
[{"$nulls":8},29.75,36,0.011250000000000001,0.011250000000000001,0.011250000000000001,0.011250000000000001,0.011250000000000001,null,119,134.2,null,0.005399999999999999,0.005399999999999999,0.005399999999999999,0.005399999999999999,null,0.005625,0.005625,0.005625,0.005625]
[{"$nulls":8},30,36.25,0.011250000000000001,0.011250000000000001,0.011250000000000001,0.011250000000000001,0.011250000000000001,null,120,135.2,null,0.005399999999999999,0.005399999999999999,0.005399999999999999,0.005399999999999999,null,0.005625,0.005625,0.005625,0.005625]
[{"$nulls":8},30.25,36.5,0.011250000000000001,0.011250000000000001,0.011250000000000001,0.011250000000000001,0.011250000000000001,null,121,136.2,null,null,0.005399999999999999,0.005399999999999999,0.005399999999999999,null,null,0.005625,0.005625,0.005625]
[{"$nulls":8},30.5,36.75,0.011250000000000001,0.011250000000000001,0.011250000000000001,0.011250000000000001,0.011250000000000001,null,122,137.2,null,null,{"$f":"$D$33","v":0.005399999999999999},0.005399999999999999,0.005399999999999999,null,null,0.005625,0.005625,0.005625]
[{"$nulls":8},30.75,37,0.011250000000000001,0.011250000000000001,0.011250000000000001,0.011250000000000001,0.011250000000000001,null,123,138.2,null,null,0.005399999999999999,0.005399999999999999,0.005399999999999999,null,null,0.005625,0.005625,0.005625]
[{"$nulls":8},31,37.25,0.011250000000000001,0.011250000000000001,0.011250000000000001,0.011250000000000001,0.011250000000000001,null,124,139.2,null,null,0.005399999999999999,0.005399999999999999,0.005399999999999999,null,null,0.005625,0.005625,0.005625]
[{"$nulls":8},31.25,37.5,0.011250000000000001,0.011250000000000001,0.011250000000000001,0.011250000000000001,0.011250000000000001,null,125,140.2,null,null,0.005399999999999999,0.005399999999999999,0.005399999999999999,null,null,0.005625,0.005625,0.005625]
[{"$nulls":8},31.5,37.75,0.011250000000000001,0.011250000000000001,0.011250000000000001,0.011250000000000001,0.011250000000000001,null,126,141.2,null,null,0.005399999999999999,0.005399999999999999,0.005399999999999999,null,null,0.005625,0.005625,0.005625]
[{"$nulls":8},31.75,38,null,0.011250000000000001,0.011250000000000001,0.011250000000000001,0.011250000000000001,null,127,142.2,null,null,0.005399999999999999,0.005399999999999999,0.005399999999999999,null,null,0.005625,0.005625,0.005625]
[{"$nulls":8},32,38.25,null,{"$f":"$C$7","v":0.011250000000000001},0.011250000000000001,0.011250000000000001,0.011250000000000001,null,128,143.2,null,null,0.005399999999999999,0.005399999999999999,0.005399999999999999,null,null,0.005625,0.005625,0.005625]
[{"$nulls":8},32.25,38.5,null,0.011250000000000001,0.011250000000000001,0.011250000000000001,0.011250000000000001,null,129,{"$f":"R135+1","v":144.2},null,null,0.005399999999999999,0.005399999999999999,0.005399999999999999,null,null,0.005625,0.005625,0.005625]
[{"$nulls":8},32.5,{"$f":"J136+0.25","v":38.75},null,0.011250000000000001,0.011250000000000001,0.011250000000000001,0.011250000000000001,null,130,145.2,null,null,0.005399999999999999,0.005399999999999999,0.005399999999999999,null,null,0.005625,0.005625,0.005625]
[{"$nulls":8},32.75,39,null,0.011250000000000001,0.011250000000000001,0.011250000000000001,0.011250000000000001,null,131,146.2,null,null,0.005399999999999999,0.005399999999999999,0.005399999999999999,null,null,0.005625,0.005625,0.005625]
[{"$nulls":8},33,39.25,null,0.011250000000000001,0.011250000000000001,0.011250000000000001,0.011250000000000001,null,132,147.2,null,null,0.005399999999999999,0.005399999999999999,0.005399999999999999,null,null,0.005625,0.005625,0.005625]
[{"$nulls":8},33.25,39.5,null,0.011250000000000001,0.011250000000000001,0.011250000000000001,0.011250000000000001,null,133,148.2,null,null,0.005399999999999999,0.005399999999999999,0.005399999999999999,null,null,0.005625,0.005625,0.005625]
[{"$nulls":8},33.5,39.75,null,0.011250000000000001,0.011250000000000001,0.011250000000000001,0.011250000000000001,null,134,149.2,null,null,0.005399999999999999,0.005399999999999999,0.005399999999999999,null,null,0.005625,0.005625,0.005625]
[{"$nulls":8},33.75,40,null,0.011250000000000001,0.011250000000000001,0.011250000000000001,0.011250000000000001,null,135,150.2,null,null,0.005399999999999999,0.005399999999999999,0.005399999999999999,null,null,0.005625,0.005625,0.005625]
[{"$nulls":8},34,40.25,null,0.011250000000000001,0.011250000000000001,0.011250000000000001,0.011250000000000001,null,136,151.2,null,null,0.005399999999999999,0.005399999999999999,0.005399999999999999,null,null,0.005625,0.005625,0.005625]
[{"$nulls":8},34.25,40.5,null,0.011250000000000001,0.011250000000000001,0.011250000000000001,0.011250000000000001,null,137,152.2,null,null,0.005399999999999999,0.005399999999999999,0.005399999999999999,null,null,0.005625,0.005625,0.005625]
[{"$nulls":8},34.5,40.75,null,0.011250000000000001,0.011250000000000001,0.011250000000000001,0.011250000000000001,null,138,153.2,null,null,0.005399999999999999,0.005399999999999999,0.005399999999999999,null,null,0.005625,0.005625,0.005625]
[{"$nulls":8},34.75,41,null,0.011250000000000001,0.011250000000000001,0.011250000000000001,0.011250000000000001,null,139,154.2,null,null,0.005399999999999999,0.005399999999999999,0.005399999999999999,null,null,0.005625,0.005625,0.005625]
[{"$nulls":8},35,41.25,null,0.011250000000000001,0.011250000000000001,0.011250000000000001,0.011250000000000001,null,140,155.2,null,null,0.005399999999999999,0.005399999999999999,0.005399999999999999,null,null,0.005625,0.005625,0.005625]
[{"$nulls":8},35.25,41.5,null,0.011250000000000001,0.011250000000000001,0.011250000000000001,0.011250000000000001,null,141,156.2,null,null,0.005399999999999999,0.005399999999999999,0.005399999999999999,null,null,0.005625,0.005625,0.005625]
[{"$nulls":8},35.5,41.75,null,0.011250000000000001,0.011250000000000001,0.011250000000000001,0.011250000000000001,null,142,157.2,null,null,0.005399999999999999,0.005399999999999999,0.005399999999999999,null,null,0.005625,0.005625,0.005625]
[{"$nulls":8},35.75,42,null,0.011250000000000001,0.011250000000000001,0.011250000000000001,0.011250000000000001,null,143,158.2,null,null,0.005399999999999999,0.005399999999999999,0.005399999999999999,null,null,0.005625,0.005625,0.005625]
[{"$nulls":8},36,42.25,null,0.011250000000000001,0.011250000000000001,0.011250000000000001,0.011250000000000001,null,144,159.2,null,null,0.005399999999999999,0.005399999999999999,0.005399999999999999,null,null,0.005625,0.005625,0.005625]
[{"$nulls":8},36.25,42.5,null,0.011250000000000001,0.011250000000000001,0.011250000000000001,0.011250000000000001,null,145,160.2,null,null,0.005399999999999999,0.005399999999999999,0.005399999999999999,null,null,0.005625,0.005625,0.005625]
[{"$nulls":8},36.5,42.75,null,0.011250000000000001,0.011250000000000001,0.011250000000000001,0.011250000000000001,null,146,161.2,null,null,0.005399999999999999,0.005399999999999999,0.005399999999999999,null,null,0.005625,0.005625,0.005625]
[{"$nulls":8},36.75,43,null,0.011250000000000001,0.011250000000000001,0.011250000000000001,0.011250000000000001,null,147,162.2,null,null,0.005399999999999999,0.005399999999999999,0.005399999999999999,null,null,0.005625,0.005625,0.005625]
[{"$nulls":8},37,43.25,null,0.011250000000000001,0.011250000000000001,0.011250000000000001,0.011250000000000001,null,148,163.2,null,null,0.005399999999999999,0.005399999999999999,0.005399999999999999,null,null,0.005625,0.005625,0.005625]
[{"$nulls":8},37.25,43.5,null,0.011250000000000001,0.011250000000000001,0.011250000000000001,0.011250000000000001,null,149,164.2,null,null,0.005399999999999999,0.005399999999999999,0.005399999999999999,null,null,0.005625,0.005625,0.005625]
[{"$nulls":8},37.5,43.75,null,0.011250000000000001,0.011250000000000001,0.011250000000000001,0.011250000000000001,null,150,165.2,null,null,0.005399999999999999,0.005399999999999999,0.005399999999999999,null,null,0.005625,0.005625,0.005625]
[{"$nulls":8},37.75,44,null,0.011250000000000001,0.011250000000000001,0.011250000000000001,0.011250000000000001,null,151,166.2,null,null,0.005399999999999999,0.005399999999999999,0.005399999999999999,null,null,0.005625,0.005625,0.005625]
[{"$nulls":8},38,44.25,null,0.011250000000000001,0.011250000000000001,0.011250000000000001,0.011250000000000001,null,152,167.2,null,null,0.005399999999999999,0.005399999999999999,0.005399999999999999,null,null,0.005625,0.005625,0.005625]
[{"$nulls":8},38.25,44.5,null,0.011250000000000001,0.011250000000000001,0.011250000000000001,0.011250000000000001,null,153,168.2,null,null,0.005399999999999999,0.005399999999999999,0.005399999999999999,null,null,0.005625,0.005625,0.005625]
[{"$nulls":8},38.5,44.75,null,0.011250000000000001,0.011250000000000001,0.011250000000000001,0.011250000000000001,null,154,169.2,null,null,0.005399999999999999,0.005399999999999999,0.005399999999999999,null,null,0.005625,0.005625,0.005625]
[{"$nulls":8},38.75,45,null,0.011250000000000001,0.011250000000000001,0.011250000000000001,0.011250000000000001,null,155,170.2,null,null,0.005399999999999999,0.005399999999999999,0.005399999999999999,null,null,0.005625,0.005625,0.005625]
[{"$nulls":8},39,45.25,null,0.011250000000000001,0.011250000000000001,0.011250000000000001,0.011250000000000001,null,156,171.2,null,null,0.005399999999999999,0.005399999999999999,0.005399999999999999,null,null,{"$f":"$D$32","v":0.005625},0.005625,0.005625]
[{"$nulls":8},39.25,45.5,null,0.011250000000000001,0.011250000000000001,0.011250000000000001,0.011250000000000001,null,157,172.2,null,null,0.005399999999999999,0.005399999999999999,0.005399999999999999,null,null,0.005625,0.005625,0.005625]
[{"$nulls":8},39.5,45.75,null,0.011250000000000001,0.011250000000000001,0.011250000000000001,0.011250000000000001,null,158,173.2,null,null,0.005399999999999999,0.005399999999999999,0.005399999999999999,null,null,0.005625,0.005625,0.005625]
[{"$nulls":8},39.75,46,null,0.011250000000000001,0.011250000000000001,0.011250000000000001,0.011250000000000001,null,159,174.2,null,null,0.005399999999999999,0.005399999999999999,0.005399999999999999,null,null,0.005625,0.005625,0.005625]
[{"$nulls":8},40,46.25,null,0.011250000000000001,0.011250000000000001,0.011250000000000001,0.011250000000000001,null,160,175.2,null,null,0.005399999999999999,0.005399999999999999,0.005399999999999999,null,null,0.005625,0.005625,0.005625]
[{"$nulls":8},40.25,46.5,null,0.011250000000000001,0.011250000000000001,0.011250000000000001,0.011250000000000001,null,161,{"$f":"R167+1","v":176.2},{"$nulls":3},0.005399999999999999,0.005399999999999999,{"$nulls":3},{"$f":"$D$32","v":0.005625},0.005625]
[{"$nulls":8},40.5,46.75,null,0.011250000000000001,0.011250000000000001,0.011250000000000001,0.011250000000000001,null,162,177.2,{"$nulls":3},{"$f":"$D$33","v":0.005399999999999999},0.005399999999999999,{"$nulls":3},0.005625,0.005625]
[{"$nulls":8},40.75,47,null,0.011250000000000001,0.011250000000000001,0.011250000000000001,0.011250000000000001,null,163,178.2,{"$nulls":3},0.005399999999999999,0.005399999999999999,{"$nulls":3},0.005625,0.005625]
[{"$nulls":8},41,47.25,null,0.011250000000000001,0.011250000000000001,0.011250000000000001,0.011250000000000001,null,164,179.2,{"$nulls":3},0.005399999999999999,0.005399999999999999,{"$nulls":3},0.005625,0.005625]
[{"$nulls":8},41.25,47.5,null,0.011250000000000001,0.011250000000000001,0.011250000000000001,0.011250000000000001,null,165,180.2,{"$nulls":3},0.005399999999999999,0.005399999999999999,{"$nulls":3},0.005625,0.005625]
[{"$nulls":8},41.5,47.75,null,0.011250000000000001,0.011250000000000001,0.011250000000000001,0.011250000000000001,null,166,181.2,{"$nulls":3},0.005399999999999999,0.005399999999999999,{"$nulls":3},0.005625,0.005625]
[{"$nulls":8},41.75,48,null,0.011250000000000001,0.011250000000000001,0.011250000000000001,0.011250000000000001,null,167,182.2,{"$nulls":3},0.005399999999999999,0.005399999999999999,{"$nulls":3},0.005625,0.005625]
[{"$nulls":8},42,48.25,null,0.011250000000000001,0.011250000000000001,0.011250000000000001,0.011250000000000001,null,168,183.2,{"$nulls":3},0.005399999999999999,0.005399999999999999,{"$nulls":3},0.005625,0.005625]
[{"$nulls":8},42.25,48.5,null,0.011250000000000001,0.011250000000000001,0.011250000000000001,0.011250000000000001,null,169,184.2,{"$nulls":3},0.005399999999999999,0.005399999999999999,{"$nulls":3},0.005625,0.005625]
[{"$nulls":8},42.5,48.75,null,0.011250000000000001,0.011250000000000001,0.011250000000000001,0.011250000000000001,null,170,185.2,{"$nulls":3},0.005399999999999999,0.005399999999999999,{"$nulls":3},0.005625,0.005625]
[{"$nulls":8},42.75,49,null,0.011250000000000001,0.011250000000000001,0.011250000000000001,0.011250000000000001,null,171,186.2,{"$nulls":3},0.005399999999999999,0.005399999999999999,{"$nulls":3},0.005625,0.005625]
[{"$nulls":8},43,49.25,null,0.011250000000000001,0.011250000000000001,0.011250000000000001,0.011250000000000001,null,172,187.2,{"$nulls":3},0.005399999999999999,0.005399999999999999,{"$nulls":3},0.005625,0.005625]
[{"$nulls":8},43.25,49.5,null,0.011250000000000001,0.011250000000000001,0.011250000000000001,0.011250000000000001,null,173,188.2,{"$nulls":3},0.005399999999999999,0.005399999999999999,{"$nulls":3},0.005625,0.005625]
[{"$nulls":8},43.5,49.75,null,0.011250000000000001,0.011250000000000001,0.011250000000000001,0.011250000000000001,null,174,189.2,{"$nulls":3},0.005399999999999999,0.005399999999999999,{"$nulls":3},0.005625,0.005625]
[{"$nulls":8},43.75,50,null,0.011250000000000001,0.011250000000000001,0.011250000000000001,0.011250000000000001,null,175,190.2,{"$nulls":3},0.005399999999999999,0.005399999999999999,{"$nulls":3},0.005625,0.005625]
[{"$nulls":8},44,50.25,null,0.011250000000000001,0.011250000000000001,0.011250000000000001,0.011250000000000001,null,176,191.2,{"$nulls":3},0.005399999999999999,0.005399999999999999,{"$nulls":3},0.005625,0.005625]
[{"$nulls":8},44.25,50.5,null,0.011250000000000001,0.011250000000000001,0.011250000000000001,0.011250000000000001,null,177,192.2,{"$nulls":3},0.005399999999999999,0.005399999999999999,{"$nulls":3},0.005625,0.005625]
[{"$nulls":8},44.5,50.75,null,0.011250000000000001,0.011250000000000001,0.011250000000000001,0.011250000000000001,null,178,193.2,{"$nulls":3},0.005399999999999999,0.005399999999999999,{"$nulls":3},0.005625,0.005625]
[{"$nulls":8},44.75,51,null,0.011250000000000001,0.011250000000000001,0.011250000000000001,0.011250000000000001,null,179,194.2,{"$nulls":3},0.005399999999999999,0.005399999999999999,{"$nulls":3},0.005625,0.005625]
[{"$nulls":8},45,51.25,null,0.011250000000000001,0.011250000000000001,0.011250000000000001,0.011250000000000001,null,180,195.2,{"$nulls":3},0.005399999999999999,0.005399999999999999,{"$nulls":3},0.005625,0.005625]
[{"$nulls":8},45.25,51.5,null,0.011250000000000001,0.011250000000000001,0.011250000000000001,0.011250000000000001,null,181,196.2,{"$nulls":3},0.005399999999999999,0.005399999999999999,{"$nulls":3},0.005625,0.005625]
[{"$nulls":8},45.5,51.75,null,0.011250000000000001,0.011250000000000001,0.011250000000000001,0.011250000000000001,null,182,197.2,{"$nulls":3},0.005399999999999999,0.005399999999999999,{"$nulls":3},0.005625,0.005625]
[{"$nulls":8},45.75,52,null,0.011250000000000001,0.011250000000000001,0.011250000000000001,0.011250000000000001,null,183,198.2,{"$nulls":3},0.005399999999999999,0.005399999999999999,{"$nulls":3},0.005625,0.005625]
[{"$nulls":8},46,52.25,null,0.011250000000000001,0.011250000000000001,0.011250000000000001,0.011250000000000001,null,184,199.2,{"$nulls":3},0.005399999999999999,0.005399999999999999,{"$nulls":3},0.005625,0.005625]
[{"$nulls":8},46.25,52.5,null,0.011250000000000001,0.011250000000000001,0.011250000000000001,0.011250000000000001,null,185,200.2,{"$nulls":3},0.005399999999999999,0.005399999999999999,{"$nulls":3},0.005625,0.005625]
[{"$nulls":8},46.5,52.75,null,0.011250000000000001,0.011250000000000001,0.011250000000000001,0.011250000000000001,null,186,201.2,{"$nulls":3},0.005399999999999999,0.005399999999999999,{"$nulls":3},0.005625,0.005625]
[{"$nulls":8},46.75,53,null,0.011250000000000001,0.011250000000000001,0.011250000000000001,0.011250000000000001,null,187,202.2,{"$nulls":3},0.005399999999999999,0.005399999999999999,{"$nulls":3},0.005625,0.005625]
[{"$nulls":8},47,53.25,null,0.011250000000000001,0.011250000000000001,0.011250000000000001,0.011250000000000001,null,188,203.2,{"$nulls":3},0.005399999999999999,0.005399999999999999,{"$nulls":3},0.005625,0.005625]
[{"$nulls":8},47.25,53.5,null,0.011250000000000001,0.011250000000000001,0.011250000000000001,0.011250000000000001,null,189,204.2,{"$nulls":3},0.005399999999999999,0.005399999999999999,{"$nulls":3},0.005625,0.005625]
[{"$nulls":8},47.5,53.75,null,null,0.011250000000000001,0.011250000000000001,0.011250000000000001,null,190,205.2,{"$nulls":3},0.005399999999999999,0.005399999999999999,{"$nulls":3},0.005625,0.005625]
[{"$nulls":8},47.75,54,null,null,{"$f":"$C$7","v":0.011250000000000001},0.011250000000000001,0.011250000000000001,null,191,206.2,{"$nulls":3},0.005399999999999999,0.005399999999999999,{"$nulls":3},0.005625,0.005625]
[{"$nulls":8},48,54.25,null,null,0.011250000000000001,0.011250000000000001,0.011250000000000001,null,192,207.2,{"$nulls":3},0.005399999999999999,0.005399999999999999,{"$nulls":3},0.005625,0.005625]
[{"$nulls":8},48.25,54.5,null,null,0.011250000000000001,0.011250000000000001,0.011250000000000001,null,193,{"$f":"R199+1","v":208.2},{"$nulls":3},0.005399999999999999,0.005399999999999999,{"$nulls":3},0.005625,0.005625]
[{"$nulls":8},48.5,{"$f":"J200+0.25","v":54.75},null,null,0.011250000000000001,0.011250000000000001,0.011250000000000001,null,194,209.2,{"$nulls":3},0.005399999999999999,0.005399999999999999,{"$nulls":3},0.005625,0.005625]
[{"$nulls":8},48.75,55,null,null,0.011250000000000001,0.011250000000000001,0.011250000000000001,null,195,210.2,{"$nulls":3},0.005399999999999999,0.005399999999999999,{"$nulls":3},0.005625,0.005625]
[{"$nulls":8},49,55.25,null,null,0.011250000000000001,0.011250000000000001,0.011250000000000001,null,196,211.2,{"$nulls":3},0.005399999999999999,0.005399999999999999,{"$nulls":3},{"$f":"$D$32","v":0.005625},0.005625]
[{"$nulls":8},49.25,55.5,null,null,0.011250000000000001,0.011250000000000001,0.011250000000000001,null,197,212.2,{"$nulls":3},0.005399999999999999,0.005399999999999999,{"$nulls":3},0.005625,0.005625]
[{"$nulls":8},49.5,55.75,null,null,0.011250000000000001,0.011250000000000001,0.011250000000000001,null,198,213.2,{"$nulls":3},0.005399999999999999,0.005399999999999999,{"$nulls":3},0.005625,0.005625]
[{"$nulls":8},49.75,56,null,null,0.011250000000000001,0.011250000000000001,0.011250000000000001,null,199,214.2,{"$nulls":3},0.005399999999999999,0.005399999999999999,{"$nulls":3},0.005625,0.005625]
[{"$nulls":8},50,56.25,null,null,0.011250000000000001,0.011250000000000001,0.011250000000000001,null,200,215.2,{"$nulls":3},0.005399999999999999,0.005399999999999999,{"$nulls":3},0.005625,0.005625]
[{"$nulls":8},50.25,56.5,null,null,0.011250000000000001,0.011250000000000001,0.011250000000000001,null,201,216.2,{"$nulls":4},0.005399999999999999,{"$nulls":4},{"$f":"$D$32","v":0.005625}]
[{"$nulls":8},50.5,56.75,null,null,0.011250000000000001,0.011250000000000001,0.011250000000000001,null,202,217.2,{"$nulls":4},{"$f":"$D$33","v":0.005399999999999999},{"$nulls":4},0.005625]
[{"$nulls":8},50.75,57,null,null,0.011250000000000001,0.011250000000000001,0.011250000000000001,null,203,218.2,{"$nulls":4},0.005399999999999999,{"$nulls":4},0.005625]
[{"$nulls":8},51,57.25,null,null,0.011250000000000001,0.011250000000000001,0.011250000000000001,null,204,219.2,{"$nulls":4},0.005399999999999999,{"$nulls":4},0.005625]
[{"$nulls":8},51.25,57.5,null,null,0.011250000000000001,0.011250000000000001,0.011250000000000001,null,205,220.2,{"$nulls":4},0.005399999999999999,{"$nulls":4},0.005625]
[{"$nulls":8},51.5,57.75,null,null,0.011250000000000001,0.011250000000000001,0.011250000000000001,null,206,221.2,{"$nulls":4},0.005399999999999999,{"$nulls":4},0.005625]
[{"$nulls":8},51.75,58,null,null,0.011250000000000001,0.011250000000000001,0.011250000000000001,null,207,222.2,{"$nulls":4},0.005399999999999999,{"$nulls":4},0.005625]
[{"$nulls":8},52,58.25,null,null,0.011250000000000001,0.011250000000000001,0.011250000000000001,null,208,223.2,{"$nulls":4},0.005399999999999999,{"$nulls":4},0.005625]
[{"$nulls":8},52.25,58.5,null,null,0.011250000000000001,0.011250000000000001,0.011250000000000001,null,209,224.2,{"$nulls":4},0.005399999999999999,{"$nulls":4},0.005625]
[{"$nulls":8},52.5,58.75,null,null,0.011250000000000001,0.011250000000000001,0.011250000000000001,null,210,225.2,{"$nulls":4},0.005399999999999999,{"$nulls":4},0.005625]
[{"$nulls":8},52.75,59,null,null,0.011250000000000001,0.011250000000000001,0.011250000000000001,null,211,226.2,{"$nulls":4},0.005399999999999999,{"$nulls":4},0.005625]
[{"$nulls":8},53,59.25,null,null,0.011250000000000001,0.011250000000000001,0.011250000000000001,null,212,227.2,{"$nulls":4},0.005399999999999999,{"$nulls":4},0.005625]
[{"$nulls":8},53.25,59.5,null,null,0.011250000000000001,0.011250000000000001,0.011250000000000001,null,213,228.2,{"$nulls":4},0.005399999999999999,{"$nulls":4},0.005625]
[{"$nulls":8},53.5,59.75,null,null,0.011250000000000001,0.011250000000000001,0.011250000000000001,null,214,229.2,{"$nulls":4},0.005399999999999999,{"$nulls":4},0.005625]
[{"$nulls":8},53.75,60,null,null,0.011250000000000001,0.011250000000000001,0.011250000000000001,null,215,230.2,{"$nulls":4},0.005399999999999999,{"$nulls":4},0.005625]
[{"$nulls":8},54,60.25,null,null,0.011250000000000001,0.011250000000000001,0.011250000000000001,null,216,231.2,{"$nulls":4},0.005399999999999999,{"$nulls":4},0.005625]
[{"$nulls":8},54.25,60.5,null,null,0.011250000000000001,0.011250000000000001,0.011250000000000001,null,217,232.2,{"$nulls":4},0.005399999999999999,{"$nulls":4},0.005625]
[{"$nulls":8},54.5,60.75,null,null,0.011250000000000001,0.011250000000000001,0.011250000000000001,null,218,233.2,{"$nulls":4},0.005399999999999999,{"$nulls":4},0.005625]
[{"$nulls":8},54.75,61,null,null,0.011250000000000001,0.011250000000000001,0.011250000000000001,null,219,234.2,{"$nulls":4},0.005399999999999999,{"$nulls":4},0.005625]
[{"$nulls":8},55,61.25,null,null,0.011250000000000001,0.011250000000000001,0.011250000000000001,null,220,235.2,{"$nulls":4},0.005399999999999999,{"$nulls":4},0.005625]
[{"$nulls":8},55.25,61.5,null,null,0.011250000000000001,0.011250000000000001,0.011250000000000001,null,221,236.2,{"$nulls":4},0.005399999999999999,{"$nulls":4},0.005625]
[{"$nulls":8},55.5,61.75,null,null,0.011250000000000001,0.011250000000000001,0.011250000000000001,null,222,237.2,{"$nulls":4},0.005399999999999999,{"$nulls":4},0.005625]
[{"$nulls":8},55.75,62,null,null,0.011250000000000001,0.011250000000000001,0.011250000000000001,null,223,238.2,{"$nulls":4},0.005399999999999999,{"$nulls":4},0.005625]
[{"$nulls":8},56,62.25,null,null,0.011250000000000001,0.011250000000000001,0.011250000000000001,null,224,239.2,{"$nulls":4},0.005399999999999999,{"$nulls":4},0.005625]
[{"$nulls":8},56.25,62.5,null,null,0.011250000000000001,0.011250000000000001,0.011250000000000001,null,225,{"$f":"R231+1","v":240.2},{"$nulls":4},0.005399999999999999,{"$nulls":4},0.005625]
[{"$nulls":8},56.5,62.75,null,null,0.011250000000000001,0.011250000000000001,0.011250000000000001,null,226,241.2,{"$nulls":4},0.005399999999999999,{"$nulls":4},0.005625]
[{"$nulls":8},56.75,63,null,null,0.011250000000000001,0.011250000000000001,0.011250000000000001,null,227,242.2,{"$nulls":4},0.005399999999999999,{"$nulls":4},0.005625]
[{"$nulls":8},57,63.25,null,null,0.011250000000000001,0.011250000000000001,0.011250000000000001,null,228,243.2,{"$nulls":4},0.005399999999999999,{"$nulls":4},0.005625]
[{"$nulls":8},57.25,63.5,null,null,0.011250000000000001,0.011250000000000001,0.011250000000000001,null,229,244.2,{"$nulls":4},0.005399999999999999,{"$nulls":4},0.005625]
[{"$nulls":8},57.5,63.75,null,null,0.011250000000000001,0.011250000000000001,0.011250000000000001,null,230,245.2,{"$nulls":4},0.005399999999999999,{"$nulls":4},0.005625]
[{"$nulls":8},57.75,64,null,null,0.011250000000000001,0.011250000000000001,0.011250000000000001,null,231,246.2,{"$nulls":4},0.005399999999999999,{"$nulls":4},0.005625]
[{"$nulls":8},58,64.25,null,null,0.011250000000000001,0.011250000000000001,0.011250000000000001,null,232,247.2,{"$nulls":4},0.005399999999999999,{"$nulls":4},0.005625]
[{"$nulls":8},58.25,64.5,null,null,0.011250000000000001,0.011250000000000001,0.011250000000000001,null,233,248.2,{"$nulls":4},0.005399999999999999,{"$nulls":4},0.005625]
[{"$nulls":8},58.5,64.75,null,null,0.011250000000000001,0.011250000000000001,0.011250000000000001,null,234,249.2,{"$nulls":4},0.005399999999999999,{"$nulls":4},0.005625]
[{"$nulls":8},58.75,65,null,null,0.011250000000000001,0.011250000000000001,0.011250000000000001,null,235,250.2,{"$nulls":4},0.005399999999999999,{"$nulls":4},0.005625]
[{"$nulls":8},59,65.25,null,null,0.011250000000000001,0.011250000000000001,0.011250000000000001,null,236,251.2,{"$nulls":4},0.005399999999999999,{"$nulls":4},0.005625]
[{"$nulls":8},59.25,65.5,null,null,0.011250000000000001,0.011250000000000001,0.011250000000000001,null,237,252.2,{"$nulls":4},0.005399999999999999,{"$nulls":4},0.005625]
[{"$nulls":8},59.5,65.75,null,null,0.011250000000000001,0.011250000000000001,0.011250000000000001,null,238,253.2,{"$nulls":4},0.005399999999999999,{"$nulls":4},0.005625]
[{"$nulls":8},59.75,66,null,null,0.011250000000000001,0.011250000000000001,0.011250000000000001,null,239,254.2,{"$nulls":4},0.005399999999999999,{"$nulls":4},0.005625]
[{"$nulls":8},60,66.25,null,null,0.011250000000000001,0.011250000000000001,0.011250000000000001,null,240,255.2,{"$nulls":4},0.005399999999999999,{"$nulls":4},0.005625]
[{"$nulls":8},60.25,66.5,null,null,0.011250000000000001,0.011250000000000001,0.011250000000000001]
[{"$nulls":8},60.5,66.75,null,null,0.011250000000000001,0.011250000000000001,0.011250000000000001]
[{"$nulls":8},60.75,67,null,null,0.011250000000000001,0.011250000000000001,0.011250000000000001]
[{"$nulls":8},61,67.25,null,null,0.011250000000000001,0.011250000000000001,0.011250000000000001]
[{"$nulls":8},61.25,67.5,null,null,0.011250000000000001,0.011250000000000001,0.011250000000000001]
[{"$nulls":8},61.5,67.75,null,null,0.011250000000000001,0.011250000000000001,0.011250000000000001]
[{"$nulls":8},61.75,68,null,null,0.011250000000000001,0.011250000000000001,0.011250000000000001]
[{"$nulls":8},62,68.25,null,null,0.011250000000000001,0.011250000000000001,0.011250000000000001]
[{"$nulls":8},62.25,68.5,null,null,0.011250000000000001,0.011250000000000001,0.011250000000000001]
[{"$nulls":8},62.5,68.75,null,null,0.011250000000000001,0.011250000000000001,0.011250000000000001]
[{"$nulls":8},62.75,69,null,null,0.011250000000000001,0.011250000000000001,0.011250000000000001]
[{"$nulls":8},63,69.25,null,null,0.011250000000000001,0.011250000000000001,0.011250000000000001]
[{"$nulls":8},63.25,69.5,{"$nulls":3},0.011250000000000001,0.011250000000000001]
[{"$nulls":8},63.5,69.75,{"$nulls":3},{"$f":"$C$7","v":0.011250000000000001},0.011250000000000001]
[{"$nulls":8},63.75,70,{"$nulls":3},0.011250000000000001,0.011250000000000001]
[{"$nulls":8},64,70.25,{"$nulls":3},0.011250000000000001,0.011250000000000001]
[{"$nulls":8},64.25,70.5,{"$nulls":3},0.011250000000000001,0.011250000000000001]
[{"$nulls":8},64.5,{"$f":"J264+0.25","v":70.75},{"$nulls":3},0.011250000000000001,0.011250000000000001]
[{"$nulls":8},64.75,71,{"$nulls":3},0.011250000000000001,0.011250000000000001]
[{"$nulls":8},65,71.25,{"$nulls":3},0.011250000000000001,0.011250000000000001]
[{"$nulls":8},65.25,71.5,{"$nulls":3},0.011250000000000001,0.011250000000000001]
[{"$nulls":8},65.5,71.75,{"$nulls":3},0.011250000000000001,0.011250000000000001]
[{"$nulls":8},65.75,72,{"$nulls":3},0.011250000000000001,0.011250000000000001]
[{"$nulls":8},66,72.25,{"$nulls":3},0.011250000000000001,0.011250000000000001]
[{"$nulls":8},66.25,72.5,{"$nulls":3},0.011250000000000001,0.011250000000000001]
[{"$nulls":8},66.5,72.75,{"$nulls":3},0.011250000000000001,0.011250000000000001]
[{"$nulls":8},66.75,73,{"$nulls":3},0.011250000000000001,0.011250000000000001]
[{"$nulls":8},67,73.25,{"$nulls":3},0.011250000000000001,0.011250000000000001]
[{"$nulls":8},67.25,73.5,{"$nulls":3},0.011250000000000001,0.011250000000000001]
[{"$nulls":8},67.5,73.75,{"$nulls":3},0.011250000000000001,0.011250000000000001]
[{"$nulls":8},67.75,74,{"$nulls":3},0.011250000000000001,0.011250000000000001]
[{"$nulls":8},68,74.25,{"$nulls":3},0.011250000000000001,0.011250000000000001]
[{"$nulls":8},68.25,74.5,{"$nulls":3},0.011250000000000001,0.011250000000000001]
[{"$nulls":8},68.5,74.75,{"$nulls":3},0.011250000000000001,0.011250000000000001]
[{"$nulls":8},68.75,75,{"$nulls":3},0.011250000000000001,0.011250000000000001]
[{"$nulls":8},69,75.25,{"$nulls":3},0.011250000000000001,0.011250000000000001]
[{"$nulls":8},69.25,75.5,{"$nulls":3},0.011250000000000001,0.011250000000000001]
[{"$nulls":8},69.5,75.75,{"$nulls":3},0.011250000000000001,0.011250000000000001]
[{"$nulls":8},69.75,76,{"$nulls":3},0.011250000000000001,0.011250000000000001]
[{"$nulls":8},70,76.25,{"$nulls":3},0.011250000000000001,0.011250000000000001]
[{"$nulls":8},70.25,76.5,{"$nulls":3},0.011250000000000001,0.011250000000000001]
[{"$nulls":8},70.5,76.75,{"$nulls":3},0.011250000000000001,0.011250000000000001]
[{"$nulls":8},70.75,77,{"$nulls":3},0.011250000000000001,0.011250000000000001]
[{"$nulls":8},71,77.25,{"$nulls":3},0.011250000000000001,0.011250000000000001]
[{"$nulls":8},71.25,77.5,{"$nulls":3},0.011250000000000001,0.011250000000000001]
[{"$nulls":8},71.5,77.75,{"$nulls":3},0.011250000000000001,0.011250000000000001]
[{"$nulls":8},71.75,78,{"$nulls":3},0.011250000000000001,0.011250000000000001]
[{"$nulls":8},72,78.25,{"$nulls":3},0.011250000000000001,0.011250000000000001]
[{"$nulls":8},72.25,78.5,{"$nulls":3},0.011250000000000001,0.011250000000000001]
[{"$nulls":8},72.5,78.75,{"$nulls":3},0.011250000000000001,0.011250000000000001]
[{"$nulls":8},72.75,79,{"$nulls":3},0.011250000000000001,0.011250000000000001]
[{"$nulls":8},73,79.25,{"$nulls":3},0.011250000000000001,0.011250000000000001]
[{"$nulls":8},73.25,79.5,{"$nulls":3},0.011250000000000001,0.011250000000000001]
[{"$nulls":8},73.5,79.75,{"$nulls":3},0.011250000000000001,0.011250000000000001]
[{"$nulls":8},73.75,80,{"$nulls":3},0.011250000000000001,0.011250000000000001]
[{"$nulls":8},74,80.25,{"$nulls":3},0.011250000000000001,0.011250000000000001]
[{"$nulls":8},74.25,80.5,{"$nulls":3},0.011250000000000001,0.011250000000000001]
[{"$nulls":8},74.5,80.75,{"$nulls":3},0.011250000000000001,0.011250000000000001]
[{"$nulls":8},74.75,81,{"$nulls":3},0.011250000000000001,0.011250000000000001]
[{"$nulls":8},75,81.25,{"$nulls":3},0.011250000000000001,0.011250000000000001]
[{"$nulls":8},75.25,81.5,{"$nulls":3},0.011250000000000001,0.011250000000000001]
[{"$nulls":8},75.5,81.75,{"$nulls":3},0.011250000000000001,0.011250000000000001]
[{"$nulls":8},75.75,82,{"$nulls":3},0.011250000000000001,0.011250000000000001]
[{"$nulls":8},76,82.25,{"$nulls":3},0.011250000000000001,0.011250000000000001]
[{"$nulls":8},76.25,82.5,{"$nulls":3},0.011250000000000001,0.011250000000000001]
[{"$nulls":8},76.5,82.75,{"$nulls":3},0.011250000000000001,0.011250000000000001]
[{"$nulls":8},76.75,83,{"$nulls":3},0.011250000000000001,0.011250000000000001]
[{"$nulls":8},77,83.25,{"$nulls":3},0.011250000000000001,0.011250000000000001]
[{"$nulls":8},77.25,83.5,{"$nulls":3},0.011250000000000001,0.011250000000000001]
[{"$nulls":8},77.5,83.75,{"$nulls":3},0.011250000000000001,0.011250000000000001]
[{"$nulls":8},77.75,84,{"$nulls":3},0.011250000000000001,0.011250000000000001]
[{"$nulls":8},78,84.25,{"$nulls":3},0.011250000000000001,0.011250000000000001]
[{"$nulls":8},78.25,84.5,{"$nulls":3},0.011250000000000001,0.011250000000000001]
[{"$nulls":8},78.5,84.75,{"$nulls":3},0.011250000000000001,0.011250000000000001]
[{"$nulls":8},78.75,85,{"$nulls":3},0.011250000000000001,0.011250000000000001]
[{"$nulls":8},79,85.25,{"$nulls":4},0.011250000000000001]
[{"$nulls":8},79.25,85.5,{"$nulls":4},{"$f":"$C$7","v":0.011250000000000001}]
[{"$nulls":8},79.5,85.75,{"$nulls":4},0.011250000000000001]
[{"$nulls":8},79.75,86,{"$nulls":4},0.011250000000000001]
[{"$nulls":8},80,86.25,{"$nulls":4},0.011250000000000001]
[{"$nulls":8},80.25,86.5,{"$nulls":4},0.011250000000000001]
[{"$nulls":8},80.5,{"$f":"J328+0.25","v":86.75},{"$nulls":4},0.011250000000000001]
[{"$nulls":8},80.75,87,{"$nulls":4},0.011250000000000001]
[{"$nulls":8},81,87.25,{"$nulls":4},0.011250000000000001]
[{"$nulls":8},81.25,87.5,{"$nulls":4},0.011250000000000001]
[{"$nulls":8},81.5,87.75,{"$nulls":4},0.011250000000000001]
[{"$nulls":8},81.75,88,{"$nulls":4},0.011250000000000001]
[{"$nulls":8},82,88.25,{"$nulls":4},0.011250000000000001]
[{"$nulls":8},82.25,88.5,{"$nulls":4},0.011250000000000001]
[{"$nulls":8},82.5,88.75,{"$nulls":4},0.011250000000000001]
[{"$nulls":8},82.75,89,{"$nulls":4},0.011250000000000001]
[{"$nulls":8},83,89.25,{"$nulls":4},0.011250000000000001]
[{"$nulls":8},83.25,89.5,{"$nulls":4},0.011250000000000001]
[{"$nulls":8},83.5,89.75,{"$nulls":4},0.011250000000000001]
[{"$nulls":8},83.75,90,{"$nulls":4},0.011250000000000001]
[{"$nulls":8},84,90.25,{"$nulls":4},0.011250000000000001]
[{"$nulls":8},84.25,90.5,{"$nulls":4},0.011250000000000001]
[{"$nulls":8},84.5,90.75,{"$nulls":4},0.011250000000000001]
[{"$nulls":8},84.75,91,{"$nulls":4},0.011250000000000001]
[{"$nulls":8},85,91.25,{"$nulls":4},0.011250000000000001]
[{"$nulls":8},85.25,91.5,{"$nulls":4},0.011250000000000001]
[{"$nulls":8},85.5,91.75,{"$nulls":4},0.011250000000000001]
[{"$nulls":8},85.75,92,{"$nulls":4},0.011250000000000001]
[{"$nulls":8},86,92.25,{"$nulls":4},0.011250000000000001]
[{"$nulls":8},86.25,92.5,{"$nulls":4},0.011250000000000001]
[{"$nulls":8},86.5,92.75,{"$nulls":4},0.011250000000000001]
[{"$nulls":8},86.75,93,{"$nulls":4},0.011250000000000001]
[{"$nulls":8},87,93.25,{"$nulls":4},0.011250000000000001]
[{"$nulls":8},87.25,93.5,{"$nulls":4},0.011250000000000001]
[{"$nulls":8},87.5,93.75,{"$nulls":4},0.011250000000000001]
[{"$nulls":8},87.75,94,{"$nulls":4},0.011250000000000001]
[{"$nulls":8},88,94.25,{"$nulls":4},0.011250000000000001]
[{"$nulls":8},88.25,94.5,{"$nulls":4},0.011250000000000001]
[{"$nulls":8},88.5,94.75,{"$nulls":4},0.011250000000000001]
[{"$nulls":8},88.75,95,{"$nulls":4},0.011250000000000001]
[{"$nulls":8},89,95.25,{"$nulls":4},0.011250000000000001]
[{"$nulls":8},89.25,95.5,{"$nulls":4},0.011250000000000001]
[{"$nulls":8},89.5,95.75,{"$nulls":4},0.011250000000000001]
[{"$nulls":8},89.75,96,{"$nulls":4},0.011250000000000001]
[{"$nulls":8},90,96.25,{"$nulls":4},0.011250000000000001]
[{"$nulls":8},90.25,96.5,{"$nulls":4},0.011250000000000001]
[{"$nulls":8},90.5,96.75,{"$nulls":4},0.011250000000000001]
[{"$nulls":8},90.75,97,{"$nulls":4},0.011250000000000001]
[{"$nulls":8},91,97.25,{"$nulls":4},0.011250000000000001]
[{"$nulls":8},91.25,97.5,{"$nulls":4},0.011250000000000001]
[{"$nulls":8},91.5,97.75,{"$nulls":4},0.011250000000000001]
[{"$nulls":8},91.75,98,{"$nulls":4},0.011250000000000001]
[{"$nulls":8},92,98.25,{"$nulls":4},0.011250000000000001]
[{"$nulls":8},92.25,98.5,{"$nulls":4},0.011250000000000001]
[{"$nulls":8},92.5,98.75,{"$nulls":4},0.011250000000000001]
[{"$nulls":8},92.75,99,{"$nulls":4},0.011250000000000001]
[{"$nulls":8},93,99.25,{"$nulls":4},0.011250000000000001]
[{"$nulls":8},93.25,99.5,{"$nulls":4},0.011250000000000001]
[{"$nulls":8},93.5,99.75,{"$nulls":4},0.011250000000000001]
[{"$nulls":8},93.75,100,{"$nulls":4},0.011250000000000001]
[{"$nulls":8},94,100.25,{"$nulls":4},0.011250000000000001]
[{"$nulls":8},94.25,100.5,{"$nulls":4},0.011250000000000001]
[{"$nulls":8},94.5,100.75,{"$nulls":4},0.011250000000000001]
[]
[{"$nulls":10},{"$f":"SUM(K7:K385)","v":1.4287499999999984},{"$f":"SUM(L7:L385)","v":2.1374999999999975},{"$f":"SUM(M7:M385)","v":2.8462499999999964},{"$f":"SUM(N7:N385)","v":3.5549999999999953},{"$f":"SUM(O7:O385)","v":4.263750000000004}]

{"sheet":"Version History","index":7,"n_rows":7,"n_cols":4,"rows_kept":7,"hidden":true}
[]
[null,"Current Version",null,{"$f":"\"Version \"&INDEX(VersionHistory[VERSION],COUNTA(VersionHistory[VERSION]),1)","v":"Version 1.1"}]
[null,"Any version prior to version 1.0 (as outlined below) is untracked as these prior changes were never documented"]
[]
[null,"DATE","VERSION","NOTES"]
[null,"2025-05-30","1.0","Baseline version established for future tracking. This version marks the start of documented updates from 5-30-25. \"Cube\" module is being replaced with \"Half Full Module\". Some checks on metric page deleted."]
[null,"2025-09-18","1.1","Added Stage area data table"]